{"text_format":"3","workbook":"xlsx","n_sheets":13,"sheets":["мотивация май","учебно-позн. интерес октябрь","целеполагание","целеполагание май","учебные действия","учебные действия май ","действия контроля","действие контроля май","действия оценки","действия оценки май","Целевые ориентиры сводная","характ уровней","Лист1"],"not_rendered":{"charts":7,"external_links":26},"read":"whole","date_system":"1900"}

{"sheet":"мотивация май","index":0,"n_rows":33,"n_cols":13,"rows_kept":33,"hidden":true,"merged":[[0,0,0,13],[1,2,1,3],[1,4,1,5],[1,6,1,7],[1,8,1,9]]}
[]
[{"$f":"#REF!","v":{"$error":"#REF!"}},{"$f":"#REF!","v":{"$error":"#REF!"}},1,null,2,null,3,null,4,null,"сумма","значение"]
[{"$f":"#REF!","v":{"$error":"#REF!"}},{"$f":"IF(#REF!=\"\",\"\",#REF!)","v":{"$error":"#REF!"}},{"$f":"IF(#REF!=\"\",\"\",#REF!)","v":{"$error":"#REF!"}},{"$f":"IF(C3=\"\",\"\",IF(C3=\"а\",0,IF(C3=\"в\",3,IF(C3=\"г\",2,IF(C3=\"б\",5,IF(C3=\"д\",4,1))))))","v":{"$error":"#REF!"}},{"$f":"IF(#REF!=\"\",\"\",#REF!)","v":{"$error":"#REF!"}},{"$f":"IF(E3=\"\",\"\",IF(E3=\"г\",0,IF(E3=\"д\",5,IF(E3=\"е\",4,IF(E3=\"в\",3,IF(E3=\"а\",1,2))))))","v":{"$error":"#REF!"}},{"$f":"IF(#REF!=\"\",\"\",#REF!)","v":{"$error":"#REF!"}},{"$f":"IF(G3=\"\",\"\",IF(I3=\"а\",5,IF(I3=\"б\",2,IF(I3=\"в\",3,IF(I3=\"г\",0,IF(I3=\"д\",1,4))))))","v":{"$error":"#REF!"}},{"$f":"IF(#REF!=\"\",\"\",#REF!)","v":{"$error":"#REF!"}},{"$f":"IF(I3=\"\",\"\",IF(I3=\"а\",5,IF(I3=\"б\",2,IF(I3=\"в\",3,IF(I3=\"г\",0,IF(I3=\"д\",1,4))))))","v":{"$error":"#REF!"}},{"$f":"SUM(D3,F3,H3,J3,)","v":{"$error":"#REF!"}},{"$f":"IF(K3=0,\"\",IF(AND(K3<=4),\"низкий\",IF(AND(K3>4,K3<=8),\"сниженный\",IF(AND(K3>=9,K3<13),\"норма\",IF(AND(K3>=13,K3<17),\"высокий\",\"очень высокий\")))))","v":{"$error":"#REF!"}},{"$f":"IF(L3=\"\",\"\",IF(AND(L3=\"очень высокий\"),\"преобладает учебная и социальная мотивация\",IF(AND(L4=\"высокий\"),\"преобладает социально-позиционная мотивация возможно наличие учебной\",IF(AND(L3=\"норма\"),\"преобладает позиционная мотивация возможно наличие социальных и оценочных мотивов\",IF(AND(L3=\"низкий\"),\"преобладают оценочные и игровые мотивы возможно наличие внешних\",\"преобладают внешние мотивы возможно наличие игровых и оценочных\")))))","v":{"$error":"#REF!"}}]
[{"$f":"#REF!","v":{"$error":"#REF!"}},{"$f":"IF(#REF!=\"\",\"\",#REF!)","v":{"$error":"#REF!"}},{"$f":"IF(#REF!=\"\",\"\",#REF!)","v":{"$error":"#REF!"}},{"$f":"IF(C4=\"\",\"\",IF(C4=\"а\",0,IF(C4=\"в\",3,IF(C4=\"г\",2,IF(C4=\"б\",5,IF(C4=\"д\",4,1))))))","v":{"$error":"#REF!"}},{"$f":"IF(#REF!=\"\",\"\",#REF!)","v":{"$error":"#REF!"}},{"$f":"IF(E4=\"\",\"\",IF(E4=\"г\",0,IF(E4=\"д\",5,IF(E4=\"е\",4,IF(E4=\"в\",3,IF(E4=\"а\",1,2))))))","v":{"$error":"#REF!"}},{"$f":"IF(#REF!=\"\",\"\",#REF!)","v":{"$error":"#REF!"}},{"$f":"IF(G4=\"\",\"\",IF(I4=\"а\",5,IF(I4=\"б\",2,IF(I4=\"в\",3,IF(I4=\"г\",0,IF(I4=\"д\",1,4))))))","v":{"$error":"#REF!"}},{"$f":"IF(#REF!=\"\",\"\",#REF!)","v":{"$error":"#REF!"}},{"$f":"IF(I4=\"\",\"\",IF(I4=\"а\",5,IF(I4=\"б\",2,IF(I4=\"в\",3,IF(I4=\"г\",0,IF(I4=\"д\",1,4))))))","v":{"$error":"#REF!"}},{"$f":"SUM(D4,F4,H4,J4,)","v":{"$error":"#REF!"}},{"$f":"IF(K4=0,\"\",IF(AND(K4<=4),\"низкий\",IF(AND(K4>4,K4<=8),\"сниженный\",IF(AND(K4>=9,K4<13),\"норма\",IF(AND(K4>=13,K4<17),\"высокий\",\"очень высокий\")))))","v":{"$error":"#REF!"}},{"$f":"IF(L4=\"\",\"\",IF(AND(L4=\"очень высокий\"),\"преобладает учебная и социальная мотивация\",IF(AND(L5=\"высокий\"),\"преобладает социально-позиционная мотивация возможно наличие учебной\",IF(AND(L4=\"норма\"),\"преобладает позиционная мотивация возможно наличие социальных и оценочных мотивов\",IF(AND(L4=\"низкий\"),\"преобладают оценочные и игровые мотивы возможно наличие внешних\",\"преобладают внешние мотивы возможно наличие игровых и оценочных\")))))","v":{"$error":"#REF!"}}]
[{"$f":"#REF!","v":{"$error":"#REF!"}},{"$f":"IF(#REF!=\"\",\"\",#REF!)","v":{"$error":"#REF!"}},{"$f":"IF(#REF!=\"\",\"\",#REF!)","v":{"$error":"#REF!"}},{"$f":"IF(C5=\"\",\"\",IF(C5=\"а\",0,IF(C5=\"в\",3,IF(C5=\"г\",2,IF(C5=\"б\",5,IF(C5=\"д\",4,1))))))","v":{"$error":"#REF!"}},{"$f":"IF(#REF!=\"\",\"\",#REF!)","v":{"$error":"#REF!"}},{"$error":"#REF!"},{"$f":"IF(#REF!=\"\",\"\",#REF!)","v":{"$error":"#REF!"}},{"$error":"#REF!"},{"$f":"IF(#REF!=\"\",\"\",#REF!)","v":{"$error":"#REF!"}},{"$error":"#REF!"},{"$error":"#REF!"},{"$error":"#REF!"},{"$error":"#REF!"}]
[{"$f":"#REF!","v":{"$error":"#REF!"}},{"$f":"IF(#REF!=\"\",\"\",#REF!)","v":{"$error":"#REF!"}},{"$f":"IF(#REF!=\"\",\"\",#REF!)","v":{"$error":"#REF!"}},{"$error":"#REF!"},{"$f":"IF(#REF!=\"\",\"\",#REF!)","v":{"$error":"#REF!"}},{"$error":"#REF!"},{"$f":"IF(#REF!=\"\",\"\",#REF!)","v":{"$error":"#REF!"}},{"$error":"#REF!"},{"$f":"IF(#REF!=\"\",\"\",#REF!)","v":{"$error":"#REF!"}},{"$error":"#REF!"},{"$error":"#REF!"},{"$error":"#REF!"},{"$error":"#REF!"}]
[{"$f":"#REF!","v":{"$error":"#REF!"}},{"$f":"IF(#REF!=\"\",\"\",#REF!)","v":{"$error":"#REF!"}},{"$f":"IF(#REF!=\"\",\"\",#REF!)","v":{"$error":"#REF!"}},{"$error":"#REF!"},{"$f":"IF(#REF!=\"\",\"\",#REF!)","v":{"$error":"#REF!"}},{"$error":"#REF!"},{"$f":"IF(#REF!=\"\",\"\",#REF!)","v":{"$error":"#REF!"}},{"$error":"#REF!"},{"$f":"IF(#REF!=\"\",\"\",#REF!)","v":{"$error":"#REF!"}},{"$error":"#REF!"},{"$error":"#REF!"},{"$error":"#REF!"},{"$error":"#REF!"}]
[{"$f":"#REF!","v":{"$error":"#REF!"}},{"$f":"IF(#REF!=\"\",\"\",#REF!)","v":{"$error":"#REF!"}},{"$f":"IF(#REF!=\"\",\"\",#REF!)","v":{"$error":"#REF!"}},{"$error":"#REF!"},{"$f":"IF(#REF!=\"\",\"\",#REF!)","v":{"$error":"#REF!"}},{"$error":"#REF!"},{"$f":"IF(#REF!=\"\",\"\",#REF!)","v":{"$error":"#REF!"}},{"$error":"#REF!"},{"$f":"IF(#REF!=\"\",\"\",#REF!)","v":{"$error":"#REF!"}},{"$error":"#REF!"},{"$error":"#REF!"},{"$error":"#REF!"},{"$error":"#REF!"}]
[{"$f":"#REF!","v":{"$error":"#REF!"}},{"$f":"IF(#REF!=\"\",\"\",#REF!)","v":{"$error":"#REF!"}},{"$f":"IF(#REF!=\"\",\"\",#REF!)","v":{"$error":"#REF!"}},{"$error":"#REF!"},{"$f":"IF(#REF!=\"\",\"\",#REF!)","v":{"$error":"#REF!"}},{"$error":"#REF!"},{"$f":"IF(#REF!=\"\",\"\",#REF!)","v":{"$error":"#REF!"}},{"$error":"#REF!"},{"$f":"IF(#REF!=\"\",\"\",#REF!)","v":{"$error":"#REF!"}},{"$error":"#REF!"},{"$error":"#REF!"},{"$error":"#REF!"},{"$error":"#REF!"}]
[{"$f":"#REF!","v":{"$error":"#REF!"}},{"$f":"IF(#REF!=\"\",\"\",#REF!)","v":{"$error":"#REF!"}},{"$f":"IF(#REF!=\"\",\"\",#REF!)","v":{"$error":"#REF!"}},{"$error":"#REF!"},{"$f":"IF(#REF!=\"\",\"\",#REF!)","v":{"$error":"#REF!"}},{"$error":"#REF!"},{"$f":"IF(#REF!=\"\",\"\",#REF!)","v":{"$error":"#REF!"}},{"$error":"#REF!"},{"$f":"IF(#REF!=\"\",\"\",#REF!)","v":{"$error":"#REF!"}},{"$error":"#REF!"},{"$error":"#REF!"},{"$error":"#REF!"},{"$error":"#REF!"}]
[{"$f":"#REF!","v":{"$error":"#REF!"}},{"$f":"IF(#REF!=\"\",\"\",#REF!)","v":{"$error":"#REF!"}},{"$f":"IF(#REF!=\"\",\"\",#REF!)","v":{"$error":"#REF!"}},{"$error":"#REF!"},{"$f":"IF(#REF!=\"\",\"\",#REF!)","v":{"$error":"#REF!"}},{"$error":"#REF!"},{"$f":"IF(#REF!=\"\",\"\",#REF!)","v":{"$error":"#REF!"}},{"$error":"#REF!"},{"$f":"IF(#REF!=\"\",\"\",#REF!)","v":{"$error":"#REF!"}},{"$error":"#REF!"},{"$error":"#REF!"},{"$error":"#REF!"},{"$error":"#REF!"}]
[{"$f":"#REF!","v":{"$error":"#REF!"}},{"$f":"IF(#REF!=\"\",\"\",#REF!)","v":{"$error":"#REF!"}},{"$f":"IF(#REF!=\"\",\"\",#REF!)","v":{"$error":"#REF!"}},{"$error":"#REF!"},{"$f":"IF(#REF!=\"\",\"\",#REF!)","v":{"$error":"#REF!"}},{"$error":"#REF!"},{"$f":"IF(#REF!=\"\",\"\",#REF!)","v":{"$error":"#REF!"}},{"$error":"#REF!"},{"$f":"IF(#REF!=\"\",\"\",#REF!)","v":{"$error":"#REF!"}},{"$error":"#REF!"},{"$error":"#REF!"},{"$error":"#REF!"},{"$error":"#REF!"}]
[{"$f":"#REF!","v":{"$error":"#REF!"}},{"$f":"IF(#REF!=\"\",\"\",#REF!)","v":{"$error":"#REF!"}},{"$f":"IF(#REF!=\"\",\"\",#REF!)","v":{"$error":"#REF!"}},{"$error":"#REF!"},{"$f":"IF(#REF!=\"\",\"\",#REF!)","v":{"$error":"#REF!"}},{"$error":"#REF!"},{"$f":"IF(#REF!=\"\",\"\",#REF!)","v":{"$error":"#REF!"}},{"$error":"#REF!"},{"$f":"IF(#REF!=\"\",\"\",#REF!)","v":{"$error":"#REF!"}},{"$error":"#REF!"},{"$error":"#REF!"},{"$error":"#REF!"},{"$error":"#REF!"}]
[{"$f":"#REF!","v":{"$error":"#REF!"}},{"$f":"IF(#REF!=\"\",\"\",#REF!)","v":{"$error":"#REF!"}},{"$f":"IF(#REF!=\"\",\"\",#REF!)","v":{"$error":"#REF!"}},{"$error":"#REF!"},{"$f":"IF(#REF!=\"\",\"\",#REF!)","v":{"$error":"#REF!"}},{"$error":"#REF!"},{"$f":"IF(#REF!=\"\",\"\",#REF!)","v":{"$error":"#REF!"}},{"$error":"#REF!"},{"$f":"IF(#REF!=\"\",\"\",#REF!)","v":{"$error":"#REF!"}},{"$error":"#REF!"},{"$error":"#REF!"},{"$error":"#REF!"},{"$error":"#REF!"}]
[{"$f":"#REF!","v":{"$error":"#REF!"}},{"$f":"IF(#REF!=\"\",\"\",#REF!)","v":{"$error":"#REF!"}},{"$f":"IF(#REF!=\"\",\"\",#REF!)","v":{"$error":"#REF!"}},{"$error":"#REF!"},{"$f":"IF(#REF!=\"\",\"\",#REF!)","v":{"$error":"#REF!"}},{"$error":"#REF!"},{"$f":"IF(#REF!=\"\",\"\",#REF!)","v":{"$error":"#REF!"}},{"$error":"#REF!"},{"$f":"IF(#REF!=\"\",\"\",#REF!)","v":{"$error":"#REF!"}},{"$error":"#REF!"},{"$error":"#REF!"},{"$error":"#REF!"},{"$error":"#REF!"}]
[{"$f":"#REF!","v":{"$error":"#REF!"}},{"$f":"IF(#REF!=\"\",\"\",#REF!)","v":{"$error":"#REF!"}},{"$f":"IF(#REF!=\"\",\"\",#REF!)","v":{"$error":"#REF!"}},{"$error":"#REF!"},{"$f":"IF(#REF!=\"\",\"\",#REF!)","v":{"$error":"#REF!"}},{"$error":"#REF!"},{"$f":"IF(#REF!=\"\",\"\",#REF!)","v":{"$error":"#REF!"}},{"$error":"#REF!"},{"$f":"IF(#REF!=\"\",\"\",#REF!)","v":{"$error":"#REF!"}},{"$error":"#REF!"},{"$error":"#REF!"},{"$error":"#REF!"},{"$error":"#REF!"}]
[{"$f":"#REF!","v":{"$error":"#REF!"}},{"$f":"IF(#REF!=\"\",\"\",#REF!)","v":{"$error":"#REF!"}},{"$f":"IF(#REF!=\"\",\"\",#REF!)","v":{"$error":"#REF!"}},{"$error":"#REF!"},{"$f":"IF(#REF!=\"\",\"\",#REF!)","v":{"$error":"#REF!"}},{"$error":"#REF!"},{"$f":"IF(#REF!=\"\",\"\",#REF!)","v":{"$error":"#REF!"}},{"$error":"#REF!"},{"$f":"IF(#REF!=\"\",\"\",#REF!)","v":{"$error":"#REF!"}},{"$error":"#REF!"},{"$error":"#REF!"},{"$error":"#REF!"},{"$error":"#REF!"}]
[{"$f":"#REF!","v":{"$error":"#REF!"}},{"$f":"IF(#REF!=\"\",\"\",#REF!)","v":{"$error":"#REF!"}},{"$f":"IF(#REF!=\"\",\"\",#REF!)","v":{"$error":"#REF!"}},{"$error":"#REF!"},{"$f":"IF(#REF!=\"\",\"\",#REF!)","v":{"$error":"#REF!"}},{"$error":"#REF!"},{"$f":"IF(#REF!=\"\",\"\",#REF!)","v":{"$error":"#REF!"}},{"$error":"#REF!"},{"$f":"IF(#REF!=\"\",\"\",#REF!)","v":{"$error":"#REF!"}},{"$error":"#REF!"},{"$error":"#REF!"},{"$error":"#REF!"},{"$error":"#REF!"}]
[{"$f":"#REF!","v":{"$error":"#REF!"}},{"$f":"IF(#REF!=\"\",\"\",#REF!)","v":{"$error":"#REF!"}},{"$f":"IF(#REF!=\"\",\"\",#REF!)","v":{"$error":"#REF!"}},{"$error":"#REF!"},{"$f":"IF(#REF!=\"\",\"\",#REF!)","v":{"$error":"#REF!"}},{"$error":"#REF!"},{"$f":"IF(#REF!=\"\",\"\",#REF!)","v":{"$error":"#REF!"}},{"$error":"#REF!"},{"$f":"IF(#REF!=\"\",\"\",#REF!)","v":{"$error":"#REF!"}},{"$error":"#REF!"},{"$error":"#REF!"},{"$error":"#REF!"},{"$error":"#REF!"}]
[{"$f":"#REF!","v":{"$error":"#REF!"}},{"$f":"IF(#REF!=\"\",\"\",#REF!)","v":{"$error":"#REF!"}},{"$f":"IF(#REF!=\"\",\"\",#REF!)","v":{"$error":"#REF!"}},{"$error":"#REF!"},{"$f":"IF(#REF!=\"\",\"\",#REF!)","v":{"$error":"#REF!"}},{"$error":"#REF!"},{"$f":"IF(#REF!=\"\",\"\",#REF!)","v":{"$error":"#REF!"}},{"$error":"#REF!"},{"$f":"IF(#REF!=\"\",\"\",#REF!)","v":{"$error":"#REF!"}},{"$error":"#REF!"},{"$error":"#REF!"},{"$error":"#REF!"},{"$error":"#REF!"}]
[{"$f":"#REF!","v":{"$error":"#REF!"}},{"$f":"IF(#REF!=\"\",\"\",#REF!)","v":{"$error":"#REF!"}},{"$f":"IF(#REF!=\"\",\"\",#REF!)","v":{"$error":"#REF!"}},{"$error":"#REF!"},{"$f":"IF(#REF!=\"\",\"\",#REF!)","v":{"$error":"#REF!"}},{"$error":"#REF!"},{"$f":"IF(#REF!=\"\",\"\",#REF!)","v":{"$error":"#REF!"}},{"$error":"#REF!"},{"$f":"IF(#REF!=\"\",\"\",#REF!)","v":{"$error":"#REF!"}},{"$error":"#REF!"},{"$error":"#REF!"},{"$error":"#REF!"},{"$error":"#REF!"}]
[{"$f":"#REF!","v":{"$error":"#REF!"}},{"$f":"IF(#REF!=\"\",\"\",#REF!)","v":{"$error":"#REF!"}},{"$f":"IF(#REF!=\"\",\"\",#REF!)","v":{"$error":"#REF!"}},{"$error":"#REF!"},{"$f":"IF(#REF!=\"\",\"\",#REF!)","v":{"$error":"#REF!"}},{"$error":"#REF!"},{"$f":"IF(#REF!=\"\",\"\",#REF!)","v":{"$error":"#REF!"}},{"$error":"#REF!"},{"$f":"IF(#REF!=\"\",\"\",#REF!)","v":{"$error":"#REF!"}},{"$error":"#REF!"},{"$error":"#REF!"},{"$error":"#REF!"},{"$error":"#REF!"}]
[{"$f":"#REF!","v":{"$error":"#REF!"}},{"$f":"IF(#REF!=\"\",\"\",#REF!)","v":{"$error":"#REF!"}},{"$f":"IF(#REF!=\"\",\"\",#REF!)","v":{"$error":"#REF!"}},{"$error":"#REF!"},{"$f":"IF(#REF!=\"\",\"\",#REF!)","v":{"$error":"#REF!"}},{"$error":"#REF!"},{"$f":"IF(#REF!=\"\",\"\",#REF!)","v":{"$error":"#REF!"}},{"$error":"#REF!"},{"$f":"IF(#REF!=\"\",\"\",#REF!)","v":{"$error":"#REF!"}},{"$error":"#REF!"},{"$error":"#REF!"},{"$error":"#REF!"},{"$error":"#REF!"}]
[{"$f":"#REF!","v":{"$error":"#REF!"}},{"$f":"IF(#REF!=\"\",\"\",#REF!)","v":{"$error":"#REF!"}},{"$f":"IF(#REF!=\"\",\"\",#REF!)","v":{"$error":"#REF!"}},{"$error":"#REF!"},{"$f":"IF(#REF!=\"\",\"\",#REF!)","v":{"$error":"#REF!"}},{"$error":"#REF!"},{"$f":"IF(#REF!=\"\",\"\",#REF!)","v":{"$error":"#REF!"}},{"$error":"#REF!"},{"$f":"IF(#REF!=\"\",\"\",#REF!)","v":{"$error":"#REF!"}},{"$error":"#REF!"},{"$error":"#REF!"},{"$error":"#REF!"},{"$error":"#REF!"}]
[{"$f":"#REF!","v":{"$error":"#REF!"}},{"$f":"IF(#REF!=\"\",\"\",#REF!)","v":{"$error":"#REF!"}},{"$f":"IF(#REF!=\"\",\"\",#REF!)","v":{"$error":"#REF!"}},{"$error":"#REF!"},{"$f":"IF(#REF!=\"\",\"\",#REF!)","v":{"$error":"#REF!"}},{"$error":"#REF!"},{"$f":"IF(#REF!=\"\",\"\",#REF!)","v":{"$error":"#REF!"}},{"$error":"#REF!"},{"$f":"IF(#REF!=\"\",\"\",#REF!)","v":{"$error":"#REF!"}},{"$error":"#REF!"},{"$error":"#REF!"},{"$error":"#REF!"},{"$error":"#REF!"}]
[{"$f":"#REF!","v":{"$error":"#REF!"}},{"$f":"IF(#REF!=\"\",\"\",#REF!)","v":{"$error":"#REF!"}},{"$f":"IF(#REF!=\"\",\"\",#REF!)","v":{"$error":"#REF!"}},{"$error":"#REF!"},{"$f":"IF(#REF!=\"\",\"\",#REF!)","v":{"$error":"#REF!"}},{"$error":"#REF!"},{"$f":"IF(#REF!=\"\",\"\",#REF!)","v":{"$error":"#REF!"}},{"$error":"#REF!"},{"$f":"IF(#REF!=\"\",\"\",#REF!)","v":{"$error":"#REF!"}},{"$error":"#REF!"},{"$error":"#REF!"},{"$error":"#REF!"},{"$error":"#REF!"}]
[{"$f":"#REF!","v":{"$error":"#REF!"}},{"$f":"IF(#REF!=\"\",\"\",#REF!)","v":{"$error":"#REF!"}},{"$f":"IF(#REF!=\"\",\"\",#REF!)","v":{"$error":"#REF!"}},{"$error":"#REF!"},{"$f":"IF(#REF!=\"\",\"\",#REF!)","v":{"$error":"#REF!"}},{"$error":"#REF!"},{"$f":"IF(#REF!=\"\",\"\",#REF!)","v":{"$error":"#REF!"}},{"$error":"#REF!"},{"$f":"IF(#REF!=\"\",\"\",#REF!)","v":{"$error":"#REF!"}},{"$error":"#REF!"},{"$error":"#REF!"},{"$error":"#REF!"},{"$error":"#REF!"}]
[{"$f":"#REF!","v":{"$error":"#REF!"}},{"$f":"IF(#REF!=\"\",\"\",#REF!)","v":{"$error":"#REF!"}},{"$f":"IF(#REF!=\"\",\"\",#REF!)","v":{"$error":"#REF!"}},{"$error":"#REF!"},{"$f":"IF(#REF!=\"\",\"\",#REF!)","v":{"$error":"#REF!"}},{"$error":"#REF!"},{"$f":"IF(#REF!=\"\",\"\",#REF!)","v":{"$error":"#REF!"}},{"$error":"#REF!"},{"$f":"IF(#REF!=\"\",\"\",#REF!)","v":{"$error":"#REF!"}},{"$error":"#REF!"},{"$error":"#REF!"},{"$error":"#REF!"},{"$error":"#REF!"}]
[{"$f":"#REF!","v":{"$error":"#REF!"}},{"$f":"IF(#REF!=\"\",\"\",#REF!)","v":{"$error":"#REF!"}},{"$f":"IF(#REF!=\"\",\"\",#REF!)","v":{"$error":"#REF!"}},{"$error":"#REF!"},{"$f":"IF(#REF!=\"\",\"\",#REF!)","v":{"$error":"#REF!"}},{"$error":"#REF!"},{"$f":"IF(#REF!=\"\",\"\",#REF!)","v":{"$error":"#REF!"}},{"$error":"#REF!"},{"$f":"IF(#REF!=\"\",\"\",#REF!)","v":{"$error":"#REF!"}},{"$error":"#REF!"},{"$error":"#REF!"},{"$error":"#REF!"},{"$error":"#REF!"}]
[{"$f":"#REF!","v":{"$error":"#REF!"}},{"$f":"IF(#REF!=\"\",\"\",#REF!)","v":{"$error":"#REF!"}},{"$f":"IF(#REF!=\"\",\"\",#REF!)","v":{"$error":"#REF!"}},{"$error":"#REF!"},{"$f":"IF(#REF!=\"\",\"\",#REF!)","v":{"$error":"#REF!"}},{"$error":"#REF!"},{"$f":"IF(#REF!=\"\",\"\",#REF!)","v":{"$error":"#REF!"}},{"$error":"#REF!"},{"$f":"IF(#REF!=\"\",\"\",#REF!)","v":{"$error":"#REF!"}},{"$error":"#REF!"},{"$error":"#REF!"},{"$error":"#REF!"},{"$error":"#REF!"}]
[{"$f":"#REF!","v":{"$error":"#REF!"}},{"$f":"IF(#REF!=\"\",\"\",#REF!)","v":{"$error":"#REF!"}},{"$f":"IF(#REF!=\"\",\"\",#REF!)","v":{"$error":"#REF!"}},{"$error":"#REF!"},{"$f":"IF(#REF!=\"\",\"\",#REF!)","v":{"$error":"#REF!"}},{"$error":"#REF!"},{"$f":"IF(#REF!=\"\",\"\",#REF!)","v":{"$error":"#REF!"}},{"$error":"#REF!"},{"$f":"IF(#REF!=\"\",\"\",#REF!)","v":{"$error":"#REF!"}},{"$error":"#REF!"},{"$error":"#REF!"},{"$error":"#REF!"},{"$error":"#REF!"}]
[{"$f":"#REF!","v":{"$error":"#REF!"}},{"$f":"IF(#REF!=\"\",\"\",#REF!)","v":{"$error":"#REF!"}},{"$f":"IF(#REF!=\"\",\"\",#REF!)","v":{"$error":"#REF!"}},{"$error":"#REF!"},{"$f":"IF(#REF!=\"\",\"\",#REF!)","v":{"$error":"#REF!"}},{"$error":"#REF!"},{"$f":"IF(#REF!=\"\",\"\",#REF!)","v":{"$error":"#REF!"}},{"$error":"#REF!"},{"$f":"IF(#REF!=\"\",\"\",#REF!)","v":{"$error":"#REF!"}},{"$error":"#REF!"},{"$error":"#REF!"},{"$error":"#REF!"},{"$error":"#REF!"}]
[{"$f":"#REF!","v":{"$error":"#REF!"}},{"$f":"IF(#REF!=\"\",\"\",#REF!)","v":{"$error":"#REF!"}},{"$f":"IF(#REF!=\"\",\"\",#REF!)","v":{"$error":"#REF!"}},{"$error":"#REF!"},{"$f":"IF(#REF!=\"\",\"\",#REF!)","v":{"$error":"#REF!"}},{"$error":"#REF!"},{"$f":"IF(#REF!=\"\",\"\",#REF!)","v":{"$error":"#REF!"}},{"$error":"#REF!"},{"$f":"IF(#REF!=\"\",\"\",#REF!)","v":{"$error":"#REF!"}},{"$error":"#REF!"},{"$error":"#REF!"}]

{"sheet":"учебно-позн. интерес октябрь","index":1,"n_rows":34,"n_cols":58,"rows_kept":34,"hidden":true,"merged":[[0,0,0,23],[0,24,0,36],[1,0,2,0],[1,1,2,1],[1,2,2,2],[1,3,2,3],[1,4,1,29],[1,30,1,55],[2,4,2,5],[2,6,2,7],[2,8,2,9],[2,10,2,11],[2,12,2,13],[2,14,2,15],[2,16,2,17],[2,18,2,19],[2,20,2,21],[2,22,2,23],[2,24,2,25],[2,26,2,27],[2,28,2,29],[2,30,2,31],[2,32,2,33],[2,34,2,35],[2,36,2,37],[2,38,2,39],[2,40,2,41],[2,42,2,43],[2,44,2,45],[2,46,2,47],[2,48,2,49],[2,50,2,51],[2,52,2,53],[2,54,2,55]]}
[{"$f":"'[1]сырые баллы'!A1:Y1","v":"оценка уровня сформированности компонентов учебной деятельности"},{"$nulls":23},"учебно-познавательный интерес"]
[{"$f":"#REF!","v":{"$error":"#REF!"}},{"$f":"'[1]сырые баллы'!B2:B3","v":"Ф.И."},{"$f":"'[1]сырые баллы'!C2:C3","v":"Класс"},{"$f":"'[1]сырые баллы'!D2:D2","v":"дата заполнения"},{"$f":"'[1]сырые баллы'!E2:AO2","v":"часть А"},{"$nulls":25},"часть Б"]
[{"$nulls":4},1,null,2,null,{"$f":"'[1]сырые баллы'!G3","v":3},null,4,null,5,null,6,null,7,null,8,null,9,null,10,null,11,null,12,null,13,null,1,null,2,null,3,null,4,null,5,null,6,null,7,null,8,null,9,null,10,null,11,null,12,null,13,null,"итог"]
[{"$f":"'[1]сырые баллы'!A4:A5","v":1},{"$f":"IF(#REF!=\"\",\"\",#REF!)","v":{"$error":"#REF!"}},{"$f":"IF(#REF!=\"\",\"\",#REF!)","v":{"$error":"#REF!"}},{"$f":"IF(#REF!=\"\",\"\",#REF!)","v":{"$error":"#REF!"}},{"$f":"#REF!","v":{"$error":"#REF!"}},{"$f":"IF(E4=0,\"\",IF(E4=\"а\",1,2))","v":{"$error":"#REF!"}},{"$f":"#REF!","v":{"$error":"#REF!"}},{"$f":"IF(G4=0,\"\",IF(G4=\"а\",1,2))","v":{"$error":"#REF!"}},{"$f":"#REF!","v":{"$error":"#REF!"}},{"$f":"IF(I4=0,\"\",IF(I4=\"а\",5,4))","v":{"$error":"#REF!"}},{"$f":"#REF!","v":{"$error":"#REF!"}},{"$f":"IF(K4=0,\"\",IF(K4=\"а\",1,2))","v":{"$error":"#REF!"}},{"$f":"#REF!","v":{"$error":"#REF!"}},{"$f":"IF(M4=0,\"\",IF(M4=\"а\",2,4))","v":{"$error":"#REF!"}},{"$f":"#REF!","v":{"$error":"#REF!"}},{"$f":"IF(O4=0,\"\",IF(O4=\"а\",3,4))","v":{"$error":"#REF!"}},{"$f":"#REF!","v":{"$error":"#REF!"}},{"$f":"IF(Q4=0,\"\",IF(Q4=\"б\",3,1))","v":{"$error":"#REF!"}},{"$f":"#REF!","v":{"$error":"#REF!"}},{"$f":"IF(S4=0,\"\",IF(S4=\"а\",3,4))","v":{"$error":"#REF!"}},{"$f":"#REF!","v":{"$error":"#REF!"}},{"$f":"IF(U4=0,\"\",IF(U4=\"б\",4,2))","v":{"$error":"#REF!"}},{"$f":"#REF!","v":{"$error":"#REF!"}},{"$f":"IF(W4=0,\"\",IF(W4=\"б\",5,2))","v":{"$error":"#REF!"}},{"$f":"#REF!","v":{"$error":"#REF!"}},{"$f":"IF(Y4=0,\"\",IF(Y4=\"б\",5,3))","v":{"$error":"#REF!"}},{"$f":"#REF!","v":{"$error":"#REF!"}},{"$f":"IF(AA4=0,\"\",IF(AA4=\"а\",5,6))","v":{"$error":"#REF!"}},{"$f":"#REF!","v":{"$error":"#REF!"}},{"$f":"IF(AC4=0,\"\",IF(AC4=\"а\",5,6))","v":{"$error":"#REF!"}},{"$f":"#REF!","v":{"$error":"#REF!"}},{"$f":"IF(AE4=0,\"\",IF(AE4=\"а\",1,2))","v":{"$error":"#REF!"}},{"$f":"#REF!","v":{"$error":"#REF!"}},{"$f":"IF(AG4=0,\"\",IF(AG4=\"а\",1,2))","v":{"$error":"#REF!"}},{"$f":"#REF!","v":{"$error":"#REF!"}},{"$f":"IF(AI4=0,\"\",IF(AI4=\"б\",4,2))","v":{"$error":"#REF!"}},{"$f":"#REF!","v":{"$error":"#REF!"}},{"$f":"IF(AK4=0,\"\",IF(AK4=\"а\",1,2))","v":{"$error":"#REF!"}},{"$f":"#REF!","v":{"$error":"#REF!"}},{"$f":"IF(AM4=0,\"\",IF(AM4=\"а\",2,4))","v":{"$error":"#REF!"}},{"$f":"#REF!","v":{"$error":"#REF!"}},{"$f":"IF(AO4=0,\"\",IF(AO4=\"б\",4,3))","v":{"$error":"#REF!"}},{"$f":"#REF!","v":{"$error":"#REF!"}},{"$f":"IF(AQ4=0,\"\",IF(AQ4=\"б\",3,1))","v":{"$error":"#REF!"}},{"$f":"#REF!","v":{"$error":"#REF!"}},{"$f":"IF(AS4=0,\"\",IF(AS4=\"б\",3,1))","v":{"$error":"#REF!"}},{"$f":"#REF!","v":{"$error":"#REF!"}},{"$f":"IF(AU4=0,\"\",IF(AU4=\"б\",4,2))","v":{"$error":"#REF!"}},{"$f":"#REF!","v":{"$error":"#REF!"}},{"$f":"IF(AW4=0,\"\",IF(AW4=\"б\",5,3))","v":{"$error":"#REF!"}},{"$f":"#REF!","v":{"$error":"#REF!"}},{"$f":"IF(AY4=0,\"\",IF(AY4=\"а\",5,3))","v":{"$error":"#REF!"}},{"$f":"#REF!","v":{"$error":"#REF!"}},{"$f":"IF(BA4=0,\"\",IF(BA4=\"а\",5,6))","v":{"$error":"#REF!"}},{"$f":"#REF!","v":{"$error":"#REF!"}},{"$f":"IF(BC4=0,\"\",IF(BC4=\"а\",5,6))","v":{"$error":"#REF!"}},{"$f":"SUM(F4:BD4)","v":{"$error":"#REF!"}},{"$f":"IF(BE4=0,\"\",IF(BE4>=98,\"6 уровень\",IF(AND(BE4>=74,BE4<98),\"5 уровень\",IF(AND(BE4>=49,BE4<74),\"4 уровень\",IF(AND(BE4>=17,BE4<49),\"3 уровень\",IF(AND(BE4>=5,BE4<17),\"2 уровень\",\"1 уровень\"))))))","v":{"$error":"#REF!"}}]
[{"$f":"'[1]сырые баллы'!A5:A6","v":2},{"$f":"IF(#REF!=\"\",\"\",#REF!)","v":{"$error":"#REF!"}},{"$f":"IF(#REF!=\"\",\"\",#REF!)","v":{"$error":"#REF!"}},{"$f":"IF(#REF!=\"\",\"\",#REF!)","v":{"$error":"#REF!"}},{"$f":"#REF!","v":{"$error":"#REF!"}},{"$f":"IF(E5=0,\"\",IF(E5=\"а\",1,2))","v":{"$error":"#REF!"}},{"$f":"#REF!","v":{"$error":"#REF!"}},{"$f":"IF(G5=0,\"\",IF(G5=\"а\",1,2))","v":{"$error":"#REF!"}},{"$f":"#REF!","v":{"$error":"#REF!"}},{"$f":"IF(I5=0,\"\",IF(I5=\"а\",5,4))","v":{"$error":"#REF!"}},{"$f":"#REF!","v":{"$error":"#REF!"}},{"$f":"IF(K5=0,\"\",IF(K5=\"а\",1,2))","v":{"$error":"#REF!"}},{"$f":"#REF!","v":{"$error":"#REF!"}},{"$f":"IF(M5=0,\"\",IF(M5=\"а\",2,4))","v":{"$error":"#REF!"}},{"$f":"#REF!","v":{"$error":"#REF!"}},{"$f":"IF(O5=0,\"\",IF(O5=\"а\",3,4))","v":{"$error":"#REF!"}},{"$f":"#REF!","v":{"$error":"#REF!"}},{"$f":"IF(Q5=0,\"\",IF(Q5=\"б\",3,1))","v":{"$error":"#REF!"}},{"$f":"#REF!","v":{"$error":"#REF!"}},{"$f":"IF(S5=0,\"\",IF(S5=\"а\",3,4))","v":{"$error":"#REF!"}},{"$f":"#REF!","v":{"$error":"#REF!"}},{"$f":"IF(U5=0,\"\",IF(U5=\"б\",4,2))","v":{"$error":"#REF!"}},{"$f":"#REF!","v":{"$error":"#REF!"}},{"$f":"IF(W5=0,\"\",IF(W5=\"б\",5,2))","v":{"$error":"#REF!"}},{"$f":"#REF!","v":{"$error":"#REF!"}},{"$f":"IF(Y5=0,\"\",IF(Y5=\"б\",5,3))","v":{"$error":"#REF!"}},{"$f":"#REF!","v":{"$error":"#REF!"}},{"$f":"IF(AA5=0,\"\",IF(AA5=\"а\",5,6))","v":{"$error":"#REF!"}},{"$f":"#REF!","v":{"$error":"#REF!"}},{"$f":"IF(AC5=0,\"\",IF(AC5=\"а\",5,6))","v":{"$error":"#REF!"}},{"$f":"#REF!","v":{"$error":"#REF!"}},{"$f":"IF(AE5=0,\"\",IF(AE5=\"а\",1,2))","v":{"$error":"#REF!"}},{"$f":"#REF!","v":{"$error":"#REF!"}},{"$f":"IF(AG5=0,\"\",IF(AG5=\"а\",1,2))","v":{"$error":"#REF!"}},{"$f":"#REF!","v":{"$error":"#REF!"}},{"$f":"IF(AI5=0,\"\",IF(AI5=\"б\",4,2))","v":{"$error":"#REF!"}},{"$f":"#REF!","v":{"$error":"#REF!"}},{"$f":"IF(AK5=0,\"\",IF(AK5=\"а\",1,2))","v":{"$error":"#REF!"}},{"$f":"#REF!","v":{"$error":"#REF!"}},{"$f":"IF(AM5=0,\"\",IF(AM5=\"а\",2,4))","v":{"$error":"#REF!"}},{"$f":"#REF!","v":{"$error":"#REF!"}},{"$f":"IF(AO5=0,\"\",IF(AO5=\"б\",4,3))","v":{"$error":"#REF!"}},{"$f":"#REF!","v":{"$error":"#REF!"}},{"$f":"IF(AQ5=0,\"\",IF(AQ5=\"б\",3,1))","v":{"$error":"#REF!"}},{"$f":"#REF!","v":{"$error":"#REF!"}},{"$f":"IF(AS5=0,\"\",IF(AS5=\"б\",3,1))","v":{"$error":"#REF!"}},{"$f":"#REF!","v":{"$error":"#REF!"}},{"$f":"IF(AU5=0,\"\",IF(AU5=\"б\",4,2))","v":{"$error":"#REF!"}},{"$f":"#REF!","v":{"$error":"#REF!"}},{"$f":"IF(AW5=0,\"\",IF(AW5=\"б\",5,3))","v":{"$error":"#REF!"}},{"$f":"#REF!","v":{"$error":"#REF!"}},{"$f":"IF(AY5=0,\"\",IF(AY5=\"а\",5,3))","v":{"$error":"#REF!"}},{"$f":"#REF!","v":{"$error":"#REF!"}},{"$f":"IF(BA5=0,\"\",IF(BA5=\"а\",5,6))","v":{"$error":"#REF!"}},{"$f":"#REF!","v":{"$error":"#REF!"}},{"$f":"IF(BC5=0,\"\",IF(BC5=\"а\",5,6))","v":{"$error":"#REF!"}},{"$f":"SUM(F5:BD5)","v":{"$error":"#REF!"}},{"$f":"IF(BE5=0,\"\",IF(BE5>=98,\"6 уровень\",IF(AND(BE5>=74,BE5<98),\"5 уровень\",IF(AND(BE5>=49,BE5<74),\"4 уровень\",IF(AND(BE5>=17,BE5<49),\"3 уровень\",IF(AND(BE5>=5,BE5<17),\"2 уровень\",\"1 уровень\"))))))","v":{"$error":"#REF!"}}]
[{"$f":"'[1]сырые баллы'!A6:A7","v":3},{"$f":"IF(#REF!=\"\",\"\",#REF!)","v":{"$error":"#REF!"}},{"$f":"IF(#REF!=\"\",\"\",#REF!)","v":{"$error":"#REF!"}},{"$f":"IF(#REF!=\"\",\"\",#REF!)","v":{"$error":"#REF!"}},{"$f":"#REF!","v":{"$error":"#REF!"}},{"$error":"#REF!"},{"$f":"#REF!","v":{"$error":"#REF!"}},{"$error":"#REF!"},{"$f":"#REF!","v":{"$error":"#REF!"}},{"$error":"#REF!"},{"$f":"#REF!","v":{"$error":"#REF!"}},{"$error":"#REF!"},{"$f":"#REF!","v":{"$error":"#REF!"}},{"$error":"#REF!"},{"$f":"#REF!","v":{"$error":"#REF!"}},{"$error":"#REF!"},{"$f":"#REF!","v":{"$error":"#REF!"}},{"$error":"#REF!"},{"$f":"#REF!","v":{"$error":"#REF!"}},{"$error":"#REF!"},{"$f":"#REF!","v":{"$error":"#REF!"}},{"$error":"#REF!"},{"$f":"#REF!","v":{"$error":"#REF!"}},{"$error":"#REF!"},{"$f":"#REF!","v":{"$error":"#REF!"}},{"$error":"#REF!"},{"$f":"#REF!","v":{"$error":"#REF!"}},{"$error":"#REF!"},{"$f":"#REF!","v":{"$error":"#REF!"}},{"$error":"#REF!"},{"$f":"#REF!","v":{"$error":"#REF!"}},{"$error":"#REF!"},{"$f":"#REF!","v":{"$error":"#REF!"}},{"$error":"#REF!"},{"$f":"#REF!","v":{"$error":"#REF!"}},{"$error":"#REF!"},{"$f":"#REF!","v":{"$error":"#REF!"}},{"$error":"#REF!"},{"$f":"#REF!","v":{"$error":"#REF!"}},{"$error":"#REF!"},{"$f":"#REF!","v":{"$error":"#REF!"}},{"$error":"#REF!"},{"$f":"#REF!","v":{"$error":"#REF!"}},{"$error":"#REF!"},{"$f":"#REF!","v":{"$error":"#REF!"}},{"$error":"#REF!"},{"$f":"#REF!","v":{"$error":"#REF!"}},{"$error":"#REF!"},{"$f":"#REF!","v":{"$error":"#REF!"}},{"$error":"#REF!"},{"$f":"#REF!","v":{"$error":"#REF!"}},{"$error":"#REF!"},{"$f":"#REF!","v":{"$error":"#REF!"}},{"$error":"#REF!"},{"$f":"#REF!","v":{"$error":"#REF!"}},{"$error":"#REF!"},{"$error":"#REF!"},{"$error":"#REF!"}]
[{"$f":"'[1]сырые баллы'!A7:A8","v":4},{"$f":"IF(#REF!=\"\",\"\",#REF!)","v":{"$error":"#REF!"}},{"$f":"IF(#REF!=\"\",\"\",#REF!)","v":{"$error":"#REF!"}},{"$f":"IF(#REF!=\"\",\"\",#REF!)","v":{"$error":"#REF!"}},{"$f":"#REF!","v":{"$error":"#REF!"}},{"$error":"#REF!"},{"$f":"#REF!","v":{"$error":"#REF!"}},{"$error":"#REF!"},{"$f":"#REF!","v":{"$error":"#REF!"}},{"$error":"#REF!"},{"$f":"#REF!","v":{"$error":"#REF!"}},{"$error":"#REF!"},{"$f":"#REF!","v":{"$error":"#REF!"}},{"$error":"#REF!"},{"$f":"#REF!","v":{"$error":"#REF!"}},{"$error":"#REF!"},{"$f":"#REF!","v":{"$error":"#REF!"}},{"$error":"#REF!"},{"$f":"#REF!","v":{"$error":"#REF!"}},{"$error":"#REF!"},{"$f":"#REF!","v":{"$error":"#REF!"}},{"$error":"#REF!"},{"$f":"#REF!","v":{"$error":"#REF!"}},{"$error":"#REF!"},{"$f":"#REF!","v":{"$error":"#REF!"}},{"$error":"#REF!"},{"$f":"#REF!","v":{"$error":"#REF!"}},{"$error":"#REF!"},{"$f":"#REF!","v":{"$error":"#REF!"}},{"$error":"#REF!"},{"$f":"#REF!","v":{"$error":"#REF!"}},{"$error":"#REF!"},{"$f":"#REF!","v":{"$error":"#REF!"}},{"$error":"#REF!"},{"$f":"#REF!","v":{"$error":"#REF!"}},{"$error":"#REF!"},{"$f":"#REF!","v":{"$error":"#REF!"}},{"$error":"#REF!"},{"$f":"#REF!","v":{"$error":"#REF!"}},{"$error":"#REF!"},{"$f":"#REF!","v":{"$error":"#REF!"}},{"$error":"#REF!"},{"$f":"#REF!","v":{"$error":"#REF!"}},{"$error":"#REF!"},{"$f":"#REF!","v":{"$error":"#REF!"}},{"$error":"#REF!"},{"$f":"#REF!","v":{"$error":"#REF!"}},{"$error":"#REF!"},{"$f":"#REF!","v":{"$error":"#REF!"}},{"$error":"#REF!"},{"$f":"#REF!","v":{"$error":"#REF!"}},{"$error":"#REF!"},{"$f":"#REF!","v":{"$error":"#REF!"}},{"$error":"#REF!"},{"$f":"#REF!","v":{"$error":"#REF!"}},{"$error":"#REF!"},{"$error":"#REF!"},{"$error":"#REF!"}]
[{"$f":"'[1]сырые баллы'!A8:A9","v":5},{"$f":"IF(#REF!=\"\",\"\",#REF!)","v":{"$error":"#REF!"}},{"$f":"IF(#REF!=\"\",\"\",#REF!)","v":{"$error":"#REF!"}},{"$f":"IF(#REF!=\"\",\"\",#REF!)","v":{"$error":"#REF!"}},{"$f":"#REF!","v":{"$error":"#REF!"}},{"$error":"#REF!"},{"$f":"#REF!","v":{"$error":"#REF!"}},{"$error":"#REF!"},{"$f":"#REF!","v":{"$error":"#REF!"}},{"$error":"#REF!"},{"$f":"#REF!","v":{"$error":"#REF!"}},{"$error":"#REF!"},{"$f":"#REF!","v":{"$error":"#REF!"}},{"$error":"#REF!"},{"$f":"#REF!","v":{"$error":"#REF!"}},{"$error":"#REF!"},{"$f":"#REF!","v":{"$error":"#REF!"}},{"$error":"#REF!"},{"$f":"#REF!","v":{"$error":"#REF!"}},{"$error":"#REF!"},{"$f":"#REF!","v":{"$error":"#REF!"}},{"$error":"#REF!"},{"$f":"#REF!","v":{"$error":"#REF!"}},{"$error":"#REF!"},{"$f":"#REF!","v":{"$error":"#REF!"}},{"$error":"#REF!"},{"$f":"#REF!","v":{"$error":"#REF!"}},{"$error":"#REF!"},{"$f":"#REF!","v":{"$error":"#REF!"}},{"$error":"#REF!"},{"$f":"#REF!","v":{"$error":"#REF!"}},{"$error":"#REF!"},{"$f":"#REF!","v":{"$error":"#REF!"}},{"$error":"#REF!"},{"$f":"#REF!","v":{"$error":"#REF!"}},{"$error":"#REF!"},{"$f":"#REF!","v":{"$error":"#REF!"}},{"$error":"#REF!"},{"$f":"#REF!","v":{"$error":"#REF!"}},{"$error":"#REF!"},{"$f":"#REF!","v":{"$error":"#REF!"}},{"$error":"#REF!"},{"$f":"#REF!","v":{"$error":"#REF!"}},{"$error":"#REF!"},{"$f":"#REF!","v":{"$error":"#REF!"}},{"$error":"#REF!"},{"$f":"#REF!","v":{"$error":"#REF!"}},{"$error":"#REF!"},{"$f":"#REF!","v":{"$error":"#REF!"}},{"$error":"#REF!"},{"$f":"#REF!","v":{"$error":"#REF!"}},{"$error":"#REF!"},{"$f":"#REF!","v":{"$error":"#REF!"}},{"$error":"#REF!"},{"$f":"#REF!","v":{"$error":"#REF!"}},{"$error":"#REF!"},{"$error":"#REF!"},{"$error":"#REF!"}]
[{"$f":"'[1]сырые баллы'!A9:A10","v":6},{"$f":"IF(#REF!=\"\",\"\",#REF!)","v":{"$error":"#REF!"}},{"$f":"IF(#REF!=\"\",\"\",#REF!)","v":{"$error":"#REF!"}},{"$f":"IF(#REF!=\"\",\"\",#REF!)","v":{"$error":"#REF!"}},{"$f":"#REF!","v":{"$error":"#REF!"}},{"$error":"#REF!"},{"$f":"#REF!","v":{"$error":"#REF!"}},{"$error":"#REF!"},{"$f":"#REF!","v":{"$error":"#REF!"}},{"$error":"#REF!"},{"$f":"#REF!","v":{"$error":"#REF!"}},{"$error":"#REF!"},{"$f":"#REF!","v":{"$error":"#REF!"}},{"$error":"#REF!"},{"$f":"#REF!","v":{"$error":"#REF!"}},{"$error":"#REF!"},{"$f":"#REF!","v":{"$error":"#REF!"}},{"$error":"#REF!"},{"$f":"#REF!","v":{"$error":"#REF!"}},{"$error":"#REF!"},{"$f":"#REF!","v":{"$error":"#REF!"}},{"$error":"#REF!"},{"$f":"#REF!","v":{"$error":"#REF!"}},{"$error":"#REF!"},{"$f":"#REF!","v":{"$error":"#REF!"}},{"$error":"#REF!"},{"$f":"#REF!","v":{"$error":"#REF!"}},{"$error":"#REF!"},{"$f":"#REF!","v":{"$error":"#REF!"}},{"$error":"#REF!"},{"$f":"#REF!","v":{"$error":"#REF!"}},{"$error":"#REF!"},{"$f":"#REF!","v":{"$error":"#REF!"}},{"$error":"#REF!"},{"$f":"#REF!","v":{"$error":"#REF!"}},{"$error":"#REF!"},{"$f":"#REF!","v":{"$error":"#REF!"}},{"$error":"#REF!"},{"$f":"#REF!","v":{"$error":"#REF!"}},{"$error":"#REF!"},{"$f":"#REF!","v":{"$error":"#REF!"}},{"$error":"#REF!"},{"$f":"#REF!","v":{"$error":"#REF!"}},{"$error":"#REF!"},{"$f":"#REF!","v":{"$error":"#REF!"}},{"$error":"#REF!"},{"$f":"#REF!","v":{"$error":"#REF!"}},{"$error":"#REF!"},{"$f":"#REF!","v":{"$error":"#REF!"}},{"$error":"#REF!"},{"$f":"#REF!","v":{"$error":"#REF!"}},{"$error":"#REF!"},{"$f":"#REF!","v":{"$error":"#REF!"}},{"$error":"#REF!"},{"$f":"#REF!","v":{"$error":"#REF!"}},{"$error":"#REF!"},{"$error":"#REF!"},{"$error":"#REF!"}]
[{"$f":"'[1]сырые баллы'!A10:A11","v":7},{"$f":"IF(#REF!=\"\",\"\",#REF!)","v":{"$error":"#REF!"}},{"$f":"IF(#REF!=\"\",\"\",#REF!)","v":{"$error":"#REF!"}},{"$f":"IF(#REF!=\"\",\"\",#REF!)","v":{"$error":"#REF!"}},{"$f":"#REF!","v":{"$error":"#REF!"}},{"$error":"#REF!"},{"$f":"#REF!","v":{"$error":"#REF!"}},{"$error":"#REF!"},{"$f":"#REF!","v":{"$error":"#REF!"}},{"$error":"#REF!"},{"$f":"#REF!","v":{"$error":"#REF!"}},{"$error":"#REF!"},{"$f":"#REF!","v":{"$error":"#REF!"}},{"$error":"#REF!"},{"$f":"#REF!","v":{"$error":"#REF!"}},{"$error":"#REF!"},{"$f":"#REF!","v":{"$error":"#REF!"}},{"$error":"#REF!"},{"$f":"#REF!","v":{"$error":"#REF!"}},{"$error":"#REF!"},{"$f":"#REF!","v":{"$error":"#REF!"}},{"$error":"#REF!"},{"$f":"#REF!","v":{"$error":"#REF!"}},{"$error":"#REF!"},{"$f":"#REF!","v":{"$error":"#REF!"}},{"$error":"#REF!"},{"$f":"#REF!","v":{"$error":"#REF!"}},{"$error":"#REF!"},{"$f":"#REF!","v":{"$error":"#REF!"}},{"$error":"#REF!"},{"$f":"#REF!","v":{"$error":"#REF!"}},{"$error":"#REF!"},{"$f":"#REF!","v":{"$error":"#REF!"}},{"$error":"#REF!"},{"$f":"#REF!","v":{"$error":"#REF!"}},{"$error":"#REF!"},{"$f":"#REF!","v":{"$error":"#REF!"}},{"$error":"#REF!"},{"$f":"#REF!","v":{"$error":"#REF!"}},{"$error":"#REF!"},{"$f":"#REF!","v":{"$error":"#REF!"}},{"$error":"#REF!"},{"$f":"#REF!","v":{"$error":"#REF!"}},{"$error":"#REF!"},{"$f":"#REF!","v":{"$error":"#REF!"}},{"$error":"#REF!"},{"$f":"#REF!","v":{"$error":"#REF!"}},{"$error":"#REF!"},{"$f":"#REF!","v":{"$error":"#REF!"}},{"$error":"#REF!"},{"$f":"#REF!","v":{"$error":"#REF!"}},{"$error":"#REF!"},{"$f":"#REF!","v":{"$error":"#REF!"}},{"$error":"#REF!"},{"$f":"#REF!","v":{"$error":"#REF!"}},{"$error":"#REF!"},{"$error":"#REF!"},{"$error":"#REF!"}]
[{"$f":"'[1]сырые баллы'!A11:A12","v":8},{"$f":"IF(#REF!=\"\",\"\",#REF!)","v":{"$error":"#REF!"}},{"$f":"IF(#REF!=\"\",\"\",#REF!)","v":{"$error":"#REF!"}},{"$f":"IF(#REF!=\"\",\"\",#REF!)","v":{"$error":"#REF!"}},{"$f":"#REF!","v":{"$error":"#REF!"}},{"$error":"#REF!"},{"$f":"#REF!","v":{"$error":"#REF!"}},{"$error":"#REF!"},{"$f":"#REF!","v":{"$error":"#REF!"}},{"$error":"#REF!"},{"$f":"#REF!","v":{"$error":"#REF!"}},{"$error":"#REF!"},{"$f":"#REF!","v":{"$error":"#REF!"}},{"$error":"#REF!"},{"$f":"#REF!","v":{"$error":"#REF!"}},{"$error":"#REF!"},{"$f":"#REF!","v":{"$error":"#REF!"}},{"$error":"#REF!"},{"$f":"#REF!","v":{"$error":"#REF!"}},{"$error":"#REF!"},{"$f":"#REF!","v":{"$error":"#REF!"}},{"$error":"#REF!"},{"$f":"#REF!","v":{"$error":"#REF!"}},{"$error":"#REF!"},{"$f":"#REF!","v":{"$error":"#REF!"}},{"$error":"#REF!"},{"$f":"#REF!","v":{"$error":"#REF!"}},{"$error":"#REF!"},{"$f":"#REF!","v":{"$error":"#REF!"}},{"$error":"#REF!"},{"$f":"#REF!","v":{"$error":"#REF!"}},{"$error":"#REF!"},{"$f":"#REF!","v":{"$error":"#REF!"}},{"$error":"#REF!"},{"$f":"#REF!","v":{"$error":"#REF!"}},{"$error":"#REF!"},{"$f":"#REF!","v":{"$error":"#REF!"}},{"$error":"#REF!"},{"$f":"#REF!","v":{"$error":"#REF!"}},{"$error":"#REF!"},{"$f":"#REF!","v":{"$error":"#REF!"}},{"$error":"#REF!"},{"$f":"#REF!","v":{"$error":"#REF!"}},{"$error":"#REF!"},{"$f":"#REF!","v":{"$error":"#REF!"}},{"$error":"#REF!"},{"$f":"#REF!","v":{"$error":"#REF!"}},{"$error":"#REF!"},{"$f":"#REF!","v":{"$error":"#REF!"}},{"$error":"#REF!"},{"$f":"#REF!","v":{"$error":"#REF!"}},{"$error":"#REF!"},{"$f":"#REF!","v":{"$error":"#REF!"}},{"$error":"#REF!"},{"$f":"#REF!","v":{"$error":"#REF!"}},{"$error":"#REF!"},{"$error":"#REF!"},{"$error":"#REF!"}]
[{"$f":"'[1]сырые баллы'!A12:A13","v":9},{"$f":"IF(#REF!=\"\",\"\",#REF!)","v":{"$error":"#REF!"}},{"$f":"IF(#REF!=\"\",\"\",#REF!)","v":{"$error":"#REF!"}},{"$f":"IF(#REF!=\"\",\"\",#REF!)","v":{"$error":"#REF!"}},{"$f":"#REF!","v":{"$error":"#REF!"}},{"$error":"#REF!"},{"$f":"#REF!","v":{"$error":"#REF!"}},{"$error":"#REF!"},{"$f":"#REF!","v":{"$error":"#REF!"}},{"$error":"#REF!"},{"$f":"#REF!","v":{"$error":"#REF!"}},{"$error":"#REF!"},{"$f":"#REF!","v":{"$error":"#REF!"}},{"$error":"#REF!"},{"$f":"#REF!","v":{"$error":"#REF!"}},{"$error":"#REF!"},{"$f":"#REF!","v":{"$error":"#REF!"}},{"$error":"#REF!"},{"$f":"#REF!","v":{"$error":"#REF!"}},{"$error":"#REF!"},{"$f":"#REF!","v":{"$error":"#REF!"}},{"$error":"#REF!"},{"$f":"#REF!","v":{"$error":"#REF!"}},{"$error":"#REF!"},{"$f":"#REF!","v":{"$error":"#REF!"}},{"$error":"#REF!"},{"$f":"#REF!","v":{"$error":"#REF!"}},{"$error":"#REF!"},{"$f":"#REF!","v":{"$error":"#REF!"}},{"$error":"#REF!"},{"$f":"#REF!","v":{"$error":"#REF!"}},{"$error":"#REF!"},{"$f":"#REF!","v":{"$error":"#REF!"}},{"$error":"#REF!"},{"$f":"#REF!","v":{"$error":"#REF!"}},{"$error":"#REF!"},{"$f":"#REF!","v":{"$error":"#REF!"}},{"$error":"#REF!"},{"$f":"#REF!","v":{"$error":"#REF!"}},{"$error":"#REF!"},{"$f":"#REF!","v":{"$error":"#REF!"}},{"$error":"#REF!"},{"$f":"#REF!","v":{"$error":"#REF!"}},{"$error":"#REF!"},{"$f":"#REF!","v":{"$error":"#REF!"}},{"$error":"#REF!"},{"$f":"#REF!","v":{"$error":"#REF!"}},{"$error":"#REF!"},{"$f":"#REF!","v":{"$error":"#REF!"}},{"$error":"#REF!"},{"$f":"#REF!","v":{"$error":"#REF!"}},{"$error":"#REF!"},{"$f":"#REF!","v":{"$error":"#REF!"}},{"$error":"#REF!"},{"$f":"#REF!","v":{"$error":"#REF!"}},{"$error":"#REF!"},{"$error":"#REF!"},{"$error":"#REF!"}]
[{"$f":"'[1]сырые баллы'!A13:A14","v":10},{"$f":"IF(#REF!=\"\",\"\",#REF!)","v":{"$error":"#REF!"}},{"$f":"IF(#REF!=\"\",\"\",#REF!)","v":{"$error":"#REF!"}},{"$f":"IF(#REF!=\"\",\"\",#REF!)","v":{"$error":"#REF!"}},{"$f":"#REF!","v":{"$error":"#REF!"}},{"$error":"#REF!"},{"$f":"#REF!","v":{"$error":"#REF!"}},{"$error":"#REF!"},{"$f":"#REF!","v":{"$error":"#REF!"}},{"$error":"#REF!"},{"$f":"#REF!","v":{"$error":"#REF!"}},{"$error":"#REF!"},{"$f":"#REF!","v":{"$error":"#REF!"}},{"$error":"#REF!"},{"$f":"#REF!","v":{"$error":"#REF!"}},{"$error":"#REF!"},{"$f":"#REF!","v":{"$error":"#REF!"}},{"$error":"#REF!"},{"$f":"#REF!","v":{"$error":"#REF!"}},{"$error":"#REF!"},{"$f":"#REF!","v":{"$error":"#REF!"}},{"$error":"#REF!"},{"$f":"#REF!","v":{"$error":"#REF!"}},{"$error":"#REF!"},{"$f":"#REF!","v":{"$error":"#REF!"}},{"$error":"#REF!"},{"$f":"#REF!","v":{"$error":"#REF!"}},{"$error":"#REF!"},{"$f":"#REF!","v":{"$error":"#REF!"}},{"$error":"#REF!"},{"$f":"#REF!","v":{"$error":"#REF!"}},{"$error":"#REF!"},{"$f":"#REF!","v":{"$error":"#REF!"}},{"$error":"#REF!"},{"$f":"#REF!","v":{"$error":"#REF!"}},{"$error":"#REF!"},{"$f":"#REF!","v":{"$error":"#REF!"}},{"$error":"#REF!"},{"$f":"#REF!","v":{"$error":"#REF!"}},{"$error":"#REF!"},{"$f":"#REF!","v":{"$error":"#REF!"}},{"$error":"#REF!"},{"$f":"#REF!","v":{"$error":"#REF!"}},{"$error":"#REF!"},{"$f":"#REF!","v":{"$error":"#REF!"}},{"$error":"#REF!"},{"$f":"#REF!","v":{"$error":"#REF!"}},{"$error":"#REF!"},{"$f":"#REF!","v":{"$error":"#REF!"}},{"$error":"#REF!"},{"$f":"#REF!","v":{"$error":"#REF!"}},{"$error":"#REF!"},{"$f":"#REF!","v":{"$error":"#REF!"}},{"$error":"#REF!"},{"$f":"#REF!","v":{"$error":"#REF!"}},{"$error":"#REF!"},{"$error":"#REF!"},{"$error":"#REF!"}]
[{"$f":"'[1]сырые баллы'!A14:A15","v":11},{"$f":"IF(#REF!=\"\",\"\",#REF!)","v":{"$error":"#REF!"}},{"$f":"IF(#REF!=\"\",\"\",#REF!)","v":{"$error":"#REF!"}},{"$f":"IF(#REF!=\"\",\"\",#REF!)","v":{"$error":"#REF!"}},{"$f":"#REF!","v":{"$error":"#REF!"}},{"$error":"#REF!"},{"$f":"#REF!","v":{"$error":"#REF!"}},{"$error":"#REF!"},{"$f":"#REF!","v":{"$error":"#REF!"}},{"$error":"#REF!"},{"$f":"#REF!","v":{"$error":"#REF!"}},{"$error":"#REF!"},{"$f":"#REF!","v":{"$error":"#REF!"}},{"$error":"#REF!"},{"$f":"#REF!","v":{"$error":"#REF!"}},{"$error":"#REF!"},{"$f":"#REF!","v":{"$error":"#REF!"}},{"$error":"#REF!"},{"$f":"#REF!","v":{"$error":"#REF!"}},{"$error":"#REF!"},{"$f":"#REF!","v":{"$error":"#REF!"}},{"$error":"#REF!"},{"$f":"#REF!","v":{"$error":"#REF!"}},{"$error":"#REF!"},{"$f":"#REF!","v":{"$error":"#REF!"}},{"$error":"#REF!"},{"$f":"#REF!","v":{"$error":"#REF!"}},{"$error":"#REF!"},{"$f":"#REF!","v":{"$error":"#REF!"}},{"$error":"#REF!"},{"$f":"#REF!","v":{"$error":"#REF!"}},{"$error":"#REF!"},{"$f":"#REF!","v":{"$error":"#REF!"}},{"$error":"#REF!"},{"$f":"#REF!","v":{"$error":"#REF!"}},{"$error":"#REF!"},{"$f":"#REF!","v":{"$error":"#REF!"}},{"$error":"#REF!"},{"$f":"#REF!","v":{"$error":"#REF!"}},{"$error":"#REF!"},{"$f":"#REF!","v":{"$error":"#REF!"}},{"$error":"#REF!"},{"$f":"#REF!","v":{"$error":"#REF!"}},{"$error":"#REF!"},{"$f":"#REF!","v":{"$error":"#REF!"}},{"$error":"#REF!"},{"$f":"#REF!","v":{"$error":"#REF!"}},{"$error":"#REF!"},{"$f":"#REF!","v":{"$error":"#REF!"}},{"$error":"#REF!"},{"$f":"#REF!","v":{"$error":"#REF!"}},{"$error":"#REF!"},{"$f":"#REF!","v":{"$error":"#REF!"}},{"$error":"#REF!"},{"$f":"#REF!","v":{"$error":"#REF!"}},{"$error":"#REF!"},{"$error":"#REF!"},{"$error":"#REF!"}]
[{"$f":"'[1]сырые баллы'!A15:A16","v":12},{"$f":"IF(#REF!=\"\",\"\",#REF!)","v":{"$error":"#REF!"}},{"$f":"IF(#REF!=\"\",\"\",#REF!)","v":{"$error":"#REF!"}},{"$f":"IF(#REF!=\"\",\"\",#REF!)","v":{"$error":"#REF!"}},{"$f":"#REF!","v":{"$error":"#REF!"}},{"$error":"#REF!"},{"$f":"#REF!","v":{"$error":"#REF!"}},{"$error":"#REF!"},{"$f":"#REF!","v":{"$error":"#REF!"}},{"$error":"#REF!"},{"$f":"#REF!","v":{"$error":"#REF!"}},{"$error":"#REF!"},{"$f":"#REF!","v":{"$error":"#REF!"}},{"$error":"#REF!"},{"$f":"#REF!","v":{"$error":"#REF!"}},{"$error":"#REF!"},{"$f":"#REF!","v":{"$error":"#REF!"}},{"$error":"#REF!"},{"$f":"#REF!","v":{"$error":"#REF!"}},{"$error":"#REF!"},{"$f":"#REF!","v":{"$error":"#REF!"}},{"$error":"#REF!"},{"$f":"#REF!","v":{"$error":"#REF!"}},{"$error":"#REF!"},{"$f":"#REF!","v":{"$error":"#REF!"}},{"$error":"#REF!"},{"$f":"#REF!","v":{"$error":"#REF!"}},{"$error":"#REF!"},{"$f":"#REF!","v":{"$error":"#REF!"}},{"$error":"#REF!"},{"$f":"#REF!","v":{"$error":"#REF!"}},{"$error":"#REF!"},{"$f":"#REF!","v":{"$error":"#REF!"}},{"$error":"#REF!"},{"$f":"#REF!","v":{"$error":"#REF!"}},{"$error":"#REF!"},{"$f":"#REF!","v":{"$error":"#REF!"}},{"$error":"#REF!"},{"$f":"#REF!","v":{"$error":"#REF!"}},{"$error":"#REF!"},{"$f":"#REF!","v":{"$error":"#REF!"}},{"$error":"#REF!"},{"$f":"#REF!","v":{"$error":"#REF!"}},{"$error":"#REF!"},{"$f":"#REF!","v":{"$error":"#REF!"}},{"$error":"#REF!"},{"$f":"#REF!","v":{"$error":"#REF!"}},{"$error":"#REF!"},{"$f":"#REF!","v":{"$error":"#REF!"}},{"$error":"#REF!"},{"$f":"#REF!","v":{"$error":"#REF!"}},{"$error":"#REF!"},{"$f":"#REF!","v":{"$error":"#REF!"}},{"$error":"#REF!"},{"$f":"#REF!","v":{"$error":"#REF!"}},{"$error":"#REF!"},{"$error":"#REF!"},{"$error":"#REF!"}]
[{"$f":"'[1]сырые баллы'!A16:A17","v":13},{"$f":"IF(#REF!=\"\",\"\",#REF!)","v":{"$error":"#REF!"}},{"$f":"IF(#REF!=\"\",\"\",#REF!)","v":{"$error":"#REF!"}},{"$f":"IF(#REF!=\"\",\"\",#REF!)","v":{"$error":"#REF!"}},{"$f":"#REF!","v":{"$error":"#REF!"}},{"$error":"#REF!"},{"$f":"#REF!","v":{"$error":"#REF!"}},{"$error":"#REF!"},{"$f":"#REF!","v":{"$error":"#REF!"}},{"$error":"#REF!"},{"$f":"#REF!","v":{"$error":"#REF!"}},{"$error":"#REF!"},{"$f":"#REF!","v":{"$error":"#REF!"}},{"$error":"#REF!"},{"$f":"#REF!","v":{"$error":"#REF!"}},{"$error":"#REF!"},{"$f":"#REF!","v":{"$error":"#REF!"}},{"$error":"#REF!"},{"$f":"#REF!","v":{"$error":"#REF!"}},{"$error":"#REF!"},{"$f":"#REF!","v":{"$error":"#REF!"}},{"$error":"#REF!"},{"$f":"#REF!","v":{"$error":"#REF!"}},{"$error":"#REF!"},{"$f":"#REF!","v":{"$error":"#REF!"}},{"$error":"#REF!"},{"$f":"#REF!","v":{"$error":"#REF!"}},{"$error":"#REF!"},{"$f":"#REF!","v":{"$error":"#REF!"}},{"$error":"#REF!"},{"$f":"#REF!","v":{"$error":"#REF!"}},{"$error":"#REF!"},{"$f":"#REF!","v":{"$error":"#REF!"}},{"$error":"#REF!"},{"$f":"#REF!","v":{"$error":"#REF!"}},{"$error":"#REF!"},{"$f":"#REF!","v":{"$error":"#REF!"}},{"$error":"#REF!"},{"$f":"#REF!","v":{"$error":"#REF!"}},{"$error":"#REF!"},{"$f":"#REF!","v":{"$error":"#REF!"}},{"$error":"#REF!"},{"$f":"#REF!","v":{"$error":"#REF!"}},{"$error":"#REF!"},{"$f":"#REF!","v":{"$error":"#REF!"}},{"$error":"#REF!"},{"$f":"#REF!","v":{"$error":"#REF!"}},{"$error":"#REF!"},{"$f":"#REF!","v":{"$error":"#REF!"}},{"$error":"#REF!"},{"$f":"#REF!","v":{"$error":"#REF!"}},{"$error":"#REF!"},{"$f":"#REF!","v":{"$error":"#REF!"}},{"$error":"#REF!"},{"$f":"#REF!","v":{"$error":"#REF!"}},{"$error":"#REF!"},{"$error":"#REF!"},{"$error":"#REF!"}]
[{"$f":"'[1]сырые баллы'!A17:A18","v":14},{"$f":"IF(#REF!=\"\",\"\",#REF!)","v":{"$error":"#REF!"}},{"$f":"IF(#REF!=\"\",\"\",#REF!)","v":{"$error":"#REF!"}},{"$f":"IF(#REF!=\"\",\"\",#REF!)","v":{"$error":"#REF!"}},{"$f":"#REF!","v":{"$error":"#REF!"}},{"$error":"#REF!"},{"$f":"#REF!","v":{"$error":"#REF!"}},{"$error":"#REF!"},{"$f":"#REF!","v":{"$error":"#REF!"}},{"$error":"#REF!"},{"$f":"#REF!","v":{"$error":"#REF!"}},{"$error":"#REF!"},{"$f":"#REF!","v":{"$error":"#REF!"}},{"$error":"#REF!"},{"$f":"#REF!","v":{"$error":"#REF!"}},{"$error":"#REF!"},{"$f":"#REF!","v":{"$error":"#REF!"}},{"$error":"#REF!"},{"$f":"#REF!","v":{"$error":"#REF!"}},{"$error":"#REF!"},{"$f":"#REF!","v":{"$error":"#REF!"}},{"$error":"#REF!"},{"$f":"#REF!","v":{"$error":"#REF!"}},{"$error":"#REF!"},{"$f":"#REF!","v":{"$error":"#REF!"}},{"$error":"#REF!"},{"$f":"#REF!","v":{"$error":"#REF!"}},{"$error":"#REF!"},{"$f":"#REF!","v":{"$error":"#REF!"}},{"$error":"#REF!"},{"$f":"#REF!","v":{"$error":"#REF!"}},{"$error":"#REF!"},{"$f":"#REF!","v":{"$error":"#REF!"}},{"$error":"#REF!"},{"$f":"#REF!","v":{"$error":"#REF!"}},{"$error":"#REF!"},{"$f":"#REF!","v":{"$error":"#REF!"}},{"$error":"#REF!"},{"$f":"#REF!","v":{"$error":"#REF!"}},{"$error":"#REF!"},{"$f":"#REF!","v":{"$error":"#REF!"}},{"$error":"#REF!"},{"$f":"#REF!","v":{"$error":"#REF!"}},{"$error":"#REF!"},{"$f":"#REF!","v":{"$error":"#REF!"}},{"$error":"#REF!"},{"$f":"#REF!","v":{"$error":"#REF!"}},{"$error":"#REF!"},{"$f":"#REF!","v":{"$error":"#REF!"}},{"$error":"#REF!"},{"$f":"#REF!","v":{"$error":"#REF!"}},{"$error":"#REF!"},{"$f":"#REF!","v":{"$error":"#REF!"}},{"$error":"#REF!"},{"$f":"#REF!","v":{"$error":"#REF!"}},{"$error":"#REF!"},{"$error":"#REF!"},{"$error":"#REF!"}]
[{"$f":"'[1]сырые баллы'!A18:A19","v":15},{"$f":"IF(#REF!=\"\",\"\",#REF!)","v":{"$error":"#REF!"}},{"$f":"IF(#REF!=\"\",\"\",#REF!)","v":{"$error":"#REF!"}},{"$f":"IF(#REF!=\"\",\"\",#REF!)","v":{"$error":"#REF!"}},{"$f":"#REF!","v":{"$error":"#REF!"}},{"$error":"#REF!"},{"$f":"#REF!","v":{"$error":"#REF!"}},{"$error":"#REF!"},{"$f":"#REF!","v":{"$error":"#REF!"}},{"$error":"#REF!"},{"$f":"#REF!","v":{"$error":"#REF!"}},{"$error":"#REF!"},{"$f":"#REF!","v":{"$error":"#REF!"}},{"$error":"#REF!"},{"$f":"#REF!","v":{"$error":"#REF!"}},{"$error":"#REF!"},{"$f":"#REF!","v":{"$error":"#REF!"}},{"$error":"#REF!"},{"$f":"#REF!","v":{"$error":"#REF!"}},{"$error":"#REF!"},{"$f":"#REF!","v":{"$error":"#REF!"}},{"$error":"#REF!"},{"$f":"#REF!","v":{"$error":"#REF!"}},{"$error":"#REF!"},{"$f":"#REF!","v":{"$error":"#REF!"}},{"$error":"#REF!"},{"$f":"#REF!","v":{"$error":"#REF!"}},{"$error":"#REF!"},{"$f":"#REF!","v":{"$error":"#REF!"}},{"$error":"#REF!"},{"$f":"#REF!","v":{"$error":"#REF!"}},{"$error":"#REF!"},{"$f":"#REF!","v":{"$error":"#REF!"}},{"$error":"#REF!"},{"$f":"#REF!","v":{"$error":"#REF!"}},{"$error":"#REF!"},{"$f":"#REF!","v":{"$error":"#REF!"}},{"$error":"#REF!"},{"$f":"#REF!","v":{"$error":"#REF!"}},{"$error":"#REF!"},{"$f":"#REF!","v":{"$error":"#REF!"}},{"$error":"#REF!"},{"$f":"#REF!","v":{"$error":"#REF!"}},{"$error":"#REF!"},{"$f":"#REF!","v":{"$error":"#REF!"}},{"$error":"#REF!"},{"$f":"#REF!","v":{"$error":"#REF!"}},{"$error":"#REF!"},{"$f":"#REF!","v":{"$error":"#REF!"}},{"$error":"#REF!"},{"$f":"#REF!","v":{"$error":"#REF!"}},{"$error":"#REF!"},{"$f":"#REF!","v":{"$error":"#REF!"}},{"$error":"#REF!"},{"$f":"#REF!","v":{"$error":"#REF!"}},{"$error":"#REF!"},{"$error":"#REF!"},{"$error":"#REF!"}]
[{"$f":"'[1]сырые баллы'!A19:A20","v":16},{"$f":"IF(#REF!=\"\",\"\",#REF!)","v":{"$error":"#REF!"}},{"$f":"IF(#REF!=\"\",\"\",#REF!)","v":{"$error":"#REF!"}},{"$f":"IF(#REF!=\"\",\"\",#REF!)","v":{"$error":"#REF!"}},{"$f":"#REF!","v":{"$error":"#REF!"}},{"$error":"#REF!"},{"$f":"#REF!","v":{"$error":"#REF!"}},{"$error":"#REF!"},{"$f":"#REF!","v":{"$error":"#REF!"}},{"$error":"#REF!"},{"$f":"#REF!","v":{"$error":"#REF!"}},{"$error":"#REF!"},{"$f":"#REF!","v":{"$error":"#REF!"}},{"$error":"#REF!"},{"$f":"#REF!","v":{"$error":"#REF!"}},{"$error":"#REF!"},{"$f":"#REF!","v":{"$error":"#REF!"}},{"$error":"#REF!"},{"$f":"#REF!","v":{"$error":"#REF!"}},{"$error":"#REF!"},{"$f":"#REF!","v":{"$error":"#REF!"}},{"$error":"#REF!"},{"$f":"#REF!","v":{"$error":"#REF!"}},{"$error":"#REF!"},{"$f":"#REF!","v":{"$error":"#REF!"}},{"$error":"#REF!"},{"$f":"#REF!","v":{"$error":"#REF!"}},{"$error":"#REF!"},{"$f":"#REF!","v":{"$error":"#REF!"}},{"$error":"#REF!"},{"$f":"#REF!","v":{"$error":"#REF!"}},{"$error":"#REF!"},{"$f":"#REF!","v":{"$error":"#REF!"}},{"$error":"#REF!"},{"$f":"#REF!","v":{"$error":"#REF!"}},{"$error":"#REF!"},{"$f":"#REF!","v":{"$error":"#REF!"}},{"$error":"#REF!"},{"$f":"#REF!","v":{"$error":"#REF!"}},{"$error":"#REF!"},{"$f":"#REF!","v":{"$error":"#REF!"}},{"$error":"#REF!"},{"$f":"#REF!","v":{"$error":"#REF!"}},{"$error":"#REF!"},{"$f":"#REF!","v":{"$error":"#REF!"}},{"$error":"#REF!"},{"$f":"#REF!","v":{"$error":"#REF!"}},{"$error":"#REF!"},{"$f":"#REF!","v":{"$error":"#REF!"}},{"$error":"#REF!"},{"$f":"#REF!","v":{"$error":"#REF!"}},{"$error":"#REF!"},{"$f":"#REF!","v":{"$error":"#REF!"}},{"$error":"#REF!"},{"$f":"#REF!","v":{"$error":"#REF!"}},{"$error":"#REF!"},{"$error":"#REF!"},{"$error":"#REF!"}]
[{"$f":"'[1]сырые баллы'!A20:A21","v":17},{"$f":"IF(#REF!=\"\",\"\",#REF!)","v":{"$error":"#REF!"}},{"$f":"IF(#REF!=\"\",\"\",#REF!)","v":{"$error":"#REF!"}},{"$f":"IF(#REF!=\"\",\"\",#REF!)","v":{"$error":"#REF!"}},{"$f":"#REF!","v":{"$error":"#REF!"}},{"$error":"#REF!"},{"$f":"#REF!","v":{"$error":"#REF!"}},{"$error":"#REF!"},{"$f":"#REF!","v":{"$error":"#REF!"}},{"$error":"#REF!"},{"$f":"#REF!","v":{"$error":"#REF!"}},{"$error":"#REF!"},{"$f":"#REF!","v":{"$error":"#REF!"}},{"$error":"#REF!"},{"$f":"#REF!","v":{"$error":"#REF!"}},{"$error":"#REF!"},{"$f":"#REF!","v":{"$error":"#REF!"}},{"$error":"#REF!"},{"$f":"#REF!","v":{"$error":"#REF!"}},{"$error":"#REF!"},{"$f":"#REF!","v":{"$error":"#REF!"}},{"$error":"#REF!"},{"$f":"#REF!","v":{"$error":"#REF!"}},{"$error":"#REF!"},{"$f":"#REF!","v":{"$error":"#REF!"}},{"$error":"#REF!"},{"$f":"#REF!","v":{"$error":"#REF!"}},{"$error":"#REF!"},{"$f":"#REF!","v":{"$error":"#REF!"}},{"$error":"#REF!"},{"$f":"#REF!","v":{"$error":"#REF!"}},{"$error":"#REF!"},{"$f":"#REF!","v":{"$error":"#REF!"}},{"$error":"#REF!"},{"$f":"#REF!","v":{"$error":"#REF!"}},{"$error":"#REF!"},{"$f":"#REF!","v":{"$error":"#REF!"}},{"$error":"#REF!"},{"$f":"#REF!","v":{"$error":"#REF!"}},{"$error":"#REF!"},{"$f":"#REF!","v":{"$error":"#REF!"}},{"$error":"#REF!"},{"$f":"#REF!","v":{"$error":"#REF!"}},{"$error":"#REF!"},{"$f":"#REF!","v":{"$error":"#REF!"}},{"$error":"#REF!"},{"$f":"#REF!","v":{"$error":"#REF!"}},{"$error":"#REF!"},{"$f":"#REF!","v":{"$error":"#REF!"}},{"$error":"#REF!"},{"$f":"#REF!","v":{"$error":"#REF!"}},{"$error":"#REF!"},{"$f":"#REF!","v":{"$error":"#REF!"}},{"$error":"#REF!"},{"$f":"#REF!","v":{"$error":"#REF!"}},{"$error":"#REF!"},{"$error":"#REF!"},{"$error":"#REF!"}]
[{"$f":"'[1]сырые баллы'!A21:A22","v":18},{"$f":"IF(#REF!=\"\",\"\",#REF!)","v":{"$error":"#REF!"}},{"$f":"IF(#REF!=\"\",\"\",#REF!)","v":{"$error":"#REF!"}},{"$f":"IF(#REF!=\"\",\"\",#REF!)","v":{"$error":"#REF!"}},{"$f":"#REF!","v":{"$error":"#REF!"}},{"$error":"#REF!"},{"$f":"#REF!","v":{"$error":"#REF!"}},{"$error":"#REF!"},{"$f":"#REF!","v":{"$error":"#REF!"}},{"$error":"#REF!"},{"$f":"#REF!","v":{"$error":"#REF!"}},{"$error":"#REF!"},{"$f":"#REF!","v":{"$error":"#REF!"}},{"$error":"#REF!"},{"$f":"#REF!","v":{"$error":"#REF!"}},{"$error":"#REF!"},{"$f":"#REF!","v":{"$error":"#REF!"}},{"$error":"#REF!"},{"$f":"#REF!","v":{"$error":"#REF!"}},{"$error":"#REF!"},{"$f":"#REF!","v":{"$error":"#REF!"}},{"$error":"#REF!"},{"$f":"#REF!","v":{"$error":"#REF!"}},{"$error":"#REF!"},{"$f":"#REF!","v":{"$error":"#REF!"}},{"$error":"#REF!"},{"$f":"#REF!","v":{"$error":"#REF!"}},{"$error":"#REF!"},{"$f":"#REF!","v":{"$error":"#REF!"}},{"$error":"#REF!"},{"$f":"#REF!","v":{"$error":"#REF!"}},{"$error":"#REF!"},{"$f":"#REF!","v":{"$error":"#REF!"}},{"$error":"#REF!"},{"$f":"#REF!","v":{"$error":"#REF!"}},{"$error":"#REF!"},{"$f":"#REF!","v":{"$error":"#REF!"}},{"$error":"#REF!"},{"$f":"#REF!","v":{"$error":"#REF!"}},{"$error":"#REF!"},{"$f":"#REF!","v":{"$error":"#REF!"}},{"$error":"#REF!"},{"$f":"#REF!","v":{"$error":"#REF!"}},{"$error":"#REF!"},{"$f":"#REF!","v":{"$error":"#REF!"}},{"$error":"#REF!"},{"$f":"#REF!","v":{"$error":"#REF!"}},{"$error":"#REF!"},{"$f":"#REF!","v":{"$error":"#REF!"}},{"$error":"#REF!"},{"$f":"#REF!","v":{"$error":"#REF!"}},{"$error":"#REF!"},{"$f":"#REF!","v":{"$error":"#REF!"}},{"$error":"#REF!"},{"$f":"#REF!","v":{"$error":"#REF!"}},{"$error":"#REF!"},{"$error":"#REF!"},{"$error":"#REF!"}]
[{"$f":"'[1]сырые баллы'!A22:A23","v":19},{"$f":"IF(#REF!=\"\",\"\",#REF!)","v":{"$error":"#REF!"}},{"$f":"IF(#REF!=\"\",\"\",#REF!)","v":{"$error":"#REF!"}},{"$f":"IF(#REF!=\"\",\"\",#REF!)","v":{"$error":"#REF!"}},{"$f":"#REF!","v":{"$error":"#REF!"}},{"$error":"#REF!"},{"$f":"#REF!","v":{"$error":"#REF!"}},{"$error":"#REF!"},{"$f":"#REF!","v":{"$error":"#REF!"}},{"$error":"#REF!"},{"$f":"#REF!","v":{"$error":"#REF!"}},{"$error":"#REF!"},{"$f":"#REF!","v":{"$error":"#REF!"}},{"$error":"#REF!"},{"$f":"#REF!","v":{"$error":"#REF!"}},{"$error":"#REF!"},{"$f":"#REF!","v":{"$error":"#REF!"}},{"$error":"#REF!"},{"$f":"#REF!","v":{"$error":"#REF!"}},{"$error":"#REF!"},{"$f":"#REF!","v":{"$error":"#REF!"}},{"$error":"#REF!"},{"$f":"#REF!","v":{"$error":"#REF!"}},{"$error":"#REF!"},{"$f":"#REF!","v":{"$error":"#REF!"}},{"$error":"#REF!"},{"$f":"#REF!","v":{"$error":"#REF!"}},{"$error":"#REF!"},{"$f":"#REF!","v":{"$error":"#REF!"}},{"$error":"#REF!"},{"$f":"#REF!","v":{"$error":"#REF!"}},{"$error":"#REF!"},{"$f":"#REF!","v":{"$error":"#REF!"}},{"$error":"#REF!"},{"$f":"#REF!","v":{"$error":"#REF!"}},{"$error":"#REF!"},{"$f":"#REF!","v":{"$error":"#REF!"}},{"$error":"#REF!"},{"$f":"#REF!","v":{"$error":"#REF!"}},{"$error":"#REF!"},{"$f":"#REF!","v":{"$error":"#REF!"}},{"$error":"#REF!"},{"$f":"#REF!","v":{"$error":"#REF!"}},{"$error":"#REF!"},{"$f":"#REF!","v":{"$error":"#REF!"}},{"$error":"#REF!"},{"$f":"#REF!","v":{"$error":"#REF!"}},{"$error":"#REF!"},{"$f":"#REF!","v":{"$error":"#REF!"}},{"$error":"#REF!"},{"$f":"#REF!","v":{"$error":"#REF!"}},{"$error":"#REF!"},{"$f":"#REF!","v":{"$error":"#REF!"}},{"$error":"#REF!"},{"$f":"#REF!","v":{"$error":"#REF!"}},{"$error":"#REF!"},{"$error":"#REF!"},{"$error":"#REF!"}]
[{"$f":"'[1]сырые баллы'!A23:A24","v":20},{"$f":"IF(#REF!=\"\",\"\",#REF!)","v":{"$error":"#REF!"}},{"$f":"IF(#REF!=\"\",\"\",#REF!)","v":{"$error":"#REF!"}},{"$f":"IF(#REF!=\"\",\"\",#REF!)","v":{"$error":"#REF!"}},{"$f":"#REF!","v":{"$error":"#REF!"}},{"$error":"#REF!"},{"$f":"#REF!","v":{"$error":"#REF!"}},{"$error":"#REF!"},{"$f":"#REF!","v":{"$error":"#REF!"}},{"$error":"#REF!"},{"$f":"#REF!","v":{"$error":"#REF!"}},{"$error":"#REF!"},{"$f":"#REF!","v":{"$error":"#REF!"}},{"$error":"#REF!"},{"$f":"#REF!","v":{"$error":"#REF!"}},{"$error":"#REF!"},{"$f":"#REF!","v":{"$error":"#REF!"}},{"$error":"#REF!"},{"$f":"#REF!","v":{"$error":"#REF!"}},{"$error":"#REF!"},{"$f":"#REF!","v":{"$error":"#REF!"}},{"$error":"#REF!"},{"$f":"#REF!","v":{"$error":"#REF!"}},{"$error":"#REF!"},{"$f":"#REF!","v":{"$error":"#REF!"}},{"$error":"#REF!"},{"$f":"#REF!","v":{"$error":"#REF!"}},{"$error":"#REF!"},{"$f":"#REF!","v":{"$error":"#REF!"}},{"$error":"#REF!"},{"$f":"#REF!","v":{"$error":"#REF!"}},{"$error":"#REF!"},{"$f":"#REF!","v":{"$error":"#REF!"}},{"$error":"#REF!"},{"$f":"#REF!","v":{"$error":"#REF!"}},{"$error":"#REF!"},{"$f":"#REF!","v":{"$error":"#REF!"}},{"$error":"#REF!"},{"$f":"#REF!","v":{"$error":"#REF!"}},{"$error":"#REF!"},{"$f":"#REF!","v":{"$error":"#REF!"}},{"$error":"#REF!"},{"$f":"#REF!","v":{"$error":"#REF!"}},{"$error":"#REF!"},{"$f":"#REF!","v":{"$error":"#REF!"}},{"$error":"#REF!"},{"$f":"#REF!","v":{"$error":"#REF!"}},{"$error":"#REF!"},{"$f":"#REF!","v":{"$error":"#REF!"}},{"$error":"#REF!"},{"$f":"#REF!","v":{"$error":"#REF!"}},{"$error":"#REF!"},{"$f":"#REF!","v":{"$error":"#REF!"}},{"$error":"#REF!"},{"$f":"#REF!","v":{"$error":"#REF!"}},{"$error":"#REF!"},{"$error":"#REF!"},{"$error":"#REF!"}]
[{"$f":"'[1]сырые баллы'!A24:A25","v":21},{"$f":"IF(#REF!=\"\",\"\",#REF!)","v":{"$error":"#REF!"}},{"$f":"IF(#REF!=\"\",\"\",#REF!)","v":{"$error":"#REF!"}},{"$f":"IF(#REF!=\"\",\"\",#REF!)","v":{"$error":"#REF!"}},{"$f":"#REF!","v":{"$error":"#REF!"}},{"$error":"#REF!"},{"$f":"#REF!","v":{"$error":"#REF!"}},{"$error":"#REF!"},{"$f":"#REF!","v":{"$error":"#REF!"}},{"$error":"#REF!"},{"$f":"#REF!","v":{"$error":"#REF!"}},{"$error":"#REF!"},{"$f":"#REF!","v":{"$error":"#REF!"}},{"$error":"#REF!"},{"$f":"#REF!","v":{"$error":"#REF!"}},{"$error":"#REF!"},{"$f":"#REF!","v":{"$error":"#REF!"}},{"$error":"#REF!"},{"$f":"#REF!","v":{"$error":"#REF!"}},{"$error":"#REF!"},{"$f":"#REF!","v":{"$error":"#REF!"}},{"$error":"#REF!"},{"$f":"#REF!","v":{"$error":"#REF!"}},{"$error":"#REF!"},{"$f":"#REF!","v":{"$error":"#REF!"}},{"$error":"#REF!"},{"$f":"#REF!","v":{"$error":"#REF!"}},{"$error":"#REF!"},{"$f":"#REF!","v":{"$error":"#REF!"}},{"$error":"#REF!"},{"$f":"#REF!","v":{"$error":"#REF!"}},{"$error":"#REF!"},{"$f":"#REF!","v":{"$error":"#REF!"}},{"$error":"#REF!"},{"$f":"#REF!","v":{"$error":"#REF!"}},{"$error":"#REF!"},{"$f":"#REF!","v":{"$error":"#REF!"}},{"$error":"#REF!"},{"$f":"#REF!","v":{"$error":"#REF!"}},{"$error":"#REF!"},{"$f":"#REF!","v":{"$error":"#REF!"}},{"$error":"#REF!"},{"$f":"#REF!","v":{"$error":"#REF!"}},{"$error":"#REF!"},{"$f":"#REF!","v":{"$error":"#REF!"}},{"$error":"#REF!"},{"$f":"#REF!","v":{"$error":"#REF!"}},{"$error":"#REF!"},{"$f":"#REF!","v":{"$error":"#REF!"}},{"$error":"#REF!"},{"$f":"#REF!","v":{"$error":"#REF!"}},{"$error":"#REF!"},{"$f":"#REF!","v":{"$error":"#REF!"}},{"$error":"#REF!"},{"$f":"#REF!","v":{"$error":"#REF!"}},{"$error":"#REF!"},{"$error":"#REF!"},{"$error":"#REF!"}]
[{"$f":"'[1]сырые баллы'!A25:A26","v":22},{"$f":"IF(#REF!=\"\",\"\",#REF!)","v":{"$error":"#REF!"}},{"$f":"IF(#REF!=\"\",\"\",#REF!)","v":{"$error":"#REF!"}},{"$f":"IF(#REF!=\"\",\"\",#REF!)","v":{"$error":"#REF!"}},{"$f":"#REF!","v":{"$error":"#REF!"}},{"$error":"#REF!"},{"$f":"#REF!","v":{"$error":"#REF!"}},{"$error":"#REF!"},{"$f":"#REF!","v":{"$error":"#REF!"}},{"$error":"#REF!"},{"$f":"#REF!","v":{"$error":"#REF!"}},{"$error":"#REF!"},{"$f":"#REF!","v":{"$error":"#REF!"}},{"$error":"#REF!"},{"$f":"#REF!","v":{"$error":"#REF!"}},{"$error":"#REF!"},{"$f":"#REF!","v":{"$error":"#REF!"}},{"$error":"#REF!"},{"$f":"#REF!","v":{"$error":"#REF!"}},{"$error":"#REF!"},{"$f":"#REF!","v":{"$error":"#REF!"}},{"$error":"#REF!"},{"$f":"#REF!","v":{"$error":"#REF!"}},{"$error":"#REF!"},{"$f":"#REF!","v":{"$error":"#REF!"}},{"$error":"#REF!"},{"$f":"#REF!","v":{"$error":"#REF!"}},{"$error":"#REF!"},{"$f":"#REF!","v":{"$error":"#REF!"}},{"$error":"#REF!"},{"$f":"#REF!","v":{"$error":"#REF!"}},{"$error":"#REF!"},{"$f":"#REF!","v":{"$error":"#REF!"}},{"$error":"#REF!"},{"$f":"#REF!","v":{"$error":"#REF!"}},{"$error":"#REF!"},{"$f":"#REF!","v":{"$error":"#REF!"}},{"$error":"#REF!"},{"$f":"#REF!","v":{"$error":"#REF!"}},{"$error":"#REF!"},{"$f":"#REF!","v":{"$error":"#REF!"}},{"$error":"#REF!"},{"$f":"#REF!","v":{"$error":"#REF!"}},{"$error":"#REF!"},{"$f":"#REF!","v":{"$error":"#REF!"}},{"$error":"#REF!"},{"$f":"#REF!","v":{"$error":"#REF!"}},{"$error":"#REF!"},{"$f":"#REF!","v":{"$error":"#REF!"}},{"$error":"#REF!"},{"$f":"#REF!","v":{"$error":"#REF!"}},{"$error":"#REF!"},{"$f":"#REF!","v":{"$error":"#REF!"}},{"$error":"#REF!"},{"$f":"#REF!","v":{"$error":"#REF!"}},{"$error":"#REF!"},{"$error":"#REF!"},{"$error":"#REF!"}]
[{"$f":"'[1]сырые баллы'!A26:A27","v":23},{"$f":"IF(#REF!=\"\",\"\",#REF!)","v":{"$error":"#REF!"}},{"$f":"IF(#REF!=\"\",\"\",#REF!)","v":{"$error":"#REF!"}},{"$f":"IF(#REF!=\"\",\"\",#REF!)","v":{"$error":"#REF!"}},{"$f":"#REF!","v":{"$error":"#REF!"}},{"$error":"#REF!"},{"$f":"#REF!","v":{"$error":"#REF!"}},{"$error":"#REF!"},{"$f":"#REF!","v":{"$error":"#REF!"}},{"$error":"#REF!"},{"$f":"#REF!","v":{"$error":"#REF!"}},{"$error":"#REF!"},{"$f":"#REF!","v":{"$error":"#REF!"}},{"$error":"#REF!"},{"$f":"#REF!","v":{"$error":"#REF!"}},{"$error":"#REF!"},{"$f":"#REF!","v":{"$error":"#REF!"}},{"$error":"#REF!"},{"$f":"#REF!","v":{"$error":"#REF!"}},{"$error":"#REF!"},{"$f":"#REF!","v":{"$error":"#REF!"}},{"$error":"#REF!"},{"$f":"#REF!","v":{"$error":"#REF!"}},{"$error":"#REF!"},{"$f":"#REF!","v":{"$error":"#REF!"}},{"$error":"#REF!"},{"$f":"#REF!","v":{"$error":"#REF!"}},{"$error":"#REF!"},{"$f":"#REF!","v":{"$error":"#REF!"}},{"$error":"#REF!"},{"$f":"#REF!","v":{"$error":"#REF!"}},{"$error":"#REF!"},{"$f":"#REF!","v":{"$error":"#REF!"}},{"$error":"#REF!"},{"$f":"#REF!","v":{"$error":"#REF!"}},{"$error":"#REF!"},{"$f":"#REF!","v":{"$error":"#REF!"}},{"$error":"#REF!"},{"$f":"#REF!","v":{"$error":"#REF!"}},{"$error":"#REF!"},{"$f":"#REF!","v":{"$error":"#REF!"}},{"$error":"#REF!"},{"$f":"#REF!","v":{"$error":"#REF!"}},{"$error":"#REF!"},{"$f":"#REF!","v":{"$error":"#REF!"}},{"$error":"#REF!"},{"$f":"#REF!","v":{"$error":"#REF!"}},{"$error":"#REF!"},{"$f":"#REF!","v":{"$error":"#REF!"}},{"$error":"#REF!"},{"$f":"#REF!","v":{"$error":"#REF!"}},{"$error":"#REF!"},{"$f":"#REF!","v":{"$error":"#REF!"}},{"$error":"#REF!"},{"$f":"#REF!","v":{"$error":"#REF!"}},{"$error":"#REF!"},{"$error":"#REF!"},{"$error":"#REF!"}]
[{"$f":"'[1]сырые баллы'!A27:A28","v":24},{"$f":"IF(#REF!=\"\",\"\",#REF!)","v":{"$error":"#REF!"}},{"$f":"IF(#REF!=\"\",\"\",#REF!)","v":{"$error":"#REF!"}},{"$f":"IF(#REF!=\"\",\"\",#REF!)","v":{"$error":"#REF!"}},{"$f":"#REF!","v":{"$error":"#REF!"}},{"$error":"#REF!"},{"$f":"#REF!","v":{"$error":"#REF!"}},{"$error":"#REF!"},{"$f":"#REF!","v":{"$error":"#REF!"}},{"$error":"#REF!"},{"$f":"#REF!","v":{"$error":"#REF!"}},{"$error":"#REF!"},{"$f":"#REF!","v":{"$error":"#REF!"}},{"$error":"#REF!"},{"$f":"#REF!","v":{"$error":"#REF!"}},{"$error":"#REF!"},{"$f":"#REF!","v":{"$error":"#REF!"}},{"$error":"#REF!"},{"$f":"#REF!","v":{"$error":"#REF!"}},{"$error":"#REF!"},{"$f":"#REF!","v":{"$error":"#REF!"}},{"$error":"#REF!"},{"$f":"#REF!","v":{"$error":"#REF!"}},{"$error":"#REF!"},{"$f":"#REF!","v":{"$error":"#REF!"}},{"$error":"#REF!"},{"$f":"#REF!","v":{"$error":"#REF!"}},{"$error":"#REF!"},{"$f":"#REF!","v":{"$error":"#REF!"}},{"$error":"#REF!"},{"$f":"#REF!","v":{"$error":"#REF!"}},{"$error":"#REF!"},{"$f":"#REF!","v":{"$error":"#REF!"}},{"$error":"#REF!"},{"$f":"#REF!","v":{"$error":"#REF!"}},{"$error":"#REF!"},{"$f":"#REF!","v":{"$error":"#REF!"}},{"$error":"#REF!"},{"$f":"#REF!","v":{"$error":"#REF!"}},{"$error":"#REF!"},{"$f":"#REF!","v":{"$error":"#REF!"}},{"$error":"#REF!"},{"$f":"#REF!","v":{"$error":"#REF!"}},{"$error":"#REF!"},{"$f":"#REF!","v":{"$error":"#REF!"}},{"$error":"#REF!"},{"$f":"#REF!","v":{"$error":"#REF!"}},{"$error":"#REF!"},{"$f":"#REF!","v":{"$error":"#REF!"}},{"$error":"#REF!"},{"$f":"#REF!","v":{"$error":"#REF!"}},{"$error":"#REF!"},{"$f":"#REF!","v":{"$error":"#REF!"}},{"$error":"#REF!"},{"$f":"#REF!","v":{"$error":"#REF!"}},{"$error":"#REF!"},{"$error":"#REF!"},{"$error":"#REF!"}]
[{"$f":"'[1]сырые баллы'!A28:A29","v":25},{"$f":"IF(#REF!=\"\",\"\",#REF!)","v":{"$error":"#REF!"}},{"$f":"IF(#REF!=\"\",\"\",#REF!)","v":{"$error":"#REF!"}},{"$f":"IF(#REF!=\"\",\"\",#REF!)","v":{"$error":"#REF!"}},{"$f":"#REF!","v":{"$error":"#REF!"}},{"$error":"#REF!"},{"$f":"#REF!","v":{"$error":"#REF!"}},{"$error":"#REF!"},{"$f":"#REF!","v":{"$error":"#REF!"}},{"$error":"#REF!"},{"$f":"#REF!","v":{"$error":"#REF!"}},{"$error":"#REF!"},{"$f":"#REF!","v":{"$error":"#REF!"}},{"$error":"#REF!"},{"$f":"#REF!","v":{"$error":"#REF!"}},{"$error":"#REF!"},{"$f":"#REF!","v":{"$error":"#REF!"}},{"$error":"#REF!"},{"$f":"#REF!","v":{"$error":"#REF!"}},{"$error":"#REF!"},{"$f":"#REF!","v":{"$error":"#REF!"}},{"$error":"#REF!"},{"$f":"#REF!","v":{"$error":"#REF!"}},{"$error":"#REF!"},{"$f":"#REF!","v":{"$error":"#REF!"}},{"$error":"#REF!"},{"$f":"#REF!","v":{"$error":"#REF!"}},{"$error":"#REF!"},{"$f":"#REF!","v":{"$error":"#REF!"}},{"$error":"#REF!"},{"$f":"#REF!","v":{"$error":"#REF!"}},{"$error":"#REF!"},{"$f":"#REF!","v":{"$error":"#REF!"}},{"$error":"#REF!"},{"$f":"#REF!","v":{"$error":"#REF!"}},{"$error":"#REF!"},{"$f":"#REF!","v":{"$error":"#REF!"}},{"$error":"#REF!"},{"$f":"#REF!","v":{"$error":"#REF!"}},{"$error":"#REF!"},{"$f":"#REF!","v":{"$error":"#REF!"}},{"$error":"#REF!"},{"$f":"#REF!","v":{"$error":"#REF!"}},{"$error":"#REF!"},{"$f":"#REF!","v":{"$error":"#REF!"}},{"$error":"#REF!"},{"$f":"#REF!","v":{"$error":"#REF!"}},{"$error":"#REF!"},{"$f":"#REF!","v":{"$error":"#REF!"}},{"$error":"#REF!"},{"$f":"#REF!","v":{"$error":"#REF!"}},{"$error":"#REF!"},{"$f":"#REF!","v":{"$error":"#REF!"}},{"$error":"#REF!"},{"$f":"#REF!","v":{"$error":"#REF!"}},{"$error":"#REF!"},{"$error":"#REF!"},{"$error":"#REF!"}]
[{"$f":"'[1]сырые баллы'!A29:A30","v":26},{"$f":"IF(#REF!=\"\",\"\",#REF!)","v":{"$error":"#REF!"}},{"$f":"IF(#REF!=\"\",\"\",#REF!)","v":{"$error":"#REF!"}},{"$f":"IF(#REF!=\"\",\"\",#REF!)","v":{"$error":"#REF!"}},{"$f":"#REF!","v":{"$error":"#REF!"}},{"$error":"#REF!"},{"$f":"#REF!","v":{"$error":"#REF!"}},{"$error":"#REF!"},{"$f":"#REF!","v":{"$error":"#REF!"}},{"$error":"#REF!"},{"$f":"#REF!","v":{"$error":"#REF!"}},{"$error":"#REF!"},{"$f":"#REF!","v":{"$error":"#REF!"}},{"$error":"#REF!"},{"$f":"#REF!","v":{"$error":"#REF!"}},{"$error":"#REF!"},{"$f":"#REF!","v":{"$error":"#REF!"}},{"$error":"#REF!"},{"$f":"#REF!","v":{"$error":"#REF!"}},{"$error":"#REF!"},{"$f":"#REF!","v":{"$error":"#REF!"}},{"$error":"#REF!"},{"$f":"#REF!","v":{"$error":"#REF!"}},{"$error":"#REF!"},{"$f":"#REF!","v":{"$error":"#REF!"}},{"$error":"#REF!"},{"$f":"#REF!","v":{"$error":"#REF!"}},{"$error":"#REF!"},{"$f":"#REF!","v":{"$error":"#REF!"}},{"$error":"#REF!"},{"$f":"#REF!","v":{"$error":"#REF!"}},{"$error":"#REF!"},{"$f":"#REF!","v":{"$error":"#REF!"}},{"$error":"#REF!"},{"$f":"#REF!","v":{"$error":"#REF!"}},{"$error":"#REF!"},{"$f":"#REF!","v":{"$error":"#REF!"}},{"$error":"#REF!"},{"$f":"#REF!","v":{"$error":"#REF!"}},{"$error":"#REF!"},{"$f":"#REF!","v":{"$error":"#REF!"}},{"$error":"#REF!"},{"$f":"#REF!","v":{"$error":"#REF!"}},{"$error":"#REF!"},{"$f":"#REF!","v":{"$error":"#REF!"}},{"$error":"#REF!"},{"$f":"#REF!","v":{"$error":"#REF!"}},{"$error":"#REF!"},{"$f":"#REF!","v":{"$error":"#REF!"}},{"$error":"#REF!"},{"$f":"#REF!","v":{"$error":"#REF!"}},{"$error":"#REF!"},{"$f":"#REF!","v":{"$error":"#REF!"}},{"$error":"#REF!"},{"$f":"#REF!","v":{"$error":"#REF!"}},{"$error":"#REF!"},{"$error":"#REF!"},{"$error":"#REF!"}]
[{"$f":"'[1]сырые баллы'!A30:A31","v":27},{"$f":"IF(#REF!=\"\",\"\",#REF!)","v":{"$error":"#REF!"}},{"$f":"IF(#REF!=\"\",\"\",#REF!)","v":{"$error":"#REF!"}},{"$f":"IF(#REF!=\"\",\"\",#REF!)","v":{"$error":"#REF!"}},{"$f":"#REF!","v":{"$error":"#REF!"}},{"$error":"#REF!"},{"$f":"#REF!","v":{"$error":"#REF!"}},{"$error":"#REF!"},{"$f":"#REF!","v":{"$error":"#REF!"}},{"$error":"#REF!"},{"$f":"#REF!","v":{"$error":"#REF!"}},{"$error":"#REF!"},{"$f":"#REF!","v":{"$error":"#REF!"}},{"$error":"#REF!"},{"$f":"#REF!","v":{"$error":"#REF!"}},{"$error":"#REF!"},{"$f":"#REF!","v":{"$error":"#REF!"}},{"$error":"#REF!"},{"$f":"#REF!","v":{"$error":"#REF!"}},{"$error":"#REF!"},{"$f":"#REF!","v":{"$error":"#REF!"}},{"$error":"#REF!"},{"$f":"#REF!","v":{"$error":"#REF!"}},{"$error":"#REF!"},{"$f":"#REF!","v":{"$error":"#REF!"}},{"$error":"#REF!"},{"$f":"#REF!","v":{"$error":"#REF!"}},{"$error":"#REF!"},{"$f":"#REF!","v":{"$error":"#REF!"}},{"$error":"#REF!"},{"$f":"#REF!","v":{"$error":"#REF!"}},{"$error":"#REF!"},{"$f":"#REF!","v":{"$error":"#REF!"}},{"$error":"#REF!"},{"$f":"#REF!","v":{"$error":"#REF!"}},{"$error":"#REF!"},{"$f":"#REF!","v":{"$error":"#REF!"}},{"$error":"#REF!"},{"$f":"#REF!","v":{"$error":"#REF!"}},{"$error":"#REF!"},{"$f":"#REF!","v":{"$error":"#REF!"}},{"$error":"#REF!"},{"$f":"#REF!","v":{"$error":"#REF!"}},{"$error":"#REF!"},{"$f":"#REF!","v":{"$error":"#REF!"}},{"$error":"#REF!"},{"$f":"#REF!","v":{"$error":"#REF!"}},{"$error":"#REF!"},{"$f":"#REF!","v":{"$error":"#REF!"}},{"$error":"#REF!"},{"$f":"#REF!","v":{"$error":"#REF!"}},{"$error":"#REF!"},{"$f":"#REF!","v":{"$error":"#REF!"}},{"$error":"#REF!"},{"$f":"#REF!","v":{"$error":"#REF!"}},{"$error":"#REF!"},{"$error":"#REF!"},{"$error":"#REF!"}]
[{"$f":"'[1]сырые баллы'!A31:A32","v":28},{"$f":"IF(#REF!=\"\",\"\",#REF!)","v":{"$error":"#REF!"}},{"$f":"IF(#REF!=\"\",\"\",#REF!)","v":{"$error":"#REF!"}},{"$f":"IF(#REF!=\"\",\"\",#REF!)","v":{"$error":"#REF!"}},{"$f":"#REF!","v":{"$error":"#REF!"}},{"$error":"#REF!"},{"$f":"#REF!","v":{"$error":"#REF!"}},{"$error":"#REF!"},{"$f":"#REF!","v":{"$error":"#REF!"}},{"$error":"#REF!"},{"$f":"#REF!","v":{"$error":"#REF!"}},{"$error":"#REF!"},{"$f":"#REF!","v":{"$error":"#REF!"}},{"$error":"#REF!"},{"$f":"#REF!","v":{"$error":"#REF!"}},{"$error":"#REF!"},{"$f":"#REF!","v":{"$error":"#REF!"}},{"$error":"#REF!"},{"$f":"#REF!","v":{"$error":"#REF!"}},{"$error":"#REF!"},{"$f":"#REF!","v":{"$error":"#REF!"}},{"$error":"#REF!"},{"$f":"#REF!","v":{"$error":"#REF!"}},{"$error":"#REF!"},{"$f":"#REF!","v":{"$error":"#REF!"}},{"$error":"#REF!"},{"$f":"#REF!","v":{"$error":"#REF!"}},{"$error":"#REF!"},{"$f":"#REF!","v":{"$error":"#REF!"}},{"$error":"#REF!"},{"$f":"#REF!","v":{"$error":"#REF!"}},{"$error":"#REF!"},{"$f":"#REF!","v":{"$error":"#REF!"}},{"$error":"#REF!"},{"$f":"#REF!","v":{"$error":"#REF!"}},{"$error":"#REF!"},{"$f":"#REF!","v":{"$error":"#REF!"}},{"$error":"#REF!"},{"$f":"#REF!","v":{"$error":"#REF!"}},{"$error":"#REF!"},{"$f":"#REF!","v":{"$error":"#REF!"}},{"$error":"#REF!"},{"$f":"#REF!","v":{"$error":"#REF!"}},{"$error":"#REF!"},{"$f":"#REF!","v":{"$error":"#REF!"}},{"$error":"#REF!"},{"$f":"#REF!","v":{"$error":"#REF!"}},{"$error":"#REF!"},{"$f":"#REF!","v":{"$error":"#REF!"}},{"$error":"#REF!"},{"$f":"#REF!","v":{"$error":"#REF!"}},{"$error":"#REF!"},{"$f":"#REF!","v":{"$error":"#REF!"}},{"$error":"#REF!"},{"$f":"#REF!","v":{"$error":"#REF!"}},{"$error":"#REF!"},{"$error":"#REF!"},{"$error":"#REF!"}]
[{"$f":"'[1]сырые баллы'!A32:A33","v":29},{"$f":"IF(#REF!=\"\",\"\",#REF!)","v":{"$error":"#REF!"}},{"$f":"IF(#REF!=\"\",\"\",#REF!)","v":{"$error":"#REF!"}},{"$f":"IF(#REF!=\"\",\"\",#REF!)","v":{"$error":"#REF!"}},{"$f":"#REF!","v":{"$error":"#REF!"}},{"$error":"#REF!"},{"$f":"#REF!","v":{"$error":"#REF!"}},{"$error":"#REF!"},{"$f":"#REF!","v":{"$error":"#REF!"}},{"$error":"#REF!"},{"$f":"#REF!","v":{"$error":"#REF!"}},{"$error":"#REF!"},{"$f":"#REF!","v":{"$error":"#REF!"}},{"$error":"#REF!"},{"$f":"#REF!","v":{"$error":"#REF!"}},{"$error":"#REF!"},{"$f":"#REF!","v":{"$error":"#REF!"}},{"$error":"#REF!"},{"$f":"#REF!","v":{"$error":"#REF!"}},{"$error":"#REF!"},{"$f":"#REF!","v":{"$error":"#REF!"}},{"$error":"#REF!"},{"$f":"#REF!","v":{"$error":"#REF!"}},{"$error":"#REF!"},{"$f":"#REF!","v":{"$error":"#REF!"}},{"$error":"#REF!"},{"$f":"#REF!","v":{"$error":"#REF!"}},{"$error":"#REF!"},{"$f":"#REF!","v":{"$error":"#REF!"}},{"$error":"#REF!"},{"$f":"#REF!","v":{"$error":"#REF!"}},{"$error":"#REF!"},{"$f":"#REF!","v":{"$error":"#REF!"}},{"$error":"#REF!"},{"$f":"#REF!","v":{"$error":"#REF!"}},{"$error":"#REF!"},{"$f":"#REF!","v":{"$error":"#REF!"}},{"$error":"#REF!"},{"$f":"#REF!","v":{"$error":"#REF!"}},{"$error":"#REF!"},{"$f":"#REF!","v":{"$error":"#REF!"}},{"$error":"#REF!"},{"$f":"#REF!","v":{"$error":"#REF!"}},{"$error":"#REF!"},{"$f":"#REF!","v":{"$error":"#REF!"}},{"$error":"#REF!"},{"$f":"#REF!","v":{"$error":"#REF!"}},{"$error":"#REF!"},{"$f":"#REF!","v":{"$error":"#REF!"}},{"$error":"#REF!"},{"$f":"#REF!","v":{"$error":"#REF!"}},{"$error":"#REF!"},{"$f":"#REF!","v":{"$error":"#REF!"}},{"$error":"#REF!"},{"$f":"#REF!","v":{"$error":"#REF!"}},{"$error":"#REF!"},{"$error":"#REF!"},{"$error":"#REF!"}]
[{"$f":"'[1]сырые баллы'!A33:A34","v":30},{"$f":"IF(#REF!=\"\",\"\",#REF!)","v":{"$error":"#REF!"}},{"$f":"IF(#REF!=\"\",\"\",#REF!)","v":{"$error":"#REF!"}},{"$f":"IF(#REF!=\"\",\"\",#REF!)","v":{"$error":"#REF!"}},{"$f":"#REF!","v":{"$error":"#REF!"}},{"$error":"#REF!"},{"$f":"#REF!","v":{"$error":"#REF!"}},{"$error":"#REF!"},{"$f":"#REF!","v":{"$error":"#REF!"}},{"$error":"#REF!"},{"$f":"#REF!","v":{"$error":"#REF!"}},{"$error":"#REF!"},{"$f":"#REF!","v":{"$error":"#REF!"}},{"$error":"#REF!"},{"$f":"#REF!","v":{"$error":"#REF!"}},{"$error":"#REF!"},{"$f":"#REF!","v":{"$error":"#REF!"}},{"$error":"#REF!"},{"$f":"#REF!","v":{"$error":"#REF!"}},{"$error":"#REF!"},{"$f":"#REF!","v":{"$error":"#REF!"}},{"$error":"#REF!"},{"$f":"#REF!","v":{"$error":"#REF!"}},{"$error":"#REF!"},{"$f":"#REF!","v":{"$error":"#REF!"}},{"$error":"#REF!"},{"$f":"#REF!","v":{"$error":"#REF!"}},{"$error":"#REF!"},{"$f":"#REF!","v":{"$error":"#REF!"}},{"$error":"#REF!"},{"$f":"#REF!","v":{"$error":"#REF!"}},{"$error":"#REF!"},{"$f":"#REF!","v":{"$error":"#REF!"}},{"$error":"#REF!"},{"$f":"#REF!","v":{"$error":"#REF!"}},{"$error":"#REF!"},{"$f":"#REF!","v":{"$error":"#REF!"}},{"$error":"#REF!"},{"$f":"#REF!","v":{"$error":"#REF!"}},{"$error":"#REF!"},{"$f":"#REF!","v":{"$error":"#REF!"}},{"$error":"#REF!"},{"$f":"#REF!","v":{"$error":"#REF!"}},{"$error":"#REF!"},{"$f":"#REF!","v":{"$error":"#REF!"}},{"$error":"#REF!"},{"$f":"#REF!","v":{"$error":"#REF!"}},{"$error":"#REF!"},{"$f":"#REF!","v":{"$error":"#REF!"}},{"$error":"#REF!"},{"$f":"#REF!","v":{"$error":"#REF!"}},{"$error":"#REF!"},{"$f":"#REF!","v":{"$error":"#REF!"}},{"$error":"#REF!"},{"$f":"#REF!","v":{"$error":"#REF!"}},{"$error":"#REF!"},{"$error":"#REF!"},{"$error":"#REF!"}]
[{"$f":"'[1]сырые баллы'!A34:A35","v":31},{"$f":"IF(#REF!=\"\",\"\",#REF!)","v":{"$error":"#REF!"}},{"$f":"IF(#REF!=\"\",\"\",#REF!)","v":{"$error":"#REF!"}},{"$f":"IF(#REF!=\"\",\"\",#REF!)","v":{"$error":"#REF!"}},{"$f":"#REF!","v":{"$error":"#REF!"}},{"$error":"#REF!"},{"$f":"#REF!","v":{"$error":"#REF!"}},{"$error":"#REF!"},{"$f":"#REF!","v":{"$error":"#REF!"}},{"$error":"#REF!"},{"$f":"#REF!","v":{"$error":"#REF!"}},{"$error":"#REF!"},{"$f":"#REF!","v":{"$error":"#REF!"}},{"$error":"#REF!"},{"$f":"#REF!","v":{"$error":"#REF!"}},{"$error":"#REF!"},{"$f":"#REF!","v":{"$error":"#REF!"}},{"$error":"#REF!"},{"$f":"#REF!","v":{"$error":"#REF!"}},{"$error":"#REF!"},{"$f":"#REF!","v":{"$error":"#REF!"}},{"$error":"#REF!"},{"$f":"#REF!","v":{"$error":"#REF!"}},{"$error":"#REF!"},{"$f":"#REF!","v":{"$error":"#REF!"}},{"$error":"#REF!"},{"$f":"#REF!","v":{"$error":"#REF!"}},{"$error":"#REF!"},{"$f":"#REF!","v":{"$error":"#REF!"}},{"$error":"#REF!"},{"$f":"#REF!","v":{"$error":"#REF!"}},{"$error":"#REF!"},{"$f":"#REF!","v":{"$error":"#REF!"}},{"$error":"#REF!"},{"$f":"#REF!","v":{"$error":"#REF!"}},{"$error":"#REF!"},{"$f":"#REF!","v":{"$error":"#REF!"}},{"$error":"#REF!"},{"$f":"#REF!","v":{"$error":"#REF!"}},{"$error":"#REF!"},{"$f":"#REF!","v":{"$error":"#REF!"}},{"$error":"#REF!"},{"$f":"#REF!","v":{"$error":"#REF!"}},{"$error":"#REF!"},{"$f":"#REF!","v":{"$error":"#REF!"}},{"$error":"#REF!"},{"$f":"#REF!","v":{"$error":"#REF!"}},{"$error":"#REF!"},{"$f":"#REF!","v":{"$error":"#REF!"}},{"$error":"#REF!"},{"$f":"#REF!","v":{"$error":"#REF!"}},{"$error":"#REF!"},{"$f":"#REF!","v":{"$error":"#REF!"}},{"$error":"#REF!"},{"$f":"#REF!","v":{"$error":"#REF!"}},{"$error":"#REF!"},{"$error":"#REF!"},{"$error":"#REF!"}]

{"sheet":"целеполагание","index":2,"n_rows":34,"n_cols":44,"rows_kept":34,"hidden":true,"merged":[[0,0,0,16],[0,17,0,34],[1,0,2,0],[1,1,2,1],[1,2,2,2],[1,3,2,3],[1,4,1,23],[1,24,1,41],[2,4,2,5],[2,6,2,7],[2,8,2,9],[2,10,2,11],[2,12,2,13],[2,14,2,15],[2,16,2,17],[2,18,2,19],[2,20,2,21],[2,22,2,23],[2,24,2,25],[2,26,2,27],[2,28,2,29],[2,30,2,31],[2,32,2,33],[2,34,2,35],[2,36,2,37],[2,38,2,39],[2,40,2,41]]}
[{"$f":"#REF!","v":{"$error":"#REF!"}},{"$nulls":16},"целеполагание"]
[{"$f":"#REF!","v":{"$error":"#REF!"}},{"$f":"#REF!","v":{"$error":"#REF!"}},{"$f":"#REF!","v":{"$error":"#REF!"}},{"$f":"#REF!","v":{"$error":"#REF!"}},"часть А",{"$nulls":19},"часть 2"]
[{"$nulls":4},2,null,3,null,6,null,14,null,15,null,16,null,17,null,18,null,19,null,20,null,2,null,3,null,14,null,15,null,16,null,17,null,18,null,19,null,20]
[{"$f":"#REF!","v":{"$error":"#REF!"}},{"$nulls":3},{"$f":"#REF!","v":{"$error":"#REF!"}},{"$f":"IF(E4=0,\"\",IF(E4=\"а\",1,2))","v":{"$error":"#REF!"}},{"$f":"#REF!","v":{"$error":"#REF!"}},{"$f":"IF(G4=0,\"\",IF(G4=\"а\",1,2))","v":{"$error":"#REF!"}},{"$f":"#REF!","v":{"$error":"#REF!"}},{"$f":"IF(I4=0,\"\",IF(I4=\"а\",1,3))","v":{"$error":"#REF!"}},{"$f":"#REF!","v":{"$error":"#REF!"}},{"$f":"IF(K4=0,\"\",IF(K4=\"б\",3,2))","v":{"$error":"#REF!"}},{"$f":"#REF!","v":{"$error":"#REF!"}},{"$f":"IF(M4=0,\"\",IF(M4=\"б\",4,3))","v":{"$error":"#REF!"}},{"$f":"#REF!","v":{"$error":"#REF!"}},{"$f":"IF(O4=0,\"\",IF(O4=\"а\",1,2))","v":{"$error":"#REF!"}},{"$f":"#REF!","v":{"$error":"#REF!"}},{"$f":"IF(Q4=0,\"\",IF(Q4=\"а\",1,IF(Q4=\"б\",2,4)))","v":{"$error":"#REF!"}},{"$f":"#REF!","v":{"$error":"#REF!"}},{"$f":"IF(S4=0,\"\",IF(S4=\"а\",3,4))","v":{"$error":"#REF!"}},{"$f":"#REF!","v":{"$error":"#REF!"}},{"$f":"IF(U4=0,\"\",IF(U4=\"а\",4,5))","v":{"$error":"#REF!"}},{"$f":"#REF!","v":{"$error":"#REF!"}},{"$f":"IF(W4=0,\"\",IF(W4=\"а\",5,6))","v":{"$error":"#REF!"}},{"$f":"#REF!","v":{"$error":"#REF!"}},{"$f":"IF(Y4=0,\"\",IF(Y4=\"а\",1,2))","v":{"$error":"#REF!"}},{"$f":"#REF!","v":{"$error":"#REF!"}},{"$f":"IF(AA4=0,\"\",IF(AA4=\"а\",1,4))","v":{"$error":"#REF!"}},{"$f":"#REF!","v":{"$error":"#REF!"}},{"$f":"IF(AC4=0,\"\",IF(AC4=\"б\",3,1))","v":{"$error":"#REF!"}},{"$f":"#REF!","v":{"$error":"#REF!"}},{"$f":"IF(AE4=0,\"\",IF(AE4=\"б\",4,3))","v":{"$error":"#REF!"}},{"$f":"#REF!","v":{"$error":"#REF!"}},{"$f":"IF(AG4=0,\"\",IF(AG4=\"а\",1,2))","v":{"$error":"#REF!"}},{"$f":"#REF!","v":{"$error":"#REF!"}},{"$f":"IF(AI4=0,\"\",IF(AI4=\"б\",4,2))","v":{"$error":"#REF!"}},{"$f":"#REF!","v":{"$error":"#REF!"}},{"$f":"IF(AK4=0,\"\",IF(AK4=\"а\",4,6))","v":{"$error":"#REF!"}},{"$f":"#REF!","v":{"$error":"#REF!"}},{"$f":"IF(AM4=0,\"\",IF(AM4=\"а\",3,4))","v":{"$error":"#REF!"}},{"$f":"#REF!","v":{"$error":"#REF!"}},{"$f":"IF(AO4=0,\"\",IF(AO4=\"а\",5,6))","v":{"$error":"#REF!"}},{"$f":"SUM(L4:AP4)","v":{"$error":"#REF!"}},{"$f":"IF(AQ4=0,\"\",IF(AQ4>=70,\"6 уровень\",IF(AND(AQ4>=58,BE4<70),\"5 уровень\",IF(AND(AQ4>=48,BE4<58),\"4 уровень\",IF(AND(AQ4>=24,AQ4<48),\"3 уровень\",IF(AND(AQ4>=12,AQ4<24),\"2 уровень\",\"1 уровень\"))))))","v":{"$error":"#REF!"}}]
[{"$f":"#REF!","v":{"$error":"#REF!"}},{"$nulls":3},{"$f":"#REF!","v":{"$error":"#REF!"}},{"$f":"IF(E5=0,\"\",IF(E5=\"а\",1,2))","v":{"$error":"#REF!"}},{"$f":"#REF!","v":{"$error":"#REF!"}},{"$f":"IF(G5=0,\"\",IF(G5=\"а\",1,2))","v":{"$error":"#REF!"}},{"$f":"#REF!","v":{"$error":"#REF!"}},{"$f":"IF(I5=0,\"\",IF(I5=\"а\",1,3))","v":{"$error":"#REF!"}},{"$f":"#REF!","v":{"$error":"#REF!"}},{"$f":"IF(K5=0,\"\",IF(K5=\"б\",3,2))","v":{"$error":"#REF!"}},{"$f":"#REF!","v":{"$error":"#REF!"}},{"$f":"IF(M5=0,\"\",IF(M5=\"б\",4,3))","v":{"$error":"#REF!"}},{"$f":"#REF!","v":{"$error":"#REF!"}},{"$f":"IF(O5=0,\"\",IF(O5=\"а\",1,2))","v":{"$error":"#REF!"}},{"$f":"#REF!","v":{"$error":"#REF!"}},{"$f":"IF(Q5=0,\"\",IF(Q5=\"а\",1,IF(Q5=\"б\",2,4)))","v":{"$error":"#REF!"}},{"$f":"#REF!","v":{"$error":"#REF!"}},{"$f":"IF(S5=0,\"\",IF(S5=\"а\",3,4))","v":{"$error":"#REF!"}},{"$f":"#REF!","v":{"$error":"#REF!"}},{"$f":"IF(U5=0,\"\",IF(U5=\"а\",4,5))","v":{"$error":"#REF!"}},{"$f":"#REF!","v":{"$error":"#REF!"}},{"$f":"IF(W5=0,\"\",IF(W5=\"а\",5,6))","v":{"$error":"#REF!"}},{"$f":"#REF!","v":{"$error":"#REF!"}},{"$f":"IF(Y5=0,\"\",IF(Y5=\"а\",1,2))","v":{"$error":"#REF!"}},{"$f":"#REF!","v":{"$error":"#REF!"}},{"$f":"IF(AA5=0,\"\",IF(AA5=\"а\",1,4))","v":{"$error":"#REF!"}},{"$f":"#REF!","v":{"$error":"#REF!"}},{"$f":"IF(AC5=0,\"\",IF(AC5=\"б\",3,1))","v":{"$error":"#REF!"}},{"$f":"#REF!","v":{"$error":"#REF!"}},{"$f":"IF(AE5=0,\"\",IF(AE5=\"б\",4,3))","v":{"$error":"#REF!"}},{"$f":"#REF!","v":{"$error":"#REF!"}},{"$f":"IF(AG5=0,\"\",IF(AG5=\"а\",1,2))","v":{"$error":"#REF!"}},{"$f":"#REF!","v":{"$error":"#REF!"}},{"$f":"IF(AI5=0,\"\",IF(AI5=\"б\",4,2))","v":{"$error":"#REF!"}},{"$f":"#REF!","v":{"$error":"#REF!"}},{"$f":"IF(AK5=0,\"\",IF(AK5=\"а\",4,6))","v":{"$error":"#REF!"}},{"$f":"#REF!","v":{"$error":"#REF!"}},{"$f":"IF(AM5=0,\"\",IF(AM5=\"а\",3,4))","v":{"$error":"#REF!"}},{"$f":"#REF!","v":{"$error":"#REF!"}},{"$f":"IF(AO5=0,\"\",IF(AO5=\"а\",5,6))","v":{"$error":"#REF!"}},{"$f":"SUM(L5:AP5)","v":{"$error":"#REF!"}},{"$f":"IF(AQ5=0,\"\",IF(AQ5>=70,\"6 уровень\",IF(AND(AQ5>=58,BE5<70),\"5 уровень\",IF(AND(AQ5>=48,BE5<58),\"4 уровень\",IF(AND(AQ5>=24,AQ5<48),\"3 уровень\",IF(AND(AQ5>=12,AQ5<24),\"2 уровень\",\"1 уровень\"))))))","v":{"$error":"#REF!"}}]
[{"$f":"#REF!","v":{"$error":"#REF!"}},{"$nulls":3},{"$f":"#REF!","v":{"$error":"#REF!"}},{"$error":"#REF!"},{"$f":"#REF!","v":{"$error":"#REF!"}},{"$error":"#REF!"},{"$f":"#REF!","v":{"$error":"#REF!"}},{"$error":"#REF!"},{"$f":"#REF!","v":{"$error":"#REF!"}},{"$error":"#REF!"},{"$f":"#REF!","v":{"$error":"#REF!"}},{"$error":"#REF!"},{"$f":"#REF!","v":{"$error":"#REF!"}},{"$error":"#REF!"},{"$f":"#REF!","v":{"$error":"#REF!"}},{"$error":"#REF!"},{"$f":"#REF!","v":{"$error":"#REF!"}},{"$error":"#REF!"},{"$f":"#REF!","v":{"$error":"#REF!"}},{"$error":"#REF!"},{"$f":"#REF!","v":{"$error":"#REF!"}},{"$error":"#REF!"},{"$f":"#REF!","v":{"$error":"#REF!"}},{"$error":"#REF!"},{"$f":"#REF!","v":{"$error":"#REF!"}},{"$error":"#REF!"},{"$f":"#REF!","v":{"$error":"#REF!"}},{"$error":"#REF!"},{"$f":"#REF!","v":{"$error":"#REF!"}},{"$error":"#REF!"},{"$f":"#REF!","v":{"$error":"#REF!"}},{"$error":"#REF!"},{"$f":"#REF!","v":{"$error":"#REF!"}},{"$error":"#REF!"},{"$f":"#REF!","v":{"$error":"#REF!"}},{"$error":"#REF!"},{"$f":"#REF!","v":{"$error":"#REF!"}},{"$error":"#REF!"},{"$f":"#REF!","v":{"$error":"#REF!"}},{"$error":"#REF!"},{"$error":"#REF!"},{"$f":"IF(AQ6=0,\"\",IF(AQ6>=70,\"6 уровень\",IF(AND(AQ6>=58,BE6<70),\"5 уровень\",IF(AND(AQ6>=48,BE6<58),\"4 уровень\",IF(AND(AQ6>=24,AQ6<48),\"3 уровень\",IF(AND(AQ6>=12,AQ6<24),\"2 уровень\",\"1 уровень\"))))))","v":{"$error":"#REF!"}}]
[{"$f":"#REF!","v":{"$error":"#REF!"}},{"$nulls":3},{"$f":"#REF!","v":{"$error":"#REF!"}},{"$error":"#REF!"},{"$f":"#REF!","v":{"$error":"#REF!"}},{"$error":"#REF!"},{"$f":"#REF!","v":{"$error":"#REF!"}},{"$error":"#REF!"},{"$f":"#REF!","v":{"$error":"#REF!"}},{"$error":"#REF!"},{"$f":"#REF!","v":{"$error":"#REF!"}},{"$error":"#REF!"},{"$f":"#REF!","v":{"$error":"#REF!"}},{"$error":"#REF!"},{"$f":"#REF!","v":{"$error":"#REF!"}},{"$error":"#REF!"},{"$f":"#REF!","v":{"$error":"#REF!"}},{"$error":"#REF!"},{"$f":"#REF!","v":{"$error":"#REF!"}},{"$error":"#REF!"},{"$f":"#REF!","v":{"$error":"#REF!"}},{"$error":"#REF!"},{"$f":"#REF!","v":{"$error":"#REF!"}},{"$error":"#REF!"},{"$f":"#REF!","v":{"$error":"#REF!"}},{"$error":"#REF!"},{"$f":"#REF!","v":{"$error":"#REF!"}},{"$error":"#REF!"},{"$f":"#REF!","v":{"$error":"#REF!"}},{"$error":"#REF!"},{"$f":"#REF!","v":{"$error":"#REF!"}},{"$error":"#REF!"},{"$f":"#REF!","v":{"$error":"#REF!"}},{"$error":"#REF!"},{"$f":"#REF!","v":{"$error":"#REF!"}},{"$error":"#REF!"},{"$f":"#REF!","v":{"$error":"#REF!"}},{"$error":"#REF!"},{"$f":"#REF!","v":{"$error":"#REF!"}},{"$error":"#REF!"},{"$error":"#REF!"},{"$error":"#REF!"}]
[{"$f":"#REF!","v":{"$error":"#REF!"}},{"$nulls":3},{"$f":"#REF!","v":{"$error":"#REF!"}},{"$error":"#REF!"},{"$f":"#REF!","v":{"$error":"#REF!"}},{"$error":"#REF!"},{"$f":"#REF!","v":{"$error":"#REF!"}},{"$error":"#REF!"},{"$f":"#REF!","v":{"$error":"#REF!"}},{"$error":"#REF!"},{"$f":"#REF!","v":{"$error":"#REF!"}},{"$error":"#REF!"},{"$f":"#REF!","v":{"$error":"#REF!"}},{"$error":"#REF!"},{"$f":"#REF!","v":{"$error":"#REF!"}},{"$error":"#REF!"},{"$f":"#REF!","v":{"$error":"#REF!"}},{"$error":"#REF!"},{"$f":"#REF!","v":{"$error":"#REF!"}},{"$error":"#REF!"},{"$f":"#REF!","v":{"$error":"#REF!"}},{"$error":"#REF!"},{"$f":"#REF!","v":{"$error":"#REF!"}},{"$error":"#REF!"},{"$f":"#REF!","v":{"$error":"#REF!"}},{"$error":"#REF!"},{"$f":"#REF!","v":{"$error":"#REF!"}},{"$error":"#REF!"},{"$f":"#REF!","v":{"$error":"#REF!"}},{"$error":"#REF!"},{"$f":"#REF!","v":{"$error":"#REF!"}},{"$error":"#REF!"},{"$f":"#REF!","v":{"$error":"#REF!"}},{"$error":"#REF!"},{"$f":"#REF!","v":{"$error":"#REF!"}},{"$error":"#REF!"},{"$f":"#REF!","v":{"$error":"#REF!"}},{"$error":"#REF!"},{"$f":"#REF!","v":{"$error":"#REF!"}},{"$error":"#REF!"},{"$error":"#REF!"},{"$error":"#REF!"}]
[{"$f":"#REF!","v":{"$error":"#REF!"}},{"$nulls":3},{"$f":"#REF!","v":{"$error":"#REF!"}},{"$error":"#REF!"},{"$f":"#REF!","v":{"$error":"#REF!"}},{"$error":"#REF!"},{"$f":"#REF!","v":{"$error":"#REF!"}},{"$error":"#REF!"},{"$f":"#REF!","v":{"$error":"#REF!"}},{"$error":"#REF!"},{"$f":"#REF!","v":{"$error":"#REF!"}},{"$error":"#REF!"},{"$f":"#REF!","v":{"$error":"#REF!"}},{"$error":"#REF!"},{"$f":"#REF!","v":{"$error":"#REF!"}},{"$error":"#REF!"},{"$f":"#REF!","v":{"$error":"#REF!"}},{"$error":"#REF!"},{"$f":"#REF!","v":{"$error":"#REF!"}},{"$error":"#REF!"},{"$f":"#REF!","v":{"$error":"#REF!"}},{"$error":"#REF!"},{"$f":"#REF!","v":{"$error":"#REF!"}},{"$error":"#REF!"},{"$f":"#REF!","v":{"$error":"#REF!"}},{"$error":"#REF!"},{"$f":"#REF!","v":{"$error":"#REF!"}},{"$error":"#REF!"},{"$f":"#REF!","v":{"$error":"#REF!"}},{"$error":"#REF!"},{"$f":"#REF!","v":{"$error":"#REF!"}},{"$error":"#REF!"},{"$f":"#REF!","v":{"$error":"#REF!"}},{"$error":"#REF!"},{"$f":"#REF!","v":{"$error":"#REF!"}},{"$error":"#REF!"},{"$f":"#REF!","v":{"$error":"#REF!"}},{"$error":"#REF!"},{"$f":"#REF!","v":{"$error":"#REF!"}},{"$error":"#REF!"},{"$error":"#REF!"},{"$error":"#REF!"}]
[{"$f":"#REF!","v":{"$error":"#REF!"}},{"$nulls":3},{"$f":"#REF!","v":{"$error":"#REF!"}},{"$error":"#REF!"},{"$f":"#REF!","v":{"$error":"#REF!"}},{"$error":"#REF!"},{"$f":"#REF!","v":{"$error":"#REF!"}},{"$error":"#REF!"},{"$f":"#REF!","v":{"$error":"#REF!"}},{"$error":"#REF!"},{"$f":"#REF!","v":{"$error":"#REF!"}},{"$error":"#REF!"},{"$f":"#REF!","v":{"$error":"#REF!"}},{"$error":"#REF!"},{"$f":"#REF!","v":{"$error":"#REF!"}},{"$error":"#REF!"},{"$f":"#REF!","v":{"$error":"#REF!"}},{"$error":"#REF!"},{"$f":"#REF!","v":{"$error":"#REF!"}},{"$error":"#REF!"},{"$f":"#REF!","v":{"$error":"#REF!"}},{"$error":"#REF!"},{"$f":"#REF!","v":{"$error":"#REF!"}},{"$error":"#REF!"},{"$f":"#REF!","v":{"$error":"#REF!"}},{"$error":"#REF!"},{"$f":"#REF!","v":{"$error":"#REF!"}},{"$error":"#REF!"},{"$f":"#REF!","v":{"$error":"#REF!"}},{"$error":"#REF!"},{"$f":"#REF!","v":{"$error":"#REF!"}},{"$error":"#REF!"},{"$f":"#REF!","v":{"$error":"#REF!"}},{"$error":"#REF!"},{"$f":"#REF!","v":{"$error":"#REF!"}},{"$error":"#REF!"},{"$f":"#REF!","v":{"$error":"#REF!"}},{"$error":"#REF!"},{"$f":"#REF!","v":{"$error":"#REF!"}},{"$error":"#REF!"},{"$error":"#REF!"},{"$error":"#REF!"}]
[{"$f":"#REF!","v":{"$error":"#REF!"}},{"$nulls":3},{"$f":"#REF!","v":{"$error":"#REF!"}},{"$error":"#REF!"},{"$f":"#REF!","v":{"$error":"#REF!"}},{"$error":"#REF!"},{"$f":"#REF!","v":{"$error":"#REF!"}},{"$error":"#REF!"},{"$f":"#REF!","v":{"$error":"#REF!"}},{"$error":"#REF!"},{"$f":"#REF!","v":{"$error":"#REF!"}},{"$error":"#REF!"},{"$f":"#REF!","v":{"$error":"#REF!"}},{"$error":"#REF!"},{"$f":"#REF!","v":{"$error":"#REF!"}},{"$error":"#REF!"},{"$f":"#REF!","v":{"$error":"#REF!"}},{"$error":"#REF!"},{"$f":"#REF!","v":{"$error":"#REF!"}},{"$error":"#REF!"},{"$f":"#REF!","v":{"$error":"#REF!"}},{"$error":"#REF!"},{"$f":"#REF!","v":{"$error":"#REF!"}},{"$error":"#REF!"},{"$f":"#REF!","v":{"$error":"#REF!"}},{"$error":"#REF!"},{"$f":"#REF!","v":{"$error":"#REF!"}},{"$error":"#REF!"},{"$f":"#REF!","v":{"$error":"#REF!"}},{"$error":"#REF!"},{"$f":"#REF!","v":{"$error":"#REF!"}},{"$error":"#REF!"},{"$f":"#REF!","v":{"$error":"#REF!"}},{"$error":"#REF!"},{"$f":"#REF!","v":{"$error":"#REF!"}},{"$error":"#REF!"},{"$f":"#REF!","v":{"$error":"#REF!"}},{"$error":"#REF!"},{"$f":"#REF!","v":{"$error":"#REF!"}},{"$error":"#REF!"},{"$error":"#REF!"},{"$error":"#REF!"}]
[{"$f":"#REF!","v":{"$error":"#REF!"}},{"$nulls":3},{"$f":"#REF!","v":{"$error":"#REF!"}},{"$error":"#REF!"},{"$f":"#REF!","v":{"$error":"#REF!"}},{"$error":"#REF!"},{"$f":"#REF!","v":{"$error":"#REF!"}},{"$error":"#REF!"},{"$f":"#REF!","v":{"$error":"#REF!"}},{"$error":"#REF!"},{"$f":"#REF!","v":{"$error":"#REF!"}},{"$error":"#REF!"},{"$f":"#REF!","v":{"$error":"#REF!"}},{"$error":"#REF!"},{"$f":"#REF!","v":{"$error":"#REF!"}},{"$error":"#REF!"},{"$f":"#REF!","v":{"$error":"#REF!"}},{"$error":"#REF!"},{"$f":"#REF!","v":{"$error":"#REF!"}},{"$error":"#REF!"},{"$f":"#REF!","v":{"$error":"#REF!"}},{"$error":"#REF!"},{"$f":"#REF!","v":{"$error":"#REF!"}},{"$error":"#REF!"},{"$f":"#REF!","v":{"$error":"#REF!"}},{"$error":"#REF!"},{"$f":"#REF!","v":{"$error":"#REF!"}},{"$error":"#REF!"},{"$f":"#REF!","v":{"$error":"#REF!"}},{"$error":"#REF!"},{"$f":"#REF!","v":{"$error":"#REF!"}},{"$error":"#REF!"},{"$f":"#REF!","v":{"$error":"#REF!"}},{"$error":"#REF!"},{"$f":"#REF!","v":{"$error":"#REF!"}},{"$error":"#REF!"},{"$f":"#REF!","v":{"$error":"#REF!"}},{"$error":"#REF!"},{"$f":"#REF!","v":{"$error":"#REF!"}},{"$error":"#REF!"},{"$error":"#REF!"},{"$error":"#REF!"}]
[{"$f":"#REF!","v":{"$error":"#REF!"}},{"$nulls":3},{"$f":"#REF!","v":{"$error":"#REF!"}},{"$error":"#REF!"},{"$f":"#REF!","v":{"$error":"#REF!"}},{"$error":"#REF!"},{"$f":"#REF!","v":{"$error":"#REF!"}},{"$error":"#REF!"},{"$f":"#REF!","v":{"$error":"#REF!"}},{"$error":"#REF!"},{"$f":"#REF!","v":{"$error":"#REF!"}},{"$error":"#REF!"},{"$f":"#REF!","v":{"$error":"#REF!"}},{"$error":"#REF!"},{"$f":"#REF!","v":{"$error":"#REF!"}},{"$error":"#REF!"},{"$f":"#REF!","v":{"$error":"#REF!"}},{"$error":"#REF!"},{"$f":"#REF!","v":{"$error":"#REF!"}},{"$error":"#REF!"},{"$f":"#REF!","v":{"$error":"#REF!"}},{"$error":"#REF!"},{"$f":"#REF!","v":{"$error":"#REF!"}},{"$error":"#REF!"},{"$f":"#REF!","v":{"$error":"#REF!"}},{"$error":"#REF!"},{"$f":"#REF!","v":{"$error":"#REF!"}},{"$error":"#REF!"},{"$f":"#REF!","v":{"$error":"#REF!"}},{"$error":"#REF!"},{"$f":"#REF!","v":{"$error":"#REF!"}},{"$error":"#REF!"},{"$f":"#REF!","v":{"$error":"#REF!"}},{"$error":"#REF!"},{"$f":"#REF!","v":{"$error":"#REF!"}},{"$error":"#REF!"},{"$f":"#REF!","v":{"$error":"#REF!"}},{"$error":"#REF!"},{"$f":"#REF!","v":{"$error":"#REF!"}},{"$error":"#REF!"},{"$error":"#REF!"},{"$error":"#REF!"}]
[{"$f":"#REF!","v":{"$error":"#REF!"}},{"$nulls":3},{"$f":"#REF!","v":{"$error":"#REF!"}},{"$error":"#REF!"},{"$f":"#REF!","v":{"$error":"#REF!"}},{"$error":"#REF!"},{"$f":"#REF!","v":{"$error":"#REF!"}},{"$error":"#REF!"},{"$f":"#REF!","v":{"$error":"#REF!"}},{"$error":"#REF!"},{"$f":"#REF!","v":{"$error":"#REF!"}},{"$error":"#REF!"},{"$f":"#REF!","v":{"$error":"#REF!"}},{"$error":"#REF!"},{"$f":"#REF!","v":{"$error":"#REF!"}},{"$error":"#REF!"},{"$f":"#REF!","v":{"$error":"#REF!"}},{"$error":"#REF!"},{"$f":"#REF!","v":{"$error":"#REF!"}},{"$error":"#REF!"},{"$f":"#REF!","v":{"$error":"#REF!"}},{"$error":"#REF!"},{"$f":"#REF!","v":{"$error":"#REF!"}},{"$error":"#REF!"},{"$f":"#REF!","v":{"$error":"#REF!"}},{"$error":"#REF!"},{"$f":"#REF!","v":{"$error":"#REF!"}},{"$error":"#REF!"},{"$f":"#REF!","v":{"$error":"#REF!"}},{"$error":"#REF!"},{"$f":"#REF!","v":{"$error":"#REF!"}},{"$error":"#REF!"},{"$f":"#REF!","v":{"$error":"#REF!"}},{"$error":"#REF!"},{"$f":"#REF!","v":{"$error":"#REF!"}},{"$error":"#REF!"},{"$f":"#REF!","v":{"$error":"#REF!"}},{"$error":"#REF!"},{"$f":"#REF!","v":{"$error":"#REF!"}},{"$error":"#REF!"},{"$error":"#REF!"},{"$error":"#REF!"}]
[{"$f":"#REF!","v":{"$error":"#REF!"}},{"$nulls":3},{"$f":"#REF!","v":{"$error":"#REF!"}},{"$error":"#REF!"},{"$f":"#REF!","v":{"$error":"#REF!"}},{"$error":"#REF!"},{"$f":"#REF!","v":{"$error":"#REF!"}},{"$error":"#REF!"},{"$f":"#REF!","v":{"$error":"#REF!"}},{"$error":"#REF!"},{"$f":"#REF!","v":{"$error":"#REF!"}},{"$error":"#REF!"},{"$f":"#REF!","v":{"$error":"#REF!"}},{"$error":"#REF!"},{"$f":"#REF!","v":{"$error":"#REF!"}},{"$error":"#REF!"},{"$f":"#REF!","v":{"$error":"#REF!"}},{"$error":"#REF!"},{"$f":"#REF!","v":{"$error":"#REF!"}},{"$error":"#REF!"},{"$f":"#REF!","v":{"$error":"#REF!"}},{"$error":"#REF!"},{"$f":"#REF!","v":{"$error":"#REF!"}},{"$error":"#REF!"},{"$f":"#REF!","v":{"$error":"#REF!"}},{"$error":"#REF!"},{"$f":"#REF!","v":{"$error":"#REF!"}},{"$error":"#REF!"},{"$f":"#REF!","v":{"$error":"#REF!"}},{"$error":"#REF!"},{"$f":"#REF!","v":{"$error":"#REF!"}},{"$error":"#REF!"},{"$f":"#REF!","v":{"$error":"#REF!"}},{"$error":"#REF!"},{"$f":"#REF!","v":{"$error":"#REF!"}},{"$error":"#REF!"},{"$f":"#REF!","v":{"$error":"#REF!"}},{"$error":"#REF!"},{"$f":"#REF!","v":{"$error":"#REF!"}},{"$error":"#REF!"},{"$error":"#REF!"},{"$error":"#REF!"}]
[{"$f":"#REF!","v":{"$error":"#REF!"}},{"$nulls":3},{"$f":"#REF!","v":{"$error":"#REF!"}},{"$error":"#REF!"},{"$f":"#REF!","v":{"$error":"#REF!"}},{"$error":"#REF!"},{"$f":"#REF!","v":{"$error":"#REF!"}},{"$error":"#REF!"},{"$f":"#REF!","v":{"$error":"#REF!"}},{"$error":"#REF!"},{"$f":"#REF!","v":{"$error":"#REF!"}},{"$error":"#REF!"},{"$f":"#REF!","v":{"$error":"#REF!"}},{"$error":"#REF!"},{"$f":"#REF!","v":{"$error":"#REF!"}},{"$error":"#REF!"},{"$f":"#REF!","v":{"$error":"#REF!"}},{"$error":"#REF!"},{"$f":"#REF!","v":{"$error":"#REF!"}},{"$error":"#REF!"},{"$f":"#REF!","v":{"$error":"#REF!"}},{"$error":"#REF!"},{"$f":"#REF!","v":{"$error":"#REF!"}},{"$error":"#REF!"},{"$f":"#REF!","v":{"$error":"#REF!"}},{"$error":"#REF!"},{"$f":"#REF!","v":{"$error":"#REF!"}},{"$error":"#REF!"},{"$f":"#REF!","v":{"$error":"#REF!"}},{"$error":"#REF!"},{"$f":"#REF!","v":{"$error":"#REF!"}},{"$error":"#REF!"},{"$f":"#REF!","v":{"$error":"#REF!"}},{"$error":"#REF!"},{"$f":"#REF!","v":{"$error":"#REF!"}},{"$error":"#REF!"},{"$f":"#REF!","v":{"$error":"#REF!"}},{"$error":"#REF!"},{"$f":"#REF!","v":{"$error":"#REF!"}},{"$error":"#REF!"},{"$error":"#REF!"},{"$error":"#REF!"}]
[{"$f":"#REF!","v":{"$error":"#REF!"}},{"$nulls":3},{"$f":"#REF!","v":{"$error":"#REF!"}},{"$error":"#REF!"},{"$f":"#REF!","v":{"$error":"#REF!"}},{"$error":"#REF!"},{"$f":"#REF!","v":{"$error":"#REF!"}},{"$error":"#REF!"},{"$f":"#REF!","v":{"$error":"#REF!"}},{"$error":"#REF!"},{"$f":"#REF!","v":{"$error":"#REF!"}},{"$error":"#REF!"},{"$f":"#REF!","v":{"$error":"#REF!"}},{"$error":"#REF!"},{"$f":"#REF!","v":{"$error":"#REF!"}},{"$error":"#REF!"},{"$f":"#REF!","v":{"$error":"#REF!"}},{"$error":"#REF!"},{"$f":"#REF!","v":{"$error":"#REF!"}},{"$error":"#REF!"},{"$f":"#REF!","v":{"$error":"#REF!"}},{"$error":"#REF!"},{"$f":"#REF!","v":{"$error":"#REF!"}},{"$error":"#REF!"},{"$f":"#REF!","v":{"$error":"#REF!"}},{"$error":"#REF!"},{"$f":"#REF!","v":{"$error":"#REF!"}},{"$error":"#REF!"},{"$f":"#REF!","v":{"$error":"#REF!"}},{"$error":"#REF!"},{"$f":"#REF!","v":{"$error":"#REF!"}},{"$error":"#REF!"},{"$f":"#REF!","v":{"$error":"#REF!"}},{"$error":"#REF!"},{"$f":"#REF!","v":{"$error":"#REF!"}},{"$error":"#REF!"},{"$f":"#REF!","v":{"$error":"#REF!"}},{"$error":"#REF!"},{"$f":"#REF!","v":{"$error":"#REF!"}},{"$error":"#REF!"},{"$error":"#REF!"},{"$error":"#REF!"}]
[{"$f":"#REF!","v":{"$error":"#REF!"}},{"$nulls":3},{"$f":"#REF!","v":{"$error":"#REF!"}},{"$error":"#REF!"},{"$f":"#REF!","v":{"$error":"#REF!"}},{"$error":"#REF!"},{"$f":"#REF!","v":{"$error":"#REF!"}},{"$error":"#REF!"},{"$f":"#REF!","v":{"$error":"#REF!"}},{"$error":"#REF!"},{"$f":"#REF!","v":{"$error":"#REF!"}},{"$error":"#REF!"},{"$f":"#REF!","v":{"$error":"#REF!"}},{"$error":"#REF!"},{"$f":"#REF!","v":{"$error":"#REF!"}},{"$error":"#REF!"},{"$f":"#REF!","v":{"$error":"#REF!"}},{"$error":"#REF!"},{"$f":"#REF!","v":{"$error":"#REF!"}},{"$error":"#REF!"},{"$f":"#REF!","v":{"$error":"#REF!"}},{"$error":"#REF!"},{"$f":"#REF!","v":{"$error":"#REF!"}},{"$error":"#REF!"},{"$f":"#REF!","v":{"$error":"#REF!"}},{"$error":"#REF!"},{"$f":"#REF!","v":{"$error":"#REF!"}},{"$error":"#REF!"},{"$f":"#REF!","v":{"$error":"#REF!"}},{"$error":"#REF!"},{"$f":"#REF!","v":{"$error":"#REF!"}},{"$error":"#REF!"},{"$f":"#REF!","v":{"$error":"#REF!"}},{"$error":"#REF!"},{"$f":"#REF!","v":{"$error":"#REF!"}},{"$error":"#REF!"},{"$f":"#REF!","v":{"$error":"#REF!"}},{"$error":"#REF!"},{"$f":"#REF!","v":{"$error":"#REF!"}},{"$error":"#REF!"},{"$error":"#REF!"},{"$error":"#REF!"}]
[{"$f":"#REF!","v":{"$error":"#REF!"}},{"$nulls":3},{"$f":"#REF!","v":{"$error":"#REF!"}},{"$error":"#REF!"},{"$f":"#REF!","v":{"$error":"#REF!"}},{"$error":"#REF!"},{"$f":"#REF!","v":{"$error":"#REF!"}},{"$error":"#REF!"},{"$f":"#REF!","v":{"$error":"#REF!"}},{"$error":"#REF!"},{"$f":"#REF!","v":{"$error":"#REF!"}},{"$error":"#REF!"},{"$f":"#REF!","v":{"$error":"#REF!"}},{"$error":"#REF!"},{"$f":"#REF!","v":{"$error":"#REF!"}},{"$error":"#REF!"},{"$f":"#REF!","v":{"$error":"#REF!"}},{"$error":"#REF!"},{"$f":"#REF!","v":{"$error":"#REF!"}},{"$error":"#REF!"},{"$f":"#REF!","v":{"$error":"#REF!"}},{"$error":"#REF!"},{"$f":"#REF!","v":{"$error":"#REF!"}},{"$error":"#REF!"},{"$f":"#REF!","v":{"$error":"#REF!"}},{"$error":"#REF!"},{"$f":"#REF!","v":{"$error":"#REF!"}},{"$error":"#REF!"},{"$f":"#REF!","v":{"$error":"#REF!"}},{"$error":"#REF!"},{"$f":"#REF!","v":{"$error":"#REF!"}},{"$error":"#REF!"},{"$f":"#REF!","v":{"$error":"#REF!"}},{"$error":"#REF!"},{"$f":"#REF!","v":{"$error":"#REF!"}},{"$error":"#REF!"},{"$f":"#REF!","v":{"$error":"#REF!"}},{"$error":"#REF!"},{"$f":"#REF!","v":{"$error":"#REF!"}},{"$error":"#REF!"},{"$error":"#REF!"},{"$error":"#REF!"}]
[{"$f":"#REF!","v":{"$error":"#REF!"}},{"$nulls":3},{"$f":"#REF!","v":{"$error":"#REF!"}},{"$error":"#REF!"},{"$f":"#REF!","v":{"$error":"#REF!"}},{"$error":"#REF!"},{"$f":"#REF!","v":{"$error":"#REF!"}},{"$error":"#REF!"},{"$f":"#REF!","v":{"$error":"#REF!"}},{"$error":"#REF!"},{"$f":"#REF!","v":{"$error":"#REF!"}},{"$error":"#REF!"},{"$f":"#REF!","v":{"$error":"#REF!"}},{"$error":"#REF!"},{"$f":"#REF!","v":{"$error":"#REF!"}},{"$error":"#REF!"},{"$f":"#REF!","v":{"$error":"#REF!"}},{"$error":"#REF!"},{"$f":"#REF!","v":{"$error":"#REF!"}},{"$error":"#REF!"},{"$f":"#REF!","v":{"$error":"#REF!"}},{"$error":"#REF!"},{"$f":"#REF!","v":{"$error":"#REF!"}},{"$error":"#REF!"},{"$f":"#REF!","v":{"$error":"#REF!"}},{"$error":"#REF!"},{"$f":"#REF!","v":{"$error":"#REF!"}},{"$error":"#REF!"},{"$f":"#REF!","v":{"$error":"#REF!"}},{"$error":"#REF!"},{"$f":"#REF!","v":{"$error":"#REF!"}},{"$error":"#REF!"},{"$f":"#REF!","v":{"$error":"#REF!"}},{"$error":"#REF!"},{"$f":"#REF!","v":{"$error":"#REF!"}},{"$error":"#REF!"},{"$f":"#REF!","v":{"$error":"#REF!"}},{"$error":"#REF!"},{"$f":"#REF!","v":{"$error":"#REF!"}},{"$error":"#REF!"},{"$error":"#REF!"},{"$error":"#REF!"}]
[{"$f":"#REF!","v":{"$error":"#REF!"}},{"$nulls":3},{"$f":"#REF!","v":{"$error":"#REF!"}},{"$error":"#REF!"},{"$f":"#REF!","v":{"$error":"#REF!"}},{"$error":"#REF!"},{"$f":"#REF!","v":{"$error":"#REF!"}},{"$error":"#REF!"},{"$f":"#REF!","v":{"$error":"#REF!"}},{"$error":"#REF!"},{"$f":"#REF!","v":{"$error":"#REF!"}},{"$error":"#REF!"},{"$f":"#REF!","v":{"$error":"#REF!"}},{"$error":"#REF!"},{"$f":"#REF!","v":{"$error":"#REF!"}},{"$error":"#REF!"},{"$f":"#REF!","v":{"$error":"#REF!"}},{"$error":"#REF!"},{"$f":"#REF!","v":{"$error":"#REF!"}},{"$error":"#REF!"},{"$f":"#REF!","v":{"$error":"#REF!"}},{"$error":"#REF!"},{"$f":"#REF!","v":{"$error":"#REF!"}},{"$error":"#REF!"},{"$f":"#REF!","v":{"$error":"#REF!"}},{"$error":"#REF!"},{"$f":"#REF!","v":{"$error":"#REF!"}},{"$error":"#REF!"},{"$f":"#REF!","v":{"$error":"#REF!"}},{"$error":"#REF!"},{"$f":"#REF!","v":{"$error":"#REF!"}},{"$error":"#REF!"},{"$f":"#REF!","v":{"$error":"#REF!"}},{"$error":"#REF!"},{"$f":"#REF!","v":{"$error":"#REF!"}},{"$error":"#REF!"},{"$f":"#REF!","v":{"$error":"#REF!"}},{"$error":"#REF!"},{"$f":"#REF!","v":{"$error":"#REF!"}},{"$error":"#REF!"},{"$error":"#REF!"},{"$error":"#REF!"}]
[{"$f":"#REF!","v":{"$error":"#REF!"}},{"$nulls":3},{"$f":"#REF!","v":{"$error":"#REF!"}},{"$error":"#REF!"},{"$f":"#REF!","v":{"$error":"#REF!"}},{"$error":"#REF!"},{"$f":"#REF!","v":{"$error":"#REF!"}},{"$error":"#REF!"},{"$f":"#REF!","v":{"$error":"#REF!"}},{"$error":"#REF!"},{"$f":"#REF!","v":{"$error":"#REF!"}},{"$error":"#REF!"},{"$f":"#REF!","v":{"$error":"#REF!"}},{"$error":"#REF!"},{"$f":"#REF!","v":{"$error":"#REF!"}},{"$error":"#REF!"},{"$f":"#REF!","v":{"$error":"#REF!"}},{"$error":"#REF!"},{"$f":"#REF!","v":{"$error":"#REF!"}},{"$error":"#REF!"},{"$f":"#REF!","v":{"$error":"#REF!"}},{"$error":"#REF!"},{"$f":"#REF!","v":{"$error":"#REF!"}},{"$error":"#REF!"},{"$f":"#REF!","v":{"$error":"#REF!"}},{"$error":"#REF!"},{"$f":"#REF!","v":{"$error":"#REF!"}},{"$error":"#REF!"},{"$f":"#REF!","v":{"$error":"#REF!"}},{"$error":"#REF!"},{"$f":"#REF!","v":{"$error":"#REF!"}},{"$error":"#REF!"},{"$f":"#REF!","v":{"$error":"#REF!"}},{"$error":"#REF!"},{"$f":"#REF!","v":{"$error":"#REF!"}},{"$error":"#REF!"},{"$f":"#REF!","v":{"$error":"#REF!"}},{"$error":"#REF!"},{"$f":"#REF!","v":{"$error":"#REF!"}},{"$error":"#REF!"},{"$error":"#REF!"},{"$error":"#REF!"}]
[{"$f":"#REF!","v":{"$error":"#REF!"}},{"$nulls":3},{"$f":"#REF!","v":{"$error":"#REF!"}},{"$error":"#REF!"},{"$f":"#REF!","v":{"$error":"#REF!"}},{"$error":"#REF!"},{"$f":"#REF!","v":{"$error":"#REF!"}},{"$error":"#REF!"},{"$f":"#REF!","v":{"$error":"#REF!"}},{"$error":"#REF!"},{"$f":"#REF!","v":{"$error":"#REF!"}},{"$error":"#REF!"},{"$f":"#REF!","v":{"$error":"#REF!"}},{"$error":"#REF!"},{"$f":"#REF!","v":{"$error":"#REF!"}},{"$error":"#REF!"},{"$f":"#REF!","v":{"$error":"#REF!"}},{"$error":"#REF!"},{"$f":"#REF!","v":{"$error":"#REF!"}},{"$error":"#REF!"},{"$f":"#REF!","v":{"$error":"#REF!"}},{"$error":"#REF!"},{"$f":"#REF!","v":{"$error":"#REF!"}},{"$error":"#REF!"},{"$f":"#REF!","v":{"$error":"#REF!"}},{"$error":"#REF!"},{"$f":"#REF!","v":{"$error":"#REF!"}},{"$error":"#REF!"},{"$f":"#REF!","v":{"$error":"#REF!"}},{"$error":"#REF!"},{"$f":"#REF!","v":{"$error":"#REF!"}},{"$error":"#REF!"},{"$f":"#REF!","v":{"$error":"#REF!"}},{"$error":"#REF!"},{"$f":"#REF!","v":{"$error":"#REF!"}},{"$error":"#REF!"},{"$f":"#REF!","v":{"$error":"#REF!"}},{"$error":"#REF!"},{"$f":"#REF!","v":{"$error":"#REF!"}},{"$error":"#REF!"},{"$error":"#REF!"},{"$error":"#REF!"}]
[{"$f":"#REF!","v":{"$error":"#REF!"}},{"$nulls":3},{"$f":"#REF!","v":{"$error":"#REF!"}},{"$error":"#REF!"},{"$f":"#REF!","v":{"$error":"#REF!"}},{"$error":"#REF!"},{"$f":"#REF!","v":{"$error":"#REF!"}},{"$error":"#REF!"},{"$f":"#REF!","v":{"$error":"#REF!"}},{"$error":"#REF!"},{"$f":"#REF!","v":{"$error":"#REF!"}},{"$error":"#REF!"},{"$f":"#REF!","v":{"$error":"#REF!"}},{"$error":"#REF!"},{"$f":"#REF!","v":{"$error":"#REF!"}},{"$error":"#REF!"},{"$f":"#REF!","v":{"$error":"#REF!"}},{"$error":"#REF!"},{"$f":"#REF!","v":{"$error":"#REF!"}},{"$error":"#REF!"},{"$f":"#REF!","v":{"$error":"#REF!"}},{"$error":"#REF!"},{"$f":"#REF!","v":{"$error":"#REF!"}},{"$error":"#REF!"},{"$f":"#REF!","v":{"$error":"#REF!"}},{"$error":"#REF!"},{"$f":"#REF!","v":{"$error":"#REF!"}},{"$error":"#REF!"},{"$f":"#REF!","v":{"$error":"#REF!"}},{"$error":"#REF!"},{"$f":"#REF!","v":{"$error":"#REF!"}},{"$error":"#REF!"},{"$f":"#REF!","v":{"$error":"#REF!"}},{"$error":"#REF!"},{"$f":"#REF!","v":{"$error":"#REF!"}},{"$error":"#REF!"},{"$f":"#REF!","v":{"$error":"#REF!"}},{"$error":"#REF!"},{"$f":"#REF!","v":{"$error":"#REF!"}},{"$error":"#REF!"},{"$error":"#REF!"},{"$error":"#REF!"}]
[{"$f":"#REF!","v":{"$error":"#REF!"}},{"$nulls":3},{"$f":"#REF!","v":{"$error":"#REF!"}},{"$error":"#REF!"},{"$f":"#REF!","v":{"$error":"#REF!"}},{"$error":"#REF!"},{"$f":"#REF!","v":{"$error":"#REF!"}},{"$error":"#REF!"},{"$f":"#REF!","v":{"$error":"#REF!"}},{"$error":"#REF!"},{"$f":"#REF!","v":{"$error":"#REF!"}},{"$error":"#REF!"},{"$f":"#REF!","v":{"$error":"#REF!"}},{"$error":"#REF!"},{"$f":"#REF!","v":{"$error":"#REF!"}},{"$error":"#REF!"},{"$f":"#REF!","v":{"$error":"#REF!"}},{"$error":"#REF!"},{"$f":"#REF!","v":{"$error":"#REF!"}},{"$error":"#REF!"},{"$f":"#REF!","v":{"$error":"#REF!"}},{"$error":"#REF!"},{"$f":"#REF!","v":{"$error":"#REF!"}},{"$error":"#REF!"},{"$f":"#REF!","v":{"$error":"#REF!"}},{"$error":"#REF!"},{"$f":"#REF!","v":{"$error":"#REF!"}},{"$error":"#REF!"},{"$f":"#REF!","v":{"$error":"#REF!"}},{"$error":"#REF!"},{"$f":"#REF!","v":{"$error":"#REF!"}},{"$error":"#REF!"},{"$f":"#REF!","v":{"$error":"#REF!"}},{"$error":"#REF!"},{"$f":"#REF!","v":{"$error":"#REF!"}},{"$error":"#REF!"},{"$f":"#REF!","v":{"$error":"#REF!"}},{"$error":"#REF!"},{"$f":"#REF!","v":{"$error":"#REF!"}},{"$error":"#REF!"},{"$error":"#REF!"},{"$error":"#REF!"}]
[{"$f":"#REF!","v":{"$error":"#REF!"}},{"$nulls":3},{"$f":"#REF!","v":{"$error":"#REF!"}},{"$error":"#REF!"},{"$f":"#REF!","v":{"$error":"#REF!"}},{"$error":"#REF!"},{"$f":"#REF!","v":{"$error":"#REF!"}},{"$error":"#REF!"},{"$f":"#REF!","v":{"$error":"#REF!"}},{"$error":"#REF!"},{"$f":"#REF!","v":{"$error":"#REF!"}},{"$error":"#REF!"},{"$f":"#REF!","v":{"$error":"#REF!"}},{"$error":"#REF!"},{"$f":"#REF!","v":{"$error":"#REF!"}},{"$error":"#REF!"},{"$f":"#REF!","v":{"$error":"#REF!"}},{"$error":"#REF!"},{"$f":"#REF!","v":{"$error":"#REF!"}},{"$error":"#REF!"},{"$f":"#REF!","v":{"$error":"#REF!"}},{"$error":"#REF!"},{"$f":"#REF!","v":{"$error":"#REF!"}},{"$error":"#REF!"},{"$f":"#REF!","v":{"$error":"#REF!"}},{"$error":"#REF!"},{"$f":"#REF!","v":{"$error":"#REF!"}},{"$error":"#REF!"},{"$f":"#REF!","v":{"$error":"#REF!"}},{"$error":"#REF!"},{"$f":"#REF!","v":{"$error":"#REF!"}},{"$error":"#REF!"},{"$f":"#REF!","v":{"$error":"#REF!"}},{"$error":"#REF!"},{"$f":"#REF!","v":{"$error":"#REF!"}},{"$error":"#REF!"},{"$f":"#REF!","v":{"$error":"#REF!"}},{"$error":"#REF!"},{"$f":"#REF!","v":{"$error":"#REF!"}},{"$error":"#REF!"},{"$error":"#REF!"},{"$error":"#REF!"}]
[{"$f":"#REF!","v":{"$error":"#REF!"}},{"$nulls":3},{"$f":"#REF!","v":{"$error":"#REF!"}},{"$error":"#REF!"},{"$f":"#REF!","v":{"$error":"#REF!"}},{"$error":"#REF!"},{"$f":"#REF!","v":{"$error":"#REF!"}},{"$error":"#REF!"},{"$f":"#REF!","v":{"$error":"#REF!"}},{"$error":"#REF!"},{"$f":"#REF!","v":{"$error":"#REF!"}},{"$error":"#REF!"},{"$f":"#REF!","v":{"$error":"#REF!"}},{"$error":"#REF!"},{"$f":"#REF!","v":{"$error":"#REF!"}},{"$error":"#REF!"},{"$f":"#REF!","v":{"$error":"#REF!"}},{"$error":"#REF!"},{"$f":"#REF!","v":{"$error":"#REF!"}},{"$error":"#REF!"},{"$f":"#REF!","v":{"$error":"#REF!"}},{"$error":"#REF!"},{"$f":"#REF!","v":{"$error":"#REF!"}},{"$error":"#REF!"},{"$f":"#REF!","v":{"$error":"#REF!"}},{"$error":"#REF!"},{"$f":"#REF!","v":{"$error":"#REF!"}},{"$error":"#REF!"},{"$f":"#REF!","v":{"$error":"#REF!"}},{"$error":"#REF!"},{"$f":"#REF!","v":{"$error":"#REF!"}},{"$error":"#REF!"},{"$f":"#REF!","v":{"$error":"#REF!"}},{"$error":"#REF!"},{"$f":"#REF!","v":{"$error":"#REF!"}},{"$error":"#REF!"},{"$f":"#REF!","v":{"$error":"#REF!"}},{"$error":"#REF!"},{"$f":"#REF!","v":{"$error":"#REF!"}},{"$error":"#REF!"},{"$error":"#REF!"},{"$error":"#REF!"}]
[{"$f":"#REF!","v":{"$error":"#REF!"}},{"$nulls":3},{"$f":"#REF!","v":{"$error":"#REF!"}},{"$error":"#REF!"},{"$f":"#REF!","v":{"$error":"#REF!"}},{"$error":"#REF!"},{"$f":"#REF!","v":{"$error":"#REF!"}},{"$error":"#REF!"},{"$f":"#REF!","v":{"$error":"#REF!"}},{"$error":"#REF!"},{"$f":"#REF!","v":{"$error":"#REF!"}},{"$error":"#REF!"},{"$f":"#REF!","v":{"$error":"#REF!"}},{"$error":"#REF!"},{"$f":"#REF!","v":{"$error":"#REF!"}},{"$error":"#REF!"},{"$f":"#REF!","v":{"$error":"#REF!"}},{"$error":"#REF!"},{"$f":"#REF!","v":{"$error":"#REF!"}},{"$error":"#REF!"},{"$f":"#REF!","v":{"$error":"#REF!"}},{"$error":"#REF!"},{"$f":"#REF!","v":{"$error":"#REF!"}},{"$error":"#REF!"},{"$f":"#REF!","v":{"$error":"#REF!"}},{"$error":"#REF!"},{"$f":"#REF!","v":{"$error":"#REF!"}},{"$error":"#REF!"},{"$f":"#REF!","v":{"$error":"#REF!"}},{"$error":"#REF!"},{"$f":"#REF!","v":{"$error":"#REF!"}},{"$error":"#REF!"},{"$f":"#REF!","v":{"$error":"#REF!"}},{"$error":"#REF!"},{"$f":"#REF!","v":{"$error":"#REF!"}},{"$error":"#REF!"},{"$f":"#REF!","v":{"$error":"#REF!"}},{"$error":"#REF!"},{"$f":"#REF!","v":{"$error":"#REF!"}},{"$error":"#REF!"},{"$error":"#REF!"},{"$error":"#REF!"}]
[{"$f":"#REF!","v":{"$error":"#REF!"}},{"$nulls":3},{"$f":"#REF!","v":{"$error":"#REF!"}},{"$error":"#REF!"},{"$f":"#REF!","v":{"$error":"#REF!"}},{"$error":"#REF!"},{"$f":"#REF!","v":{"$error":"#REF!"}},{"$error":"#REF!"},{"$f":"#REF!","v":{"$error":"#REF!"}},{"$error":"#REF!"},{"$f":"#REF!","v":{"$error":"#REF!"}},{"$error":"#REF!"},{"$f":"#REF!","v":{"$error":"#REF!"}},{"$error":"#REF!"},{"$f":"#REF!","v":{"$error":"#REF!"}},{"$error":"#REF!"},{"$f":"#REF!","v":{"$error":"#REF!"}},{"$error":"#REF!"},{"$f":"#REF!","v":{"$error":"#REF!"}},{"$error":"#REF!"},{"$f":"#REF!","v":{"$error":"#REF!"}},{"$error":"#REF!"},{"$f":"#REF!","v":{"$error":"#REF!"}},{"$error":"#REF!"},{"$f":"#REF!","v":{"$error":"#REF!"}},{"$error":"#REF!"},{"$f":"#REF!","v":{"$error":"#REF!"}},{"$error":"#REF!"},{"$f":"#REF!","v":{"$error":"#REF!"}},{"$error":"#REF!"},{"$f":"#REF!","v":{"$error":"#REF!"}},{"$error":"#REF!"},{"$f":"#REF!","v":{"$error":"#REF!"}},{"$error":"#REF!"},{"$f":"#REF!","v":{"$error":"#REF!"}},{"$error":"#REF!"},{"$f":"#REF!","v":{"$error":"#REF!"}},{"$error":"#REF!"},{"$f":"#REF!","v":{"$error":"#REF!"}},{"$error":"#REF!"},{"$error":"#REF!"},{"$error":"#REF!"}]
[{"$f":"#REF!","v":{"$error":"#REF!"}},{"$nulls":3},{"$f":"#REF!","v":{"$error":"#REF!"}},{"$error":"#REF!"},{"$f":"#REF!","v":{"$error":"#REF!"}},{"$error":"#REF!"},{"$f":"#REF!","v":{"$error":"#REF!"}},{"$error":"#REF!"},{"$f":"#REF!","v":{"$error":"#REF!"}},{"$error":"#REF!"},{"$f":"#REF!","v":{"$error":"#REF!"}},{"$error":"#REF!"},{"$f":"#REF!","v":{"$error":"#REF!"}},{"$error":"#REF!"},{"$f":"#REF!","v":{"$error":"#REF!"}},{"$error":"#REF!"},{"$f":"#REF!","v":{"$error":"#REF!"}},{"$error":"#REF!"},{"$f":"#REF!","v":{"$error":"#REF!"}},{"$error":"#REF!"},{"$f":"#REF!","v":{"$error":"#REF!"}},{"$error":"#REF!"},{"$f":"#REF!","v":{"$error":"#REF!"}},{"$error":"#REF!"},{"$f":"#REF!","v":{"$error":"#REF!"}},{"$error":"#REF!"},{"$f":"#REF!","v":{"$error":"#REF!"}},{"$error":"#REF!"},{"$f":"#REF!","v":{"$error":"#REF!"}},{"$error":"#REF!"},{"$f":"#REF!","v":{"$error":"#REF!"}},{"$error":"#REF!"},{"$f":"#REF!","v":{"$error":"#REF!"}},{"$error":"#REF!"},{"$f":"#REF!","v":{"$error":"#REF!"}},{"$error":"#REF!"},{"$f":"#REF!","v":{"$error":"#REF!"}},{"$error":"#REF!"},{"$f":"#REF!","v":{"$error":"#REF!"}},{"$error":"#REF!"},{"$error":"#REF!"},{"$error":"#REF!"}]
[{"$f":"#REF!","v":{"$error":"#REF!"}},{"$nulls":3},{"$f":"#REF!","v":{"$error":"#REF!"}},{"$error":"#REF!"},{"$f":"#REF!","v":{"$error":"#REF!"}},{"$error":"#REF!"},{"$f":"#REF!","v":{"$error":"#REF!"}},{"$error":"#REF!"},{"$f":"#REF!","v":{"$error":"#REF!"}},{"$error":"#REF!"},{"$f":"#REF!","v":{"$error":"#REF!"}},{"$error":"#REF!"},{"$f":"#REF!","v":{"$error":"#REF!"}},{"$error":"#REF!"},{"$f":"#REF!","v":{"$error":"#REF!"}},{"$error":"#REF!"},{"$f":"#REF!","v":{"$error":"#REF!"}},{"$error":"#REF!"},{"$f":"#REF!","v":{"$error":"#REF!"}},{"$error":"#REF!"},{"$f":"#REF!","v":{"$error":"#REF!"}},{"$error":"#REF!"},{"$f":"#REF!","v":{"$error":"#REF!"}},{"$error":"#REF!"},{"$f":"#REF!","v":{"$error":"#REF!"}},{"$error":"#REF!"},{"$f":"#REF!","v":{"$error":"#REF!"}},{"$error":"#REF!"},{"$f":"#REF!","v":{"$error":"#REF!"}},{"$error":"#REF!"},{"$f":"#REF!","v":{"$error":"#REF!"}},{"$error":"#REF!"},{"$f":"#REF!","v":{"$error":"#REF!"}},{"$error":"#REF!"},{"$f":"#REF!","v":{"$error":"#REF!"}},{"$error":"#REF!"},{"$f":"#REF!","v":{"$error":"#REF!"}},{"$error":"#REF!"},{"$f":"#REF!","v":{"$error":"#REF!"}},{"$error":"#REF!"},{"$error":"#REF!"},{"$error":"#REF!"}]
[{"$f":"#REF!","v":{"$error":"#REF!"}},{"$nulls":3},{"$f":"#REF!","v":{"$error":"#REF!"}},{"$error":"#REF!"},{"$f":"#REF!","v":{"$error":"#REF!"}},{"$error":"#REF!"},{"$f":"#REF!","v":{"$error":"#REF!"}},{"$error":"#REF!"},{"$f":"#REF!","v":{"$error":"#REF!"}},{"$error":"#REF!"},{"$f":"#REF!","v":{"$error":"#REF!"}},{"$error":"#REF!"},{"$f":"#REF!","v":{"$error":"#REF!"}},{"$error":"#REF!"},{"$f":"#REF!","v":{"$error":"#REF!"}},{"$error":"#REF!"},{"$f":"#REF!","v":{"$error":"#REF!"}},{"$error":"#REF!"},{"$f":"#REF!","v":{"$error":"#REF!"}},{"$error":"#REF!"},{"$f":"#REF!","v":{"$error":"#REF!"}},{"$error":"#REF!"},{"$f":"#REF!","v":{"$error":"#REF!"}},{"$error":"#REF!"},{"$f":"#REF!","v":{"$error":"#REF!"}},{"$error":"#REF!"},{"$f":"#REF!","v":{"$error":"#REF!"}},{"$error":"#REF!"},{"$f":"#REF!","v":{"$error":"#REF!"}},{"$error":"#REF!"},{"$f":"#REF!","v":{"$error":"#REF!"}},{"$error":"#REF!"},{"$f":"#REF!","v":{"$error":"#REF!"}},{"$error":"#REF!"},{"$f":"#REF!","v":{"$error":"#REF!"}},{"$error":"#REF!"},{"$f":"#REF!","v":{"$error":"#REF!"}},{"$error":"#REF!"},{"$f":"#REF!","v":{"$error":"#REF!"}},{"$error":"#REF!"},{"$error":"#REF!"},{"$error":"#REF!"}]
[{"$f":"#REF!","v":{"$error":"#REF!"}},{"$nulls":3},{"$f":"#REF!","v":{"$error":"#REF!"}},{"$error":"#REF!"},{"$f":"#REF!","v":{"$error":"#REF!"}},{"$error":"#REF!"},{"$f":"#REF!","v":{"$error":"#REF!"}},{"$error":"#REF!"},{"$f":"#REF!","v":{"$error":"#REF!"}},{"$error":"#REF!"},{"$f":"#REF!","v":{"$error":"#REF!"}},{"$error":"#REF!"},{"$f":"#REF!","v":{"$error":"#REF!"}},{"$error":"#REF!"},{"$f":"#REF!","v":{"$error":"#REF!"}},{"$error":"#REF!"},{"$f":"#REF!","v":{"$error":"#REF!"}},{"$error":"#REF!"},{"$f":"#REF!","v":{"$error":"#REF!"}},{"$error":"#REF!"},{"$f":"#REF!","v":{"$error":"#REF!"}},{"$error":"#REF!"},{"$f":"#REF!","v":{"$error":"#REF!"}},{"$error":"#REF!"},{"$f":"#REF!","v":{"$error":"#REF!"}},{"$error":"#REF!"},{"$f":"#REF!","v":{"$error":"#REF!"}},{"$error":"#REF!"},{"$f":"#REF!","v":{"$error":"#REF!"}},{"$error":"#REF!"},{"$f":"#REF!","v":{"$error":"#REF!"}},{"$error":"#REF!"},{"$f":"#REF!","v":{"$error":"#REF!"}},{"$error":"#REF!"},{"$f":"#REF!","v":{"$error":"#REF!"}},{"$error":"#REF!"},{"$f":"#REF!","v":{"$error":"#REF!"}},{"$error":"#REF!"},{"$f":"#REF!","v":{"$error":"#REF!"}},{"$error":"#REF!"},{"$error":"#REF!"},{"$error":"#REF!"}]
[{"$f":"#REF!","v":{"$error":"#REF!"}},{"$nulls":3},{"$f":"#REF!","v":{"$error":"#REF!"}},{"$error":"#REF!"},{"$f":"#REF!","v":{"$error":"#REF!"}},{"$error":"#REF!"},{"$f":"#REF!","v":{"$error":"#REF!"}},{"$error":"#REF!"},{"$f":"#REF!","v":{"$error":"#REF!"}},{"$error":"#REF!"},{"$f":"#REF!","v":{"$error":"#REF!"}},{"$error":"#REF!"},{"$f":"#REF!","v":{"$error":"#REF!"}},{"$error":"#REF!"},{"$f":"#REF!","v":{"$error":"#REF!"}},{"$error":"#REF!"},{"$f":"#REF!","v":{"$error":"#REF!"}},{"$error":"#REF!"},{"$f":"#REF!","v":{"$error":"#REF!"}},{"$error":"#REF!"},{"$f":"#REF!","v":{"$error":"#REF!"}},{"$error":"#REF!"},{"$f":"#REF!","v":{"$error":"#REF!"}},{"$error":"#REF!"},{"$f":"#REF!","v":{"$error":"#REF!"}},{"$error":"#REF!"},{"$f":"#REF!","v":{"$error":"#REF!"}},{"$error":"#REF!"},{"$f":"#REF!","v":{"$error":"#REF!"}},{"$error":"#REF!"},{"$f":"#REF!","v":{"$error":"#REF!"}},{"$error":"#REF!"},{"$f":"#REF!","v":{"$error":"#REF!"}},{"$error":"#REF!"},{"$f":"#REF!","v":{"$error":"#REF!"}},{"$error":"#REF!"},{"$f":"#REF!","v":{"$error":"#REF!"}},{"$error":"#REF!"},{"$f":"#REF!","v":{"$error":"#REF!"}},{"$error":"#REF!"},{"$error":"#REF!"},{"$error":"#REF!"}]

{"sheet":"целеполагание май","index":3,"n_rows":34,"n_cols":44,"rows_kept":34,"hidden":true,"merged":[[0,0,0,9],[0,10,0,21],[1,0,2,0],[1,1,2,1],[1,2,2,2],[1,3,2,3],[1,4,1,23],[1,24,1,41],[2,4,2,5],[2,6,2,7],[2,8,2,9],[2,10,2,11],[2,12,2,13],[2,14,2,15],[2,16,2,17],[2,18,2,19],[2,20,2,21],[2,22,2,23],[2,24,2,25],[2,26,2,27],[2,28,2,29],[2,30,2,31],[2,32,2,33],[2,34,2,35],[2,36,2,37],[2,38,2,39],[2,40,2,41]]}
[{"$f":"целеполагание!A1","v":{"$error":"#REF!"}},{"$nulls":9},"целеполагание"]
[{"$f":"'[1]сырые баллы'!A2:A3","v":"№"},{"$f":"'[1]сырые баллы'!B2:B3","v":"Ф.И."},{"$f":"'[1]сырые баллы'!C2:C3","v":"Класс"},{"$f":"'[1]сырые баллы'!D2:D2","v":"дата заполнения"},"часть А",{"$nulls":19},"часть 2"]
[{"$nulls":4},2,null,3,null,6,null,{"$f":"'[1]сырые баллы'!R3","v":14},null,{"$f":"'[1]сырые баллы'!S3","v":15},null,{"$f":"'[1]сырые баллы'!T3","v":16},null,{"$f":"'[1]сырые баллы'!U3","v":17},null,{"$f":"'[1]сырые баллы'!V3","v":18},null,{"$f":"'[1]сырые баллы'!W3","v":19},null,{"$f":"'[1]сырые баллы'!X3","v":20},null,2,null,3,null,{"$f":"'[1]сырые баллы'!BC3","v":14},null,{"$f":"'[1]сырые баллы'!BD3","v":15},null,{"$f":"'[1]сырые баллы'!BE3","v":16},null,{"$f":"'[1]сырые баллы'!BF3","v":17},null,{"$f":"'[1]сырые баллы'!BG3","v":18},null,{"$f":"'[1]сырые баллы'!BH3","v":19},null,{"$f":"'[1]сырые баллы'!BI3","v":20}]
[{"$f":"#REF!","v":{"$error":"#REF!"}},{"$f":"IF(#REF!=\"\",\"\",#REF!)","v":{"$error":"#REF!"}},{"$f":"#REF!","v":{"$error":"#REF!"}},{"$f":"#REF!","v":{"$error":"#REF!"}},{"$f":"#REF!","v":{"$error":"#REF!"}},{"$f":"IF(E4=0,\"\",IF(E4=\"а\",1,2))","v":{"$error":"#REF!"}},{"$f":"#REF!","v":{"$error":"#REF!"}},{"$f":"IF(G4=0,\"\",IF(G4=\"а\",1,2))","v":{"$error":"#REF!"}},{"$f":"#REF!","v":{"$error":"#REF!"}},{"$f":"IF(I4=0,\"\",IF(I4=\"а\",1,3))","v":{"$error":"#REF!"}},{"$f":"#REF!","v":{"$error":"#REF!"}},{"$f":"IF(K4=0,\"\",IF(K4=\"б\",3,2))","v":{"$error":"#REF!"}},{"$f":"#REF!","v":{"$error":"#REF!"}},{"$f":"IF(M4=0,\"\",IF(M4=\"б\",4,3))","v":{"$error":"#REF!"}},{"$f":"#REF!","v":{"$error":"#REF!"}},{"$f":"IF(O4=0,\"\",IF(O4=\"а\",1,2))","v":{"$error":"#REF!"}},{"$f":"#REF!","v":{"$error":"#REF!"}},{"$f":"IF(Q4=0,\"\",IF(Q4=\"а\",1,IF(Q4=\"б\",2,4)))","v":{"$error":"#REF!"}},{"$f":"#REF!","v":{"$error":"#REF!"}},{"$f":"IF(S4=0,\"\",IF(S4=\"а\",3,4))","v":{"$error":"#REF!"}},{"$f":"#REF!","v":{"$error":"#REF!"}},{"$f":"IF(U4=0,\"\",IF(U4=\"а\",4,5))","v":{"$error":"#REF!"}},{"$f":"#REF!","v":{"$error":"#REF!"}},{"$f":"IF(W4=0,\"\",IF(W4=\"а\",5,6))","v":{"$error":"#REF!"}},{"$f":"#REF!","v":{"$error":"#REF!"}},{"$f":"IF(Y4=0,\"\",IF(Y4=\"а\",1,2))","v":{"$error":"#REF!"}},{"$f":"#REF!","v":{"$error":"#REF!"}},{"$f":"IF(AA4=0,\"\",IF(AA4=\"а\",1,4))","v":{"$error":"#REF!"}},{"$f":"#REF!","v":{"$error":"#REF!"}},{"$f":"IF(AC4=0,\"\",IF(AC4=\"б\",3,1))","v":{"$error":"#REF!"}},{"$f":"#REF!","v":{"$error":"#REF!"}},{"$f":"IF(AE4=0,\"\",IF(AE4=\"б\",4,3))","v":{"$error":"#REF!"}},{"$f":"#REF!","v":{"$error":"#REF!"}},{"$f":"IF(AG4=0,\"\",IF(AG4=\"а\",1,2))","v":{"$error":"#REF!"}},{"$f":"#REF!","v":{"$error":"#REF!"}},{"$f":"IF(AI4=0,\"\",IF(AI4=\"б\",4,2))","v":{"$error":"#REF!"}},{"$f":"#REF!","v":{"$error":"#REF!"}},{"$f":"IF(AK4=0,\"\",IF(AK4=\"а\",4,6))","v":{"$error":"#REF!"}},{"$f":"#REF!","v":{"$error":"#REF!"}},{"$f":"IF(AM4=0,\"\",IF(AM4=\"а\",3,4))","v":{"$error":"#REF!"}},{"$f":"#REF!","v":{"$error":"#REF!"}},{"$f":"IF(AO4=0,\"\",IF(AO4=\"а\",5,6))","v":{"$error":"#REF!"}},{"$f":"SUM(L4:AP4)","v":{"$error":"#REF!"}},{"$f":"IF(AQ4=0,\"\",IF(AQ4>=70,\"6 уровень\",IF(AND(AQ4>=58,BE4<70),\"5 уровень\",IF(AND(AQ4>=48,BE4<58),\"4 уровень\",IF(AND(AQ4>=24,AQ4<48),\"3 уровень\",IF(AND(AQ4>=12,AQ4<24),\"2 уровень\",\"1 уровень\"))))))","v":{"$error":"#REF!"}}]
[{"$f":"#REF!","v":{"$error":"#REF!"}},{"$f":"IF(#REF!=\"\",\"\",#REF!)","v":{"$error":"#REF!"}},{"$f":"#REF!","v":{"$error":"#REF!"}},{"$f":"#REF!","v":{"$error":"#REF!"}},{"$f":"#REF!","v":{"$error":"#REF!"}},{"$f":"IF(E5=0,\"\",IF(E5=\"а\",1,2))","v":{"$error":"#REF!"}},{"$f":"#REF!","v":{"$error":"#REF!"}},{"$f":"IF(G5=0,\"\",IF(G5=\"а\",1,2))","v":{"$error":"#REF!"}},{"$f":"#REF!","v":{"$error":"#REF!"}},{"$f":"IF(I5=0,\"\",IF(I5=\"а\",1,3))","v":{"$error":"#REF!"}},{"$f":"#REF!","v":{"$error":"#REF!"}},{"$f":"IF(K5=0,\"\",IF(K5=\"б\",3,2))","v":{"$error":"#REF!"}},{"$f":"#REF!","v":{"$error":"#REF!"}},{"$f":"IF(M5=0,\"\",IF(M5=\"б\",4,3))","v":{"$error":"#REF!"}},{"$f":"#REF!","v":{"$error":"#REF!"}},{"$f":"IF(O5=0,\"\",IF(O5=\"а\",1,2))","v":{"$error":"#REF!"}},{"$f":"#REF!","v":{"$error":"#REF!"}},{"$f":"IF(Q5=0,\"\",IF(Q5=\"а\",1,IF(Q5=\"б\",2,4)))","v":{"$error":"#REF!"}},{"$f":"#REF!","v":{"$error":"#REF!"}},{"$f":"IF(S5=0,\"\",IF(S5=\"а\",3,4))","v":{"$error":"#REF!"}},{"$f":"#REF!","v":{"$error":"#REF!"}},{"$f":"IF(U5=0,\"\",IF(U5=\"а\",4,5))","v":{"$error":"#REF!"}},{"$f":"#REF!","v":{"$error":"#REF!"}},{"$f":"IF(W5=0,\"\",IF(W5=\"а\",5,6))","v":{"$error":"#REF!"}},{"$f":"#REF!","v":{"$error":"#REF!"}},{"$f":"IF(Y5=0,\"\",IF(Y5=\"а\",1,2))","v":{"$error":"#REF!"}},{"$f":"#REF!","v":{"$error":"#REF!"}},{"$f":"IF(AA5=0,\"\",IF(AA5=\"а\",1,4))","v":{"$error":"#REF!"}},{"$f":"#REF!","v":{"$error":"#REF!"}},{"$f":"IF(AC5=0,\"\",IF(AC5=\"б\",3,1))","v":{"$error":"#REF!"}},{"$f":"#REF!","v":{"$error":"#REF!"}},{"$f":"IF(AE5=0,\"\",IF(AE5=\"б\",4,3))","v":{"$error":"#REF!"}},{"$f":"#REF!","v":{"$error":"#REF!"}},{"$f":"IF(AG5=0,\"\",IF(AG5=\"а\",1,2))","v":{"$error":"#REF!"}},{"$f":"#REF!","v":{"$error":"#REF!"}},{"$f":"IF(AI5=0,\"\",IF(AI5=\"б\",4,2))","v":{"$error":"#REF!"}},{"$f":"#REF!","v":{"$error":"#REF!"}},{"$f":"IF(AK5=0,\"\",IF(AK5=\"а\",4,6))","v":{"$error":"#REF!"}},{"$f":"#REF!","v":{"$error":"#REF!"}},{"$f":"IF(AM5=0,\"\",IF(AM5=\"а\",3,4))","v":{"$error":"#REF!"}},{"$f":"#REF!","v":{"$error":"#REF!"}},{"$f":"IF(AO5=0,\"\",IF(AO5=\"а\",5,6))","v":{"$error":"#REF!"}},{"$f":"SUM(L5:AP5)","v":{"$error":"#REF!"}},{"$f":"IF(AQ5=0,\"\",IF(AQ5>=70,\"6 уровень\",IF(AND(AQ5>=58,BE5<70),\"5 уровень\",IF(AND(AQ5>=48,BE5<58),\"4 уровень\",IF(AND(AQ5>=24,AQ5<48),\"3 уровень\",IF(AND(AQ5>=12,AQ5<24),\"2 уровень\",\"1 уровень\"))))))","v":{"$error":"#REF!"}}]
[{"$f":"#REF!","v":{"$error":"#REF!"}},{"$f":"IF(#REF!=\"\",\"\",#REF!)","v":{"$error":"#REF!"}},{"$f":"#REF!","v":{"$error":"#REF!"}},{"$f":"#REF!","v":{"$error":"#REF!"}},{"$f":"#REF!","v":{"$error":"#REF!"}},{"$error":"#REF!"},{"$f":"#REF!","v":{"$error":"#REF!"}},{"$error":"#REF!"},{"$f":"#REF!","v":{"$error":"#REF!"}},{"$error":"#REF!"},{"$f":"#REF!","v":{"$error":"#REF!"}},{"$error":"#REF!"},{"$f":"#REF!","v":{"$error":"#REF!"}},{"$error":"#REF!"},{"$f":"#REF!","v":{"$error":"#REF!"}},{"$error":"#REF!"},{"$f":"#REF!","v":{"$error":"#REF!"}},{"$error":"#REF!"},{"$f":"#REF!","v":{"$error":"#REF!"}},{"$error":"#REF!"},{"$f":"#REF!","v":{"$error":"#REF!"}},{"$error":"#REF!"},{"$f":"#REF!","v":{"$error":"#REF!"}},{"$error":"#REF!"},{"$f":"#REF!","v":{"$error":"#REF!"}},{"$error":"#REF!"},{"$f":"#REF!","v":{"$error":"#REF!"}},{"$error":"#REF!"},{"$f":"#REF!","v":{"$error":"#REF!"}},{"$error":"#REF!"},{"$f":"#REF!","v":{"$error":"#REF!"}},{"$error":"#REF!"},{"$f":"#REF!","v":{"$error":"#REF!"}},{"$error":"#REF!"},{"$f":"#REF!","v":{"$error":"#REF!"}},{"$error":"#REF!"},{"$f":"#REF!","v":{"$error":"#REF!"}},{"$error":"#REF!"},{"$f":"#REF!","v":{"$error":"#REF!"}},{"$error":"#REF!"},{"$f":"#REF!","v":{"$error":"#REF!"}},{"$error":"#REF!"},{"$error":"#REF!"},{"$error":"#REF!"}]
[{"$f":"#REF!","v":{"$error":"#REF!"}},{"$f":"IF(#REF!=\"\",\"\",#REF!)","v":{"$error":"#REF!"}},{"$f":"#REF!","v":{"$error":"#REF!"}},{"$f":"#REF!","v":{"$error":"#REF!"}},{"$f":"#REF!","v":{"$error":"#REF!"}},{"$error":"#REF!"},{"$f":"#REF!","v":{"$error":"#REF!"}},{"$error":"#REF!"},{"$f":"#REF!","v":{"$error":"#REF!"}},{"$error":"#REF!"},{"$f":"#REF!","v":{"$error":"#REF!"}},{"$error":"#REF!"},{"$f":"#REF!","v":{"$error":"#REF!"}},{"$error":"#REF!"},{"$f":"#REF!","v":{"$error":"#REF!"}},{"$error":"#REF!"},{"$f":"#REF!","v":{"$error":"#REF!"}},{"$error":"#REF!"},{"$f":"#REF!","v":{"$error":"#REF!"}},{"$error":"#REF!"},{"$f":"#REF!","v":{"$error":"#REF!"}},{"$error":"#REF!"},{"$f":"#REF!","v":{"$error":"#REF!"}},{"$error":"#REF!"},{"$f":"#REF!","v":{"$error":"#REF!"}},{"$error":"#REF!"},{"$f":"#REF!","v":{"$error":"#REF!"}},{"$error":"#REF!"},{"$f":"#REF!","v":{"$error":"#REF!"}},{"$error":"#REF!"},{"$f":"#REF!","v":{"$error":"#REF!"}},{"$error":"#REF!"},{"$f":"#REF!","v":{"$error":"#REF!"}},{"$error":"#REF!"},{"$f":"#REF!","v":{"$error":"#REF!"}},{"$error":"#REF!"},{"$f":"#REF!","v":{"$error":"#REF!"}},{"$error":"#REF!"},{"$f":"#REF!","v":{"$error":"#REF!"}},{"$error":"#REF!"},{"$f":"#REF!","v":{"$error":"#REF!"}},{"$error":"#REF!"},{"$error":"#REF!"},{"$error":"#REF!"}]
[{"$f":"#REF!","v":{"$error":"#REF!"}},{"$f":"IF(#REF!=\"\",\"\",#REF!)","v":{"$error":"#REF!"}},{"$f":"#REF!","v":{"$error":"#REF!"}},{"$f":"#REF!","v":{"$error":"#REF!"}},{"$f":"#REF!","v":{"$error":"#REF!"}},{"$error":"#REF!"},{"$f":"#REF!","v":{"$error":"#REF!"}},{"$error":"#REF!"},{"$f":"#REF!","v":{"$error":"#REF!"}},{"$error":"#REF!"},{"$f":"#REF!","v":{"$error":"#REF!"}},{"$error":"#REF!"},{"$f":"#REF!","v":{"$error":"#REF!"}},{"$error":"#REF!"},{"$f":"#REF!","v":{"$error":"#REF!"}},{"$error":"#REF!"},{"$f":"#REF!","v":{"$error":"#REF!"}},{"$error":"#REF!"},{"$f":"#REF!","v":{"$error":"#REF!"}},{"$error":"#REF!"},{"$f":"#REF!","v":{"$error":"#REF!"}},{"$error":"#REF!"},{"$f":"#REF!","v":{"$error":"#REF!"}},{"$error":"#REF!"},{"$f":"#REF!","v":{"$error":"#REF!"}},{"$error":"#REF!"},{"$f":"#REF!","v":{"$error":"#REF!"}},{"$error":"#REF!"},{"$f":"#REF!","v":{"$error":"#REF!"}},{"$error":"#REF!"},{"$f":"#REF!","v":{"$error":"#REF!"}},{"$error":"#REF!"},{"$f":"#REF!","v":{"$error":"#REF!"}},{"$error":"#REF!"},{"$f":"#REF!","v":{"$error":"#REF!"}},{"$error":"#REF!"},{"$f":"#REF!","v":{"$error":"#REF!"}},{"$error":"#REF!"},{"$f":"#REF!","v":{"$error":"#REF!"}},{"$error":"#REF!"},{"$f":"#REF!","v":{"$error":"#REF!"}},{"$error":"#REF!"},{"$error":"#REF!"},{"$error":"#REF!"}]
[{"$f":"#REF!","v":{"$error":"#REF!"}},{"$f":"IF(#REF!=\"\",\"\",#REF!)","v":{"$error":"#REF!"}},{"$f":"#REF!","v":{"$error":"#REF!"}},{"$f":"#REF!","v":{"$error":"#REF!"}},{"$f":"#REF!","v":{"$error":"#REF!"}},{"$error":"#REF!"},{"$f":"#REF!","v":{"$error":"#REF!"}},{"$error":"#REF!"},{"$f":"#REF!","v":{"$error":"#REF!"}},{"$error":"#REF!"},{"$f":"#REF!","v":{"$error":"#REF!"}},{"$error":"#REF!"},{"$f":"#REF!","v":{"$error":"#REF!"}},{"$error":"#REF!"},{"$f":"#REF!","v":{"$error":"#REF!"}},{"$error":"#REF!"},{"$f":"#REF!","v":{"$error":"#REF!"}},{"$error":"#REF!"},{"$f":"#REF!","v":{"$error":"#REF!"}},{"$error":"#REF!"},{"$f":"#REF!","v":{"$error":"#REF!"}},{"$error":"#REF!"},{"$f":"#REF!","v":{"$error":"#REF!"}},{"$error":"#REF!"},{"$f":"#REF!","v":{"$error":"#REF!"}},{"$error":"#REF!"},{"$f":"#REF!","v":{"$error":"#REF!"}},{"$error":"#REF!"},{"$f":"#REF!","v":{"$error":"#REF!"}},{"$error":"#REF!"},{"$f":"#REF!","v":{"$error":"#REF!"}},{"$error":"#REF!"},{"$f":"#REF!","v":{"$error":"#REF!"}},{"$error":"#REF!"},{"$f":"#REF!","v":{"$error":"#REF!"}},{"$error":"#REF!"},{"$f":"#REF!","v":{"$error":"#REF!"}},{"$error":"#REF!"},{"$f":"#REF!","v":{"$error":"#REF!"}},{"$error":"#REF!"},{"$f":"#REF!","v":{"$error":"#REF!"}},{"$error":"#REF!"},{"$error":"#REF!"},{"$error":"#REF!"}]
[{"$f":"#REF!","v":{"$error":"#REF!"}},{"$f":"IF(#REF!=\"\",\"\",#REF!)","v":{"$error":"#REF!"}},{"$f":"#REF!","v":{"$error":"#REF!"}},{"$f":"#REF!","v":{"$error":"#REF!"}},{"$f":"#REF!","v":{"$error":"#REF!"}},{"$f":"IF(E10=0,\"\",IF(E10=\"а\",1,2))","v":{"$error":"#REF!"}},{"$f":"#REF!","v":{"$error":"#REF!"}},{"$f":"IF(G10=0,\"\",IF(G10=\"а\",1,2))","v":{"$error":"#REF!"}},{"$f":"#REF!","v":{"$error":"#REF!"}},{"$f":"IF(I10=0,\"\",IF(I10=\"а\",1,3))","v":{"$error":"#REF!"}},{"$f":"#REF!","v":{"$error":"#REF!"}},{"$f":"IF(K10=0,\"\",IF(K10=\"б\",3,2))","v":{"$error":"#REF!"}},{"$f":"#REF!","v":{"$error":"#REF!"}},{"$f":"IF(M10=0,\"\",IF(M10=\"б\",4,3))","v":{"$error":"#REF!"}},{"$f":"#REF!","v":{"$error":"#REF!"}},{"$f":"IF(O10=0,\"\",IF(O10=\"а\",1,2))","v":{"$error":"#REF!"}},{"$f":"#REF!","v":{"$error":"#REF!"}},{"$f":"IF(Q10=0,\"\",IF(Q10=\"а\",1,IF(Q10=\"б\",2,4)))","v":{"$error":"#REF!"}},{"$f":"#REF!","v":{"$error":"#REF!"}},{"$f":"IF(S10=0,\"\",IF(S10=\"а\",3,4))","v":{"$error":"#REF!"}},{"$f":"#REF!","v":{"$error":"#REF!"}},{"$f":"IF(U10=0,\"\",IF(U10=\"а\",4,5))","v":{"$error":"#REF!"}},{"$f":"#REF!","v":{"$error":"#REF!"}},{"$f":"IF(W10=0,\"\",IF(W10=\"а\",5,6))","v":{"$error":"#REF!"}},{"$f":"#REF!","v":{"$error":"#REF!"}},{"$f":"IF(Y10=0,\"\",IF(Y10=\"а\",1,2))","v":{"$error":"#REF!"}},{"$f":"#REF!","v":{"$error":"#REF!"}},{"$f":"IF(AA10=0,\"\",IF(AA10=\"а\",1,4))","v":{"$error":"#REF!"}},{"$f":"#REF!","v":{"$error":"#REF!"}},{"$f":"IF(AC10=0,\"\",IF(AC10=\"б\",3,1))","v":{"$error":"#REF!"}},{"$f":"#REF!","v":{"$error":"#REF!"}},{"$f":"IF(AE10=0,\"\",IF(AE10=\"б\",4,3))","v":{"$error":"#REF!"}},{"$f":"#REF!","v":{"$error":"#REF!"}},{"$f":"IF(AG10=0,\"\",IF(AG10=\"а\",1,2))","v":{"$error":"#REF!"}},{"$f":"#REF!","v":{"$error":"#REF!"}},{"$f":"IF(AI10=0,\"\",IF(AI10=\"б\",4,2))","v":{"$error":"#REF!"}},{"$f":"#REF!","v":{"$error":"#REF!"}},{"$f":"IF(AK10=0,\"\",IF(AK10=\"а\",4,6))","v":{"$error":"#REF!"}},{"$f":"#REF!","v":{"$error":"#REF!"}},{"$f":"IF(AM10=0,\"\",IF(AM10=\"а\",3,4))","v":{"$error":"#REF!"}},{"$f":"#REF!","v":{"$error":"#REF!"}},{"$f":"IF(AO10=0,\"\",IF(AO10=\"а\",5,6))","v":{"$error":"#REF!"}},{"$error":"#REF!"},{"$error":"#REF!"}]
[{"$f":"#REF!","v":{"$error":"#REF!"}},{"$f":"IF(#REF!=\"\",\"\",#REF!)","v":{"$error":"#REF!"}},{"$f":"#REF!","v":{"$error":"#REF!"}},{"$f":"#REF!","v":{"$error":"#REF!"}},{"$f":"#REF!","v":{"$error":"#REF!"}},{"$error":"#REF!"},{"$f":"#REF!","v":{"$error":"#REF!"}},{"$error":"#REF!"},{"$f":"#REF!","v":{"$error":"#REF!"}},{"$error":"#REF!"},{"$f":"#REF!","v":{"$error":"#REF!"}},{"$error":"#REF!"},{"$f":"#REF!","v":{"$error":"#REF!"}},{"$error":"#REF!"},{"$f":"#REF!","v":{"$error":"#REF!"}},{"$error":"#REF!"},{"$f":"#REF!","v":{"$error":"#REF!"}},{"$error":"#REF!"},{"$f":"#REF!","v":{"$error":"#REF!"}},{"$error":"#REF!"},{"$f":"#REF!","v":{"$error":"#REF!"}},{"$error":"#REF!"},{"$f":"#REF!","v":{"$error":"#REF!"}},{"$error":"#REF!"},{"$f":"#REF!","v":{"$error":"#REF!"}},{"$error":"#REF!"},{"$f":"#REF!","v":{"$error":"#REF!"}},{"$error":"#REF!"},{"$f":"#REF!","v":{"$error":"#REF!"}},{"$error":"#REF!"},{"$f":"#REF!","v":{"$error":"#REF!"}},{"$error":"#REF!"},{"$f":"#REF!","v":{"$error":"#REF!"}},{"$error":"#REF!"},{"$f":"#REF!","v":{"$error":"#REF!"}},{"$error":"#REF!"},{"$f":"#REF!","v":{"$error":"#REF!"}},{"$error":"#REF!"},{"$f":"#REF!","v":{"$error":"#REF!"}},{"$error":"#REF!"},{"$f":"#REF!","v":{"$error":"#REF!"}},{"$error":"#REF!"},{"$error":"#REF!"},{"$error":"#REF!"}]
[{"$f":"#REF!","v":{"$error":"#REF!"}},{"$f":"IF(#REF!=\"\",\"\",#REF!)","v":{"$error":"#REF!"}},{"$f":"#REF!","v":{"$error":"#REF!"}},{"$f":"#REF!","v":{"$error":"#REF!"}},{"$f":"#REF!","v":{"$error":"#REF!"}},{"$error":"#REF!"},{"$f":"#REF!","v":{"$error":"#REF!"}},{"$error":"#REF!"},{"$f":"#REF!","v":{"$error":"#REF!"}},{"$error":"#REF!"},{"$f":"#REF!","v":{"$error":"#REF!"}},{"$error":"#REF!"},{"$f":"#REF!","v":{"$error":"#REF!"}},{"$error":"#REF!"},{"$f":"#REF!","v":{"$error":"#REF!"}},{"$error":"#REF!"},{"$f":"#REF!","v":{"$error":"#REF!"}},{"$error":"#REF!"},{"$f":"#REF!","v":{"$error":"#REF!"}},{"$error":"#REF!"},{"$f":"#REF!","v":{"$error":"#REF!"}},{"$error":"#REF!"},{"$f":"#REF!","v":{"$error":"#REF!"}},{"$error":"#REF!"},{"$f":"#REF!","v":{"$error":"#REF!"}},{"$error":"#REF!"},{"$f":"#REF!","v":{"$error":"#REF!"}},{"$error":"#REF!"},{"$f":"#REF!","v":{"$error":"#REF!"}},{"$error":"#REF!"},{"$f":"#REF!","v":{"$error":"#REF!"}},{"$error":"#REF!"},{"$f":"#REF!","v":{"$error":"#REF!"}},{"$error":"#REF!"},{"$f":"#REF!","v":{"$error":"#REF!"}},{"$error":"#REF!"},{"$f":"#REF!","v":{"$error":"#REF!"}},{"$error":"#REF!"},{"$f":"#REF!","v":{"$error":"#REF!"}},{"$error":"#REF!"},{"$f":"#REF!","v":{"$error":"#REF!"}},{"$error":"#REF!"},{"$error":"#REF!"},{"$error":"#REF!"}]
[{"$f":"#REF!","v":{"$error":"#REF!"}},{"$f":"IF(#REF!=\"\",\"\",#REF!)","v":{"$error":"#REF!"}},{"$f":"#REF!","v":{"$error":"#REF!"}},{"$f":"#REF!","v":{"$error":"#REF!"}},{"$f":"#REF!","v":{"$error":"#REF!"}},{"$error":"#REF!"},{"$f":"#REF!","v":{"$error":"#REF!"}},{"$error":"#REF!"},{"$f":"#REF!","v":{"$error":"#REF!"}},{"$error":"#REF!"},{"$f":"#REF!","v":{"$error":"#REF!"}},{"$error":"#REF!"},{"$f":"#REF!","v":{"$error":"#REF!"}},{"$error":"#REF!"},{"$f":"#REF!","v":{"$error":"#REF!"}},{"$error":"#REF!"},{"$f":"#REF!","v":{"$error":"#REF!"}},{"$error":"#REF!"},{"$f":"#REF!","v":{"$error":"#REF!"}},{"$error":"#REF!"},{"$f":"#REF!","v":{"$error":"#REF!"}},{"$error":"#REF!"},{"$f":"#REF!","v":{"$error":"#REF!"}},{"$error":"#REF!"},{"$f":"#REF!","v":{"$error":"#REF!"}},{"$error":"#REF!"},{"$f":"#REF!","v":{"$error":"#REF!"}},{"$error":"#REF!"},{"$f":"#REF!","v":{"$error":"#REF!"}},{"$error":"#REF!"},{"$f":"#REF!","v":{"$error":"#REF!"}},{"$error":"#REF!"},{"$f":"#REF!","v":{"$error":"#REF!"}},{"$error":"#REF!"},{"$f":"#REF!","v":{"$error":"#REF!"}},{"$error":"#REF!"},{"$f":"#REF!","v":{"$error":"#REF!"}},{"$error":"#REF!"},{"$f":"#REF!","v":{"$error":"#REF!"}},{"$error":"#REF!"},{"$f":"#REF!","v":{"$error":"#REF!"}},{"$error":"#REF!"},{"$error":"#REF!"},{"$error":"#REF!"}]
[{"$f":"#REF!","v":{"$error":"#REF!"}},{"$f":"IF(#REF!=\"\",\"\",#REF!)","v":{"$error":"#REF!"}},{"$f":"#REF!","v":{"$error":"#REF!"}},{"$f":"#REF!","v":{"$error":"#REF!"}},{"$f":"#REF!","v":{"$error":"#REF!"}},{"$error":"#REF!"},{"$f":"#REF!","v":{"$error":"#REF!"}},{"$error":"#REF!"},{"$f":"#REF!","v":{"$error":"#REF!"}},{"$error":"#REF!"},{"$f":"#REF!","v":{"$error":"#REF!"}},{"$error":"#REF!"},{"$f":"#REF!","v":{"$error":"#REF!"}},{"$error":"#REF!"},{"$f":"#REF!","v":{"$error":"#REF!"}},{"$error":"#REF!"},{"$f":"#REF!","v":{"$error":"#REF!"}},{"$error":"#REF!"},{"$f":"#REF!","v":{"$error":"#REF!"}},{"$error":"#REF!"},{"$f":"#REF!","v":{"$error":"#REF!"}},{"$error":"#REF!"},{"$f":"#REF!","v":{"$error":"#REF!"}},{"$error":"#REF!"},{"$f":"#REF!","v":{"$error":"#REF!"}},{"$error":"#REF!"},{"$f":"#REF!","v":{"$error":"#REF!"}},{"$error":"#REF!"},{"$f":"#REF!","v":{"$error":"#REF!"}},{"$error":"#REF!"},{"$f":"#REF!","v":{"$error":"#REF!"}},{"$error":"#REF!"},{"$f":"#REF!","v":{"$error":"#REF!"}},{"$error":"#REF!"},{"$f":"#REF!","v":{"$error":"#REF!"}},{"$error":"#REF!"},{"$f":"#REF!","v":{"$error":"#REF!"}},{"$error":"#REF!"},{"$f":"#REF!","v":{"$error":"#REF!"}},{"$error":"#REF!"},{"$f":"#REF!","v":{"$error":"#REF!"}},{"$error":"#REF!"},{"$error":"#REF!"},{"$error":"#REF!"}]
[{"$f":"#REF!","v":{"$error":"#REF!"}},{"$f":"IF(#REF!=\"\",\"\",#REF!)","v":{"$error":"#REF!"}},{"$f":"#REF!","v":{"$error":"#REF!"}},{"$f":"#REF!","v":{"$error":"#REF!"}},{"$f":"#REF!","v":{"$error":"#REF!"}},{"$error":"#REF!"},{"$f":"#REF!","v":{"$error":"#REF!"}},{"$error":"#REF!"},{"$f":"#REF!","v":{"$error":"#REF!"}},{"$error":"#REF!"},{"$f":"#REF!","v":{"$error":"#REF!"}},{"$error":"#REF!"},{"$f":"#REF!","v":{"$error":"#REF!"}},{"$error":"#REF!"},{"$f":"#REF!","v":{"$error":"#REF!"}},{"$error":"#REF!"},{"$f":"#REF!","v":{"$error":"#REF!"}},{"$error":"#REF!"},{"$f":"#REF!","v":{"$error":"#REF!"}},{"$error":"#REF!"},{"$f":"#REF!","v":{"$error":"#REF!"}},{"$error":"#REF!"},{"$f":"#REF!","v":{"$error":"#REF!"}},{"$error":"#REF!"},{"$f":"#REF!","v":{"$error":"#REF!"}},{"$error":"#REF!"},{"$f":"#REF!","v":{"$error":"#REF!"}},{"$error":"#REF!"},{"$f":"#REF!","v":{"$error":"#REF!"}},{"$error":"#REF!"},{"$f":"#REF!","v":{"$error":"#REF!"}},{"$error":"#REF!"},{"$f":"#REF!","v":{"$error":"#REF!"}},{"$error":"#REF!"},{"$f":"#REF!","v":{"$error":"#REF!"}},{"$error":"#REF!"},{"$f":"#REF!","v":{"$error":"#REF!"}},{"$error":"#REF!"},{"$f":"#REF!","v":{"$error":"#REF!"}},{"$error":"#REF!"},{"$f":"#REF!","v":{"$error":"#REF!"}},{"$error":"#REF!"},{"$error":"#REF!"},{"$error":"#REF!"}]
[{"$f":"#REF!","v":{"$error":"#REF!"}},{"$f":"IF(#REF!=\"\",\"\",#REF!)","v":{"$error":"#REF!"}},{"$f":"#REF!","v":{"$error":"#REF!"}},{"$f":"#REF!","v":{"$error":"#REF!"}},{"$f":"#REF!","v":{"$error":"#REF!"}},{"$f":"IF(E16=0,\"\",IF(E16=\"а\",1,2))","v":{"$error":"#REF!"}},{"$f":"#REF!","v":{"$error":"#REF!"}},{"$f":"IF(G16=0,\"\",IF(G16=\"а\",1,2))","v":{"$error":"#REF!"}},{"$f":"#REF!","v":{"$error":"#REF!"}},{"$f":"IF(I16=0,\"\",IF(I16=\"а\",1,3))","v":{"$error":"#REF!"}},{"$f":"#REF!","v":{"$error":"#REF!"}},{"$f":"IF(K16=0,\"\",IF(K16=\"б\",3,2))","v":{"$error":"#REF!"}},{"$f":"#REF!","v":{"$error":"#REF!"}},{"$f":"IF(M16=0,\"\",IF(M16=\"б\",4,3))","v":{"$error":"#REF!"}},{"$f":"#REF!","v":{"$error":"#REF!"}},{"$f":"IF(O16=0,\"\",IF(O16=\"а\",1,2))","v":{"$error":"#REF!"}},{"$f":"#REF!","v":{"$error":"#REF!"}},{"$f":"IF(Q16=0,\"\",IF(Q16=\"а\",1,IF(Q16=\"б\",2,4)))","v":{"$error":"#REF!"}},{"$f":"#REF!","v":{"$error":"#REF!"}},{"$f":"IF(S16=0,\"\",IF(S16=\"а\",3,4))","v":{"$error":"#REF!"}},{"$f":"#REF!","v":{"$error":"#REF!"}},{"$f":"IF(U16=0,\"\",IF(U16=\"а\",4,5))","v":{"$error":"#REF!"}},{"$f":"#REF!","v":{"$error":"#REF!"}},{"$f":"IF(W16=0,\"\",IF(W16=\"а\",5,6))","v":{"$error":"#REF!"}},{"$f":"#REF!","v":{"$error":"#REF!"}},{"$f":"IF(Y16=0,\"\",IF(Y16=\"а\",1,2))","v":{"$error":"#REF!"}},{"$f":"#REF!","v":{"$error":"#REF!"}},{"$f":"IF(AA16=0,\"\",IF(AA16=\"а\",1,4))","v":{"$error":"#REF!"}},{"$f":"#REF!","v":{"$error":"#REF!"}},{"$f":"IF(AC16=0,\"\",IF(AC16=\"б\",3,1))","v":{"$error":"#REF!"}},{"$f":"#REF!","v":{"$error":"#REF!"}},{"$f":"IF(AE16=0,\"\",IF(AE16=\"б\",4,3))","v":{"$error":"#REF!"}},{"$f":"#REF!","v":{"$error":"#REF!"}},{"$f":"IF(AG16=0,\"\",IF(AG16=\"а\",1,2))","v":{"$error":"#REF!"}},{"$f":"#REF!","v":{"$error":"#REF!"}},{"$f":"IF(AI16=0,\"\",IF(AI16=\"б\",4,2))","v":{"$error":"#REF!"}},{"$f":"#REF!","v":{"$error":"#REF!"}},{"$f":"IF(AK16=0,\"\",IF(AK16=\"а\",4,6))","v":{"$error":"#REF!"}},{"$f":"#REF!","v":{"$error":"#REF!"}},{"$f":"IF(AM16=0,\"\",IF(AM16=\"а\",3,4))","v":{"$error":"#REF!"}},{"$f":"#REF!","v":{"$error":"#REF!"}},{"$f":"IF(AO16=0,\"\",IF(AO16=\"а\",5,6))","v":{"$error":"#REF!"}},{"$error":"#REF!"},{"$error":"#REF!"}]
[{"$f":"#REF!","v":{"$error":"#REF!"}},{"$f":"IF(#REF!=\"\",\"\",#REF!)","v":{"$error":"#REF!"}},{"$f":"#REF!","v":{"$error":"#REF!"}},{"$f":"#REF!","v":{"$error":"#REF!"}},{"$f":"#REF!","v":{"$error":"#REF!"}},{"$error":"#REF!"},{"$f":"#REF!","v":{"$error":"#REF!"}},{"$error":"#REF!"},{"$f":"#REF!","v":{"$error":"#REF!"}},{"$error":"#REF!"},{"$f":"#REF!","v":{"$error":"#REF!"}},{"$error":"#REF!"},{"$f":"#REF!","v":{"$error":"#REF!"}},{"$error":"#REF!"},{"$f":"#REF!","v":{"$error":"#REF!"}},{"$error":"#REF!"},{"$f":"#REF!","v":{"$error":"#REF!"}},{"$error":"#REF!"},{"$f":"#REF!","v":{"$error":"#REF!"}},{"$error":"#REF!"},{"$f":"#REF!","v":{"$error":"#REF!"}},{"$error":"#REF!"},{"$f":"#REF!","v":{"$error":"#REF!"}},{"$error":"#REF!"},{"$f":"#REF!","v":{"$error":"#REF!"}},{"$error":"#REF!"},{"$f":"#REF!","v":{"$error":"#REF!"}},{"$error":"#REF!"},{"$f":"#REF!","v":{"$error":"#REF!"}},{"$error":"#REF!"},{"$f":"#REF!","v":{"$error":"#REF!"}},{"$error":"#REF!"},{"$f":"#REF!","v":{"$error":"#REF!"}},{"$error":"#REF!"},{"$f":"#REF!","v":{"$error":"#REF!"}},{"$error":"#REF!"},{"$f":"#REF!","v":{"$error":"#REF!"}},{"$error":"#REF!"},{"$f":"#REF!","v":{"$error":"#REF!"}},{"$error":"#REF!"},{"$f":"#REF!","v":{"$error":"#REF!"}},{"$error":"#REF!"},{"$error":"#REF!"},{"$error":"#REF!"}]
[{"$f":"#REF!","v":{"$error":"#REF!"}},{"$f":"IF(#REF!=\"\",\"\",#REF!)","v":{"$error":"#REF!"}},{"$f":"#REF!","v":{"$error":"#REF!"}},{"$f":"#REF!","v":{"$error":"#REF!"}},{"$f":"#REF!","v":{"$error":"#REF!"}},{"$error":"#REF!"},{"$f":"#REF!","v":{"$error":"#REF!"}},{"$error":"#REF!"},{"$f":"#REF!","v":{"$error":"#REF!"}},{"$error":"#REF!"},{"$f":"#REF!","v":{"$error":"#REF!"}},{"$error":"#REF!"},{"$f":"#REF!","v":{"$error":"#REF!"}},{"$error":"#REF!"},{"$f":"#REF!","v":{"$error":"#REF!"}},{"$error":"#REF!"},{"$f":"#REF!","v":{"$error":"#REF!"}},{"$error":"#REF!"},{"$f":"#REF!","v":{"$error":"#REF!"}},{"$error":"#REF!"},{"$f":"#REF!","v":{"$error":"#REF!"}},{"$error":"#REF!"},{"$f":"#REF!","v":{"$error":"#REF!"}},{"$error":"#REF!"},{"$f":"#REF!","v":{"$error":"#REF!"}},{"$error":"#REF!"},{"$f":"#REF!","v":{"$error":"#REF!"}},{"$error":"#REF!"},{"$f":"#REF!","v":{"$error":"#REF!"}},{"$error":"#REF!"},{"$f":"#REF!","v":{"$error":"#REF!"}},{"$error":"#REF!"},{"$f":"#REF!","v":{"$error":"#REF!"}},{"$error":"#REF!"},{"$f":"#REF!","v":{"$error":"#REF!"}},{"$error":"#REF!"},{"$f":"#REF!","v":{"$error":"#REF!"}},{"$error":"#REF!"},{"$f":"#REF!","v":{"$error":"#REF!"}},{"$error":"#REF!"},{"$f":"#REF!","v":{"$error":"#REF!"}},{"$error":"#REF!"},{"$error":"#REF!"},{"$error":"#REF!"}]
[{"$f":"#REF!","v":{"$error":"#REF!"}},{"$f":"IF(#REF!=\"\",\"\",#REF!)","v":{"$error":"#REF!"}},{"$f":"#REF!","v":{"$error":"#REF!"}},{"$f":"#REF!","v":{"$error":"#REF!"}},{"$f":"#REF!","v":{"$error":"#REF!"}},{"$error":"#REF!"},{"$f":"#REF!","v":{"$error":"#REF!"}},{"$error":"#REF!"},{"$f":"#REF!","v":{"$error":"#REF!"}},{"$error":"#REF!"},{"$f":"#REF!","v":{"$error":"#REF!"}},{"$error":"#REF!"},{"$f":"#REF!","v":{"$error":"#REF!"}},{"$error":"#REF!"},{"$f":"#REF!","v":{"$error":"#REF!"}},{"$error":"#REF!"},{"$f":"#REF!","v":{"$error":"#REF!"}},{"$error":"#REF!"},{"$f":"#REF!","v":{"$error":"#REF!"}},{"$error":"#REF!"},{"$f":"#REF!","v":{"$error":"#REF!"}},{"$error":"#REF!"},{"$f":"#REF!","v":{"$error":"#REF!"}},{"$error":"#REF!"},{"$f":"#REF!","v":{"$error":"#REF!"}},{"$error":"#REF!"},{"$f":"#REF!","v":{"$error":"#REF!"}},{"$error":"#REF!"},{"$f":"#REF!","v":{"$error":"#REF!"}},{"$error":"#REF!"},{"$f":"#REF!","v":{"$error":"#REF!"}},{"$error":"#REF!"},{"$f":"#REF!","v":{"$error":"#REF!"}},{"$error":"#REF!"},{"$f":"#REF!","v":{"$error":"#REF!"}},{"$error":"#REF!"},{"$f":"#REF!","v":{"$error":"#REF!"}},{"$error":"#REF!"},{"$f":"#REF!","v":{"$error":"#REF!"}},{"$error":"#REF!"},{"$f":"#REF!","v":{"$error":"#REF!"}},{"$error":"#REF!"},{"$error":"#REF!"},{"$error":"#REF!"}]
[{"$f":"#REF!","v":{"$error":"#REF!"}},{"$f":"IF(#REF!=\"\",\"\",#REF!)","v":{"$error":"#REF!"}},{"$f":"#REF!","v":{"$error":"#REF!"}},{"$f":"#REF!","v":{"$error":"#REF!"}},{"$f":"#REF!","v":{"$error":"#REF!"}},{"$error":"#REF!"},{"$f":"#REF!","v":{"$error":"#REF!"}},{"$error":"#REF!"},{"$f":"#REF!","v":{"$error":"#REF!"}},{"$error":"#REF!"},{"$f":"#REF!","v":{"$error":"#REF!"}},{"$error":"#REF!"},{"$f":"#REF!","v":{"$error":"#REF!"}},{"$error":"#REF!"},{"$f":"#REF!","v":{"$error":"#REF!"}},{"$error":"#REF!"},{"$f":"#REF!","v":{"$error":"#REF!"}},{"$error":"#REF!"},{"$f":"#REF!","v":{"$error":"#REF!"}},{"$error":"#REF!"},{"$f":"#REF!","v":{"$error":"#REF!"}},{"$error":"#REF!"},{"$f":"#REF!","v":{"$error":"#REF!"}},{"$error":"#REF!"},{"$f":"#REF!","v":{"$error":"#REF!"}},{"$error":"#REF!"},{"$f":"#REF!","v":{"$error":"#REF!"}},{"$error":"#REF!"},{"$f":"#REF!","v":{"$error":"#REF!"}},{"$error":"#REF!"},{"$f":"#REF!","v":{"$error":"#REF!"}},{"$error":"#REF!"},{"$f":"#REF!","v":{"$error":"#REF!"}},{"$error":"#REF!"},{"$f":"#REF!","v":{"$error":"#REF!"}},{"$error":"#REF!"},{"$f":"#REF!","v":{"$error":"#REF!"}},{"$error":"#REF!"},{"$f":"#REF!","v":{"$error":"#REF!"}},{"$error":"#REF!"},{"$f":"#REF!","v":{"$error":"#REF!"}},{"$error":"#REF!"},{"$error":"#REF!"},{"$error":"#REF!"}]
[{"$f":"#REF!","v":{"$error":"#REF!"}},{"$f":"IF(#REF!=\"\",\"\",#REF!)","v":{"$error":"#REF!"}},{"$f":"#REF!","v":{"$error":"#REF!"}},{"$f":"#REF!","v":{"$error":"#REF!"}},{"$f":"#REF!","v":{"$error":"#REF!"}},{"$error":"#REF!"},{"$f":"#REF!","v":{"$error":"#REF!"}},{"$error":"#REF!"},{"$f":"#REF!","v":{"$error":"#REF!"}},{"$error":"#REF!"},{"$f":"#REF!","v":{"$error":"#REF!"}},{"$error":"#REF!"},{"$f":"#REF!","v":{"$error":"#REF!"}},{"$error":"#REF!"},{"$f":"#REF!","v":{"$error":"#REF!"}},{"$error":"#REF!"},{"$f":"#REF!","v":{"$error":"#REF!"}},{"$error":"#REF!"},{"$f":"#REF!","v":{"$error":"#REF!"}},{"$error":"#REF!"},{"$f":"#REF!","v":{"$error":"#REF!"}},{"$error":"#REF!"},{"$f":"#REF!","v":{"$error":"#REF!"}},{"$error":"#REF!"},{"$f":"#REF!","v":{"$error":"#REF!"}},{"$error":"#REF!"},{"$f":"#REF!","v":{"$error":"#REF!"}},{"$error":"#REF!"},{"$f":"#REF!","v":{"$error":"#REF!"}},{"$error":"#REF!"},{"$f":"#REF!","v":{"$error":"#REF!"}},{"$error":"#REF!"},{"$f":"#REF!","v":{"$error":"#REF!"}},{"$error":"#REF!"},{"$f":"#REF!","v":{"$error":"#REF!"}},{"$error":"#REF!"},{"$f":"#REF!","v":{"$error":"#REF!"}},{"$error":"#REF!"},{"$f":"#REF!","v":{"$error":"#REF!"}},{"$error":"#REF!"},{"$f":"#REF!","v":{"$error":"#REF!"}},{"$error":"#REF!"},{"$error":"#REF!"},{"$error":"#REF!"}]
[{"$f":"#REF!","v":{"$error":"#REF!"}},{"$f":"IF(#REF!=\"\",\"\",#REF!)","v":{"$error":"#REF!"}},{"$f":"#REF!","v":{"$error":"#REF!"}},{"$f":"#REF!","v":{"$error":"#REF!"}},{"$f":"#REF!","v":{"$error":"#REF!"}},{"$error":"#REF!"},{"$f":"#REF!","v":{"$error":"#REF!"}},{"$error":"#REF!"},{"$f":"#REF!","v":{"$error":"#REF!"}},{"$error":"#REF!"},{"$f":"#REF!","v":{"$error":"#REF!"}},{"$error":"#REF!"},{"$f":"#REF!","v":{"$error":"#REF!"}},{"$error":"#REF!"},{"$f":"#REF!","v":{"$error":"#REF!"}},{"$error":"#REF!"},{"$f":"#REF!","v":{"$error":"#REF!"}},{"$error":"#REF!"},{"$f":"#REF!","v":{"$error":"#REF!"}},{"$error":"#REF!"},{"$f":"#REF!","v":{"$error":"#REF!"}},{"$error":"#REF!"},{"$f":"#REF!","v":{"$error":"#REF!"}},{"$error":"#REF!"},{"$f":"#REF!","v":{"$error":"#REF!"}},{"$error":"#REF!"},{"$f":"#REF!","v":{"$error":"#REF!"}},{"$error":"#REF!"},{"$f":"#REF!","v":{"$error":"#REF!"}},{"$error":"#REF!"},{"$f":"#REF!","v":{"$error":"#REF!"}},{"$error":"#REF!"},{"$f":"#REF!","v":{"$error":"#REF!"}},{"$error":"#REF!"},{"$f":"#REF!","v":{"$error":"#REF!"}},{"$error":"#REF!"},{"$f":"#REF!","v":{"$error":"#REF!"}},{"$error":"#REF!"},{"$f":"#REF!","v":{"$error":"#REF!"}},{"$error":"#REF!"},{"$f":"#REF!","v":{"$error":"#REF!"}},{"$error":"#REF!"},{"$error":"#REF!"},{"$error":"#REF!"}]
[{"$f":"#REF!","v":{"$error":"#REF!"}},{"$f":"IF(#REF!=\"\",\"\",#REF!)","v":{"$error":"#REF!"}},{"$f":"#REF!","v":{"$error":"#REF!"}},{"$f":"#REF!","v":{"$error":"#REF!"}},{"$f":"#REF!","v":{"$error":"#REF!"}},{"$error":"#REF!"},{"$f":"#REF!","v":{"$error":"#REF!"}},{"$error":"#REF!"},{"$f":"#REF!","v":{"$error":"#REF!"}},{"$error":"#REF!"},{"$f":"#REF!","v":{"$error":"#REF!"}},{"$error":"#REF!"},{"$f":"#REF!","v":{"$error":"#REF!"}},{"$error":"#REF!"},{"$f":"#REF!","v":{"$error":"#REF!"}},{"$error":"#REF!"},{"$f":"#REF!","v":{"$error":"#REF!"}},{"$error":"#REF!"},{"$f":"#REF!","v":{"$error":"#REF!"}},{"$error":"#REF!"},{"$f":"#REF!","v":{"$error":"#REF!"}},{"$error":"#REF!"},{"$f":"#REF!","v":{"$error":"#REF!"}},{"$error":"#REF!"},{"$f":"#REF!","v":{"$error":"#REF!"}},{"$error":"#REF!"},{"$f":"#REF!","v":{"$error":"#REF!"}},{"$error":"#REF!"},{"$f":"#REF!","v":{"$error":"#REF!"}},{"$error":"#REF!"},{"$f":"#REF!","v":{"$error":"#REF!"}},{"$error":"#REF!"},{"$f":"#REF!","v":{"$error":"#REF!"}},{"$error":"#REF!"},{"$f":"#REF!","v":{"$error":"#REF!"}},{"$error":"#REF!"},{"$f":"#REF!","v":{"$error":"#REF!"}},{"$error":"#REF!"},{"$f":"#REF!","v":{"$error":"#REF!"}},{"$error":"#REF!"},{"$f":"#REF!","v":{"$error":"#REF!"}},{"$error":"#REF!"},{"$error":"#REF!"},{"$error":"#REF!"}]
[{"$f":"#REF!","v":{"$error":"#REF!"}},{"$f":"IF(#REF!=\"\",\"\",#REF!)","v":{"$error":"#REF!"}},{"$f":"#REF!","v":{"$error":"#REF!"}},{"$f":"#REF!","v":{"$error":"#REF!"}},{"$f":"#REF!","v":{"$error":"#REF!"}},{"$error":"#REF!"},{"$f":"#REF!","v":{"$error":"#REF!"}},{"$error":"#REF!"},{"$f":"#REF!","v":{"$error":"#REF!"}},{"$error":"#REF!"},{"$f":"#REF!","v":{"$error":"#REF!"}},{"$error":"#REF!"},{"$f":"#REF!","v":{"$error":"#REF!"}},{"$error":"#REF!"},{"$f":"#REF!","v":{"$error":"#REF!"}},{"$error":"#REF!"},{"$f":"#REF!","v":{"$error":"#REF!"}},{"$error":"#REF!"},{"$f":"#REF!","v":{"$error":"#REF!"}},{"$error":"#REF!"},{"$f":"#REF!","v":{"$error":"#REF!"}},{"$error":"#REF!"},{"$f":"#REF!","v":{"$error":"#REF!"}},{"$error":"#REF!"},{"$f":"#REF!","v":{"$error":"#REF!"}},{"$error":"#REF!"},{"$f":"#REF!","v":{"$error":"#REF!"}},{"$error":"#REF!"},{"$f":"#REF!","v":{"$error":"#REF!"}},{"$error":"#REF!"},{"$f":"#REF!","v":{"$error":"#REF!"}},{"$error":"#REF!"},{"$f":"#REF!","v":{"$error":"#REF!"}},{"$error":"#REF!"},{"$f":"#REF!","v":{"$error":"#REF!"}},{"$error":"#REF!"},{"$f":"#REF!","v":{"$error":"#REF!"}},{"$error":"#REF!"},{"$f":"#REF!","v":{"$error":"#REF!"}},{"$error":"#REF!"},{"$f":"#REF!","v":{"$error":"#REF!"}},{"$error":"#REF!"},{"$error":"#REF!"},{"$error":"#REF!"}]
[{"$f":"#REF!","v":{"$error":"#REF!"}},{"$f":"IF(#REF!=\"\",\"\",#REF!)","v":{"$error":"#REF!"}},{"$f":"#REF!","v":{"$error":"#REF!"}},{"$f":"#REF!","v":{"$error":"#REF!"}},{"$f":"#REF!","v":{"$error":"#REF!"}},{"$error":"#REF!"},{"$f":"#REF!","v":{"$error":"#REF!"}},{"$error":"#REF!"},{"$f":"#REF!","v":{"$error":"#REF!"}},{"$error":"#REF!"},{"$f":"#REF!","v":{"$error":"#REF!"}},{"$error":"#REF!"},{"$f":"#REF!","v":{"$error":"#REF!"}},{"$error":"#REF!"},{"$f":"#REF!","v":{"$error":"#REF!"}},{"$error":"#REF!"},{"$f":"#REF!","v":{"$error":"#REF!"}},{"$error":"#REF!"},{"$f":"#REF!","v":{"$error":"#REF!"}},{"$error":"#REF!"},{"$f":"#REF!","v":{"$error":"#REF!"}},{"$error":"#REF!"},{"$f":"#REF!","v":{"$error":"#REF!"}},{"$error":"#REF!"},{"$f":"#REF!","v":{"$error":"#REF!"}},{"$error":"#REF!"},{"$f":"#REF!","v":{"$error":"#REF!"}},{"$error":"#REF!"},{"$f":"#REF!","v":{"$error":"#REF!"}},{"$error":"#REF!"},{"$f":"#REF!","v":{"$error":"#REF!"}},{"$error":"#REF!"},{"$f":"#REF!","v":{"$error":"#REF!"}},{"$error":"#REF!"},{"$f":"#REF!","v":{"$error":"#REF!"}},{"$error":"#REF!"},{"$f":"#REF!","v":{"$error":"#REF!"}},{"$error":"#REF!"},{"$f":"#REF!","v":{"$error":"#REF!"}},{"$error":"#REF!"},{"$f":"#REF!","v":{"$error":"#REF!"}},{"$error":"#REF!"},{"$error":"#REF!"},{"$error":"#REF!"}]
[{"$f":"#REF!","v":{"$error":"#REF!"}},{"$f":"IF(#REF!=\"\",\"\",#REF!)","v":{"$error":"#REF!"}},{"$f":"#REF!","v":{"$error":"#REF!"}},{"$f":"#REF!","v":{"$error":"#REF!"}},{"$f":"#REF!","v":{"$error":"#REF!"}},{"$error":"#REF!"},{"$f":"#REF!","v":{"$error":"#REF!"}},{"$error":"#REF!"},{"$f":"#REF!","v":{"$error":"#REF!"}},{"$error":"#REF!"},{"$f":"#REF!","v":{"$error":"#REF!"}},{"$error":"#REF!"},{"$f":"#REF!","v":{"$error":"#REF!"}},{"$error":"#REF!"},{"$f":"#REF!","v":{"$error":"#REF!"}},{"$error":"#REF!"},{"$f":"#REF!","v":{"$error":"#REF!"}},{"$error":"#REF!"},{"$f":"#REF!","v":{"$error":"#REF!"}},{"$error":"#REF!"},{"$f":"#REF!","v":{"$error":"#REF!"}},{"$error":"#REF!"},{"$f":"#REF!","v":{"$error":"#REF!"}},{"$error":"#REF!"},{"$f":"#REF!","v":{"$error":"#REF!"}},{"$error":"#REF!"},{"$f":"#REF!","v":{"$error":"#REF!"}},{"$error":"#REF!"},{"$f":"#REF!","v":{"$error":"#REF!"}},{"$error":"#REF!"},{"$f":"#REF!","v":{"$error":"#REF!"}},{"$error":"#REF!"},{"$f":"#REF!","v":{"$error":"#REF!"}},{"$error":"#REF!"},{"$f":"#REF!","v":{"$error":"#REF!"}},{"$error":"#REF!"},{"$f":"#REF!","v":{"$error":"#REF!"}},{"$error":"#REF!"},{"$f":"#REF!","v":{"$error":"#REF!"}},{"$error":"#REF!"},{"$f":"#REF!","v":{"$error":"#REF!"}},{"$error":"#REF!"},{"$error":"#REF!"},{"$error":"#REF!"}]
[{"$f":"#REF!","v":{"$error":"#REF!"}},{"$f":"IF(#REF!=\"\",\"\",#REF!)","v":{"$error":"#REF!"}},{"$f":"#REF!","v":{"$error":"#REF!"}},{"$f":"#REF!","v":{"$error":"#REF!"}},{"$f":"#REF!","v":{"$error":"#REF!"}},{"$error":"#REF!"},{"$f":"#REF!","v":{"$error":"#REF!"}},{"$error":"#REF!"},{"$f":"#REF!","v":{"$error":"#REF!"}},{"$error":"#REF!"},{"$f":"#REF!","v":{"$error":"#REF!"}},{"$error":"#REF!"},{"$f":"#REF!","v":{"$error":"#REF!"}},{"$error":"#REF!"},{"$f":"#REF!","v":{"$error":"#REF!"}},{"$error":"#REF!"},{"$f":"#REF!","v":{"$error":"#REF!"}},{"$error":"#REF!"},{"$f":"#REF!","v":{"$error":"#REF!"}},{"$error":"#REF!"},{"$f":"#REF!","v":{"$error":"#REF!"}},{"$error":"#REF!"},{"$f":"#REF!","v":{"$error":"#REF!"}},{"$error":"#REF!"},{"$f":"#REF!","v":{"$error":"#REF!"}},{"$error":"#REF!"},{"$f":"#REF!","v":{"$error":"#REF!"}},{"$error":"#REF!"},{"$f":"#REF!","v":{"$error":"#REF!"}},{"$error":"#REF!"},{"$f":"#REF!","v":{"$error":"#REF!"}},{"$error":"#REF!"},{"$f":"#REF!","v":{"$error":"#REF!"}},{"$error":"#REF!"},{"$f":"#REF!","v":{"$error":"#REF!"}},{"$error":"#REF!"},{"$f":"#REF!","v":{"$error":"#REF!"}},{"$error":"#REF!"},{"$f":"#REF!","v":{"$error":"#REF!"}},{"$error":"#REF!"},{"$f":"#REF!","v":{"$error":"#REF!"}},{"$error":"#REF!"},{"$error":"#REF!"},{"$error":"#REF!"}]
[{"$f":"#REF!","v":{"$error":"#REF!"}},{"$f":"IF(#REF!=\"\",\"\",#REF!)","v":{"$error":"#REF!"}},{"$f":"#REF!","v":{"$error":"#REF!"}},{"$f":"#REF!","v":{"$error":"#REF!"}},{"$f":"#REF!","v":{"$error":"#REF!"}},{"$error":"#REF!"},{"$f":"#REF!","v":{"$error":"#REF!"}},{"$error":"#REF!"},{"$f":"#REF!","v":{"$error":"#REF!"}},{"$error":"#REF!"},{"$f":"#REF!","v":{"$error":"#REF!"}},{"$error":"#REF!"},{"$f":"#REF!","v":{"$error":"#REF!"}},{"$error":"#REF!"},{"$f":"#REF!","v":{"$error":"#REF!"}},{"$error":"#REF!"},{"$f":"#REF!","v":{"$error":"#REF!"}},{"$error":"#REF!"},{"$f":"#REF!","v":{"$error":"#REF!"}},{"$error":"#REF!"},{"$f":"#REF!","v":{"$error":"#REF!"}},{"$error":"#REF!"},{"$f":"#REF!","v":{"$error":"#REF!"}},{"$error":"#REF!"},{"$f":"#REF!","v":{"$error":"#REF!"}},{"$error":"#REF!"},{"$f":"#REF!","v":{"$error":"#REF!"}},{"$error":"#REF!"},{"$f":"#REF!","v":{"$error":"#REF!"}},{"$error":"#REF!"},{"$f":"#REF!","v":{"$error":"#REF!"}},{"$error":"#REF!"},{"$f":"#REF!","v":{"$error":"#REF!"}},{"$error":"#REF!"},{"$f":"#REF!","v":{"$error":"#REF!"}},{"$error":"#REF!"},{"$f":"#REF!","v":{"$error":"#REF!"}},{"$error":"#REF!"},{"$f":"#REF!","v":{"$error":"#REF!"}},{"$error":"#REF!"},{"$f":"#REF!","v":{"$error":"#REF!"}},{"$error":"#REF!"},{"$error":"#REF!"},{"$error":"#REF!"}]
[{"$f":"#REF!","v":{"$error":"#REF!"}},{"$f":"IF(#REF!=\"\",\"\",#REF!)","v":{"$error":"#REF!"}},{"$f":"#REF!","v":{"$error":"#REF!"}},{"$f":"#REF!","v":{"$error":"#REF!"}},{"$f":"#REF!","v":{"$error":"#REF!"}},{"$error":"#REF!"},{"$f":"#REF!","v":{"$error":"#REF!"}},{"$error":"#REF!"},{"$f":"#REF!","v":{"$error":"#REF!"}},{"$error":"#REF!"},{"$f":"#REF!","v":{"$error":"#REF!"}},{"$error":"#REF!"},{"$f":"#REF!","v":{"$error":"#REF!"}},{"$error":"#REF!"},{"$f":"#REF!","v":{"$error":"#REF!"}},{"$error":"#REF!"},{"$f":"#REF!","v":{"$error":"#REF!"}},{"$error":"#REF!"},{"$f":"#REF!","v":{"$error":"#REF!"}},{"$error":"#REF!"},{"$f":"#REF!","v":{"$error":"#REF!"}},{"$error":"#REF!"},{"$f":"#REF!","v":{"$error":"#REF!"}},{"$error":"#REF!"},{"$f":"#REF!","v":{"$error":"#REF!"}},{"$error":"#REF!"},{"$f":"#REF!","v":{"$error":"#REF!"}},{"$error":"#REF!"},{"$f":"#REF!","v":{"$error":"#REF!"}},{"$error":"#REF!"},{"$f":"#REF!","v":{"$error":"#REF!"}},{"$error":"#REF!"},{"$f":"#REF!","v":{"$error":"#REF!"}},{"$error":"#REF!"},{"$f":"#REF!","v":{"$error":"#REF!"}},{"$error":"#REF!"},{"$f":"#REF!","v":{"$error":"#REF!"}},{"$error":"#REF!"},{"$f":"#REF!","v":{"$error":"#REF!"}},{"$error":"#REF!"},{"$f":"#REF!","v":{"$error":"#REF!"}},{"$error":"#REF!"},{"$error":"#REF!"},{"$error":"#REF!"}]
[{"$f":"#REF!","v":{"$error":"#REF!"}},{"$f":"IF(#REF!=\"\",\"\",#REF!)","v":{"$error":"#REF!"}},{"$f":"#REF!","v":{"$error":"#REF!"}},{"$f":"#REF!","v":{"$error":"#REF!"}},{"$f":"#REF!","v":{"$error":"#REF!"}},{"$error":"#REF!"},{"$f":"#REF!","v":{"$error":"#REF!"}},{"$error":"#REF!"},{"$f":"#REF!","v":{"$error":"#REF!"}},{"$error":"#REF!"},{"$f":"#REF!","v":{"$error":"#REF!"}},{"$error":"#REF!"},{"$f":"#REF!","v":{"$error":"#REF!"}},{"$error":"#REF!"},{"$f":"#REF!","v":{"$error":"#REF!"}},{"$error":"#REF!"},{"$f":"#REF!","v":{"$error":"#REF!"}},{"$error":"#REF!"},{"$f":"#REF!","v":{"$error":"#REF!"}},{"$error":"#REF!"},{"$f":"#REF!","v":{"$error":"#REF!"}},{"$error":"#REF!"},{"$f":"#REF!","v":{"$error":"#REF!"}},{"$error":"#REF!"},{"$f":"#REF!","v":{"$error":"#REF!"}},{"$error":"#REF!"},{"$f":"#REF!","v":{"$error":"#REF!"}},{"$error":"#REF!"},{"$f":"#REF!","v":{"$error":"#REF!"}},{"$error":"#REF!"},{"$f":"#REF!","v":{"$error":"#REF!"}},{"$error":"#REF!"},{"$f":"#REF!","v":{"$error":"#REF!"}},{"$error":"#REF!"},{"$f":"#REF!","v":{"$error":"#REF!"}},{"$error":"#REF!"},{"$f":"#REF!","v":{"$error":"#REF!"}},{"$error":"#REF!"},{"$f":"#REF!","v":{"$error":"#REF!"}},{"$error":"#REF!"},{"$f":"#REF!","v":{"$error":"#REF!"}},{"$error":"#REF!"},{"$error":"#REF!"},{"$error":"#REF!"}]
[{"$f":"#REF!","v":{"$error":"#REF!"}},{"$f":"IF(#REF!=\"\",\"\",#REF!)","v":{"$error":"#REF!"}},{"$f":"#REF!","v":{"$error":"#REF!"}},{"$f":"#REF!","v":{"$error":"#REF!"}},{"$f":"#REF!","v":{"$error":"#REF!"}},{"$error":"#REF!"},{"$f":"#REF!","v":{"$error":"#REF!"}},{"$error":"#REF!"},{"$f":"#REF!","v":{"$error":"#REF!"}},{"$error":"#REF!"},{"$f":"#REF!","v":{"$error":"#REF!"}},{"$error":"#REF!"},{"$f":"#REF!","v":{"$error":"#REF!"}},{"$error":"#REF!"},{"$f":"#REF!","v":{"$error":"#REF!"}},{"$error":"#REF!"},{"$f":"#REF!","v":{"$error":"#REF!"}},{"$error":"#REF!"},{"$f":"#REF!","v":{"$error":"#REF!"}},{"$error":"#REF!"},{"$f":"#REF!","v":{"$error":"#REF!"}},{"$error":"#REF!"},{"$f":"#REF!","v":{"$error":"#REF!"}},{"$error":"#REF!"},{"$f":"#REF!","v":{"$error":"#REF!"}},{"$error":"#REF!"},{"$f":"#REF!","v":{"$error":"#REF!"}},{"$error":"#REF!"},{"$f":"#REF!","v":{"$error":"#REF!"}},{"$error":"#REF!"},{"$f":"#REF!","v":{"$error":"#REF!"}},{"$error":"#REF!"},{"$f":"#REF!","v":{"$error":"#REF!"}},{"$error":"#REF!"},{"$f":"#REF!","v":{"$error":"#REF!"}},{"$error":"#REF!"},{"$f":"#REF!","v":{"$error":"#REF!"}},{"$error":"#REF!"},{"$f":"#REF!","v":{"$error":"#REF!"}},{"$error":"#REF!"},{"$f":"#REF!","v":{"$error":"#REF!"}},{"$error":"#REF!"},{"$error":"#REF!"},{"$error":"#REF!"}]
[{"$f":"#REF!","v":{"$error":"#REF!"}},{"$f":"IF(#REF!=\"\",\"\",#REF!)","v":{"$error":"#REF!"}},{"$f":"#REF!","v":{"$error":"#REF!"}},{"$f":"#REF!","v":{"$error":"#REF!"}},{"$f":"#REF!","v":{"$error":"#REF!"}},{"$error":"#REF!"},{"$f":"#REF!","v":{"$error":"#REF!"}},{"$error":"#REF!"},{"$f":"#REF!","v":{"$error":"#REF!"}},{"$error":"#REF!"},{"$f":"#REF!","v":{"$error":"#REF!"}},{"$error":"#REF!"},{"$f":"#REF!","v":{"$error":"#REF!"}},{"$error":"#REF!"},{"$f":"#REF!","v":{"$error":"#REF!"}},{"$error":"#REF!"},{"$f":"#REF!","v":{"$error":"#REF!"}},{"$error":"#REF!"},{"$f":"#REF!","v":{"$error":"#REF!"}},{"$error":"#REF!"},{"$f":"#REF!","v":{"$error":"#REF!"}},{"$error":"#REF!"},{"$f":"#REF!","v":{"$error":"#REF!"}},{"$error":"#REF!"},{"$f":"#REF!","v":{"$error":"#REF!"}},{"$error":"#REF!"},{"$f":"#REF!","v":{"$error":"#REF!"}},{"$error":"#REF!"},{"$f":"#REF!","v":{"$error":"#REF!"}},{"$error":"#REF!"},{"$f":"#REF!","v":{"$error":"#REF!"}},{"$error":"#REF!"},{"$f":"#REF!","v":{"$error":"#REF!"}},{"$error":"#REF!"},{"$f":"#REF!","v":{"$error":"#REF!"}},{"$error":"#REF!"},{"$f":"#REF!","v":{"$error":"#REF!"}},{"$error":"#REF!"},{"$f":"#REF!","v":{"$error":"#REF!"}},{"$error":"#REF!"},{"$f":"#REF!","v":{"$error":"#REF!"}},{"$error":"#REF!"},{"$error":"#REF!"},{"$error":"#REF!"}]
[{"$f":"#REF!","v":{"$error":"#REF!"}},{"$f":"IF(#REF!=\"\",\"\",#REF!)","v":{"$error":"#REF!"}},{"$f":"#REF!","v":{"$error":"#REF!"}},{"$f":"#REF!","v":{"$error":"#REF!"}},{"$f":"#REF!","v":{"$error":"#REF!"}},{"$error":"#REF!"},{"$f":"#REF!","v":{"$error":"#REF!"}},{"$error":"#REF!"},{"$f":"#REF!","v":{"$error":"#REF!"}},{"$error":"#REF!"},{"$f":"#REF!","v":{"$error":"#REF!"}},{"$error":"#REF!"},{"$f":"#REF!","v":{"$error":"#REF!"}},{"$error":"#REF!"},{"$f":"#REF!","v":{"$error":"#REF!"}},{"$error":"#REF!"},{"$f":"#REF!","v":{"$error":"#REF!"}},{"$error":"#REF!"},{"$f":"#REF!","v":{"$error":"#REF!"}},{"$error":"#REF!"},{"$f":"#REF!","v":{"$error":"#REF!"}},{"$error":"#REF!"},{"$f":"#REF!","v":{"$error":"#REF!"}},{"$error":"#REF!"},{"$f":"#REF!","v":{"$error":"#REF!"}},{"$error":"#REF!"},{"$f":"#REF!","v":{"$error":"#REF!"}},{"$error":"#REF!"},{"$f":"#REF!","v":{"$error":"#REF!"}},{"$error":"#REF!"},{"$f":"#REF!","v":{"$error":"#REF!"}},{"$error":"#REF!"},{"$f":"#REF!","v":{"$error":"#REF!"}},{"$error":"#REF!"},{"$f":"#REF!","v":{"$error":"#REF!"}},{"$error":"#REF!"},{"$f":"#REF!","v":{"$error":"#REF!"}},{"$error":"#REF!"},{"$f":"#REF!","v":{"$error":"#REF!"}},{"$error":"#REF!"},{"$f":"#REF!","v":{"$error":"#REF!"}},{"$error":"#REF!"},{"$error":"#REF!"},{"$error":"#REF!"}]
[{"$f":"#REF!","v":{"$error":"#REF!"}},{"$f":"IF(#REF!=\"\",\"\",#REF!)","v":{"$error":"#REF!"}},{"$f":"#REF!","v":{"$error":"#REF!"}},{"$f":"#REF!","v":{"$error":"#REF!"}},{"$f":"#REF!","v":{"$error":"#REF!"}},{"$error":"#REF!"},{"$f":"#REF!","v":{"$error":"#REF!"}},{"$error":"#REF!"},{"$f":"#REF!","v":{"$error":"#REF!"}},{"$error":"#REF!"},{"$f":"#REF!","v":{"$error":"#REF!"}},{"$error":"#REF!"},{"$f":"#REF!","v":{"$error":"#REF!"}},{"$error":"#REF!"},{"$f":"#REF!","v":{"$error":"#REF!"}},{"$error":"#REF!"},{"$f":"#REF!","v":{"$error":"#REF!"}},{"$error":"#REF!"},{"$f":"#REF!","v":{"$error":"#REF!"}},{"$error":"#REF!"},{"$f":"#REF!","v":{"$error":"#REF!"}},{"$error":"#REF!"},{"$f":"#REF!","v":{"$error":"#REF!"}},{"$error":"#REF!"},{"$f":"#REF!","v":{"$error":"#REF!"}},{"$error":"#REF!"},{"$f":"#REF!","v":{"$error":"#REF!"}},{"$error":"#REF!"},{"$f":"#REF!","v":{"$error":"#REF!"}},{"$error":"#REF!"},{"$f":"#REF!","v":{"$error":"#REF!"}},{"$error":"#REF!"},{"$f":"#REF!","v":{"$error":"#REF!"}},{"$error":"#REF!"},{"$f":"#REF!","v":{"$error":"#REF!"}},{"$error":"#REF!"},{"$f":"#REF!","v":{"$error":"#REF!"}},{"$error":"#REF!"},{"$f":"#REF!","v":{"$error":"#REF!"}},{"$error":"#REF!"},{"$f":"#REF!","v":{"$error":"#REF!"}},{"$error":"#REF!"},{"$error":"#REF!"},{"$error":"#REF!"}]

{"sheet":"учебные действия","index":4,"n_rows":34,"n_cols":44,"rows_kept":34,"hidden":true,"merged":[[0,0,0,43],[1,0,2,0],[1,1,2,1],[1,2,2,2],[1,3,2,3],[1,4,1,25],[1,26,1,41],[2,4,2,5],[2,6,2,7],[2,8,2,9],[2,10,2,11],[2,12,2,13],[2,14,2,15],[2,16,2,17],[2,18,2,19],[2,20,2,21],[2,22,2,23],[2,24,2,25],[2,26,2,27],[2,28,2,29],[2,30,2,31],[2,32,2,33],[2,34,2,35],[2,36,2,37],[2,38,2,39],[2,40,2,41]]}
[{"$f":"#REF!","v":{"$error":"#REF!"}}]
[{"$f":"#REF!","v":{"$error":"#REF!"}},{"$f":"#REF!","v":{"$error":"#REF!"}},{"$f":"#REF!","v":{"$error":"#REF!"}},{"$f":"#REF!","v":{"$error":"#REF!"}},"часть А",{"$nulls":21},"часть Б"]
[{"$nulls":4},6,null,14,null,18,null,{"$f":"'[1]сырые баллы'!Y3","v":21},null,{"$f":"'[1]сырые баллы'!Z3","v":22},null,{"$f":"'[1]сырые баллы'!AA3","v":23},null,{"$f":"'[1]сырые баллы'!AB3","v":24},null,{"$f":"'[1]сырые баллы'!AC3","v":25},null,{"$f":"'[1]сырые баллы'!AD3","v":26},null,{"$f":"'[1]сырые баллы'!AE3","v":27},null,{"$f":"'[1]сырые баллы'!AF3","v":28},null,{"$f":"'[1]сырые баллы'!BJ3","v":21},null,{"$f":"'[1]сырые баллы'!BK3","v":22},null,{"$f":"'[1]сырые баллы'!BL3","v":23},null,{"$f":"'[1]сырые баллы'!BM3","v":24},null,{"$f":"'[1]сырые баллы'!BN3","v":25},null,{"$f":"'[1]сырые баллы'!BO3","v":26},null,{"$f":"'[1]сырые баллы'!BP3","v":27},null,{"$f":"'[1]сырые баллы'!BQ3","v":28}]
[{"$f":"#REF!","v":{"$error":"#REF!"}},{"$f":"IF(#REF!=\"\",\"\",#REF!)","v":{"$error":"#REF!"}},{"$f":"IF(#REF!=\"\",\"\",#REF!)","v":{"$error":"#REF!"}},{"$f":"IF(#REF!=\"\",\"\",#REF!)","v":{"$error":"#REF!"}},{"$f":"#REF!","v":{"$error":"#REF!"}},{"$f":"IF(E4=0,\"\",IF(E4=\"б\",3,2))","v":{"$error":"#REF!"}},{"$f":"#REF!","v":{"$error":"#REF!"}},{"$f":"IF(G4=0,\"\",IF(G4=\"б\",3,2))","v":{"$error":"#REF!"}},{"$f":"#REF!","v":{"$error":"#REF!"}},{"$f":"IF(I4=0,\"\",IF(I4=\"а\",3,5))","v":{"$error":"#REF!"}},{"$f":"#REF!","v":{"$error":"#REF!"}},{"$f":"IF(K4=0,\"\",IF(K4=\"а\",1,5))","v":{"$error":"#REF!"}},{"$f":"#REF!","v":{"$error":"#REF!"}},{"$f":"IF(M4=0,\"\",IF(M4=\"а\",1,2))","v":{"$error":"#REF!"}},{"$f":"#REF!","v":{"$error":"#REF!"}},{"$f":"IF(O4=0,\"\",IF(O4=\"а\",2,4))","v":{"$error":"#REF!"}},{"$f":"#REF!","v":{"$error":"#REF!"}},{"$f":"IF(Q4=0,\"\",IF(Q4=\"а\",2,IF(Q4=\"в\",4,3)))","v":{"$error":"#REF!"}},{"$f":"#REF!","v":{"$error":"#REF!"}},{"$f":"IF(S4=0,\"\",IF(S4=\"а\",4,2))","v":{"$error":"#REF!"}},{"$f":"#REF!","v":{"$error":"#REF!"}},{"$f":"IF(U4=0,\"\",IF(U4=\"в\",4,IF(U4=\"г\",5,IF(U4=\"а\",1,2))))","v":{"$error":"#REF!"}},{"$f":"#REF!","v":{"$error":"#REF!"}},{"$f":"IF(W4=0,\"\",IF(W4=\"б\",4,3))","v":{"$error":"#REF!"}},{"$f":"#REF!","v":{"$error":"#REF!"}},{"$f":"IF(Y4=0,\"\",IF(Y4=\"б\",6,5))","v":{"$error":"#REF!"}},{"$f":"#REF!","v":{"$error":"#REF!"}},{"$f":"IF(AA4=0,\"\",IF(AA4=\"а\",1,3))","v":{"$error":"#REF!"}},{"$f":"#REF!","v":{"$error":"#REF!"}},{"$f":"IF(AC4=0,\"\",IF(AC4=\"а\",1,2))","v":{"$error":"#REF!"}},{"$f":"#REF!","v":{"$error":"#REF!"}},{"$f":"IF(AE4=0,\"\",IF(AE4=\"а\",2,4))","v":{"$error":"#REF!"}},{"$f":"#REF!","v":{"$error":"#REF!"}},{"$f":"IF(AG4=0,\"\",IF(AG4=\"а\",2,IF(AG4=\"б\",3,4)))","v":{"$error":"#REF!"}},{"$f":"#REF!","v":{"$error":"#REF!"}},{"$f":"IF(AI4=0,\"\",IF(AI4=\"а\",4,6))","v":{"$error":"#REF!"}},{"$f":"#REF!","v":{"$error":"#REF!"}},{"$f":"IF(AK4=0,\"\",IF(AK4=\"б\",3,IF(AK4=\"в\",4,IF(AK4=\"г\",5,0))))","v":{"$error":"#REF!"}},{"$f":"#REF!","v":{"$error":"#REF!"}},{"$f":"IF(AM4=0,\"\",IF(AM4=\"а\",3,4))","v":{"$error":"#REF!"}},{"$f":"#REF!","v":{"$error":"#REF!"}},{"$f":"IF(AO4=0,\"\",IF(AO4=\"в\",6,IF(AO4=\"б\",5,0)))","v":{"$error":"#REF!"}},{"$f":"SUM(L4:AP4)","v":{"$error":"#REF!"}},{"$f":"IF(AQ4=0,\"\",IF(AQ4>=70,\"6 уровень\",IF(AND(AQ4>=52,BE4<70),\"5 уровень\",IF(AND(AQ4>=37,BE4<52),\"4 уровень\",IF(AND(AQ4>=16,AQ4<37),\"3 уровень\",IF(AND(AQ4>=4,AQ4<16),\"2 уровень\",\"1 уровень\"))))))","v":{"$error":"#REF!"}}]
[{"$f":"#REF!","v":{"$error":"#REF!"}},{"$f":"IF(#REF!=\"\",\"\",#REF!)","v":{"$error":"#REF!"}},{"$f":"IF(#REF!=\"\",\"\",#REF!)","v":{"$error":"#REF!"}},{"$f":"IF(#REF!=\"\",\"\",#REF!)","v":{"$error":"#REF!"}},{"$f":"#REF!","v":{"$error":"#REF!"}},{"$f":"IF(E5=0,\"\",IF(E5=\"б\",3,2))","v":{"$error":"#REF!"}},{"$f":"#REF!","v":{"$error":"#REF!"}},{"$f":"IF(G5=0,\"\",IF(G5=\"б\",3,2))","v":{"$error":"#REF!"}},{"$f":"#REF!","v":{"$error":"#REF!"}},{"$f":"IF(I5=0,\"\",IF(I5=\"а\",3,5))","v":{"$error":"#REF!"}},{"$f":"#REF!","v":{"$error":"#REF!"}},{"$f":"IF(K5=0,\"\",IF(K5=\"а\",1,5))","v":{"$error":"#REF!"}},{"$f":"#REF!","v":{"$error":"#REF!"}},{"$f":"IF(M5=0,\"\",IF(M5=\"а\",1,2))","v":{"$error":"#REF!"}},{"$f":"#REF!","v":{"$error":"#REF!"}},{"$f":"IF(O5=0,\"\",IF(O5=\"а\",2,4))","v":{"$error":"#REF!"}},{"$f":"#REF!","v":{"$error":"#REF!"}},{"$f":"IF(Q5=0,\"\",IF(Q5=\"а\",2,IF(Q5=\"в\",4,3)))","v":{"$error":"#REF!"}},{"$f":"#REF!","v":{"$error":"#REF!"}},{"$f":"IF(S5=0,\"\",IF(S5=\"а\",4,2))","v":{"$error":"#REF!"}},{"$f":"#REF!","v":{"$error":"#REF!"}},{"$f":"IF(U5=0,\"\",IF(U5=\"в\",4,IF(U5=\"г\",5,IF(U5=\"а\",1,2))))","v":{"$error":"#REF!"}},{"$f":"#REF!","v":{"$error":"#REF!"}},{"$f":"IF(W5=0,\"\",IF(W5=\"б\",4,3))","v":{"$error":"#REF!"}},{"$f":"#REF!","v":{"$error":"#REF!"}},{"$f":"IF(Y5=0,\"\",IF(Y5=\"б\",6,5))","v":{"$error":"#REF!"}},{"$f":"#REF!","v":{"$error":"#REF!"}},{"$f":"IF(AA5=0,\"\",IF(AA5=\"а\",1,3))","v":{"$error":"#REF!"}},{"$f":"#REF!","v":{"$error":"#REF!"}},{"$f":"IF(AC5=0,\"\",IF(AC5=\"а\",1,2))","v":{"$error":"#REF!"}},{"$f":"#REF!","v":{"$error":"#REF!"}},{"$f":"IF(AE5=0,\"\",IF(AE5=\"а\",2,4))","v":{"$error":"#REF!"}},{"$f":"#REF!","v":{"$error":"#REF!"}},{"$f":"IF(AG5=0,\"\",IF(AG5=\"а\",2,IF(AG5=\"б\",3,4)))","v":{"$error":"#REF!"}},{"$f":"#REF!","v":{"$error":"#REF!"}},{"$f":"IF(AI5=0,\"\",IF(AI5=\"а\",4,6))","v":{"$error":"#REF!"}},{"$f":"#REF!","v":{"$error":"#REF!"}},{"$f":"IF(AK5=0,\"\",IF(AK5=\"б\",3,IF(AK5=\"в\",4,IF(AK5=\"г\",5,0))))","v":{"$error":"#REF!"}},{"$f":"#REF!","v":{"$error":"#REF!"}},{"$f":"IF(AM5=0,\"\",IF(AM5=\"а\",3,4))","v":{"$error":"#REF!"}},{"$f":"#REF!","v":{"$error":"#REF!"}},{"$f":"IF(AO5=0,\"\",IF(AO5=\"в\",6,IF(AO5=\"б\",5,0)))","v":{"$error":"#REF!"}},{"$f":"SUM(L5:AP5)","v":{"$error":"#REF!"}},{"$f":"IF(AQ5=0,\"\",IF(AQ5>=70,\"6 уровень\",IF(AND(AQ5>=52,BE5<70),\"5 уровень\",IF(AND(AQ5>=37,BE5<52),\"4 уровень\",IF(AND(AQ5>=16,AQ5<37),\"3 уровень\",IF(AND(AQ5>=4,AQ5<16),\"2 уровень\",\"1 уровень\"))))))","v":{"$error":"#REF!"}}]
[{"$f":"#REF!","v":{"$error":"#REF!"}},{"$f":"IF(#REF!=\"\",\"\",#REF!)","v":{"$error":"#REF!"}},{"$f":"IF(#REF!=\"\",\"\",#REF!)","v":{"$error":"#REF!"}},{"$f":"IF(#REF!=\"\",\"\",#REF!)","v":{"$error":"#REF!"}},{"$f":"#REF!","v":{"$error":"#REF!"}},{"$error":"#REF!"},{"$f":"#REF!","v":{"$error":"#REF!"}},{"$error":"#REF!"},{"$f":"#REF!","v":{"$error":"#REF!"}},{"$error":"#REF!"},{"$f":"#REF!","v":{"$error":"#REF!"}},{"$error":"#REF!"},{"$f":"#REF!","v":{"$error":"#REF!"}},{"$error":"#REF!"},{"$f":"#REF!","v":{"$error":"#REF!"}},{"$error":"#REF!"},{"$f":"#REF!","v":{"$error":"#REF!"}},{"$error":"#REF!"},{"$f":"#REF!","v":{"$error":"#REF!"}},{"$error":"#REF!"},{"$f":"#REF!","v":{"$error":"#REF!"}},{"$error":"#REF!"},{"$f":"#REF!","v":{"$error":"#REF!"}},{"$error":"#REF!"},{"$f":"#REF!","v":{"$error":"#REF!"}},{"$error":"#REF!"},{"$f":"#REF!","v":{"$error":"#REF!"}},{"$error":"#REF!"},{"$f":"#REF!","v":{"$error":"#REF!"}},{"$error":"#REF!"},{"$f":"#REF!","v":{"$error":"#REF!"}},{"$error":"#REF!"},{"$f":"#REF!","v":{"$error":"#REF!"}},{"$error":"#REF!"},{"$f":"#REF!","v":{"$error":"#REF!"}},{"$error":"#REF!"},{"$f":"#REF!","v":{"$error":"#REF!"}},{"$error":"#REF!"},{"$f":"#REF!","v":{"$error":"#REF!"}},{"$error":"#REF!"},{"$f":"#REF!","v":{"$error":"#REF!"}},{"$error":"#REF!"},{"$error":"#REF!"},{"$error":"#REF!"}]
[{"$f":"#REF!","v":{"$error":"#REF!"}},{"$f":"IF(#REF!=\"\",\"\",#REF!)","v":{"$error":"#REF!"}},{"$f":"IF(#REF!=\"\",\"\",#REF!)","v":{"$error":"#REF!"}},{"$f":"IF(#REF!=\"\",\"\",#REF!)","v":{"$error":"#REF!"}},{"$f":"#REF!","v":{"$error":"#REF!"}},{"$error":"#REF!"},{"$f":"#REF!","v":{"$error":"#REF!"}},{"$error":"#REF!"},{"$f":"#REF!","v":{"$error":"#REF!"}},{"$error":"#REF!"},{"$f":"#REF!","v":{"$error":"#REF!"}},{"$error":"#REF!"},{"$f":"#REF!","v":{"$error":"#REF!"}},{"$error":"#REF!"},{"$f":"#REF!","v":{"$error":"#REF!"}},{"$error":"#REF!"},{"$f":"#REF!","v":{"$error":"#REF!"}},{"$error":"#REF!"},{"$f":"#REF!","v":{"$error":"#REF!"}},{"$error":"#REF!"},{"$f":"#REF!","v":{"$error":"#REF!"}},{"$error":"#REF!"},{"$f":"#REF!","v":{"$error":"#REF!"}},{"$error":"#REF!"},{"$f":"#REF!","v":{"$error":"#REF!"}},{"$error":"#REF!"},{"$f":"#REF!","v":{"$error":"#REF!"}},{"$error":"#REF!"},{"$f":"#REF!","v":{"$error":"#REF!"}},{"$error":"#REF!"},{"$f":"#REF!","v":{"$error":"#REF!"}},{"$error":"#REF!"},{"$f":"#REF!","v":{"$error":"#REF!"}},{"$error":"#REF!"},{"$f":"#REF!","v":{"$error":"#REF!"}},{"$error":"#REF!"},{"$f":"#REF!","v":{"$error":"#REF!"}},{"$error":"#REF!"},{"$f":"#REF!","v":{"$error":"#REF!"}},{"$error":"#REF!"},{"$f":"#REF!","v":{"$error":"#REF!"}},{"$error":"#REF!"},{"$error":"#REF!"},{"$error":"#REF!"}]
[{"$f":"#REF!","v":{"$error":"#REF!"}},{"$f":"IF(#REF!=\"\",\"\",#REF!)","v":{"$error":"#REF!"}},{"$f":"IF(#REF!=\"\",\"\",#REF!)","v":{"$error":"#REF!"}},{"$f":"IF(#REF!=\"\",\"\",#REF!)","v":{"$error":"#REF!"}},{"$f":"#REF!","v":{"$error":"#REF!"}},{"$error":"#REF!"},{"$f":"#REF!","v":{"$error":"#REF!"}},{"$error":"#REF!"},{"$f":"#REF!","v":{"$error":"#REF!"}},{"$error":"#REF!"},{"$f":"#REF!","v":{"$error":"#REF!"}},{"$error":"#REF!"},{"$f":"#REF!","v":{"$error":"#REF!"}},{"$error":"#REF!"},{"$f":"#REF!","v":{"$error":"#REF!"}},{"$error":"#REF!"},{"$f":"#REF!","v":{"$error":"#REF!"}},{"$error":"#REF!"},{"$f":"#REF!","v":{"$error":"#REF!"}},{"$error":"#REF!"},{"$f":"#REF!","v":{"$error":"#REF!"}},{"$error":"#REF!"},{"$f":"#REF!","v":{"$error":"#REF!"}},{"$error":"#REF!"},{"$f":"#REF!","v":{"$error":"#REF!"}},{"$error":"#REF!"},{"$f":"#REF!","v":{"$error":"#REF!"}},{"$error":"#REF!"},{"$f":"#REF!","v":{"$error":"#REF!"}},{"$error":"#REF!"},{"$f":"#REF!","v":{"$error":"#REF!"}},{"$error":"#REF!"},{"$f":"#REF!","v":{"$error":"#REF!"}},{"$error":"#REF!"},{"$f":"#REF!","v":{"$error":"#REF!"}},{"$error":"#REF!"},{"$f":"#REF!","v":{"$error":"#REF!"}},{"$error":"#REF!"},{"$f":"#REF!","v":{"$error":"#REF!"}},{"$error":"#REF!"},{"$f":"#REF!","v":{"$error":"#REF!"}},{"$error":"#REF!"},{"$error":"#REF!"},{"$error":"#REF!"}]
[{"$f":"#REF!","v":{"$error":"#REF!"}},{"$f":"IF(#REF!=\"\",\"\",#REF!)","v":{"$error":"#REF!"}},{"$f":"IF(#REF!=\"\",\"\",#REF!)","v":{"$error":"#REF!"}},{"$f":"IF(#REF!=\"\",\"\",#REF!)","v":{"$error":"#REF!"}},{"$f":"#REF!","v":{"$error":"#REF!"}},{"$error":"#REF!"},{"$f":"#REF!","v":{"$error":"#REF!"}},{"$error":"#REF!"},{"$f":"#REF!","v":{"$error":"#REF!"}},{"$error":"#REF!"},{"$f":"#REF!","v":{"$error":"#REF!"}},{"$error":"#REF!"},{"$f":"#REF!","v":{"$error":"#REF!"}},{"$error":"#REF!"},{"$f":"#REF!","v":{"$error":"#REF!"}},{"$error":"#REF!"},{"$f":"#REF!","v":{"$error":"#REF!"}},{"$error":"#REF!"},{"$f":"#REF!","v":{"$error":"#REF!"}},{"$error":"#REF!"},{"$f":"#REF!","v":{"$error":"#REF!"}},{"$error":"#REF!"},{"$f":"#REF!","v":{"$error":"#REF!"}},{"$error":"#REF!"},{"$f":"#REF!","v":{"$error":"#REF!"}},{"$error":"#REF!"},{"$f":"#REF!","v":{"$error":"#REF!"}},{"$error":"#REF!"},{"$f":"#REF!","v":{"$error":"#REF!"}},{"$error":"#REF!"},{"$f":"#REF!","v":{"$error":"#REF!"}},{"$error":"#REF!"},{"$f":"#REF!","v":{"$error":"#REF!"}},{"$error":"#REF!"},{"$f":"#REF!","v":{"$error":"#REF!"}},{"$error":"#REF!"},{"$f":"#REF!","v":{"$error":"#REF!"}},{"$error":"#REF!"},{"$f":"#REF!","v":{"$error":"#REF!"}},{"$error":"#REF!"},{"$f":"#REF!","v":{"$error":"#REF!"}},{"$error":"#REF!"},{"$error":"#REF!"},{"$error":"#REF!"}]
[{"$f":"#REF!","v":{"$error":"#REF!"}},{"$f":"IF(#REF!=\"\",\"\",#REF!)","v":{"$error":"#REF!"}},{"$f":"IF(#REF!=\"\",\"\",#REF!)","v":{"$error":"#REF!"}},{"$f":"IF(#REF!=\"\",\"\",#REF!)","v":{"$error":"#REF!"}},{"$f":"#REF!","v":{"$error":"#REF!"}},{"$error":"#REF!"},{"$f":"#REF!","v":{"$error":"#REF!"}},{"$error":"#REF!"},{"$f":"#REF!","v":{"$error":"#REF!"}},{"$error":"#REF!"},{"$f":"#REF!","v":{"$error":"#REF!"}},{"$error":"#REF!"},{"$f":"#REF!","v":{"$error":"#REF!"}},{"$error":"#REF!"},{"$f":"#REF!","v":{"$error":"#REF!"}},{"$error":"#REF!"},{"$f":"#REF!","v":{"$error":"#REF!"}},{"$error":"#REF!"},{"$f":"#REF!","v":{"$error":"#REF!"}},{"$error":"#REF!"},{"$f":"#REF!","v":{"$error":"#REF!"}},{"$error":"#REF!"},{"$f":"#REF!","v":{"$error":"#REF!"}},{"$error":"#REF!"},{"$f":"#REF!","v":{"$error":"#REF!"}},{"$error":"#REF!"},{"$f":"#REF!","v":{"$error":"#REF!"}},{"$error":"#REF!"},{"$f":"#REF!","v":{"$error":"#REF!"}},{"$error":"#REF!"},{"$f":"#REF!","v":{"$error":"#REF!"}},{"$error":"#REF!"},{"$f":"#REF!","v":{"$error":"#REF!"}},{"$error":"#REF!"},{"$f":"#REF!","v":{"$error":"#REF!"}},{"$error":"#REF!"},{"$f":"#REF!","v":{"$error":"#REF!"}},{"$error":"#REF!"},{"$f":"#REF!","v":{"$error":"#REF!"}},{"$error":"#REF!"},{"$f":"#REF!","v":{"$error":"#REF!"}},{"$error":"#REF!"},{"$error":"#REF!"},{"$error":"#REF!"}]
[{"$f":"#REF!","v":{"$error":"#REF!"}},{"$f":"IF(#REF!=\"\",\"\",#REF!)","v":{"$error":"#REF!"}},{"$f":"IF(#REF!=\"\",\"\",#REF!)","v":{"$error":"#REF!"}},{"$f":"IF(#REF!=\"\",\"\",#REF!)","v":{"$error":"#REF!"}},{"$f":"#REF!","v":{"$error":"#REF!"}},{"$error":"#REF!"},{"$f":"#REF!","v":{"$error":"#REF!"}},{"$error":"#REF!"},{"$f":"#REF!","v":{"$error":"#REF!"}},{"$error":"#REF!"},{"$f":"#REF!","v":{"$error":"#REF!"}},{"$error":"#REF!"},{"$f":"#REF!","v":{"$error":"#REF!"}},{"$error":"#REF!"},{"$f":"#REF!","v":{"$error":"#REF!"}},{"$error":"#REF!"},{"$f":"#REF!","v":{"$error":"#REF!"}},{"$error":"#REF!"},{"$f":"#REF!","v":{"$error":"#REF!"}},{"$error":"#REF!"},{"$f":"#REF!","v":{"$error":"#REF!"}},{"$error":"#REF!"},{"$f":"#REF!","v":{"$error":"#REF!"}},{"$error":"#REF!"},{"$f":"#REF!","v":{"$error":"#REF!"}},{"$error":"#REF!"},{"$f":"#REF!","v":{"$error":"#REF!"}},{"$error":"#REF!"},{"$f":"#REF!","v":{"$error":"#REF!"}},{"$error":"#REF!"},{"$f":"#REF!","v":{"$error":"#REF!"}},{"$error":"#REF!"},{"$f":"#REF!","v":{"$error":"#REF!"}},{"$error":"#REF!"},{"$f":"#REF!","v":{"$error":"#REF!"}},{"$error":"#REF!"},{"$f":"#REF!","v":{"$error":"#REF!"}},{"$error":"#REF!"},{"$f":"#REF!","v":{"$error":"#REF!"}},{"$error":"#REF!"},{"$f":"#REF!","v":{"$error":"#REF!"}},{"$error":"#REF!"},{"$error":"#REF!"},{"$error":"#REF!"}]
[{"$f":"#REF!","v":{"$error":"#REF!"}},{"$f":"IF(#REF!=\"\",\"\",#REF!)","v":{"$error":"#REF!"}},{"$f":"IF(#REF!=\"\",\"\",#REF!)","v":{"$error":"#REF!"}},{"$f":"IF(#REF!=\"\",\"\",#REF!)","v":{"$error":"#REF!"}},{"$f":"#REF!","v":{"$error":"#REF!"}},{"$error":"#REF!"},{"$f":"#REF!","v":{"$error":"#REF!"}},{"$error":"#REF!"},{"$f":"#REF!","v":{"$error":"#REF!"}},{"$error":"#REF!"},{"$f":"#REF!","v":{"$error":"#REF!"}},{"$error":"#REF!"},{"$f":"#REF!","v":{"$error":"#REF!"}},{"$error":"#REF!"},{"$f":"#REF!","v":{"$error":"#REF!"}},{"$error":"#REF!"},{"$f":"#REF!","v":{"$error":"#REF!"}},{"$error":"#REF!"},{"$f":"#REF!","v":{"$error":"#REF!"}},{"$error":"#REF!"},{"$f":"#REF!","v":{"$error":"#REF!"}},{"$error":"#REF!"},{"$f":"#REF!","v":{"$error":"#REF!"}},{"$error":"#REF!"},{"$f":"#REF!","v":{"$error":"#REF!"}},{"$error":"#REF!"},{"$f":"#REF!","v":{"$error":"#REF!"}},{"$error":"#REF!"},{"$f":"#REF!","v":{"$error":"#REF!"}},{"$error":"#REF!"},{"$f":"#REF!","v":{"$error":"#REF!"}},{"$error":"#REF!"},{"$f":"#REF!","v":{"$error":"#REF!"}},{"$error":"#REF!"},{"$f":"#REF!","v":{"$error":"#REF!"}},{"$error":"#REF!"},{"$f":"#REF!","v":{"$error":"#REF!"}},{"$error":"#REF!"},{"$f":"#REF!","v":{"$error":"#REF!"}},{"$error":"#REF!"},{"$f":"#REF!","v":{"$error":"#REF!"}},{"$error":"#REF!"},{"$error":"#REF!"},{"$error":"#REF!"}]
[{"$f":"#REF!","v":{"$error":"#REF!"}},{"$f":"IF(#REF!=\"\",\"\",#REF!)","v":{"$error":"#REF!"}},{"$f":"IF(#REF!=\"\",\"\",#REF!)","v":{"$error":"#REF!"}},{"$f":"IF(#REF!=\"\",\"\",#REF!)","v":{"$error":"#REF!"}},{"$f":"#REF!","v":{"$error":"#REF!"}},{"$error":"#REF!"},{"$f":"#REF!","v":{"$error":"#REF!"}},{"$error":"#REF!"},{"$f":"#REF!","v":{"$error":"#REF!"}},{"$error":"#REF!"},{"$f":"#REF!","v":{"$error":"#REF!"}},{"$error":"#REF!"},{"$f":"#REF!","v":{"$error":"#REF!"}},{"$error":"#REF!"},{"$f":"#REF!","v":{"$error":"#REF!"}},{"$error":"#REF!"},{"$f":"#REF!","v":{"$error":"#REF!"}},{"$error":"#REF!"},{"$f":"#REF!","v":{"$error":"#REF!"}},{"$error":"#REF!"},{"$f":"#REF!","v":{"$error":"#REF!"}},{"$error":"#REF!"},{"$f":"#REF!","v":{"$error":"#REF!"}},{"$error":"#REF!"},{"$f":"#REF!","v":{"$error":"#REF!"}},{"$error":"#REF!"},{"$f":"#REF!","v":{"$error":"#REF!"}},{"$error":"#REF!"},{"$f":"#REF!","v":{"$error":"#REF!"}},{"$error":"#REF!"},{"$f":"#REF!","v":{"$error":"#REF!"}},{"$error":"#REF!"},{"$f":"#REF!","v":{"$error":"#REF!"}},{"$error":"#REF!"},{"$f":"#REF!","v":{"$error":"#REF!"}},{"$error":"#REF!"},{"$f":"#REF!","v":{"$error":"#REF!"}},{"$error":"#REF!"},{"$f":"#REF!","v":{"$error":"#REF!"}},{"$error":"#REF!"},{"$f":"#REF!","v":{"$error":"#REF!"}},{"$error":"#REF!"},{"$error":"#REF!"},{"$error":"#REF!"}]
[{"$f":"#REF!","v":{"$error":"#REF!"}},{"$f":"IF(#REF!=\"\",\"\",#REF!)","v":{"$error":"#REF!"}},{"$f":"IF(#REF!=\"\",\"\",#REF!)","v":{"$error":"#REF!"}},{"$f":"IF(#REF!=\"\",\"\",#REF!)","v":{"$error":"#REF!"}},{"$f":"#REF!","v":{"$error":"#REF!"}},{"$error":"#REF!"},{"$f":"#REF!","v":{"$error":"#REF!"}},{"$error":"#REF!"},{"$f":"#REF!","v":{"$error":"#REF!"}},{"$error":"#REF!"},{"$f":"#REF!","v":{"$error":"#REF!"}},{"$error":"#REF!"},{"$f":"#REF!","v":{"$error":"#REF!"}},{"$error":"#REF!"},{"$f":"#REF!","v":{"$error":"#REF!"}},{"$error":"#REF!"},{"$f":"#REF!","v":{"$error":"#REF!"}},{"$error":"#REF!"},{"$f":"#REF!","v":{"$error":"#REF!"}},{"$error":"#REF!"},{"$f":"#REF!","v":{"$error":"#REF!"}},{"$error":"#REF!"},{"$f":"#REF!","v":{"$error":"#REF!"}},{"$error":"#REF!"},{"$f":"#REF!","v":{"$error":"#REF!"}},{"$error":"#REF!"},{"$f":"#REF!","v":{"$error":"#REF!"}},{"$error":"#REF!"},{"$f":"#REF!","v":{"$error":"#REF!"}},{"$error":"#REF!"},{"$f":"#REF!","v":{"$error":"#REF!"}},{"$error":"#REF!"},{"$f":"#REF!","v":{"$error":"#REF!"}},{"$error":"#REF!"},{"$f":"#REF!","v":{"$error":"#REF!"}},{"$error":"#REF!"},{"$f":"#REF!","v":{"$error":"#REF!"}},{"$error":"#REF!"},{"$f":"#REF!","v":{"$error":"#REF!"}},{"$error":"#REF!"},{"$f":"#REF!","v":{"$error":"#REF!"}},{"$error":"#REF!"},{"$error":"#REF!"},{"$error":"#REF!"}]
[{"$f":"#REF!","v":{"$error":"#REF!"}},{"$f":"IF(#REF!=\"\",\"\",#REF!)","v":{"$error":"#REF!"}},{"$f":"IF(#REF!=\"\",\"\",#REF!)","v":{"$error":"#REF!"}},{"$f":"IF(#REF!=\"\",\"\",#REF!)","v":{"$error":"#REF!"}},{"$f":"#REF!","v":{"$error":"#REF!"}},{"$error":"#REF!"},{"$f":"#REF!","v":{"$error":"#REF!"}},{"$error":"#REF!"},{"$f":"#REF!","v":{"$error":"#REF!"}},{"$error":"#REF!"},{"$f":"#REF!","v":{"$error":"#REF!"}},{"$error":"#REF!"},{"$f":"#REF!","v":{"$error":"#REF!"}},{"$error":"#REF!"},{"$f":"#REF!","v":{"$error":"#REF!"}},{"$error":"#REF!"},{"$f":"#REF!","v":{"$error":"#REF!"}},{"$error":"#REF!"},{"$f":"#REF!","v":{"$error":"#REF!"}},{"$error":"#REF!"},{"$f":"#REF!","v":{"$error":"#REF!"}},{"$error":"#REF!"},{"$f":"#REF!","v":{"$error":"#REF!"}},{"$error":"#REF!"},{"$f":"#REF!","v":{"$error":"#REF!"}},{"$error":"#REF!"},{"$f":"#REF!","v":{"$error":"#REF!"}},{"$error":"#REF!"},{"$f":"#REF!","v":{"$error":"#REF!"}},{"$error":"#REF!"},{"$f":"#REF!","v":{"$error":"#REF!"}},{"$error":"#REF!"},{"$f":"#REF!","v":{"$error":"#REF!"}},{"$error":"#REF!"},{"$f":"#REF!","v":{"$error":"#REF!"}},{"$error":"#REF!"},{"$f":"#REF!","v":{"$error":"#REF!"}},{"$error":"#REF!"},{"$f":"#REF!","v":{"$error":"#REF!"}},{"$error":"#REF!"},{"$f":"#REF!","v":{"$error":"#REF!"}},{"$error":"#REF!"},{"$error":"#REF!"},{"$error":"#REF!"}]
[{"$f":"#REF!","v":{"$error":"#REF!"}},{"$f":"IF(#REF!=\"\",\"\",#REF!)","v":{"$error":"#REF!"}},{"$f":"IF(#REF!=\"\",\"\",#REF!)","v":{"$error":"#REF!"}},{"$f":"IF(#REF!=\"\",\"\",#REF!)","v":{"$error":"#REF!"}},{"$f":"#REF!","v":{"$error":"#REF!"}},{"$error":"#REF!"},{"$f":"#REF!","v":{"$error":"#REF!"}},{"$error":"#REF!"},{"$f":"#REF!","v":{"$error":"#REF!"}},{"$error":"#REF!"},{"$f":"#REF!","v":{"$error":"#REF!"}},{"$error":"#REF!"},{"$f":"#REF!","v":{"$error":"#REF!"}},{"$error":"#REF!"},{"$f":"#REF!","v":{"$error":"#REF!"}},{"$error":"#REF!"},{"$f":"#REF!","v":{"$error":"#REF!"}},{"$error":"#REF!"},{"$f":"#REF!","v":{"$error":"#REF!"}},{"$error":"#REF!"},{"$f":"#REF!","v":{"$error":"#REF!"}},{"$error":"#REF!"},{"$f":"#REF!","v":{"$error":"#REF!"}},{"$error":"#REF!"},{"$f":"#REF!","v":{"$error":"#REF!"}},{"$error":"#REF!"},{"$f":"#REF!","v":{"$error":"#REF!"}},{"$error":"#REF!"},{"$f":"#REF!","v":{"$error":"#REF!"}},{"$error":"#REF!"},{"$f":"#REF!","v":{"$error":"#REF!"}},{"$error":"#REF!"},{"$f":"#REF!","v":{"$error":"#REF!"}},{"$error":"#REF!"},{"$f":"#REF!","v":{"$error":"#REF!"}},{"$error":"#REF!"},{"$f":"#REF!","v":{"$error":"#REF!"}},{"$error":"#REF!"},{"$f":"#REF!","v":{"$error":"#REF!"}},{"$error":"#REF!"},{"$f":"#REF!","v":{"$error":"#REF!"}},{"$error":"#REF!"},{"$error":"#REF!"},{"$error":"#REF!"}]
[{"$f":"#REF!","v":{"$error":"#REF!"}},{"$f":"IF(#REF!=\"\",\"\",#REF!)","v":{"$error":"#REF!"}},{"$f":"IF(#REF!=\"\",\"\",#REF!)","v":{"$error":"#REF!"}},{"$f":"IF(#REF!=\"\",\"\",#REF!)","v":{"$error":"#REF!"}},{"$f":"#REF!","v":{"$error":"#REF!"}},{"$error":"#REF!"},{"$f":"#REF!","v":{"$error":"#REF!"}},{"$error":"#REF!"},{"$f":"#REF!","v":{"$error":"#REF!"}},{"$error":"#REF!"},{"$f":"#REF!","v":{"$error":"#REF!"}},{"$error":"#REF!"},{"$f":"#REF!","v":{"$error":"#REF!"}},{"$error":"#REF!"},{"$f":"#REF!","v":{"$error":"#REF!"}},{"$error":"#REF!"},{"$f":"#REF!","v":{"$error":"#REF!"}},{"$error":"#REF!"},{"$f":"#REF!","v":{"$error":"#REF!"}},{"$error":"#REF!"},{"$f":"#REF!","v":{"$error":"#REF!"}},{"$error":"#REF!"},{"$f":"#REF!","v":{"$error":"#REF!"}},{"$error":"#REF!"},{"$f":"#REF!","v":{"$error":"#REF!"}},{"$error":"#REF!"},{"$f":"#REF!","v":{"$error":"#REF!"}},{"$error":"#REF!"},{"$f":"#REF!","v":{"$error":"#REF!"}},{"$error":"#REF!"},{"$f":"#REF!","v":{"$error":"#REF!"}},{"$error":"#REF!"},{"$f":"#REF!","v":{"$error":"#REF!"}},{"$error":"#REF!"},{"$f":"#REF!","v":{"$error":"#REF!"}},{"$error":"#REF!"},{"$f":"#REF!","v":{"$error":"#REF!"}},{"$error":"#REF!"},{"$f":"#REF!","v":{"$error":"#REF!"}},{"$error":"#REF!"},{"$f":"#REF!","v":{"$error":"#REF!"}},{"$error":"#REF!"},{"$error":"#REF!"},{"$error":"#REF!"}]
[{"$f":"#REF!","v":{"$error":"#REF!"}},{"$f":"IF(#REF!=\"\",\"\",#REF!)","v":{"$error":"#REF!"}},{"$f":"IF(#REF!=\"\",\"\",#REF!)","v":{"$error":"#REF!"}},{"$f":"IF(#REF!=\"\",\"\",#REF!)","v":{"$error":"#REF!"}},{"$f":"#REF!","v":{"$error":"#REF!"}},{"$error":"#REF!"},{"$f":"#REF!","v":{"$error":"#REF!"}},{"$error":"#REF!"},{"$f":"#REF!","v":{"$error":"#REF!"}},{"$error":"#REF!"},{"$f":"#REF!","v":{"$error":"#REF!"}},{"$error":"#REF!"},{"$f":"#REF!","v":{"$error":"#REF!"}},{"$error":"#REF!"},{"$f":"#REF!","v":{"$error":"#REF!"}},{"$error":"#REF!"},{"$f":"#REF!","v":{"$error":"#REF!"}},{"$error":"#REF!"},{"$f":"#REF!","v":{"$error":"#REF!"}},{"$error":"#REF!"},{"$f":"#REF!","v":{"$error":"#REF!"}},{"$error":"#REF!"},{"$f":"#REF!","v":{"$error":"#REF!"}},{"$error":"#REF!"},{"$f":"#REF!","v":{"$error":"#REF!"}},{"$error":"#REF!"},{"$f":"#REF!","v":{"$error":"#REF!"}},{"$error":"#REF!"},{"$f":"#REF!","v":{"$error":"#REF!"}},{"$error":"#REF!"},{"$f":"#REF!","v":{"$error":"#REF!"}},{"$error":"#REF!"},{"$f":"#REF!","v":{"$error":"#REF!"}},{"$error":"#REF!"},{"$f":"#REF!","v":{"$error":"#REF!"}},{"$error":"#REF!"},{"$f":"#REF!","v":{"$error":"#REF!"}},{"$error":"#REF!"},{"$f":"#REF!","v":{"$error":"#REF!"}},{"$error":"#REF!"},{"$f":"#REF!","v":{"$error":"#REF!"}},{"$error":"#REF!"},{"$error":"#REF!"},{"$error":"#REF!"}]
[{"$f":"#REF!","v":{"$error":"#REF!"}},{"$f":"IF(#REF!=\"\",\"\",#REF!)","v":{"$error":"#REF!"}},{"$f":"IF(#REF!=\"\",\"\",#REF!)","v":{"$error":"#REF!"}},{"$f":"IF(#REF!=\"\",\"\",#REF!)","v":{"$error":"#REF!"}},{"$f":"#REF!","v":{"$error":"#REF!"}},{"$error":"#REF!"},{"$f":"#REF!","v":{"$error":"#REF!"}},{"$error":"#REF!"},{"$f":"#REF!","v":{"$error":"#REF!"}},{"$error":"#REF!"},{"$f":"#REF!","v":{"$error":"#REF!"}},{"$error":"#REF!"},{"$f":"#REF!","v":{"$error":"#REF!"}},{"$error":"#REF!"},{"$f":"#REF!","v":{"$error":"#REF!"}},{"$error":"#REF!"},{"$f":"#REF!","v":{"$error":"#REF!"}},{"$error":"#REF!"},{"$f":"#REF!","v":{"$error":"#REF!"}},{"$error":"#REF!"},{"$f":"#REF!","v":{"$error":"#REF!"}},{"$error":"#REF!"},{"$f":"#REF!","v":{"$error":"#REF!"}},{"$error":"#REF!"},{"$f":"#REF!","v":{"$error":"#REF!"}},{"$error":"#REF!"},{"$f":"#REF!","v":{"$error":"#REF!"}},{"$error":"#REF!"},{"$f":"#REF!","v":{"$error":"#REF!"}},{"$error":"#REF!"},{"$f":"#REF!","v":{"$error":"#REF!"}},{"$error":"#REF!"},{"$f":"#REF!","v":{"$error":"#REF!"}},{"$error":"#REF!"},{"$f":"#REF!","v":{"$error":"#REF!"}},{"$error":"#REF!"},{"$f":"#REF!","v":{"$error":"#REF!"}},{"$error":"#REF!"},{"$f":"#REF!","v":{"$error":"#REF!"}},{"$error":"#REF!"},{"$f":"#REF!","v":{"$error":"#REF!"}},{"$error":"#REF!"},{"$error":"#REF!"},{"$error":"#REF!"}]
[{"$f":"#REF!","v":{"$error":"#REF!"}},{"$f":"IF(#REF!=\"\",\"\",#REF!)","v":{"$error":"#REF!"}},{"$f":"IF(#REF!=\"\",\"\",#REF!)","v":{"$error":"#REF!"}},{"$f":"IF(#REF!=\"\",\"\",#REF!)","v":{"$error":"#REF!"}},{"$f":"#REF!","v":{"$error":"#REF!"}},{"$error":"#REF!"},{"$f":"#REF!","v":{"$error":"#REF!"}},{"$error":"#REF!"},{"$f":"#REF!","v":{"$error":"#REF!"}},{"$error":"#REF!"},{"$f":"#REF!","v":{"$error":"#REF!"}},{"$error":"#REF!"},{"$f":"#REF!","v":{"$error":"#REF!"}},{"$error":"#REF!"},{"$f":"#REF!","v":{"$error":"#REF!"}},{"$error":"#REF!"},{"$f":"#REF!","v":{"$error":"#REF!"}},{"$error":"#REF!"},{"$f":"#REF!","v":{"$error":"#REF!"}},{"$error":"#REF!"},{"$f":"#REF!","v":{"$error":"#REF!"}},{"$error":"#REF!"},{"$f":"#REF!","v":{"$error":"#REF!"}},{"$error":"#REF!"},{"$f":"#REF!","v":{"$error":"#REF!"}},{"$error":"#REF!"},{"$f":"#REF!","v":{"$error":"#REF!"}},{"$error":"#REF!"},{"$f":"#REF!","v":{"$error":"#REF!"}},{"$error":"#REF!"},{"$f":"#REF!","v":{"$error":"#REF!"}},{"$error":"#REF!"},{"$f":"#REF!","v":{"$error":"#REF!"}},{"$error":"#REF!"},{"$f":"#REF!","v":{"$error":"#REF!"}},{"$error":"#REF!"},{"$f":"#REF!","v":{"$error":"#REF!"}},{"$error":"#REF!"},{"$f":"#REF!","v":{"$error":"#REF!"}},{"$error":"#REF!"},{"$f":"#REF!","v":{"$error":"#REF!"}},{"$error":"#REF!"},{"$error":"#REF!"},{"$error":"#REF!"}]
[{"$f":"#REF!","v":{"$error":"#REF!"}},{"$f":"IF(#REF!=\"\",\"\",#REF!)","v":{"$error":"#REF!"}},{"$f":"IF(#REF!=\"\",\"\",#REF!)","v":{"$error":"#REF!"}},{"$f":"IF(#REF!=\"\",\"\",#REF!)","v":{"$error":"#REF!"}},{"$f":"#REF!","v":{"$error":"#REF!"}},{"$error":"#REF!"},{"$f":"#REF!","v":{"$error":"#REF!"}},{"$error":"#REF!"},{"$f":"#REF!","v":{"$error":"#REF!"}},{"$error":"#REF!"},{"$f":"#REF!","v":{"$error":"#REF!"}},{"$error":"#REF!"},{"$f":"#REF!","v":{"$error":"#REF!"}},{"$error":"#REF!"},{"$f":"#REF!","v":{"$error":"#REF!"}},{"$error":"#REF!"},{"$f":"#REF!","v":{"$error":"#REF!"}},{"$error":"#REF!"},{"$f":"#REF!","v":{"$error":"#REF!"}},{"$error":"#REF!"},{"$f":"#REF!","v":{"$error":"#REF!"}},{"$error":"#REF!"},{"$f":"#REF!","v":{"$error":"#REF!"}},{"$error":"#REF!"},{"$f":"#REF!","v":{"$error":"#REF!"}},{"$error":"#REF!"},{"$f":"#REF!","v":{"$error":"#REF!"}},{"$error":"#REF!"},{"$f":"#REF!","v":{"$error":"#REF!"}},{"$error":"#REF!"},{"$f":"#REF!","v":{"$error":"#REF!"}},{"$error":"#REF!"},{"$f":"#REF!","v":{"$error":"#REF!"}},{"$error":"#REF!"},{"$f":"#REF!","v":{"$error":"#REF!"}},{"$error":"#REF!"},{"$f":"#REF!","v":{"$error":"#REF!"}},{"$error":"#REF!"},{"$f":"#REF!","v":{"$error":"#REF!"}},{"$error":"#REF!"},{"$f":"#REF!","v":{"$error":"#REF!"}},{"$error":"#REF!"},{"$error":"#REF!"},{"$error":"#REF!"}]
[{"$f":"#REF!","v":{"$error":"#REF!"}},{"$f":"IF(#REF!=\"\",\"\",#REF!)","v":{"$error":"#REF!"}},{"$f":"IF(#REF!=\"\",\"\",#REF!)","v":{"$error":"#REF!"}},{"$f":"IF(#REF!=\"\",\"\",#REF!)","v":{"$error":"#REF!"}},{"$f":"#REF!","v":{"$error":"#REF!"}},{"$error":"#REF!"},{"$f":"#REF!","v":{"$error":"#REF!"}},{"$error":"#REF!"},{"$f":"#REF!","v":{"$error":"#REF!"}},{"$error":"#REF!"},{"$f":"#REF!","v":{"$error":"#REF!"}},{"$error":"#REF!"},{"$f":"#REF!","v":{"$error":"#REF!"}},{"$error":"#REF!"},{"$f":"#REF!","v":{"$error":"#REF!"}},{"$error":"#REF!"},{"$f":"#REF!","v":{"$error":"#REF!"}},{"$error":"#REF!"},{"$f":"#REF!","v":{"$error":"#REF!"}},{"$error":"#REF!"},{"$f":"#REF!","v":{"$error":"#REF!"}},{"$error":"#REF!"},{"$f":"#REF!","v":{"$error":"#REF!"}},{"$error":"#REF!"},{"$f":"#REF!","v":{"$error":"#REF!"}},{"$error":"#REF!"},{"$f":"#REF!","v":{"$error":"#REF!"}},{"$error":"#REF!"},{"$f":"#REF!","v":{"$error":"#REF!"}},{"$error":"#REF!"},{"$f":"#REF!","v":{"$error":"#REF!"}},{"$error":"#REF!"},{"$f":"#REF!","v":{"$error":"#REF!"}},{"$error":"#REF!"},{"$f":"#REF!","v":{"$error":"#REF!"}},{"$error":"#REF!"},{"$f":"#REF!","v":{"$error":"#REF!"}},{"$error":"#REF!"},{"$f":"#REF!","v":{"$error":"#REF!"}},{"$error":"#REF!"},{"$f":"#REF!","v":{"$error":"#REF!"}},{"$error":"#REF!"},{"$error":"#REF!"},{"$error":"#REF!"}]
[{"$f":"#REF!","v":{"$error":"#REF!"}},{"$f":"IF(#REF!=\"\",\"\",#REF!)","v":{"$error":"#REF!"}},{"$f":"IF(#REF!=\"\",\"\",#REF!)","v":{"$error":"#REF!"}},{"$f":"IF(#REF!=\"\",\"\",#REF!)","v":{"$error":"#REF!"}},{"$f":"#REF!","v":{"$error":"#REF!"}},{"$error":"#REF!"},{"$f":"#REF!","v":{"$error":"#REF!"}},{"$error":"#REF!"},{"$f":"#REF!","v":{"$error":"#REF!"}},{"$error":"#REF!"},{"$f":"#REF!","v":{"$error":"#REF!"}},{"$error":"#REF!"},{"$f":"#REF!","v":{"$error":"#REF!"}},{"$error":"#REF!"},{"$f":"#REF!","v":{"$error":"#REF!"}},{"$error":"#REF!"},{"$f":"#REF!","v":{"$error":"#REF!"}},{"$error":"#REF!"},{"$f":"#REF!","v":{"$error":"#REF!"}},{"$error":"#REF!"},{"$f":"#REF!","v":{"$error":"#REF!"}},{"$error":"#REF!"},{"$f":"#REF!","v":{"$error":"#REF!"}},{"$error":"#REF!"},{"$f":"#REF!","v":{"$error":"#REF!"}},{"$error":"#REF!"},{"$f":"#REF!","v":{"$error":"#REF!"}},{"$error":"#REF!"},{"$f":"#REF!","v":{"$error":"#REF!"}},{"$error":"#REF!"},{"$f":"#REF!","v":{"$error":"#REF!"}},{"$error":"#REF!"},{"$f":"#REF!","v":{"$error":"#REF!"}},{"$error":"#REF!"},{"$f":"#REF!","v":{"$error":"#REF!"}},{"$error":"#REF!"},{"$f":"#REF!","v":{"$error":"#REF!"}},{"$error":"#REF!"},{"$f":"#REF!","v":{"$error":"#REF!"}},{"$error":"#REF!"},{"$f":"#REF!","v":{"$error":"#REF!"}},{"$error":"#REF!"},{"$error":"#REF!"},{"$error":"#REF!"}]
[{"$f":"#REF!","v":{"$error":"#REF!"}},{"$f":"IF(#REF!=\"\",\"\",#REF!)","v":{"$error":"#REF!"}},{"$f":"IF(#REF!=\"\",\"\",#REF!)","v":{"$error":"#REF!"}},{"$f":"IF(#REF!=\"\",\"\",#REF!)","v":{"$error":"#REF!"}},{"$f":"#REF!","v":{"$error":"#REF!"}},{"$error":"#REF!"},{"$f":"#REF!","v":{"$error":"#REF!"}},{"$error":"#REF!"},{"$f":"#REF!","v":{"$error":"#REF!"}},{"$error":"#REF!"},{"$f":"#REF!","v":{"$error":"#REF!"}},{"$error":"#REF!"},{"$f":"#REF!","v":{"$error":"#REF!"}},{"$error":"#REF!"},{"$f":"#REF!","v":{"$error":"#REF!"}},{"$error":"#REF!"},{"$f":"#REF!","v":{"$error":"#REF!"}},{"$error":"#REF!"},{"$f":"#REF!","v":{"$error":"#REF!"}},{"$error":"#REF!"},{"$f":"#REF!","v":{"$error":"#REF!"}},{"$error":"#REF!"},{"$f":"#REF!","v":{"$error":"#REF!"}},{"$error":"#REF!"},{"$f":"#REF!","v":{"$error":"#REF!"}},{"$error":"#REF!"},{"$f":"#REF!","v":{"$error":"#REF!"}},{"$error":"#REF!"},{"$f":"#REF!","v":{"$error":"#REF!"}},{"$error":"#REF!"},{"$f":"#REF!","v":{"$error":"#REF!"}},{"$error":"#REF!"},{"$f":"#REF!","v":{"$error":"#REF!"}},{"$error":"#REF!"},{"$f":"#REF!","v":{"$error":"#REF!"}},{"$error":"#REF!"},{"$f":"#REF!","v":{"$error":"#REF!"}},{"$error":"#REF!"},{"$f":"#REF!","v":{"$error":"#REF!"}},{"$error":"#REF!"},{"$f":"#REF!","v":{"$error":"#REF!"}},{"$error":"#REF!"},{"$error":"#REF!"},{"$error":"#REF!"}]
[{"$f":"#REF!","v":{"$error":"#REF!"}},{"$f":"IF(#REF!=\"\",\"\",#REF!)","v":{"$error":"#REF!"}},{"$f":"IF(#REF!=\"\",\"\",#REF!)","v":{"$error":"#REF!"}},{"$f":"IF(#REF!=\"\",\"\",#REF!)","v":{"$error":"#REF!"}},{"$f":"#REF!","v":{"$error":"#REF!"}},{"$error":"#REF!"},{"$f":"#REF!","v":{"$error":"#REF!"}},{"$error":"#REF!"},{"$f":"#REF!","v":{"$error":"#REF!"}},{"$error":"#REF!"},{"$f":"#REF!","v":{"$error":"#REF!"}},{"$error":"#REF!"},{"$f":"#REF!","v":{"$error":"#REF!"}},{"$error":"#REF!"},{"$f":"#REF!","v":{"$error":"#REF!"}},{"$error":"#REF!"},{"$f":"#REF!","v":{"$error":"#REF!"}},{"$error":"#REF!"},{"$f":"#REF!","v":{"$error":"#REF!"}},{"$error":"#REF!"},{"$f":"#REF!","v":{"$error":"#REF!"}},{"$error":"#REF!"},{"$f":"#REF!","v":{"$error":"#REF!"}},{"$error":"#REF!"},{"$f":"#REF!","v":{"$error":"#REF!"}},{"$error":"#REF!"},{"$f":"#REF!","v":{"$error":"#REF!"}},{"$error":"#REF!"},{"$f":"#REF!","v":{"$error":"#REF!"}},{"$error":"#REF!"},{"$f":"#REF!","v":{"$error":"#REF!"}},{"$error":"#REF!"},{"$f":"#REF!","v":{"$error":"#REF!"}},{"$error":"#REF!"},{"$f":"#REF!","v":{"$error":"#REF!"}},{"$error":"#REF!"},{"$f":"#REF!","v":{"$error":"#REF!"}},{"$error":"#REF!"},{"$f":"#REF!","v":{"$error":"#REF!"}},{"$error":"#REF!"},{"$f":"#REF!","v":{"$error":"#REF!"}},{"$error":"#REF!"},{"$error":"#REF!"},{"$error":"#REF!"}]
[{"$f":"#REF!","v":{"$error":"#REF!"}},{"$f":"IF(#REF!=\"\",\"\",#REF!)","v":{"$error":"#REF!"}},{"$f":"IF(#REF!=\"\",\"\",#REF!)","v":{"$error":"#REF!"}},{"$f":"IF(#REF!=\"\",\"\",#REF!)","v":{"$error":"#REF!"}},{"$f":"#REF!","v":{"$error":"#REF!"}},{"$error":"#REF!"},{"$f":"#REF!","v":{"$error":"#REF!"}},{"$error":"#REF!"},{"$f":"#REF!","v":{"$error":"#REF!"}},{"$error":"#REF!"},{"$f":"#REF!","v":{"$error":"#REF!"}},{"$error":"#REF!"},{"$f":"#REF!","v":{"$error":"#REF!"}},{"$error":"#REF!"},{"$f":"#REF!","v":{"$error":"#REF!"}},{"$error":"#REF!"},{"$f":"#REF!","v":{"$error":"#REF!"}},{"$error":"#REF!"},{"$f":"#REF!","v":{"$error":"#REF!"}},{"$error":"#REF!"},{"$f":"#REF!","v":{"$error":"#REF!"}},{"$error":"#REF!"},{"$f":"#REF!","v":{"$error":"#REF!"}},{"$error":"#REF!"},{"$f":"#REF!","v":{"$error":"#REF!"}},{"$error":"#REF!"},{"$f":"#REF!","v":{"$error":"#REF!"}},{"$error":"#REF!"},{"$f":"#REF!","v":{"$error":"#REF!"}},{"$error":"#REF!"},{"$f":"#REF!","v":{"$error":"#REF!"}},{"$error":"#REF!"},{"$f":"#REF!","v":{"$error":"#REF!"}},{"$error":"#REF!"},{"$f":"#REF!","v":{"$error":"#REF!"}},{"$error":"#REF!"},{"$f":"#REF!","v":{"$error":"#REF!"}},{"$error":"#REF!"},{"$f":"#REF!","v":{"$error":"#REF!"}},{"$error":"#REF!"},{"$f":"#REF!","v":{"$error":"#REF!"}},{"$error":"#REF!"},{"$error":"#REF!"},{"$error":"#REF!"}]
[{"$f":"#REF!","v":{"$error":"#REF!"}},{"$f":"IF(#REF!=\"\",\"\",#REF!)","v":{"$error":"#REF!"}},{"$f":"IF(#REF!=\"\",\"\",#REF!)","v":{"$error":"#REF!"}},{"$f":"IF(#REF!=\"\",\"\",#REF!)","v":{"$error":"#REF!"}},{"$f":"#REF!","v":{"$error":"#REF!"}},{"$error":"#REF!"},{"$f":"#REF!","v":{"$error":"#REF!"}},{"$error":"#REF!"},{"$f":"#REF!","v":{"$error":"#REF!"}},{"$error":"#REF!"},{"$f":"#REF!","v":{"$error":"#REF!"}},{"$error":"#REF!"},{"$f":"#REF!","v":{"$error":"#REF!"}},{"$error":"#REF!"},{"$f":"#REF!","v":{"$error":"#REF!"}},{"$error":"#REF!"},{"$f":"#REF!","v":{"$error":"#REF!"}},{"$error":"#REF!"},{"$f":"#REF!","v":{"$error":"#REF!"}},{"$error":"#REF!"},{"$f":"#REF!","v":{"$error":"#REF!"}},{"$error":"#REF!"},{"$f":"#REF!","v":{"$error":"#REF!"}},{"$error":"#REF!"},{"$f":"#REF!","v":{"$error":"#REF!"}},{"$error":"#REF!"},{"$f":"#REF!","v":{"$error":"#REF!"}},{"$error":"#REF!"},{"$f":"#REF!","v":{"$error":"#REF!"}},{"$error":"#REF!"},{"$f":"#REF!","v":{"$error":"#REF!"}},{"$error":"#REF!"},{"$f":"#REF!","v":{"$error":"#REF!"}},{"$error":"#REF!"},{"$f":"#REF!","v":{"$error":"#REF!"}},{"$error":"#REF!"},{"$f":"#REF!","v":{"$error":"#REF!"}},{"$error":"#REF!"},{"$f":"#REF!","v":{"$error":"#REF!"}},{"$error":"#REF!"},{"$f":"#REF!","v":{"$error":"#REF!"}},{"$error":"#REF!"},{"$error":"#REF!"},{"$error":"#REF!"}]
[{"$f":"#REF!","v":{"$error":"#REF!"}},{"$f":"IF(#REF!=\"\",\"\",#REF!)","v":{"$error":"#REF!"}},{"$f":"IF(#REF!=\"\",\"\",#REF!)","v":{"$error":"#REF!"}},{"$f":"IF(#REF!=\"\",\"\",#REF!)","v":{"$error":"#REF!"}},{"$f":"#REF!","v":{"$error":"#REF!"}},{"$error":"#REF!"},{"$f":"#REF!","v":{"$error":"#REF!"}},{"$error":"#REF!"},{"$f":"#REF!","v":{"$error":"#REF!"}},{"$error":"#REF!"},{"$f":"#REF!","v":{"$error":"#REF!"}},{"$error":"#REF!"},{"$f":"#REF!","v":{"$error":"#REF!"}},{"$error":"#REF!"},{"$f":"#REF!","v":{"$error":"#REF!"}},{"$error":"#REF!"},{"$f":"#REF!","v":{"$error":"#REF!"}},{"$error":"#REF!"},{"$f":"#REF!","v":{"$error":"#REF!"}},{"$error":"#REF!"},{"$f":"#REF!","v":{"$error":"#REF!"}},{"$error":"#REF!"},{"$f":"#REF!","v":{"$error":"#REF!"}},{"$error":"#REF!"},{"$f":"#REF!","v":{"$error":"#REF!"}},{"$error":"#REF!"},{"$f":"#REF!","v":{"$error":"#REF!"}},{"$error":"#REF!"},{"$f":"#REF!","v":{"$error":"#REF!"}},{"$error":"#REF!"},{"$f":"#REF!","v":{"$error":"#REF!"}},{"$error":"#REF!"},{"$f":"#REF!","v":{"$error":"#REF!"}},{"$error":"#REF!"},{"$f":"#REF!","v":{"$error":"#REF!"}},{"$error":"#REF!"},{"$f":"#REF!","v":{"$error":"#REF!"}},{"$error":"#REF!"},{"$f":"#REF!","v":{"$error":"#REF!"}},{"$error":"#REF!"},{"$f":"#REF!","v":{"$error":"#REF!"}},{"$error":"#REF!"},{"$error":"#REF!"},{"$error":"#REF!"}]
[{"$f":"#REF!","v":{"$error":"#REF!"}},{"$f":"IF(#REF!=\"\",\"\",#REF!)","v":{"$error":"#REF!"}},{"$f":"IF(#REF!=\"\",\"\",#REF!)","v":{"$error":"#REF!"}},{"$f":"IF(#REF!=\"\",\"\",#REF!)","v":{"$error":"#REF!"}},{"$f":"#REF!","v":{"$error":"#REF!"}},{"$error":"#REF!"},{"$f":"#REF!","v":{"$error":"#REF!"}},{"$error":"#REF!"},{"$f":"#REF!","v":{"$error":"#REF!"}},{"$error":"#REF!"},{"$f":"#REF!","v":{"$error":"#REF!"}},{"$error":"#REF!"},{"$f":"#REF!","v":{"$error":"#REF!"}},{"$error":"#REF!"},{"$f":"#REF!","v":{"$error":"#REF!"}},{"$error":"#REF!"},{"$f":"#REF!","v":{"$error":"#REF!"}},{"$error":"#REF!"},{"$f":"#REF!","v":{"$error":"#REF!"}},{"$error":"#REF!"},{"$f":"#REF!","v":{"$error":"#REF!"}},{"$error":"#REF!"},{"$f":"#REF!","v":{"$error":"#REF!"}},{"$error":"#REF!"},{"$f":"#REF!","v":{"$error":"#REF!"}},{"$error":"#REF!"},{"$f":"#REF!","v":{"$error":"#REF!"}},{"$error":"#REF!"},{"$f":"#REF!","v":{"$error":"#REF!"}},{"$error":"#REF!"},{"$f":"#REF!","v":{"$error":"#REF!"}},{"$error":"#REF!"},{"$f":"#REF!","v":{"$error":"#REF!"}},{"$error":"#REF!"},{"$f":"#REF!","v":{"$error":"#REF!"}},{"$error":"#REF!"},{"$f":"#REF!","v":{"$error":"#REF!"}},{"$error":"#REF!"},{"$f":"#REF!","v":{"$error":"#REF!"}},{"$error":"#REF!"},{"$f":"#REF!","v":{"$error":"#REF!"}},{"$error":"#REF!"},{"$error":"#REF!"},{"$error":"#REF!"}]
[{"$f":"#REF!","v":{"$error":"#REF!"}},{"$f":"IF(#REF!=\"\",\"\",#REF!)","v":{"$error":"#REF!"}},{"$f":"IF(#REF!=\"\",\"\",#REF!)","v":{"$error":"#REF!"}},{"$f":"IF(#REF!=\"\",\"\",#REF!)","v":{"$error":"#REF!"}},{"$f":"#REF!","v":{"$error":"#REF!"}},{"$error":"#REF!"},{"$f":"#REF!","v":{"$error":"#REF!"}},{"$error":"#REF!"},{"$f":"#REF!","v":{"$error":"#REF!"}},{"$error":"#REF!"},{"$f":"#REF!","v":{"$error":"#REF!"}},{"$error":"#REF!"},{"$f":"#REF!","v":{"$error":"#REF!"}},{"$error":"#REF!"},{"$f":"#REF!","v":{"$error":"#REF!"}},{"$error":"#REF!"},{"$f":"#REF!","v":{"$error":"#REF!"}},{"$error":"#REF!"},{"$f":"#REF!","v":{"$error":"#REF!"}},{"$error":"#REF!"},{"$f":"#REF!","v":{"$error":"#REF!"}},{"$error":"#REF!"},{"$f":"#REF!","v":{"$error":"#REF!"}},{"$error":"#REF!"},{"$f":"#REF!","v":{"$error":"#REF!"}},{"$error":"#REF!"},{"$f":"#REF!","v":{"$error":"#REF!"}},{"$error":"#REF!"},{"$f":"#REF!","v":{"$error":"#REF!"}},{"$error":"#REF!"},{"$f":"#REF!","v":{"$error":"#REF!"}},{"$error":"#REF!"},{"$f":"#REF!","v":{"$error":"#REF!"}},{"$error":"#REF!"},{"$f":"#REF!","v":{"$error":"#REF!"}},{"$error":"#REF!"},{"$f":"#REF!","v":{"$error":"#REF!"}},{"$error":"#REF!"},{"$f":"#REF!","v":{"$error":"#REF!"}},{"$error":"#REF!"},{"$f":"#REF!","v":{"$error":"#REF!"}},{"$error":"#REF!"},{"$error":"#REF!"},{"$error":"#REF!"}]
[{"$f":"#REF!","v":{"$error":"#REF!"}},{"$f":"IF(#REF!=\"\",\"\",#REF!)","v":{"$error":"#REF!"}},{"$f":"IF(#REF!=\"\",\"\",#REF!)","v":{"$error":"#REF!"}},{"$f":"IF(#REF!=\"\",\"\",#REF!)","v":{"$error":"#REF!"}},{"$f":"#REF!","v":{"$error":"#REF!"}},{"$error":"#REF!"},{"$f":"#REF!","v":{"$error":"#REF!"}},{"$error":"#REF!"},{"$f":"#REF!","v":{"$error":"#REF!"}},{"$error":"#REF!"},{"$f":"#REF!","v":{"$error":"#REF!"}},{"$error":"#REF!"},{"$f":"#REF!","v":{"$error":"#REF!"}},{"$error":"#REF!"},{"$f":"#REF!","v":{"$error":"#REF!"}},{"$error":"#REF!"},{"$f":"#REF!","v":{"$error":"#REF!"}},{"$error":"#REF!"},{"$f":"#REF!","v":{"$error":"#REF!"}},{"$error":"#REF!"},{"$f":"#REF!","v":{"$error":"#REF!"}},{"$error":"#REF!"},{"$f":"#REF!","v":{"$error":"#REF!"}},{"$error":"#REF!"},{"$f":"#REF!","v":{"$error":"#REF!"}},{"$error":"#REF!"},{"$f":"#REF!","v":{"$error":"#REF!"}},{"$error":"#REF!"},{"$f":"#REF!","v":{"$error":"#REF!"}},{"$error":"#REF!"},{"$f":"#REF!","v":{"$error":"#REF!"}},{"$error":"#REF!"},{"$f":"#REF!","v":{"$error":"#REF!"}},{"$error":"#REF!"},{"$f":"#REF!","v":{"$error":"#REF!"}},{"$error":"#REF!"},{"$f":"#REF!","v":{"$error":"#REF!"}},{"$error":"#REF!"},{"$f":"#REF!","v":{"$error":"#REF!"}},{"$error":"#REF!"},{"$f":"#REF!","v":{"$error":"#REF!"}},{"$error":"#REF!"},{"$error":"#REF!"},{"$error":"#REF!"}]
[{"$f":"#REF!","v":{"$error":"#REF!"}},{"$f":"IF(#REF!=\"\",\"\",#REF!)","v":{"$error":"#REF!"}},{"$f":"IF(#REF!=\"\",\"\",#REF!)","v":{"$error":"#REF!"}},{"$f":"IF(#REF!=\"\",\"\",#REF!)","v":{"$error":"#REF!"}},{"$f":"#REF!","v":{"$error":"#REF!"}},{"$error":"#REF!"},{"$f":"#REF!","v":{"$error":"#REF!"}},{"$error":"#REF!"},{"$f":"#REF!","v":{"$error":"#REF!"}},{"$error":"#REF!"},{"$f":"#REF!","v":{"$error":"#REF!"}},{"$error":"#REF!"},{"$f":"#REF!","v":{"$error":"#REF!"}},{"$error":"#REF!"},{"$f":"#REF!","v":{"$error":"#REF!"}},{"$error":"#REF!"},{"$f":"#REF!","v":{"$error":"#REF!"}},{"$error":"#REF!"},{"$f":"#REF!","v":{"$error":"#REF!"}},{"$error":"#REF!"},{"$f":"#REF!","v":{"$error":"#REF!"}},{"$error":"#REF!"},{"$f":"#REF!","v":{"$error":"#REF!"}},{"$error":"#REF!"},{"$f":"#REF!","v":{"$error":"#REF!"}},{"$error":"#REF!"},{"$f":"#REF!","v":{"$error":"#REF!"}},{"$error":"#REF!"},{"$f":"#REF!","v":{"$error":"#REF!"}},{"$error":"#REF!"},{"$f":"#REF!","v":{"$error":"#REF!"}},{"$error":"#REF!"},{"$f":"#REF!","v":{"$error":"#REF!"}},{"$error":"#REF!"},{"$f":"#REF!","v":{"$error":"#REF!"}},{"$error":"#REF!"},{"$f":"#REF!","v":{"$error":"#REF!"}},{"$error":"#REF!"},{"$f":"#REF!","v":{"$error":"#REF!"}},{"$error":"#REF!"},{"$f":"#REF!","v":{"$error":"#REF!"}},{"$error":"#REF!"},{"$error":"#REF!"},{"$error":"#REF!"}]
[{"$f":"#REF!","v":{"$error":"#REF!"}},{"$f":"IF(#REF!=\"\",\"\",#REF!)","v":{"$error":"#REF!"}},{"$f":"IF(#REF!=\"\",\"\",#REF!)","v":{"$error":"#REF!"}},{"$f":"IF(#REF!=\"\",\"\",#REF!)","v":{"$error":"#REF!"}},{"$f":"#REF!","v":{"$error":"#REF!"}},{"$error":"#REF!"},{"$f":"#REF!","v":{"$error":"#REF!"}},{"$error":"#REF!"},{"$f":"#REF!","v":{"$error":"#REF!"}},{"$error":"#REF!"},{"$f":"#REF!","v":{"$error":"#REF!"}},{"$error":"#REF!"},{"$f":"#REF!","v":{"$error":"#REF!"}},{"$error":"#REF!"},{"$f":"#REF!","v":{"$error":"#REF!"}},{"$error":"#REF!"},{"$f":"#REF!","v":{"$error":"#REF!"}},{"$error":"#REF!"},{"$f":"#REF!","v":{"$error":"#REF!"}},{"$error":"#REF!"},{"$f":"#REF!","v":{"$error":"#REF!"}},{"$error":"#REF!"},{"$f":"#REF!","v":{"$error":"#REF!"}},{"$error":"#REF!"},{"$f":"#REF!","v":{"$error":"#REF!"}},{"$error":"#REF!"},{"$f":"#REF!","v":{"$error":"#REF!"}},{"$error":"#REF!"},{"$f":"#REF!","v":{"$error":"#REF!"}},{"$error":"#REF!"},{"$f":"#REF!","v":{"$error":"#REF!"}},{"$error":"#REF!"},{"$f":"#REF!","v":{"$error":"#REF!"}},{"$error":"#REF!"},{"$f":"#REF!","v":{"$error":"#REF!"}},{"$error":"#REF!"},{"$f":"#REF!","v":{"$error":"#REF!"}},{"$error":"#REF!"},{"$f":"#REF!","v":{"$error":"#REF!"}},{"$error":"#REF!"},{"$f":"#REF!","v":{"$error":"#REF!"}},{"$error":"#REF!"},{"$error":"#REF!"},{"$error":"#REF!"}]
[{"$f":"'[1]сырые баллы'!A34:A35","v":31},{"$f":"IF(#REF!=\"\",\"\",#REF!)","v":{"$error":"#REF!"}},{"$f":"IF(#REF!=\"\",\"\",#REF!)","v":{"$error":"#REF!"}},{"$f":"IF(#REF!=\"\",\"\",#REF!)","v":{"$error":"#REF!"}},{"$f":"#REF!","v":{"$error":"#REF!"}},{"$error":"#REF!"},{"$f":"#REF!","v":{"$error":"#REF!"}},{"$error":"#REF!"},{"$f":"#REF!","v":{"$error":"#REF!"}},{"$error":"#REF!"},{"$f":"#REF!","v":{"$error":"#REF!"}},{"$error":"#REF!"},{"$f":"#REF!","v":{"$error":"#REF!"}},{"$error":"#REF!"},{"$f":"#REF!","v":{"$error":"#REF!"}},{"$error":"#REF!"},{"$f":"#REF!","v":{"$error":"#REF!"}},{"$error":"#REF!"},{"$f":"#REF!","v":{"$error":"#REF!"}},{"$error":"#REF!"},{"$f":"#REF!","v":{"$error":"#REF!"}},{"$error":"#REF!"},{"$f":"#REF!","v":{"$error":"#REF!"}},{"$error":"#REF!"},{"$f":"#REF!","v":{"$error":"#REF!"}},{"$error":"#REF!"},{"$f":"#REF!","v":{"$error":"#REF!"}},{"$error":"#REF!"},{"$f":"#REF!","v":{"$error":"#REF!"}},{"$error":"#REF!"},{"$f":"#REF!","v":{"$error":"#REF!"}},{"$error":"#REF!"},{"$f":"#REF!","v":{"$error":"#REF!"}},{"$error":"#REF!"},{"$f":"#REF!","v":{"$error":"#REF!"}},{"$error":"#REF!"},{"$f":"#REF!","v":{"$error":"#REF!"}},{"$error":"#REF!"},{"$f":"#REF!","v":{"$error":"#REF!"}},{"$error":"#REF!"},{"$f":"#REF!","v":{"$error":"#REF!"}},{"$error":"#REF!"},{"$error":"#REF!"},{"$error":"#REF!"}]

{"sheet":"учебные действия май ","index":5,"n_rows":34,"n_cols":44,"rows_kept":34,"hidden":true,"merged":[[0,0,0,43],[1,0,2,0],[1,1,2,1],[1,2,2,2],[1,3,2,3],[1,4,1,25],[1,26,1,41],[2,4,2,5],[2,6,2,7],[2,8,2,9],[2,10,2,11],[2,12,2,13],[2,14,2,15],[2,16,2,17],[2,18,2,19],[2,20,2,21],[2,22,2,23],[2,24,2,25],[2,26,2,27],[2,28,2,29],[2,30,2,31],[2,32,2,33],[2,34,2,35],[2,36,2,37],[2,38,2,39],[2,40,2,41]]}
[{"$f":"#REF!","v":{"$error":"#REF!"}}]
[{"$f":"#REF!","v":{"$error":"#REF!"}},{"$f":"#REF!","v":{"$error":"#REF!"}},{"$f":"#REF!","v":{"$error":"#REF!"}},{"$f":"#REF!","v":{"$error":"#REF!"}},"часть А",{"$nulls":21},"часть Б"]
[{"$nulls":4},6,null,14,null,18,null,{"$f":"'[1]сырые баллы'!Y3","v":21},null,{"$f":"'[1]сырые баллы'!Z3","v":22},null,{"$f":"'[1]сырые баллы'!AA3","v":23},null,{"$f":"'[1]сырые баллы'!AB3","v":24},null,{"$f":"'[1]сырые баллы'!AC3","v":25},null,{"$f":"'[1]сырые баллы'!AD3","v":26},null,{"$f":"'[1]сырые баллы'!AE3","v":27},null,{"$f":"'[1]сырые баллы'!AF3","v":28},null,{"$f":"'[1]сырые баллы'!BJ3","v":21},null,{"$f":"'[1]сырые баллы'!BK3","v":22},null,{"$f":"'[1]сырые баллы'!BL3","v":23},null,{"$f":"'[1]сырые баллы'!BM3","v":24},null,{"$f":"'[1]сырые баллы'!BN3","v":25},null,{"$f":"'[1]сырые баллы'!BO3","v":26},null,{"$f":"'[1]сырые баллы'!BP3","v":27},null,{"$f":"'[1]сырые баллы'!BQ3","v":28}]
[{"$f":"#REF!","v":{"$error":"#REF!"}},{"$f":"IF(#REF!=\"\",\"\",#REF!)","v":{"$error":"#REF!"}},{"$f":"IF(#REF!=\"\",\"\",#REF!)","v":{"$error":"#REF!"}},{"$f":"IF(#REF!=\"\",\"\",#REF!)","v":{"$error":"#REF!"}},{"$f":"#REF!","v":{"$error":"#REF!"}},{"$f":"IF(K4=0,\"\",IF(K4=\"б\",3,2))","v":{"$error":"#REF!"}},{"$f":"#REF!","v":{"$error":"#REF!"}},{"$f":"IF(G4=0,\"\",IF(G4=\"б\",3,2))","v":{"$error":"#REF!"}},{"$f":"#REF!","v":{"$error":"#REF!"}},{"$f":"IF(I4=0,\"\",IF(I4=\"а\",3,5))","v":{"$error":"#REF!"}},{"$f":"#REF!","v":{"$error":"#REF!"}},{"$f":"IF(K4=0,\"\",IF(K4=\"а\",1,5))","v":{"$error":"#REF!"}},{"$f":"#REF!","v":{"$error":"#REF!"}},{"$f":"IF(O4=0,\"\",IF(O4=\"а\",2,4))","v":{"$error":"#REF!"}},{"$f":"#REF!","v":{"$error":"#REF!"}},{"$f":"IF(Q4=0,\"\",IF(Q4=\"а\",2,IF(Q4=\"в\",4,3)))","v":{"$error":"#REF!"}},{"$f":"#REF!","v":{"$error":"#REF!"}},{"$f":"IF(S4=0,\"\",IF(S4=\"а\",4,2))","v":{"$error":"#REF!"}},{"$f":"#REF!","v":{"$error":"#REF!"}},{"$f":"IF(S4=0,\"\",IF(S4=\"в\",4,IF(S4=\"г\",5,IF(S4=\"а\",1,2))))","v":{"$error":"#REF!"}},{"$f":"#REF!","v":{"$error":"#REF!"}},{"$f":"IF(U4=0,\"\",IF(U4=\"в\",4,IF(U4=\"г\",5,IF(U4=\"а\",1,2))))","v":{"$error":"#REF!"}},{"$f":"#REF!","v":{"$error":"#REF!"}},{"$f":"IF(W4=0,\"\",IF(W4=\"б\",4,3))","v":{"$error":"#REF!"}},{"$f":"#REF!","v":{"$error":"#REF!"}},{"$f":"IF(Y4=0,\"\",IF(Y4=\"б\",6,5))","v":{"$error":"#REF!"}},{"$f":"#REF!","v":{"$error":"#REF!"}},{"$f":"IF(AA4=0,\"\",IF(AA4=\"а\",1,3))","v":{"$error":"#REF!"}},{"$f":"#REF!","v":{"$error":"#REF!"}},{"$f":"IF(AC4=0,\"\",IF(AC4=\"а\",1,2))","v":{"$error":"#REF!"}},{"$f":"#REF!","v":{"$error":"#REF!"}},{"$f":"IF(AE4=0,\"\",IF(AE4=\"а\",2,4))","v":{"$error":"#REF!"}},{"$f":"#REF!","v":{"$error":"#REF!"}},{"$f":"IF(AG4=0,\"\",IF(AG4=\"а\",2,IF(AG4=\"б\",3,4)))","v":{"$error":"#REF!"}},{"$f":"#REF!","v":{"$error":"#REF!"}},{"$f":"IF(AI4=0,\"\",IF(AI4=\"а\",4,6))","v":{"$error":"#REF!"}},{"$f":"#REF!","v":{"$error":"#REF!"}},{"$f":"IF(AK4=0,\"\",IF(AK4=\"б\",3,IF(AK4=\"в\",4,IF(AK4=\"г\",5,0))))","v":{"$error":"#REF!"}},{"$f":"#REF!","v":{"$error":"#REF!"}},{"$f":"IF(AM4=0,\"\",IF(AM4=\"а\",3,4))","v":{"$error":"#REF!"}},{"$f":"#REF!","v":{"$error":"#REF!"}},{"$f":"IF(AO4=0,\"\",IF(AO4=\"в\",6,IF(AO4=\"б\",5,0)))","v":{"$error":"#REF!"}},{"$f":"SUM(L4:AP4)","v":{"$error":"#REF!"}},{"$f":"IF(AQ4=0,\"\",IF(AQ4>=70,\"6 уровень\",IF(AND(AQ4>=52,BE4<70),\"5 уровень\",IF(AND(AQ4>=37,BE4<52),\"4 уровень\",IF(AND(AQ4>=16,AQ4<37),\"3 уровень\",IF(AND(AQ4>=4,AQ4<16),\"2 уровень\",\"1 уровень\"))))))","v":{"$error":"#REF!"}}]
[{"$f":"#REF!","v":{"$error":"#REF!"}},{"$f":"IF(#REF!=\"\",\"\",#REF!)","v":{"$error":"#REF!"}},{"$f":"IF(#REF!=\"\",\"\",#REF!)","v":{"$error":"#REF!"}},{"$f":"IF(#REF!=\"\",\"\",#REF!)","v":{"$error":"#REF!"}},{"$f":"#REF!","v":{"$error":"#REF!"}},{"$f":"IF(K5=0,\"\",IF(K5=\"б\",3,2))","v":{"$error":"#REF!"}},{"$f":"#REF!","v":{"$error":"#REF!"}},{"$f":"IF(G5=0,\"\",IF(G5=\"б\",3,2))","v":{"$error":"#REF!"}},{"$f":"#REF!","v":{"$error":"#REF!"}},{"$f":"IF(I5=0,\"\",IF(I5=\"а\",3,5))","v":{"$error":"#REF!"}},{"$f":"#REF!","v":{"$error":"#REF!"}},{"$f":"IF(K5=0,\"\",IF(K5=\"а\",1,5))","v":{"$error":"#REF!"}},{"$f":"#REF!","v":{"$error":"#REF!"}},{"$f":"IF(O5=0,\"\",IF(O5=\"а\",2,4))","v":{"$error":"#REF!"}},{"$f":"#REF!","v":{"$error":"#REF!"}},{"$f":"IF(Q5=0,\"\",IF(Q5=\"а\",2,IF(Q5=\"в\",4,3)))","v":{"$error":"#REF!"}},{"$f":"#REF!","v":{"$error":"#REF!"}},{"$f":"IF(S5=0,\"\",IF(S5=\"а\",4,2))","v":{"$error":"#REF!"}},{"$f":"#REF!","v":{"$error":"#REF!"}},{"$f":"IF(S5=0,\"\",IF(S5=\"в\",4,IF(S5=\"г\",5,IF(S5=\"а\",1,2))))","v":{"$error":"#REF!"}},{"$f":"#REF!","v":{"$error":"#REF!"}},{"$f":"IF(U5=0,\"\",IF(U5=\"в\",4,IF(U5=\"г\",5,IF(U5=\"а\",1,2))))","v":{"$error":"#REF!"}},{"$f":"#REF!","v":{"$error":"#REF!"}},{"$f":"IF(W5=0,\"\",IF(W5=\"б\",4,3))","v":{"$error":"#REF!"}},{"$f":"#REF!","v":{"$error":"#REF!"}},{"$f":"IF(Y5=0,\"\",IF(Y5=\"б\",6,5))","v":{"$error":"#REF!"}},{"$f":"#REF!","v":{"$error":"#REF!"}},{"$f":"IF(AA5=0,\"\",IF(AA5=\"а\",1,3))","v":{"$error":"#REF!"}},{"$f":"#REF!","v":{"$error":"#REF!"}},{"$f":"IF(AC5=0,\"\",IF(AC5=\"а\",1,2))","v":{"$error":"#REF!"}},{"$f":"#REF!","v":{"$error":"#REF!"}},{"$f":"IF(AE5=0,\"\",IF(AE5=\"а\",2,4))","v":{"$error":"#REF!"}},{"$f":"#REF!","v":{"$error":"#REF!"}},{"$f":"IF(AG5=0,\"\",IF(AG5=\"а\",2,IF(AG5=\"б\",3,4)))","v":{"$error":"#REF!"}},{"$f":"#REF!","v":{"$error":"#REF!"}},{"$f":"IF(AI5=0,\"\",IF(AI5=\"а\",4,6))","v":{"$error":"#REF!"}},{"$f":"#REF!","v":{"$error":"#REF!"}},{"$f":"IF(AK5=0,\"\",IF(AK5=\"б\",3,IF(AK5=\"в\",4,IF(AK5=\"г\",5,0))))","v":{"$error":"#REF!"}},{"$f":"#REF!","v":{"$error":"#REF!"}},{"$f":"IF(AM5=0,\"\",IF(AM5=\"а\",3,4))","v":{"$error":"#REF!"}},{"$f":"#REF!","v":{"$error":"#REF!"}},{"$f":"IF(AO5=0,\"\",IF(AO5=\"в\",6,IF(AO5=\"б\",5,0)))","v":{"$error":"#REF!"}},{"$f":"SUM(L5:AP5)","v":{"$error":"#REF!"}},{"$f":"IF(AQ5=0,\"\",IF(AQ5>=70,\"6 уровень\",IF(AND(AQ5>=52,BE5<70),\"5 уровень\",IF(AND(AQ5>=37,BE5<52),\"4 уровень\",IF(AND(AQ5>=16,AQ5<37),\"3 уровень\",IF(AND(AQ5>=4,AQ5<16),\"2 уровень\",\"1 уровень\"))))))","v":{"$error":"#REF!"}}]
[{"$f":"#REF!","v":{"$error":"#REF!"}},{"$f":"IF(#REF!=\"\",\"\",#REF!)","v":{"$error":"#REF!"}},{"$f":"IF(#REF!=\"\",\"\",#REF!)","v":{"$error":"#REF!"}},{"$f":"IF(#REF!=\"\",\"\",#REF!)","v":{"$error":"#REF!"}},{"$f":"#REF!","v":{"$error":"#REF!"}},{"$error":"#REF!"},{"$f":"#REF!","v":{"$error":"#REF!"}},{"$error":"#REF!"},{"$f":"#REF!","v":{"$error":"#REF!"}},{"$error":"#REF!"},{"$f":"#REF!","v":{"$error":"#REF!"}},{"$error":"#REF!"},{"$f":"#REF!","v":{"$error":"#REF!"}},{"$error":"#REF!"},{"$f":"#REF!","v":{"$error":"#REF!"}},{"$error":"#REF!"},{"$f":"#REF!","v":{"$error":"#REF!"}},{"$error":"#REF!"},{"$f":"#REF!","v":{"$error":"#REF!"}},{"$error":"#REF!"},{"$f":"#REF!","v":{"$error":"#REF!"}},{"$error":"#REF!"},{"$f":"#REF!","v":{"$error":"#REF!"}},{"$error":"#REF!"},{"$f":"#REF!","v":{"$error":"#REF!"}},{"$error":"#REF!"},{"$f":"#REF!","v":{"$error":"#REF!"}},{"$error":"#REF!"},{"$f":"#REF!","v":{"$error":"#REF!"}},{"$error":"#REF!"},{"$f":"#REF!","v":{"$error":"#REF!"}},{"$error":"#REF!"},{"$f":"#REF!","v":{"$error":"#REF!"}},{"$error":"#REF!"},{"$f":"#REF!","v":{"$error":"#REF!"}},{"$error":"#REF!"},{"$f":"#REF!","v":{"$error":"#REF!"}},{"$error":"#REF!"},{"$f":"#REF!","v":{"$error":"#REF!"}},{"$error":"#REF!"},{"$f":"#REF!","v":{"$error":"#REF!"}},{"$error":"#REF!"},{"$error":"#REF!"},{"$error":"#REF!"}]
[{"$f":"#REF!","v":{"$error":"#REF!"}},{"$f":"IF(#REF!=\"\",\"\",#REF!)","v":{"$error":"#REF!"}},{"$f":"IF(#REF!=\"\",\"\",#REF!)","v":{"$error":"#REF!"}},{"$f":"IF(#REF!=\"\",\"\",#REF!)","v":{"$error":"#REF!"}},{"$f":"#REF!","v":{"$error":"#REF!"}},{"$error":"#REF!"},{"$f":"#REF!","v":{"$error":"#REF!"}},{"$error":"#REF!"},{"$f":"#REF!","v":{"$error":"#REF!"}},{"$error":"#REF!"},{"$f":"#REF!","v":{"$error":"#REF!"}},{"$error":"#REF!"},{"$f":"#REF!","v":{"$error":"#REF!"}},{"$error":"#REF!"},{"$f":"#REF!","v":{"$error":"#REF!"}},{"$error":"#REF!"},{"$f":"#REF!","v":{"$error":"#REF!"}},{"$error":"#REF!"},{"$f":"#REF!","v":{"$error":"#REF!"}},{"$error":"#REF!"},{"$f":"#REF!","v":{"$error":"#REF!"}},{"$error":"#REF!"},{"$f":"#REF!","v":{"$error":"#REF!"}},{"$error":"#REF!"},{"$f":"#REF!","v":{"$error":"#REF!"}},{"$error":"#REF!"},{"$f":"#REF!","v":{"$error":"#REF!"}},{"$error":"#REF!"},{"$f":"#REF!","v":{"$error":"#REF!"}},{"$error":"#REF!"},{"$f":"#REF!","v":{"$error":"#REF!"}},{"$error":"#REF!"},{"$f":"#REF!","v":{"$error":"#REF!"}},{"$error":"#REF!"},{"$f":"#REF!","v":{"$error":"#REF!"}},{"$error":"#REF!"},{"$f":"#REF!","v":{"$error":"#REF!"}},{"$error":"#REF!"},{"$f":"#REF!","v":{"$error":"#REF!"}},{"$error":"#REF!"},{"$f":"#REF!","v":{"$error":"#REF!"}},{"$error":"#REF!"},{"$error":"#REF!"},{"$error":"#REF!"}]
[{"$f":"#REF!","v":{"$error":"#REF!"}},{"$f":"IF(#REF!=\"\",\"\",#REF!)","v":{"$error":"#REF!"}},{"$f":"IF(#REF!=\"\",\"\",#REF!)","v":{"$error":"#REF!"}},{"$f":"IF(#REF!=\"\",\"\",#REF!)","v":{"$error":"#REF!"}},{"$f":"#REF!","v":{"$error":"#REF!"}},{"$error":"#REF!"},{"$f":"#REF!","v":{"$error":"#REF!"}},{"$error":"#REF!"},{"$f":"#REF!","v":{"$error":"#REF!"}},{"$error":"#REF!"},{"$f":"#REF!","v":{"$error":"#REF!"}},{"$error":"#REF!"},{"$f":"#REF!","v":{"$error":"#REF!"}},{"$error":"#REF!"},{"$f":"#REF!","v":{"$error":"#REF!"}},{"$error":"#REF!"},{"$f":"#REF!","v":{"$error":"#REF!"}},{"$error":"#REF!"},{"$f":"#REF!","v":{"$error":"#REF!"}},{"$error":"#REF!"},{"$f":"#REF!","v":{"$error":"#REF!"}},{"$error":"#REF!"},{"$f":"#REF!","v":{"$error":"#REF!"}},{"$error":"#REF!"},{"$f":"#REF!","v":{"$error":"#REF!"}},{"$error":"#REF!"},{"$f":"#REF!","v":{"$error":"#REF!"}},{"$error":"#REF!"},{"$f":"#REF!","v":{"$error":"#REF!"}},{"$error":"#REF!"},{"$f":"#REF!","v":{"$error":"#REF!"}},{"$error":"#REF!"},{"$f":"#REF!","v":{"$error":"#REF!"}},{"$error":"#REF!"},{"$f":"#REF!","v":{"$error":"#REF!"}},{"$error":"#REF!"},{"$f":"#REF!","v":{"$error":"#REF!"}},{"$error":"#REF!"},{"$f":"#REF!","v":{"$error":"#REF!"}},{"$error":"#REF!"},{"$f":"#REF!","v":{"$error":"#REF!"}},{"$error":"#REF!"},{"$error":"#REF!"},{"$error":"#REF!"}]
[{"$f":"#REF!","v":{"$error":"#REF!"}},{"$f":"IF(#REF!=\"\",\"\",#REF!)","v":{"$error":"#REF!"}},{"$f":"IF(#REF!=\"\",\"\",#REF!)","v":{"$error":"#REF!"}},{"$f":"IF(#REF!=\"\",\"\",#REF!)","v":{"$error":"#REF!"}},{"$f":"#REF!","v":{"$error":"#REF!"}},{"$error":"#REF!"},{"$f":"#REF!","v":{"$error":"#REF!"}},{"$error":"#REF!"},{"$f":"#REF!","v":{"$error":"#REF!"}},{"$error":"#REF!"},{"$f":"#REF!","v":{"$error":"#REF!"}},{"$error":"#REF!"},{"$f":"#REF!","v":{"$error":"#REF!"}},{"$error":"#REF!"},{"$f":"#REF!","v":{"$error":"#REF!"}},{"$error":"#REF!"},{"$f":"#REF!","v":{"$error":"#REF!"}},{"$error":"#REF!"},{"$f":"#REF!","v":{"$error":"#REF!"}},{"$error":"#REF!"},{"$f":"#REF!","v":{"$error":"#REF!"}},{"$error":"#REF!"},{"$f":"#REF!","v":{"$error":"#REF!"}},{"$error":"#REF!"},{"$f":"#REF!","v":{"$error":"#REF!"}},{"$error":"#REF!"},{"$f":"#REF!","v":{"$error":"#REF!"}},{"$error":"#REF!"},{"$f":"#REF!","v":{"$error":"#REF!"}},{"$error":"#REF!"},{"$f":"#REF!","v":{"$error":"#REF!"}},{"$error":"#REF!"},{"$f":"#REF!","v":{"$error":"#REF!"}},{"$error":"#REF!"},{"$f":"#REF!","v":{"$error":"#REF!"}},{"$error":"#REF!"},{"$f":"#REF!","v":{"$error":"#REF!"}},{"$error":"#REF!"},{"$f":"#REF!","v":{"$error":"#REF!"}},{"$error":"#REF!"},{"$f":"#REF!","v":{"$error":"#REF!"}},{"$error":"#REF!"},{"$error":"#REF!"},{"$error":"#REF!"}]
[{"$f":"#REF!","v":{"$error":"#REF!"}},{"$f":"IF(#REF!=\"\",\"\",#REF!)","v":{"$error":"#REF!"}},{"$f":"IF(#REF!=\"\",\"\",#REF!)","v":{"$error":"#REF!"}},{"$f":"IF(#REF!=\"\",\"\",#REF!)","v":{"$error":"#REF!"}},{"$f":"#REF!","v":{"$error":"#REF!"}},{"$error":"#REF!"},{"$f":"#REF!","v":{"$error":"#REF!"}},{"$error":"#REF!"},{"$f":"#REF!","v":{"$error":"#REF!"}},{"$error":"#REF!"},{"$f":"#REF!","v":{"$error":"#REF!"}},{"$error":"#REF!"},{"$f":"#REF!","v":{"$error":"#REF!"}},{"$error":"#REF!"},{"$f":"#REF!","v":{"$error":"#REF!"}},{"$error":"#REF!"},{"$f":"#REF!","v":{"$error":"#REF!"}},{"$error":"#REF!"},{"$f":"#REF!","v":{"$error":"#REF!"}},{"$error":"#REF!"},{"$f":"#REF!","v":{"$error":"#REF!"}},{"$error":"#REF!"},{"$f":"#REF!","v":{"$error":"#REF!"}},{"$error":"#REF!"},{"$f":"#REF!","v":{"$error":"#REF!"}},{"$error":"#REF!"},{"$f":"#REF!","v":{"$error":"#REF!"}},{"$error":"#REF!"},{"$f":"#REF!","v":{"$error":"#REF!"}},{"$error":"#REF!"},{"$f":"#REF!","v":{"$error":"#REF!"}},{"$error":"#REF!"},{"$f":"#REF!","v":{"$error":"#REF!"}},{"$error":"#REF!"},{"$f":"#REF!","v":{"$error":"#REF!"}},{"$error":"#REF!"},{"$f":"#REF!","v":{"$error":"#REF!"}},{"$error":"#REF!"},{"$f":"#REF!","v":{"$error":"#REF!"}},{"$error":"#REF!"},{"$f":"#REF!","v":{"$error":"#REF!"}},{"$error":"#REF!"},{"$error":"#REF!"},{"$error":"#REF!"}]
[{"$f":"#REF!","v":{"$error":"#REF!"}},{"$f":"IF(#REF!=\"\",\"\",#REF!)","v":{"$error":"#REF!"}},{"$f":"IF(#REF!=\"\",\"\",#REF!)","v":{"$error":"#REF!"}},{"$f":"IF(#REF!=\"\",\"\",#REF!)","v":{"$error":"#REF!"}},{"$f":"#REF!","v":{"$error":"#REF!"}},{"$error":"#REF!"},{"$f":"#REF!","v":{"$error":"#REF!"}},{"$error":"#REF!"},{"$f":"#REF!","v":{"$error":"#REF!"}},{"$error":"#REF!"},{"$f":"#REF!","v":{"$error":"#REF!"}},{"$error":"#REF!"},{"$f":"#REF!","v":{"$error":"#REF!"}},{"$error":"#REF!"},{"$f":"#REF!","v":{"$error":"#REF!"}},{"$error":"#REF!"},{"$f":"#REF!","v":{"$error":"#REF!"}},{"$error":"#REF!"},{"$f":"#REF!","v":{"$error":"#REF!"}},{"$error":"#REF!"},{"$f":"#REF!","v":{"$error":"#REF!"}},{"$error":"#REF!"},{"$f":"#REF!","v":{"$error":"#REF!"}},{"$error":"#REF!"},{"$f":"#REF!","v":{"$error":"#REF!"}},{"$error":"#REF!"},{"$f":"#REF!","v":{"$error":"#REF!"}},{"$error":"#REF!"},{"$f":"#REF!","v":{"$error":"#REF!"}},{"$error":"#REF!"},{"$f":"#REF!","v":{"$error":"#REF!"}},{"$error":"#REF!"},{"$f":"#REF!","v":{"$error":"#REF!"}},{"$error":"#REF!"},{"$f":"#REF!","v":{"$error":"#REF!"}},{"$error":"#REF!"},{"$f":"#REF!","v":{"$error":"#REF!"}},{"$error":"#REF!"},{"$f":"#REF!","v":{"$error":"#REF!"}},{"$error":"#REF!"},{"$f":"#REF!","v":{"$error":"#REF!"}},{"$error":"#REF!"},{"$error":"#REF!"},{"$error":"#REF!"}]
[{"$f":"#REF!","v":{"$error":"#REF!"}},{"$f":"IF(#REF!=\"\",\"\",#REF!)","v":{"$error":"#REF!"}},{"$f":"IF(#REF!=\"\",\"\",#REF!)","v":{"$error":"#REF!"}},{"$f":"IF(#REF!=\"\",\"\",#REF!)","v":{"$error":"#REF!"}},{"$f":"#REF!","v":{"$error":"#REF!"}},{"$error":"#REF!"},{"$f":"#REF!","v":{"$error":"#REF!"}},{"$error":"#REF!"},{"$f":"#REF!","v":{"$error":"#REF!"}},{"$error":"#REF!"},{"$f":"#REF!","v":{"$error":"#REF!"}},{"$error":"#REF!"},{"$f":"#REF!","v":{"$error":"#REF!"}},{"$error":"#REF!"},{"$f":"#REF!","v":{"$error":"#REF!"}},{"$error":"#REF!"},{"$f":"#REF!","v":{"$error":"#REF!"}},{"$error":"#REF!"},{"$f":"#REF!","v":{"$error":"#REF!"}},{"$error":"#REF!"},{"$f":"#REF!","v":{"$error":"#REF!"}},{"$error":"#REF!"},{"$f":"#REF!","v":{"$error":"#REF!"}},{"$error":"#REF!"},{"$f":"#REF!","v":{"$error":"#REF!"}},{"$error":"#REF!"},{"$f":"#REF!","v":{"$error":"#REF!"}},{"$error":"#REF!"},{"$f":"#REF!","v":{"$error":"#REF!"}},{"$error":"#REF!"},{"$f":"#REF!","v":{"$error":"#REF!"}},{"$error":"#REF!"},{"$f":"#REF!","v":{"$error":"#REF!"}},{"$error":"#REF!"},{"$f":"#REF!","v":{"$error":"#REF!"}},{"$error":"#REF!"},{"$f":"#REF!","v":{"$error":"#REF!"}},{"$error":"#REF!"},{"$f":"#REF!","v":{"$error":"#REF!"}},{"$error":"#REF!"},{"$f":"#REF!","v":{"$error":"#REF!"}},{"$error":"#REF!"},{"$error":"#REF!"},{"$error":"#REF!"}]
[{"$f":"#REF!","v":{"$error":"#REF!"}},{"$f":"IF(#REF!=\"\",\"\",#REF!)","v":{"$error":"#REF!"}},{"$f":"IF(#REF!=\"\",\"\",#REF!)","v":{"$error":"#REF!"}},{"$f":"IF(#REF!=\"\",\"\",#REF!)","v":{"$error":"#REF!"}},{"$f":"#REF!","v":{"$error":"#REF!"}},{"$error":"#REF!"},{"$f":"#REF!","v":{"$error":"#REF!"}},{"$error":"#REF!"},{"$f":"#REF!","v":{"$error":"#REF!"}},{"$error":"#REF!"},{"$f":"#REF!","v":{"$error":"#REF!"}},{"$error":"#REF!"},{"$f":"#REF!","v":{"$error":"#REF!"}},{"$error":"#REF!"},{"$f":"#REF!","v":{"$error":"#REF!"}},{"$error":"#REF!"},{"$f":"#REF!","v":{"$error":"#REF!"}},{"$error":"#REF!"},{"$f":"#REF!","v":{"$error":"#REF!"}},{"$error":"#REF!"},{"$f":"#REF!","v":{"$error":"#REF!"}},{"$error":"#REF!"},{"$f":"#REF!","v":{"$error":"#REF!"}},{"$error":"#REF!"},{"$f":"#REF!","v":{"$error":"#REF!"}},{"$error":"#REF!"},{"$f":"#REF!","v":{"$error":"#REF!"}},{"$error":"#REF!"},{"$f":"#REF!","v":{"$error":"#REF!"}},{"$error":"#REF!"},{"$f":"#REF!","v":{"$error":"#REF!"}},{"$error":"#REF!"},{"$f":"#REF!","v":{"$error":"#REF!"}},{"$error":"#REF!"},{"$f":"#REF!","v":{"$error":"#REF!"}},{"$error":"#REF!"},{"$f":"#REF!","v":{"$error":"#REF!"}},{"$error":"#REF!"},{"$f":"#REF!","v":{"$error":"#REF!"}},{"$error":"#REF!"},{"$f":"#REF!","v":{"$error":"#REF!"}},{"$error":"#REF!"},{"$error":"#REF!"},{"$error":"#REF!"}]
[{"$f":"#REF!","v":{"$error":"#REF!"}},{"$f":"IF(#REF!=\"\",\"\",#REF!)","v":{"$error":"#REF!"}},{"$f":"IF(#REF!=\"\",\"\",#REF!)","v":{"$error":"#REF!"}},{"$f":"IF(#REF!=\"\",\"\",#REF!)","v":{"$error":"#REF!"}},{"$f":"#REF!","v":{"$error":"#REF!"}},{"$error":"#REF!"},{"$f":"#REF!","v":{"$error":"#REF!"}},{"$error":"#REF!"},{"$f":"#REF!","v":{"$error":"#REF!"}},{"$error":"#REF!"},{"$f":"#REF!","v":{"$error":"#REF!"}},{"$error":"#REF!"},{"$f":"#REF!","v":{"$error":"#REF!"}},{"$error":"#REF!"},{"$f":"#REF!","v":{"$error":"#REF!"}},{"$error":"#REF!"},{"$f":"#REF!","v":{"$error":"#REF!"}},{"$error":"#REF!"},{"$f":"#REF!","v":{"$error":"#REF!"}},{"$error":"#REF!"},{"$f":"#REF!","v":{"$error":"#REF!"}},{"$error":"#REF!"},{"$f":"#REF!","v":{"$error":"#REF!"}},{"$error":"#REF!"},{"$f":"#REF!","v":{"$error":"#REF!"}},{"$error":"#REF!"},{"$f":"#REF!","v":{"$error":"#REF!"}},{"$error":"#REF!"},{"$f":"#REF!","v":{"$error":"#REF!"}},{"$error":"#REF!"},{"$f":"#REF!","v":{"$error":"#REF!"}},{"$error":"#REF!"},{"$f":"#REF!","v":{"$error":"#REF!"}},{"$error":"#REF!"},{"$f":"#REF!","v":{"$error":"#REF!"}},{"$error":"#REF!"},{"$f":"#REF!","v":{"$error":"#REF!"}},{"$error":"#REF!"},{"$f":"#REF!","v":{"$error":"#REF!"}},{"$error":"#REF!"},{"$f":"#REF!","v":{"$error":"#REF!"}},{"$error":"#REF!"},{"$error":"#REF!"},{"$error":"#REF!"}]
[{"$f":"#REF!","v":{"$error":"#REF!"}},{"$f":"IF(#REF!=\"\",\"\",#REF!)","v":{"$error":"#REF!"}},{"$f":"IF(#REF!=\"\",\"\",#REF!)","v":{"$error":"#REF!"}},{"$f":"IF(#REF!=\"\",\"\",#REF!)","v":{"$error":"#REF!"}},{"$f":"#REF!","v":{"$error":"#REF!"}},{"$error":"#REF!"},{"$f":"#REF!","v":{"$error":"#REF!"}},{"$error":"#REF!"},{"$f":"#REF!","v":{"$error":"#REF!"}},{"$error":"#REF!"},{"$f":"#REF!","v":{"$error":"#REF!"}},{"$error":"#REF!"},{"$f":"#REF!","v":{"$error":"#REF!"}},{"$error":"#REF!"},{"$f":"#REF!","v":{"$error":"#REF!"}},{"$error":"#REF!"},{"$f":"#REF!","v":{"$error":"#REF!"}},{"$error":"#REF!"},{"$f":"#REF!","v":{"$error":"#REF!"}},{"$error":"#REF!"},{"$f":"#REF!","v":{"$error":"#REF!"}},{"$error":"#REF!"},{"$f":"#REF!","v":{"$error":"#REF!"}},{"$error":"#REF!"},{"$f":"#REF!","v":{"$error":"#REF!"}},{"$error":"#REF!"},{"$f":"#REF!","v":{"$error":"#REF!"}},{"$error":"#REF!"},{"$f":"#REF!","v":{"$error":"#REF!"}},{"$error":"#REF!"},{"$f":"#REF!","v":{"$error":"#REF!"}},{"$error":"#REF!"},{"$f":"#REF!","v":{"$error":"#REF!"}},{"$error":"#REF!"},{"$f":"#REF!","v":{"$error":"#REF!"}},{"$error":"#REF!"},{"$f":"#REF!","v":{"$error":"#REF!"}},{"$error":"#REF!"},{"$f":"#REF!","v":{"$error":"#REF!"}},{"$error":"#REF!"},{"$f":"#REF!","v":{"$error":"#REF!"}},{"$error":"#REF!"},{"$error":"#REF!"},{"$error":"#REF!"}]
[{"$f":"#REF!","v":{"$error":"#REF!"}},{"$f":"IF(#REF!=\"\",\"\",#REF!)","v":{"$error":"#REF!"}},{"$f":"IF(#REF!=\"\",\"\",#REF!)","v":{"$error":"#REF!"}},{"$f":"IF(#REF!=\"\",\"\",#REF!)","v":{"$error":"#REF!"}},{"$f":"#REF!","v":{"$error":"#REF!"}},{"$error":"#REF!"},{"$f":"#REF!","v":{"$error":"#REF!"}},{"$error":"#REF!"},{"$f":"#REF!","v":{"$error":"#REF!"}},{"$error":"#REF!"},{"$f":"#REF!","v":{"$error":"#REF!"}},{"$error":"#REF!"},{"$f":"#REF!","v":{"$error":"#REF!"}},{"$error":"#REF!"},{"$f":"#REF!","v":{"$error":"#REF!"}},{"$error":"#REF!"},{"$f":"#REF!","v":{"$error":"#REF!"}},{"$error":"#REF!"},{"$f":"#REF!","v":{"$error":"#REF!"}},{"$error":"#REF!"},{"$f":"#REF!","v":{"$error":"#REF!"}},{"$error":"#REF!"},{"$f":"#REF!","v":{"$error":"#REF!"}},{"$error":"#REF!"},{"$f":"#REF!","v":{"$error":"#REF!"}},{"$error":"#REF!"},{"$f":"#REF!","v":{"$error":"#REF!"}},{"$error":"#REF!"},{"$f":"#REF!","v":{"$error":"#REF!"}},{"$error":"#REF!"},{"$f":"#REF!","v":{"$error":"#REF!"}},{"$error":"#REF!"},{"$f":"#REF!","v":{"$error":"#REF!"}},{"$error":"#REF!"},{"$f":"#REF!","v":{"$error":"#REF!"}},{"$error":"#REF!"},{"$f":"#REF!","v":{"$error":"#REF!"}},{"$error":"#REF!"},{"$f":"#REF!","v":{"$error":"#REF!"}},{"$error":"#REF!"},{"$f":"#REF!","v":{"$error":"#REF!"}},{"$error":"#REF!"},{"$error":"#REF!"},{"$error":"#REF!"}]
[{"$f":"#REF!","v":{"$error":"#REF!"}},{"$f":"IF(#REF!=\"\",\"\",#REF!)","v":{"$error":"#REF!"}},{"$f":"IF(#REF!=\"\",\"\",#REF!)","v":{"$error":"#REF!"}},{"$f":"IF(#REF!=\"\",\"\",#REF!)","v":{"$error":"#REF!"}},{"$f":"#REF!","v":{"$error":"#REF!"}},{"$error":"#REF!"},{"$f":"#REF!","v":{"$error":"#REF!"}},{"$error":"#REF!"},{"$f":"#REF!","v":{"$error":"#REF!"}},{"$error":"#REF!"},{"$f":"#REF!","v":{"$error":"#REF!"}},{"$error":"#REF!"},{"$f":"#REF!","v":{"$error":"#REF!"}},{"$error":"#REF!"},{"$f":"#REF!","v":{"$error":"#REF!"}},{"$error":"#REF!"},{"$f":"#REF!","v":{"$error":"#REF!"}},{"$error":"#REF!"},{"$f":"#REF!","v":{"$error":"#REF!"}},{"$error":"#REF!"},{"$f":"#REF!","v":{"$error":"#REF!"}},{"$error":"#REF!"},{"$f":"#REF!","v":{"$error":"#REF!"}},{"$error":"#REF!"},{"$f":"#REF!","v":{"$error":"#REF!"}},{"$error":"#REF!"},{"$f":"#REF!","v":{"$error":"#REF!"}},{"$error":"#REF!"},{"$f":"#REF!","v":{"$error":"#REF!"}},{"$error":"#REF!"},{"$f":"#REF!","v":{"$error":"#REF!"}},{"$error":"#REF!"},{"$f":"#REF!","v":{"$error":"#REF!"}},{"$error":"#REF!"},{"$f":"#REF!","v":{"$error":"#REF!"}},{"$error":"#REF!"},{"$f":"#REF!","v":{"$error":"#REF!"}},{"$error":"#REF!"},{"$f":"#REF!","v":{"$error":"#REF!"}},{"$error":"#REF!"},{"$f":"#REF!","v":{"$error":"#REF!"}},{"$error":"#REF!"},{"$error":"#REF!"},{"$error":"#REF!"}]
[{"$f":"#REF!","v":{"$error":"#REF!"}},{"$f":"IF(#REF!=\"\",\"\",#REF!)","v":{"$error":"#REF!"}},{"$f":"IF(#REF!=\"\",\"\",#REF!)","v":{"$error":"#REF!"}},{"$f":"IF(#REF!=\"\",\"\",#REF!)","v":{"$error":"#REF!"}},{"$f":"#REF!","v":{"$error":"#REF!"}},{"$error":"#REF!"},{"$f":"#REF!","v":{"$error":"#REF!"}},{"$error":"#REF!"},{"$f":"#REF!","v":{"$error":"#REF!"}},{"$error":"#REF!"},{"$f":"#REF!","v":{"$error":"#REF!"}},{"$error":"#REF!"},{"$f":"#REF!","v":{"$error":"#REF!"}},{"$error":"#REF!"},{"$f":"#REF!","v":{"$error":"#REF!"}},{"$error":"#REF!"},{"$f":"#REF!","v":{"$error":"#REF!"}},{"$error":"#REF!"},{"$f":"#REF!","v":{"$error":"#REF!"}},{"$error":"#REF!"},{"$f":"#REF!","v":{"$error":"#REF!"}},{"$error":"#REF!"},{"$f":"#REF!","v":{"$error":"#REF!"}},{"$error":"#REF!"},{"$f":"#REF!","v":{"$error":"#REF!"}},{"$error":"#REF!"},{"$f":"#REF!","v":{"$error":"#REF!"}},{"$error":"#REF!"},{"$f":"#REF!","v":{"$error":"#REF!"}},{"$error":"#REF!"},{"$f":"#REF!","v":{"$error":"#REF!"}},{"$error":"#REF!"},{"$f":"#REF!","v":{"$error":"#REF!"}},{"$error":"#REF!"},{"$f":"#REF!","v":{"$error":"#REF!"}},{"$error":"#REF!"},{"$f":"#REF!","v":{"$error":"#REF!"}},{"$error":"#REF!"},{"$f":"#REF!","v":{"$error":"#REF!"}},{"$error":"#REF!"},{"$f":"#REF!","v":{"$error":"#REF!"}},{"$error":"#REF!"},{"$error":"#REF!"},{"$error":"#REF!"}]
[{"$f":"#REF!","v":{"$error":"#REF!"}},{"$f":"IF(#REF!=\"\",\"\",#REF!)","v":{"$error":"#REF!"}},{"$f":"IF(#REF!=\"\",\"\",#REF!)","v":{"$error":"#REF!"}},{"$f":"IF(#REF!=\"\",\"\",#REF!)","v":{"$error":"#REF!"}},{"$f":"#REF!","v":{"$error":"#REF!"}},{"$error":"#REF!"},{"$f":"#REF!","v":{"$error":"#REF!"}},{"$error":"#REF!"},{"$f":"#REF!","v":{"$error":"#REF!"}},{"$error":"#REF!"},{"$f":"#REF!","v":{"$error":"#REF!"}},{"$error":"#REF!"},{"$f":"#REF!","v":{"$error":"#REF!"}},{"$error":"#REF!"},{"$f":"#REF!","v":{"$error":"#REF!"}},{"$error":"#REF!"},{"$f":"#REF!","v":{"$error":"#REF!"}},{"$error":"#REF!"},{"$f":"#REF!","v":{"$error":"#REF!"}},{"$error":"#REF!"},{"$f":"#REF!","v":{"$error":"#REF!"}},{"$error":"#REF!"},{"$f":"#REF!","v":{"$error":"#REF!"}},{"$error":"#REF!"},{"$f":"#REF!","v":{"$error":"#REF!"}},{"$error":"#REF!"},{"$f":"#REF!","v":{"$error":"#REF!"}},{"$error":"#REF!"},{"$f":"#REF!","v":{"$error":"#REF!"}},{"$error":"#REF!"},{"$f":"#REF!","v":{"$error":"#REF!"}},{"$error":"#REF!"},{"$f":"#REF!","v":{"$error":"#REF!"}},{"$error":"#REF!"},{"$f":"#REF!","v":{"$error":"#REF!"}},{"$error":"#REF!"},{"$f":"#REF!","v":{"$error":"#REF!"}},{"$error":"#REF!"},{"$f":"#REF!","v":{"$error":"#REF!"}},{"$error":"#REF!"},{"$f":"#REF!","v":{"$error":"#REF!"}},{"$error":"#REF!"},{"$error":"#REF!"},{"$error":"#REF!"}]
[{"$f":"#REF!","v":{"$error":"#REF!"}},{"$f":"IF(#REF!=\"\",\"\",#REF!)","v":{"$error":"#REF!"}},{"$f":"IF(#REF!=\"\",\"\",#REF!)","v":{"$error":"#REF!"}},{"$f":"IF(#REF!=\"\",\"\",#REF!)","v":{"$error":"#REF!"}},{"$f":"#REF!","v":{"$error":"#REF!"}},{"$error":"#REF!"},{"$f":"#REF!","v":{"$error":"#REF!"}},{"$error":"#REF!"},{"$f":"#REF!","v":{"$error":"#REF!"}},{"$error":"#REF!"},{"$f":"#REF!","v":{"$error":"#REF!"}},{"$error":"#REF!"},{"$f":"#REF!","v":{"$error":"#REF!"}},{"$error":"#REF!"},{"$f":"#REF!","v":{"$error":"#REF!"}},{"$error":"#REF!"},{"$f":"#REF!","v":{"$error":"#REF!"}},{"$error":"#REF!"},{"$f":"#REF!","v":{"$error":"#REF!"}},{"$error":"#REF!"},{"$f":"#REF!","v":{"$error":"#REF!"}},{"$error":"#REF!"},{"$f":"#REF!","v":{"$error":"#REF!"}},{"$error":"#REF!"},{"$f":"#REF!","v":{"$error":"#REF!"}},{"$error":"#REF!"},{"$f":"#REF!","v":{"$error":"#REF!"}},{"$error":"#REF!"},{"$f":"#REF!","v":{"$error":"#REF!"}},{"$error":"#REF!"},{"$f":"#REF!","v":{"$error":"#REF!"}},{"$error":"#REF!"},{"$f":"#REF!","v":{"$error":"#REF!"}},{"$error":"#REF!"},{"$f":"#REF!","v":{"$error":"#REF!"}},{"$error":"#REF!"},{"$f":"#REF!","v":{"$error":"#REF!"}},{"$error":"#REF!"},{"$f":"#REF!","v":{"$error":"#REF!"}},{"$error":"#REF!"},{"$f":"#REF!","v":{"$error":"#REF!"}},{"$error":"#REF!"},{"$error":"#REF!"},{"$error":"#REF!"}]
[{"$f":"#REF!","v":{"$error":"#REF!"}},{"$f":"IF(#REF!=\"\",\"\",#REF!)","v":{"$error":"#REF!"}},{"$f":"IF(#REF!=\"\",\"\",#REF!)","v":{"$error":"#REF!"}},{"$f":"IF(#REF!=\"\",\"\",#REF!)","v":{"$error":"#REF!"}},{"$f":"#REF!","v":{"$error":"#REF!"}},{"$error":"#REF!"},{"$f":"#REF!","v":{"$error":"#REF!"}},{"$error":"#REF!"},{"$f":"#REF!","v":{"$error":"#REF!"}},{"$error":"#REF!"},{"$f":"#REF!","v":{"$error":"#REF!"}},{"$error":"#REF!"},{"$f":"#REF!","v":{"$error":"#REF!"}},{"$error":"#REF!"},{"$f":"#REF!","v":{"$error":"#REF!"}},{"$error":"#REF!"},{"$f":"#REF!","v":{"$error":"#REF!"}},{"$error":"#REF!"},{"$f":"#REF!","v":{"$error":"#REF!"}},{"$error":"#REF!"},{"$f":"#REF!","v":{"$error":"#REF!"}},{"$error":"#REF!"},{"$f":"#REF!","v":{"$error":"#REF!"}},{"$error":"#REF!"},{"$f":"#REF!","v":{"$error":"#REF!"}},{"$error":"#REF!"},{"$f":"#REF!","v":{"$error":"#REF!"}},{"$error":"#REF!"},{"$f":"#REF!","v":{"$error":"#REF!"}},{"$error":"#REF!"},{"$f":"#REF!","v":{"$error":"#REF!"}},{"$error":"#REF!"},{"$f":"#REF!","v":{"$error":"#REF!"}},{"$error":"#REF!"},{"$f":"#REF!","v":{"$error":"#REF!"}},{"$error":"#REF!"},{"$f":"#REF!","v":{"$error":"#REF!"}},{"$error":"#REF!"},{"$f":"#REF!","v":{"$error":"#REF!"}},{"$error":"#REF!"},{"$f":"#REF!","v":{"$error":"#REF!"}},{"$error":"#REF!"},{"$error":"#REF!"},{"$error":"#REF!"}]
[{"$f":"#REF!","v":{"$error":"#REF!"}},{"$f":"IF(#REF!=\"\",\"\",#REF!)","v":{"$error":"#REF!"}},{"$f":"IF(#REF!=\"\",\"\",#REF!)","v":{"$error":"#REF!"}},{"$f":"IF(#REF!=\"\",\"\",#REF!)","v":{"$error":"#REF!"}},{"$f":"#REF!","v":{"$error":"#REF!"}},{"$error":"#REF!"},{"$f":"#REF!","v":{"$error":"#REF!"}},{"$error":"#REF!"},{"$f":"#REF!","v":{"$error":"#REF!"}},{"$error":"#REF!"},{"$f":"#REF!","v":{"$error":"#REF!"}},{"$error":"#REF!"},{"$f":"#REF!","v":{"$error":"#REF!"}},{"$error":"#REF!"},{"$f":"#REF!","v":{"$error":"#REF!"}},{"$error":"#REF!"},{"$f":"#REF!","v":{"$error":"#REF!"}},{"$error":"#REF!"},{"$f":"#REF!","v":{"$error":"#REF!"}},{"$error":"#REF!"},{"$f":"#REF!","v":{"$error":"#REF!"}},{"$error":"#REF!"},{"$f":"#REF!","v":{"$error":"#REF!"}},{"$error":"#REF!"},{"$f":"#REF!","v":{"$error":"#REF!"}},{"$error":"#REF!"},{"$f":"#REF!","v":{"$error":"#REF!"}},{"$error":"#REF!"},{"$f":"#REF!","v":{"$error":"#REF!"}},{"$error":"#REF!"},{"$f":"#REF!","v":{"$error":"#REF!"}},{"$error":"#REF!"},{"$f":"#REF!","v":{"$error":"#REF!"}},{"$error":"#REF!"},{"$f":"#REF!","v":{"$error":"#REF!"}},{"$error":"#REF!"},{"$f":"#REF!","v":{"$error":"#REF!"}},{"$error":"#REF!"},{"$f":"#REF!","v":{"$error":"#REF!"}},{"$error":"#REF!"},{"$f":"#REF!","v":{"$error":"#REF!"}},{"$error":"#REF!"},{"$error":"#REF!"},{"$error":"#REF!"}]
[{"$f":"#REF!","v":{"$error":"#REF!"}},{"$f":"IF(#REF!=\"\",\"\",#REF!)","v":{"$error":"#REF!"}},{"$f":"IF(#REF!=\"\",\"\",#REF!)","v":{"$error":"#REF!"}},{"$f":"IF(#REF!=\"\",\"\",#REF!)","v":{"$error":"#REF!"}},{"$f":"#REF!","v":{"$error":"#REF!"}},{"$error":"#REF!"},{"$f":"#REF!","v":{"$error":"#REF!"}},{"$error":"#REF!"},{"$f":"#REF!","v":{"$error":"#REF!"}},{"$error":"#REF!"},{"$f":"#REF!","v":{"$error":"#REF!"}},{"$error":"#REF!"},{"$f":"#REF!","v":{"$error":"#REF!"}},{"$error":"#REF!"},{"$f":"#REF!","v":{"$error":"#REF!"}},{"$error":"#REF!"},{"$f":"#REF!","v":{"$error":"#REF!"}},{"$error":"#REF!"},{"$f":"#REF!","v":{"$error":"#REF!"}},{"$error":"#REF!"},{"$f":"#REF!","v":{"$error":"#REF!"}},{"$error":"#REF!"},{"$f":"#REF!","v":{"$error":"#REF!"}},{"$error":"#REF!"},{"$f":"#REF!","v":{"$error":"#REF!"}},{"$error":"#REF!"},{"$f":"#REF!","v":{"$error":"#REF!"}},{"$error":"#REF!"},{"$f":"#REF!","v":{"$error":"#REF!"}},{"$error":"#REF!"},{"$f":"#REF!","v":{"$error":"#REF!"}},{"$error":"#REF!"},{"$f":"#REF!","v":{"$error":"#REF!"}},{"$error":"#REF!"},{"$f":"#REF!","v":{"$error":"#REF!"}},{"$error":"#REF!"},{"$f":"#REF!","v":{"$error":"#REF!"}},{"$error":"#REF!"},{"$f":"#REF!","v":{"$error":"#REF!"}},{"$error":"#REF!"},{"$f":"#REF!","v":{"$error":"#REF!"}},{"$error":"#REF!"},{"$error":"#REF!"},{"$error":"#REF!"}]
[{"$f":"#REF!","v":{"$error":"#REF!"}},{"$f":"IF(#REF!=\"\",\"\",#REF!)","v":{"$error":"#REF!"}},{"$f":"IF(#REF!=\"\",\"\",#REF!)","v":{"$error":"#REF!"}},{"$f":"IF(#REF!=\"\",\"\",#REF!)","v":{"$error":"#REF!"}},{"$f":"#REF!","v":{"$error":"#REF!"}},{"$error":"#REF!"},{"$f":"#REF!","v":{"$error":"#REF!"}},{"$error":"#REF!"},{"$f":"#REF!","v":{"$error":"#REF!"}},{"$error":"#REF!"},{"$f":"#REF!","v":{"$error":"#REF!"}},{"$error":"#REF!"},{"$f":"#REF!","v":{"$error":"#REF!"}},{"$error":"#REF!"},{"$f":"#REF!","v":{"$error":"#REF!"}},{"$error":"#REF!"},{"$f":"#REF!","v":{"$error":"#REF!"}},{"$error":"#REF!"},{"$f":"#REF!","v":{"$error":"#REF!"}},{"$error":"#REF!"},{"$f":"#REF!","v":{"$error":"#REF!"}},{"$error":"#REF!"},{"$f":"#REF!","v":{"$error":"#REF!"}},{"$error":"#REF!"},{"$f":"#REF!","v":{"$error":"#REF!"}},{"$error":"#REF!"},{"$f":"#REF!","v":{"$error":"#REF!"}},{"$error":"#REF!"},{"$f":"#REF!","v":{"$error":"#REF!"}},{"$error":"#REF!"},{"$f":"#REF!","v":{"$error":"#REF!"}},{"$error":"#REF!"},{"$f":"#REF!","v":{"$error":"#REF!"}},{"$error":"#REF!"},{"$f":"#REF!","v":{"$error":"#REF!"}},{"$error":"#REF!"},{"$f":"#REF!","v":{"$error":"#REF!"}},{"$error":"#REF!"},{"$f":"#REF!","v":{"$error":"#REF!"}},{"$error":"#REF!"},{"$f":"#REF!","v":{"$error":"#REF!"}},{"$error":"#REF!"},{"$error":"#REF!"},{"$error":"#REF!"}]
[{"$f":"#REF!","v":{"$error":"#REF!"}},{"$f":"IF(#REF!=\"\",\"\",#REF!)","v":{"$error":"#REF!"}},{"$f":"IF(#REF!=\"\",\"\",#REF!)","v":{"$error":"#REF!"}},{"$f":"IF(#REF!=\"\",\"\",#REF!)","v":{"$error":"#REF!"}},{"$f":"#REF!","v":{"$error":"#REF!"}},{"$error":"#REF!"},{"$f":"#REF!","v":{"$error":"#REF!"}},{"$error":"#REF!"},{"$f":"#REF!","v":{"$error":"#REF!"}},{"$error":"#REF!"},{"$f":"#REF!","v":{"$error":"#REF!"}},{"$error":"#REF!"},{"$f":"#REF!","v":{"$error":"#REF!"}},{"$error":"#REF!"},{"$f":"#REF!","v":{"$error":"#REF!"}},{"$error":"#REF!"},{"$f":"#REF!","v":{"$error":"#REF!"}},{"$error":"#REF!"},{"$f":"#REF!","v":{"$error":"#REF!"}},{"$error":"#REF!"},{"$f":"#REF!","v":{"$error":"#REF!"}},{"$error":"#REF!"},{"$f":"#REF!","v":{"$error":"#REF!"}},{"$error":"#REF!"},{"$f":"#REF!","v":{"$error":"#REF!"}},{"$error":"#REF!"},{"$f":"#REF!","v":{"$error":"#REF!"}},{"$error":"#REF!"},{"$f":"#REF!","v":{"$error":"#REF!"}},{"$error":"#REF!"},{"$f":"#REF!","v":{"$error":"#REF!"}},{"$error":"#REF!"},{"$f":"#REF!","v":{"$error":"#REF!"}},{"$error":"#REF!"},{"$f":"#REF!","v":{"$error":"#REF!"}},{"$error":"#REF!"},{"$f":"#REF!","v":{"$error":"#REF!"}},{"$error":"#REF!"},{"$f":"#REF!","v":{"$error":"#REF!"}},{"$error":"#REF!"},{"$f":"#REF!","v":{"$error":"#REF!"}},{"$error":"#REF!"},{"$error":"#REF!"},{"$error":"#REF!"}]
[{"$f":"#REF!","v":{"$error":"#REF!"}},{"$f":"IF(#REF!=\"\",\"\",#REF!)","v":{"$error":"#REF!"}},{"$f":"IF(#REF!=\"\",\"\",#REF!)","v":{"$error":"#REF!"}},{"$f":"IF(#REF!=\"\",\"\",#REF!)","v":{"$error":"#REF!"}},{"$f":"#REF!","v":{"$error":"#REF!"}},{"$error":"#REF!"},{"$f":"#REF!","v":{"$error":"#REF!"}},{"$error":"#REF!"},{"$f":"#REF!","v":{"$error":"#REF!"}},{"$error":"#REF!"},{"$f":"#REF!","v":{"$error":"#REF!"}},{"$error":"#REF!"},{"$f":"#REF!","v":{"$error":"#REF!"}},{"$error":"#REF!"},{"$f":"#REF!","v":{"$error":"#REF!"}},{"$error":"#REF!"},{"$f":"#REF!","v":{"$error":"#REF!"}},{"$error":"#REF!"},{"$f":"#REF!","v":{"$error":"#REF!"}},{"$error":"#REF!"},{"$f":"#REF!","v":{"$error":"#REF!"}},{"$error":"#REF!"},{"$f":"#REF!","v":{"$error":"#REF!"}},{"$error":"#REF!"},{"$f":"#REF!","v":{"$error":"#REF!"}},{"$error":"#REF!"},{"$f":"#REF!","v":{"$error":"#REF!"}},{"$error":"#REF!"},{"$f":"#REF!","v":{"$error":"#REF!"}},{"$error":"#REF!"},{"$f":"#REF!","v":{"$error":"#REF!"}},{"$error":"#REF!"},{"$f":"#REF!","v":{"$error":"#REF!"}},{"$error":"#REF!"},{"$f":"#REF!","v":{"$error":"#REF!"}},{"$error":"#REF!"},{"$f":"#REF!","v":{"$error":"#REF!"}},{"$error":"#REF!"},{"$f":"#REF!","v":{"$error":"#REF!"}},{"$error":"#REF!"},{"$f":"#REF!","v":{"$error":"#REF!"}},{"$error":"#REF!"},{"$error":"#REF!"},{"$error":"#REF!"}]
[{"$f":"#REF!","v":{"$error":"#REF!"}},{"$f":"IF(#REF!=\"\",\"\",#REF!)","v":{"$error":"#REF!"}},{"$f":"IF(#REF!=\"\",\"\",#REF!)","v":{"$error":"#REF!"}},{"$f":"IF(#REF!=\"\",\"\",#REF!)","v":{"$error":"#REF!"}},{"$f":"#REF!","v":{"$error":"#REF!"}},{"$error":"#REF!"},{"$f":"#REF!","v":{"$error":"#REF!"}},{"$error":"#REF!"},{"$f":"#REF!","v":{"$error":"#REF!"}},{"$error":"#REF!"},{"$f":"#REF!","v":{"$error":"#REF!"}},{"$error":"#REF!"},{"$f":"#REF!","v":{"$error":"#REF!"}},{"$error":"#REF!"},{"$f":"#REF!","v":{"$error":"#REF!"}},{"$error":"#REF!"},{"$f":"#REF!","v":{"$error":"#REF!"}},{"$error":"#REF!"},{"$f":"#REF!","v":{"$error":"#REF!"}},{"$error":"#REF!"},{"$f":"#REF!","v":{"$error":"#REF!"}},{"$error":"#REF!"},{"$f":"#REF!","v":{"$error":"#REF!"}},{"$error":"#REF!"},{"$f":"#REF!","v":{"$error":"#REF!"}},{"$error":"#REF!"},{"$f":"#REF!","v":{"$error":"#REF!"}},{"$error":"#REF!"},{"$f":"#REF!","v":{"$error":"#REF!"}},{"$error":"#REF!"},{"$f":"#REF!","v":{"$error":"#REF!"}},{"$error":"#REF!"},{"$f":"#REF!","v":{"$error":"#REF!"}},{"$error":"#REF!"},{"$f":"#REF!","v":{"$error":"#REF!"}},{"$error":"#REF!"},{"$f":"#REF!","v":{"$error":"#REF!"}},{"$error":"#REF!"},{"$f":"#REF!","v":{"$error":"#REF!"}},{"$error":"#REF!"},{"$f":"#REF!","v":{"$error":"#REF!"}},{"$error":"#REF!"},{"$error":"#REF!"},{"$error":"#REF!"}]
[{"$f":"#REF!","v":{"$error":"#REF!"}},{"$f":"IF(#REF!=\"\",\"\",#REF!)","v":{"$error":"#REF!"}},{"$f":"IF(#REF!=\"\",\"\",#REF!)","v":{"$error":"#REF!"}},{"$f":"IF(#REF!=\"\",\"\",#REF!)","v":{"$error":"#REF!"}},{"$f":"#REF!","v":{"$error":"#REF!"}},{"$error":"#REF!"},{"$f":"#REF!","v":{"$error":"#REF!"}},{"$error":"#REF!"},{"$f":"#REF!","v":{"$error":"#REF!"}},{"$error":"#REF!"},{"$f":"#REF!","v":{"$error":"#REF!"}},{"$error":"#REF!"},{"$f":"#REF!","v":{"$error":"#REF!"}},{"$error":"#REF!"},{"$f":"#REF!","v":{"$error":"#REF!"}},{"$error":"#REF!"},{"$f":"#REF!","v":{"$error":"#REF!"}},{"$error":"#REF!"},{"$f":"#REF!","v":{"$error":"#REF!"}},{"$error":"#REF!"},{"$f":"#REF!","v":{"$error":"#REF!"}},{"$error":"#REF!"},{"$f":"#REF!","v":{"$error":"#REF!"}},{"$error":"#REF!"},{"$f":"#REF!","v":{"$error":"#REF!"}},{"$error":"#REF!"},{"$f":"#REF!","v":{"$error":"#REF!"}},{"$error":"#REF!"},{"$f":"#REF!","v":{"$error":"#REF!"}},{"$error":"#REF!"},{"$f":"#REF!","v":{"$error":"#REF!"}},{"$error":"#REF!"},{"$f":"#REF!","v":{"$error":"#REF!"}},{"$error":"#REF!"},{"$f":"#REF!","v":{"$error":"#REF!"}},{"$error":"#REF!"},{"$f":"#REF!","v":{"$error":"#REF!"}},{"$error":"#REF!"},{"$f":"#REF!","v":{"$error":"#REF!"}},{"$error":"#REF!"},{"$f":"#REF!","v":{"$error":"#REF!"}},{"$error":"#REF!"},{"$error":"#REF!"},{"$error":"#REF!"}]
[{"$f":"#REF!","v":{"$error":"#REF!"}},{"$f":"IF(#REF!=\"\",\"\",#REF!)","v":{"$error":"#REF!"}},{"$f":"IF(#REF!=\"\",\"\",#REF!)","v":{"$error":"#REF!"}},{"$f":"IF(#REF!=\"\",\"\",#REF!)","v":{"$error":"#REF!"}},{"$f":"#REF!","v":{"$error":"#REF!"}},{"$error":"#REF!"},{"$f":"#REF!","v":{"$error":"#REF!"}},{"$error":"#REF!"},{"$f":"#REF!","v":{"$error":"#REF!"}},{"$error":"#REF!"},{"$f":"#REF!","v":{"$error":"#REF!"}},{"$error":"#REF!"},{"$f":"#REF!","v":{"$error":"#REF!"}},{"$error":"#REF!"},{"$f":"#REF!","v":{"$error":"#REF!"}},{"$error":"#REF!"},{"$f":"#REF!","v":{"$error":"#REF!"}},{"$error":"#REF!"},{"$f":"#REF!","v":{"$error":"#REF!"}},{"$error":"#REF!"},{"$f":"#REF!","v":{"$error":"#REF!"}},{"$error":"#REF!"},{"$f":"#REF!","v":{"$error":"#REF!"}},{"$error":"#REF!"},{"$f":"#REF!","v":{"$error":"#REF!"}},{"$error":"#REF!"},{"$f":"#REF!","v":{"$error":"#REF!"}},{"$error":"#REF!"},{"$f":"#REF!","v":{"$error":"#REF!"}},{"$error":"#REF!"},{"$f":"#REF!","v":{"$error":"#REF!"}},{"$error":"#REF!"},{"$f":"#REF!","v":{"$error":"#REF!"}},{"$error":"#REF!"},{"$f":"#REF!","v":{"$error":"#REF!"}},{"$error":"#REF!"},{"$f":"#REF!","v":{"$error":"#REF!"}},{"$error":"#REF!"},{"$f":"#REF!","v":{"$error":"#REF!"}},{"$error":"#REF!"},{"$f":"#REF!","v":{"$error":"#REF!"}},{"$error":"#REF!"},{"$error":"#REF!"},{"$error":"#REF!"}]
[{"$f":"#REF!","v":{"$error":"#REF!"}},{"$f":"IF(#REF!=\"\",\"\",#REF!)","v":{"$error":"#REF!"}},{"$f":"IF(#REF!=\"\",\"\",#REF!)","v":{"$error":"#REF!"}},{"$f":"IF(#REF!=\"\",\"\",#REF!)","v":{"$error":"#REF!"}},{"$f":"#REF!","v":{"$error":"#REF!"}},{"$error":"#REF!"},{"$f":"#REF!","v":{"$error":"#REF!"}},{"$error":"#REF!"},{"$f":"#REF!","v":{"$error":"#REF!"}},{"$error":"#REF!"},{"$f":"#REF!","v":{"$error":"#REF!"}},{"$error":"#REF!"},{"$f":"#REF!","v":{"$error":"#REF!"}},{"$error":"#REF!"},{"$f":"#REF!","v":{"$error":"#REF!"}},{"$error":"#REF!"},{"$f":"#REF!","v":{"$error":"#REF!"}},{"$error":"#REF!"},{"$f":"#REF!","v":{"$error":"#REF!"}},{"$error":"#REF!"},{"$f":"#REF!","v":{"$error":"#REF!"}},{"$error":"#REF!"},{"$f":"#REF!","v":{"$error":"#REF!"}},{"$error":"#REF!"},{"$f":"#REF!","v":{"$error":"#REF!"}},{"$error":"#REF!"},{"$f":"#REF!","v":{"$error":"#REF!"}},{"$error":"#REF!"},{"$f":"#REF!","v":{"$error":"#REF!"}},{"$error":"#REF!"},{"$f":"#REF!","v":{"$error":"#REF!"}},{"$error":"#REF!"},{"$f":"#REF!","v":{"$error":"#REF!"}},{"$error":"#REF!"},{"$f":"#REF!","v":{"$error":"#REF!"}},{"$error":"#REF!"},{"$f":"#REF!","v":{"$error":"#REF!"}},{"$error":"#REF!"},{"$f":"#REF!","v":{"$error":"#REF!"}},{"$error":"#REF!"},{"$f":"#REF!","v":{"$error":"#REF!"}},{"$error":"#REF!"},{"$error":"#REF!"},{"$error":"#REF!"}]
[{"$f":"#REF!","v":{"$error":"#REF!"}},{"$f":"IF(#REF!=\"\",\"\",#REF!)","v":{"$error":"#REF!"}},{"$f":"IF(#REF!=\"\",\"\",#REF!)","v":{"$error":"#REF!"}},{"$f":"IF(#REF!=\"\",\"\",#REF!)","v":{"$error":"#REF!"}},{"$f":"#REF!","v":{"$error":"#REF!"}},{"$error":"#REF!"},{"$f":"#REF!","v":{"$error":"#REF!"}},{"$error":"#REF!"},{"$f":"#REF!","v":{"$error":"#REF!"}},{"$error":"#REF!"},{"$f":"#REF!","v":{"$error":"#REF!"}},{"$error":"#REF!"},{"$f":"#REF!","v":{"$error":"#REF!"}},{"$error":"#REF!"},{"$f":"#REF!","v":{"$error":"#REF!"}},{"$error":"#REF!"},{"$f":"#REF!","v":{"$error":"#REF!"}},{"$error":"#REF!"},{"$f":"#REF!","v":{"$error":"#REF!"}},{"$error":"#REF!"},{"$f":"#REF!","v":{"$error":"#REF!"}},{"$error":"#REF!"},{"$f":"#REF!","v":{"$error":"#REF!"}},{"$error":"#REF!"},{"$f":"#REF!","v":{"$error":"#REF!"}},{"$error":"#REF!"},{"$f":"#REF!","v":{"$error":"#REF!"}},{"$error":"#REF!"},{"$f":"#REF!","v":{"$error":"#REF!"}},{"$error":"#REF!"},{"$f":"#REF!","v":{"$error":"#REF!"}},{"$error":"#REF!"},{"$f":"#REF!","v":{"$error":"#REF!"}},{"$error":"#REF!"},{"$f":"#REF!","v":{"$error":"#REF!"}},{"$error":"#REF!"},{"$f":"#REF!","v":{"$error":"#REF!"}},{"$error":"#REF!"},{"$f":"#REF!","v":{"$error":"#REF!"}},{"$error":"#REF!"},{"$f":"#REF!","v":{"$error":"#REF!"}},{"$error":"#REF!"},{"$error":"#REF!"},{"$error":"#REF!"}]
[{"$f":"#REF!","v":{"$error":"#REF!"}},{"$f":"IF(#REF!=\"\",\"\",#REF!)","v":{"$error":"#REF!"}},{"$f":"IF(#REF!=\"\",\"\",#REF!)","v":{"$error":"#REF!"}},{"$f":"IF(#REF!=\"\",\"\",#REF!)","v":{"$error":"#REF!"}},{"$f":"#REF!","v":{"$error":"#REF!"}},{"$error":"#REF!"},{"$f":"#REF!","v":{"$error":"#REF!"}},{"$error":"#REF!"},{"$f":"#REF!","v":{"$error":"#REF!"}},{"$error":"#REF!"},{"$f":"#REF!","v":{"$error":"#REF!"}},{"$error":"#REF!"},{"$f":"#REF!","v":{"$error":"#REF!"}},{"$error":"#REF!"},{"$f":"#REF!","v":{"$error":"#REF!"}},{"$error":"#REF!"},{"$f":"#REF!","v":{"$error":"#REF!"}},{"$error":"#REF!"},{"$f":"#REF!","v":{"$error":"#REF!"}},{"$error":"#REF!"},{"$f":"#REF!","v":{"$error":"#REF!"}},{"$error":"#REF!"},{"$f":"#REF!","v":{"$error":"#REF!"}},{"$error":"#REF!"},{"$f":"#REF!","v":{"$error":"#REF!"}},{"$error":"#REF!"},{"$f":"#REF!","v":{"$error":"#REF!"}},{"$error":"#REF!"},{"$f":"#REF!","v":{"$error":"#REF!"}},{"$error":"#REF!"},{"$f":"#REF!","v":{"$error":"#REF!"}},{"$error":"#REF!"},{"$f":"#REF!","v":{"$error":"#REF!"}},{"$error":"#REF!"},{"$f":"#REF!","v":{"$error":"#REF!"}},{"$error":"#REF!"},{"$f":"#REF!","v":{"$error":"#REF!"}},{"$error":"#REF!"},{"$f":"#REF!","v":{"$error":"#REF!"}},{"$error":"#REF!"},{"$f":"#REF!","v":{"$error":"#REF!"}},{"$error":"#REF!"},{"$error":"#REF!"},{"$error":"#REF!"}]
[{"$f":"#REF!","v":{"$error":"#REF!"}},{"$f":"IF(#REF!=\"\",\"\",#REF!)","v":{"$error":"#REF!"}},{"$f":"IF(#REF!=\"\",\"\",#REF!)","v":{"$error":"#REF!"}},{"$f":"IF(#REF!=\"\",\"\",#REF!)","v":{"$error":"#REF!"}},{"$f":"#REF!","v":{"$error":"#REF!"}},{"$error":"#REF!"},{"$f":"#REF!","v":{"$error":"#REF!"}},{"$error":"#REF!"},{"$f":"#REF!","v":{"$error":"#REF!"}},{"$error":"#REF!"},{"$f":"#REF!","v":{"$error":"#REF!"}},{"$error":"#REF!"},{"$f":"#REF!","v":{"$error":"#REF!"}},{"$error":"#REF!"},{"$f":"#REF!","v":{"$error":"#REF!"}},{"$error":"#REF!"},{"$f":"#REF!","v":{"$error":"#REF!"}},{"$error":"#REF!"},{"$f":"#REF!","v":{"$error":"#REF!"}},{"$error":"#REF!"},{"$f":"#REF!","v":{"$error":"#REF!"}},{"$error":"#REF!"},{"$f":"#REF!","v":{"$error":"#REF!"}},{"$error":"#REF!"},{"$f":"#REF!","v":{"$error":"#REF!"}},{"$error":"#REF!"},{"$f":"#REF!","v":{"$error":"#REF!"}},{"$error":"#REF!"},{"$f":"#REF!","v":{"$error":"#REF!"}},{"$error":"#REF!"},{"$f":"#REF!","v":{"$error":"#REF!"}},{"$error":"#REF!"},{"$f":"#REF!","v":{"$error":"#REF!"}},{"$error":"#REF!"},{"$f":"#REF!","v":{"$error":"#REF!"}},{"$error":"#REF!"},{"$f":"#REF!","v":{"$error":"#REF!"}},{"$error":"#REF!"},{"$f":"#REF!","v":{"$error":"#REF!"}},{"$error":"#REF!"},{"$f":"#REF!","v":{"$error":"#REF!"}},{"$error":"#REF!"},{"$error":"#REF!"},{"$error":"#REF!"}]
[{"$f":"'[1]сырые баллы'!A34:A35","v":31},{"$f":"IF(#REF!=\"\",\"\",#REF!)","v":{"$error":"#REF!"}},{"$f":"IF(#REF!=\"\",\"\",#REF!)","v":{"$error":"#REF!"}},{"$f":"IF(#REF!=\"\",\"\",#REF!)","v":{"$error":"#REF!"}},{"$f":"#REF!","v":{"$error":"#REF!"}},{"$error":"#REF!"},{"$f":"#REF!","v":{"$error":"#REF!"}},{"$error":"#REF!"},{"$f":"#REF!","v":{"$error":"#REF!"}},{"$error":"#REF!"},{"$f":"#REF!","v":{"$error":"#REF!"}},{"$error":"#REF!"},{"$f":"#REF!","v":{"$error":"#REF!"}},{"$error":"#REF!"},{"$f":"#REF!","v":{"$error":"#REF!"}},{"$error":"#REF!"},{"$f":"#REF!","v":{"$error":"#REF!"}},{"$error":"#REF!"},{"$f":"#REF!","v":{"$error":"#REF!"}},{"$error":"#REF!"},{"$f":"#REF!","v":{"$error":"#REF!"}},{"$error":"#REF!"},{"$f":"#REF!","v":{"$error":"#REF!"}},{"$error":"#REF!"},{"$f":"#REF!","v":{"$error":"#REF!"}},{"$error":"#REF!"},{"$f":"#REF!","v":{"$error":"#REF!"}},{"$error":"#REF!"},{"$f":"#REF!","v":{"$error":"#REF!"}},{"$error":"#REF!"},{"$f":"#REF!","v":{"$error":"#REF!"}},{"$error":"#REF!"},{"$f":"#REF!","v":{"$error":"#REF!"}},{"$error":"#REF!"},{"$f":"#REF!","v":{"$error":"#REF!"}},{"$error":"#REF!"},{"$f":"#REF!","v":{"$error":"#REF!"}},{"$error":"#REF!"},{"$f":"#REF!","v":{"$error":"#REF!"}},{"$error":"#REF!"},{"$f":"#REF!","v":{"$error":"#REF!"}},{"$error":"#REF!"},{"$error":"#REF!"},{"$error":"#REF!"}]

{"sheet":"действия контроля","index":6,"n_rows":33,"n_cols":30,"rows_kept":33,"hidden":true,"merged":[[0,0,0,29],[1,4,1,15],[1,16,1,27],[2,4,2,5],[2,6,2,7],[2,8,2,9],[2,10,2,11],[2,12,2,13],[2,14,2,15],[2,16,2,17],[2,18,2,19],[2,20,2,21],[2,22,2,23],[2,24,2,25],[2,26,2,27]]}
[{"$f":"#REF!","v":{"$error":"#REF!"}}]
[{"$nulls":4},"часть А",{"$nulls":11},"чсть Б"]
[{"$f":"#REF!","v":{"$error":"#REF!"}},{"$f":"#REF!","v":{"$error":"#REF!"}},{"$f":"#REF!","v":{"$error":"#REF!"}},{"$f":"#REF!","v":{"$error":"#REF!"}},29,null,30,null,31,null,32,null,33,null,34,null,29,null,30,null,31,null,32,null,33,null,34]
[{"$f":"#REF!","v":{"$error":"#REF!"}},{"$f":"#REF!","v":{"$error":"#REF!"}},{"$f":"#REF!","v":{"$error":"#REF!"}},{"$f":"#REF!","v":{"$error":"#REF!"}},{"$f":"#REF!","v":{"$error":"#REF!"}},{"$f":"IF(E4=0,\"\",IF(E4=\"а\",1,2))","v":{"$error":"#REF!"}},{"$f":"#REF!","v":{"$error":"#REF!"}},{"$f":"IF(G4=0,\"\",IF(G4=\"а\",1,2))","v":{"$error":"#REF!"}},{"$f":"#REF!","v":{"$error":"#REF!"}},{"$f":"IF(I4=0,\"\",IF(I4=\"а\",2,3))","v":{"$error":"#REF!"}},{"$f":"#REF!","v":{"$error":"#REF!"}},{"$f":"IF(K4=0,\"\",IF(K4=\"а\",2,3))","v":{"$error":"#REF!"}},{"$f":"#REF!","v":{"$error":"#REF!"}},{"$f":"IF(M4=0,\"\",IF(M4=\"а\",4,IF(M4=\"б\",5,6)))","v":{"$error":"#REF!"}},{"$f":"#REF!","v":{"$error":"#REF!"}},{"$f":"IF(O4=0,\"\",IF(O4=\"а\",4,5))","v":{"$error":"#REF!"}},{"$f":"#REF!","v":{"$error":"#REF!"}},{"$f":"IF(Q4=0,\"\",IF(Q4=\"а\",1,2))","v":{"$error":"#REF!"}},{"$f":"#REF!","v":{"$error":"#REF!"}},{"$f":"IF(S4=0,\"\",IF(S4=\"а\",1,2))","v":{"$error":"#REF!"}},{"$f":"#REF!","v":{"$error":"#REF!"}},{"$f":"IF(U4=0,\"\",IF(U4=\"а\",2,3))","v":{"$error":"#REF!"}},{"$f":"#REF!","v":{"$error":"#REF!"}},{"$f":"IF(W4=0,\"\",IF(W4=\"а\",2,3))","v":{"$error":"#REF!"}},{"$f":"#REF!","v":{"$error":"#REF!"}},{"$f":"IF(Y4=0,\"\",IF(Y4=\"а\",4,5))","v":{"$error":"#REF!"}},{"$f":"#REF!","v":{"$error":"#REF!"}},{"$f":"IF(AA4=0,\"\",IF(AA4=\"а\",4,IF(AA4=\"б\",5,6)))","v":{"$error":"#REF!"}},{"$f":"IF(SUM(F4:AB4)=0,\"\",SUM(F4:AB4))","v":{"$error":"#REF!"}},{"$f":"IF(AC4=\"\",\"\",IF(AC4>=49,\"6 уровень\",IF(AND(AC4>=31,AC4<49),\"5 уровень\",IF(AND(AC4>=26,AC4<31),\"4 уровень\",IF(AND(AC4>=18,AC4<26),\"3 уровень\",IF(AND(AC4>=4,AC4<18),\"2 уровень;\"\"1уровень\"))))))","v":{"$error":"#REF!"}}]
[{"$f":"#REF!","v":{"$error":"#REF!"}},{"$f":"#REF!","v":{"$error":"#REF!"}},{"$f":"#REF!","v":{"$error":"#REF!"}},{"$f":"#REF!","v":{"$error":"#REF!"}},{"$f":"#REF!","v":{"$error":"#REF!"}},{"$f":"IF(E5=0,\"\",IF(E5=\"а\",1,2))","v":{"$error":"#REF!"}},{"$f":"#REF!","v":{"$error":"#REF!"}},{"$f":"IF(G5=0,\"\",IF(G5=\"а\",1,2))","v":{"$error":"#REF!"}},{"$f":"#REF!","v":{"$error":"#REF!"}},{"$f":"IF(I5=0,\"\",IF(I5=\"а\",2,3))","v":{"$error":"#REF!"}},{"$f":"#REF!","v":{"$error":"#REF!"}},{"$f":"IF(K5=0,\"\",IF(K5=\"а\",2,3))","v":{"$error":"#REF!"}},{"$f":"#REF!","v":{"$error":"#REF!"}},{"$f":"IF(M5=0,\"\",IF(M5=\"а\",4,IF(M5=\"б\",5,6)))","v":{"$error":"#REF!"}},{"$f":"#REF!","v":{"$error":"#REF!"}},{"$f":"IF(O5=0,\"\",IF(O5=\"а\",4,5))","v":{"$error":"#REF!"}},{"$f":"#REF!","v":{"$error":"#REF!"}},{"$f":"IF(Q5=0,\"\",IF(Q5=\"а\",1,2))","v":{"$error":"#REF!"}},{"$f":"#REF!","v":{"$error":"#REF!"}},{"$f":"IF(S5=0,\"\",IF(S5=\"а\",1,2))","v":{"$error":"#REF!"}},{"$f":"#REF!","v":{"$error":"#REF!"}},{"$f":"IF(U5=0,\"\",IF(U5=\"а\",2,3))","v":{"$error":"#REF!"}},{"$f":"#REF!","v":{"$error":"#REF!"}},{"$f":"IF(W5=0,\"\",IF(W5=\"а\",2,3))","v":{"$error":"#REF!"}},{"$f":"#REF!","v":{"$error":"#REF!"}},{"$f":"IF(Y5=0,\"\",IF(Y5=\"а\",4,5))","v":{"$error":"#REF!"}},{"$f":"#REF!","v":{"$error":"#REF!"}},{"$f":"IF(AA5=0,\"\",IF(AA5=\"а\",4,IF(AA5=\"б\",5,6)))","v":{"$error":"#REF!"}},{"$f":"IF(SUM(F5:AB5)=0,\"\",SUM(F5:AB5))","v":{"$error":"#REF!"}},{"$f":"IF(AC5=\"\",\"\",IF(AC5>=49,\"6 уровень\",IF(AND(AC5>=31,AC5<49),\"5 уровень\",IF(AND(AC5>=26,AC5<31),\"4 уровень\",IF(AND(AC5>=18,AC5<26),\"3 уровень\",IF(AND(AC5>=4,AC5<18),\"2 уровень;\"\"1уровень\"))))))","v":{"$error":"#REF!"}}]
[{"$f":"#REF!","v":{"$error":"#REF!"}},{"$f":"#REF!","v":{"$error":"#REF!"}},{"$f":"#REF!","v":{"$error":"#REF!"}},{"$f":"#REF!","v":{"$error":"#REF!"}},{"$f":"#REF!","v":{"$error":"#REF!"}},{"$error":"#REF!"},{"$f":"#REF!","v":{"$error":"#REF!"}},{"$error":"#REF!"},{"$f":"#REF!","v":{"$error":"#REF!"}},{"$error":"#REF!"},{"$f":"#REF!","v":{"$error":"#REF!"}},{"$error":"#REF!"},{"$f":"#REF!","v":{"$error":"#REF!"}},{"$error":"#REF!"},{"$f":"#REF!","v":{"$error":"#REF!"}},{"$error":"#REF!"},{"$f":"#REF!","v":{"$error":"#REF!"}},{"$error":"#REF!"},{"$f":"#REF!","v":{"$error":"#REF!"}},{"$error":"#REF!"},{"$f":"#REF!","v":{"$error":"#REF!"}},{"$error":"#REF!"},{"$f":"#REF!","v":{"$error":"#REF!"}},{"$error":"#REF!"},{"$f":"#REF!","v":{"$error":"#REF!"}},{"$error":"#REF!"},{"$f":"#REF!","v":{"$error":"#REF!"}},{"$error":"#REF!"},{"$error":"#REF!"},{"$error":"#REF!"}]
[{"$f":"#REF!","v":{"$error":"#REF!"}},{"$f":"#REF!","v":{"$error":"#REF!"}},{"$f":"#REF!","v":{"$error":"#REF!"}},{"$f":"#REF!","v":{"$error":"#REF!"}},{"$f":"#REF!","v":{"$error":"#REF!"}},{"$error":"#REF!"},{"$f":"#REF!","v":{"$error":"#REF!"}},{"$error":"#REF!"},{"$f":"#REF!","v":{"$error":"#REF!"}},{"$error":"#REF!"},{"$f":"#REF!","v":{"$error":"#REF!"}},{"$error":"#REF!"},{"$f":"#REF!","v":{"$error":"#REF!"}},{"$error":"#REF!"},{"$f":"#REF!","v":{"$error":"#REF!"}},{"$error":"#REF!"},{"$f":"#REF!","v":{"$error":"#REF!"}},{"$error":"#REF!"},{"$f":"#REF!","v":{"$error":"#REF!"}},{"$error":"#REF!"},{"$f":"#REF!","v":{"$error":"#REF!"}},{"$error":"#REF!"},{"$f":"#REF!","v":{"$error":"#REF!"}},{"$error":"#REF!"},{"$f":"#REF!","v":{"$error":"#REF!"}},{"$error":"#REF!"},{"$f":"#REF!","v":{"$error":"#REF!"}},{"$error":"#REF!"},{"$error":"#REF!"},{"$error":"#REF!"}]
[{"$f":"#REF!","v":{"$error":"#REF!"}},{"$f":"#REF!","v":{"$error":"#REF!"}},{"$f":"#REF!","v":{"$error":"#REF!"}},{"$f":"#REF!","v":{"$error":"#REF!"}},{"$f":"#REF!","v":{"$error":"#REF!"}},{"$error":"#REF!"},{"$f":"#REF!","v":{"$error":"#REF!"}},{"$error":"#REF!"},{"$f":"#REF!","v":{"$error":"#REF!"}},{"$error":"#REF!"},{"$f":"#REF!","v":{"$error":"#REF!"}},{"$error":"#REF!"},{"$f":"#REF!","v":{"$error":"#REF!"}},{"$error":"#REF!"},{"$f":"#REF!","v":{"$error":"#REF!"}},{"$error":"#REF!"},{"$f":"#REF!","v":{"$error":"#REF!"}},{"$error":"#REF!"},{"$f":"#REF!","v":{"$error":"#REF!"}},{"$error":"#REF!"},{"$f":"#REF!","v":{"$error":"#REF!"}},{"$error":"#REF!"},{"$f":"#REF!","v":{"$error":"#REF!"}},{"$error":"#REF!"},{"$f":"#REF!","v":{"$error":"#REF!"}},{"$error":"#REF!"},{"$f":"#REF!","v":{"$error":"#REF!"}},{"$error":"#REF!"},{"$error":"#REF!"},{"$error":"#REF!"}]
[{"$f":"#REF!","v":{"$error":"#REF!"}},{"$f":"#REF!","v":{"$error":"#REF!"}},{"$f":"#REF!","v":{"$error":"#REF!"}},{"$f":"#REF!","v":{"$error":"#REF!"}},{"$f":"#REF!","v":{"$error":"#REF!"}},{"$error":"#REF!"},{"$f":"#REF!","v":{"$error":"#REF!"}},{"$error":"#REF!"},{"$f":"#REF!","v":{"$error":"#REF!"}},{"$error":"#REF!"},{"$f":"#REF!","v":{"$error":"#REF!"}},{"$error":"#REF!"},{"$f":"#REF!","v":{"$error":"#REF!"}},{"$error":"#REF!"},{"$f":"#REF!","v":{"$error":"#REF!"}},{"$error":"#REF!"},{"$f":"#REF!","v":{"$error":"#REF!"}},{"$error":"#REF!"},{"$f":"#REF!","v":{"$error":"#REF!"}},{"$error":"#REF!"},{"$f":"#REF!","v":{"$error":"#REF!"}},{"$error":"#REF!"},{"$f":"#REF!","v":{"$error":"#REF!"}},{"$error":"#REF!"},{"$f":"#REF!","v":{"$error":"#REF!"}},{"$error":"#REF!"},{"$f":"#REF!","v":{"$error":"#REF!"}},{"$error":"#REF!"},{"$error":"#REF!"},{"$error":"#REF!"}]
[{"$f":"#REF!","v":{"$error":"#REF!"}},{"$f":"#REF!","v":{"$error":"#REF!"}},{"$f":"#REF!","v":{"$error":"#REF!"}},{"$f":"#REF!","v":{"$error":"#REF!"}},{"$f":"#REF!","v":{"$error":"#REF!"}},{"$error":"#REF!"},{"$f":"#REF!","v":{"$error":"#REF!"}},{"$error":"#REF!"},{"$f":"#REF!","v":{"$error":"#REF!"}},{"$error":"#REF!"},{"$f":"#REF!","v":{"$error":"#REF!"}},{"$error":"#REF!"},{"$f":"#REF!","v":{"$error":"#REF!"}},{"$error":"#REF!"},{"$f":"#REF!","v":{"$error":"#REF!"}},{"$error":"#REF!"},{"$f":"#REF!","v":{"$error":"#REF!"}},{"$error":"#REF!"},{"$f":"#REF!","v":{"$error":"#REF!"}},{"$error":"#REF!"},{"$f":"#REF!","v":{"$error":"#REF!"}},{"$error":"#REF!"},{"$f":"#REF!","v":{"$error":"#REF!"}},{"$error":"#REF!"},{"$f":"#REF!","v":{"$error":"#REF!"}},{"$error":"#REF!"},{"$f":"#REF!","v":{"$error":"#REF!"}},{"$error":"#REF!"},{"$error":"#REF!"},{"$error":"#REF!"}]
[{"$f":"#REF!","v":{"$error":"#REF!"}},{"$f":"#REF!","v":{"$error":"#REF!"}},{"$f":"#REF!","v":{"$error":"#REF!"}},{"$f":"#REF!","v":{"$error":"#REF!"}},{"$f":"#REF!","v":{"$error":"#REF!"}},{"$error":"#REF!"},{"$f":"#REF!","v":{"$error":"#REF!"}},{"$error":"#REF!"},{"$f":"#REF!","v":{"$error":"#REF!"}},{"$error":"#REF!"},{"$f":"#REF!","v":{"$error":"#REF!"}},{"$error":"#REF!"},{"$f":"#REF!","v":{"$error":"#REF!"}},{"$error":"#REF!"},{"$f":"#REF!","v":{"$error":"#REF!"}},{"$error":"#REF!"},{"$f":"#REF!","v":{"$error":"#REF!"}},{"$error":"#REF!"},{"$f":"#REF!","v":{"$error":"#REF!"}},{"$error":"#REF!"},{"$f":"#REF!","v":{"$error":"#REF!"}},{"$error":"#REF!"},{"$f":"#REF!","v":{"$error":"#REF!"}},{"$error":"#REF!"},{"$f":"#REF!","v":{"$error":"#REF!"}},{"$error":"#REF!"},{"$f":"#REF!","v":{"$error":"#REF!"}},{"$error":"#REF!"},{"$error":"#REF!"},{"$error":"#REF!"}]
[{"$f":"#REF!","v":{"$error":"#REF!"}},{"$f":"#REF!","v":{"$error":"#REF!"}},{"$f":"#REF!","v":{"$error":"#REF!"}},{"$f":"#REF!","v":{"$error":"#REF!"}},{"$f":"#REF!","v":{"$error":"#REF!"}},{"$error":"#REF!"},{"$f":"#REF!","v":{"$error":"#REF!"}},{"$error":"#REF!"},{"$f":"#REF!","v":{"$error":"#REF!"}},{"$error":"#REF!"},{"$f":"#REF!","v":{"$error":"#REF!"}},{"$error":"#REF!"},{"$f":"#REF!","v":{"$error":"#REF!"}},{"$error":"#REF!"},{"$f":"#REF!","v":{"$error":"#REF!"}},{"$error":"#REF!"},{"$f":"#REF!","v":{"$error":"#REF!"}},{"$error":"#REF!"},{"$f":"#REF!","v":{"$error":"#REF!"}},{"$error":"#REF!"},{"$f":"#REF!","v":{"$error":"#REF!"}},{"$error":"#REF!"},{"$f":"#REF!","v":{"$error":"#REF!"}},{"$error":"#REF!"},{"$f":"#REF!","v":{"$error":"#REF!"}},{"$error":"#REF!"},{"$f":"#REF!","v":{"$error":"#REF!"}},{"$error":"#REF!"},{"$error":"#REF!"},{"$error":"#REF!"}]
[{"$f":"#REF!","v":{"$error":"#REF!"}},{"$f":"#REF!","v":{"$error":"#REF!"}},{"$f":"#REF!","v":{"$error":"#REF!"}},{"$f":"#REF!","v":{"$error":"#REF!"}},{"$f":"#REF!","v":{"$error":"#REF!"}},{"$error":"#REF!"},{"$f":"#REF!","v":{"$error":"#REF!"}},{"$error":"#REF!"},{"$f":"#REF!","v":{"$error":"#REF!"}},{"$error":"#REF!"},{"$f":"#REF!","v":{"$error":"#REF!"}},{"$error":"#REF!"},{"$f":"#REF!","v":{"$error":"#REF!"}},{"$error":"#REF!"},{"$f":"#REF!","v":{"$error":"#REF!"}},{"$error":"#REF!"},{"$f":"#REF!","v":{"$error":"#REF!"}},{"$error":"#REF!"},{"$f":"#REF!","v":{"$error":"#REF!"}},{"$error":"#REF!"},{"$f":"#REF!","v":{"$error":"#REF!"}},{"$error":"#REF!"},{"$f":"#REF!","v":{"$error":"#REF!"}},{"$error":"#REF!"},{"$f":"#REF!","v":{"$error":"#REF!"}},{"$error":"#REF!"},{"$f":"#REF!","v":{"$error":"#REF!"}},{"$error":"#REF!"},{"$error":"#REF!"},{"$error":"#REF!"}]
[{"$f":"#REF!","v":{"$error":"#REF!"}},{"$f":"#REF!","v":{"$error":"#REF!"}},{"$f":"#REF!","v":{"$error":"#REF!"}},{"$f":"#REF!","v":{"$error":"#REF!"}},{"$f":"#REF!","v":{"$error":"#REF!"}},{"$error":"#REF!"},{"$f":"#REF!","v":{"$error":"#REF!"}},{"$error":"#REF!"},{"$f":"#REF!","v":{"$error":"#REF!"}},{"$error":"#REF!"},{"$f":"#REF!","v":{"$error":"#REF!"}},{"$error":"#REF!"},{"$f":"#REF!","v":{"$error":"#REF!"}},{"$error":"#REF!"},{"$f":"#REF!","v":{"$error":"#REF!"}},{"$error":"#REF!"},{"$f":"#REF!","v":{"$error":"#REF!"}},{"$error":"#REF!"},{"$f":"#REF!","v":{"$error":"#REF!"}},{"$error":"#REF!"},{"$f":"#REF!","v":{"$error":"#REF!"}},{"$error":"#REF!"},{"$f":"#REF!","v":{"$error":"#REF!"}},{"$error":"#REF!"},{"$f":"#REF!","v":{"$error":"#REF!"}},{"$error":"#REF!"},{"$f":"#REF!","v":{"$error":"#REF!"}},{"$error":"#REF!"},{"$error":"#REF!"},{"$error":"#REF!"}]
[{"$f":"#REF!","v":{"$error":"#REF!"}},{"$f":"#REF!","v":{"$error":"#REF!"}},{"$f":"#REF!","v":{"$error":"#REF!"}},{"$f":"#REF!","v":{"$error":"#REF!"}},{"$f":"#REF!","v":{"$error":"#REF!"}},{"$error":"#REF!"},{"$f":"#REF!","v":{"$error":"#REF!"}},{"$error":"#REF!"},{"$f":"#REF!","v":{"$error":"#REF!"}},{"$error":"#REF!"},{"$f":"#REF!","v":{"$error":"#REF!"}},{"$error":"#REF!"},{"$f":"#REF!","v":{"$error":"#REF!"}},{"$error":"#REF!"},{"$f":"#REF!","v":{"$error":"#REF!"}},{"$error":"#REF!"},{"$f":"#REF!","v":{"$error":"#REF!"}},{"$error":"#REF!"},{"$f":"#REF!","v":{"$error":"#REF!"}},{"$error":"#REF!"},{"$f":"#REF!","v":{"$error":"#REF!"}},{"$error":"#REF!"},{"$f":"#REF!","v":{"$error":"#REF!"}},{"$error":"#REF!"},{"$f":"#REF!","v":{"$error":"#REF!"}},{"$error":"#REF!"},{"$f":"#REF!","v":{"$error":"#REF!"}},{"$error":"#REF!"},{"$error":"#REF!"},{"$error":"#REF!"}]
[{"$f":"#REF!","v":{"$error":"#REF!"}},{"$f":"#REF!","v":{"$error":"#REF!"}},{"$f":"#REF!","v":{"$error":"#REF!"}},{"$f":"#REF!","v":{"$error":"#REF!"}},{"$f":"#REF!","v":{"$error":"#REF!"}},{"$error":"#REF!"},{"$f":"#REF!","v":{"$error":"#REF!"}},{"$error":"#REF!"},{"$f":"#REF!","v":{"$error":"#REF!"}},{"$error":"#REF!"},{"$f":"#REF!","v":{"$error":"#REF!"}},{"$error":"#REF!"},{"$f":"#REF!","v":{"$error":"#REF!"}},{"$error":"#REF!"},{"$f":"#REF!","v":{"$error":"#REF!"}},{"$error":"#REF!"},{"$f":"#REF!","v":{"$error":"#REF!"}},{"$error":"#REF!"},{"$f":"#REF!","v":{"$error":"#REF!"}},{"$error":"#REF!"},{"$f":"#REF!","v":{"$error":"#REF!"}},{"$error":"#REF!"},{"$f":"#REF!","v":{"$error":"#REF!"}},{"$error":"#REF!"},{"$f":"#REF!","v":{"$error":"#REF!"}},{"$error":"#REF!"},{"$f":"#REF!","v":{"$error":"#REF!"}},{"$error":"#REF!"},{"$error":"#REF!"},{"$error":"#REF!"}]
[{"$f":"#REF!","v":{"$error":"#REF!"}},{"$f":"#REF!","v":{"$error":"#REF!"}},{"$f":"#REF!","v":{"$error":"#REF!"}},{"$f":"#REF!","v":{"$error":"#REF!"}},{"$f":"#REF!","v":{"$error":"#REF!"}},{"$error":"#REF!"},{"$f":"#REF!","v":{"$error":"#REF!"}},{"$error":"#REF!"},{"$f":"#REF!","v":{"$error":"#REF!"}},{"$error":"#REF!"},{"$f":"#REF!","v":{"$error":"#REF!"}},{"$error":"#REF!"},{"$f":"#REF!","v":{"$error":"#REF!"}},{"$error":"#REF!"},{"$f":"#REF!","v":{"$error":"#REF!"}},{"$error":"#REF!"},{"$f":"#REF!","v":{"$error":"#REF!"}},{"$error":"#REF!"},{"$f":"#REF!","v":{"$error":"#REF!"}},{"$error":"#REF!"},{"$f":"#REF!","v":{"$error":"#REF!"}},{"$error":"#REF!"},{"$f":"#REF!","v":{"$error":"#REF!"}},{"$error":"#REF!"},{"$f":"#REF!","v":{"$error":"#REF!"}},{"$error":"#REF!"},{"$f":"#REF!","v":{"$error":"#REF!"}},{"$error":"#REF!"},{"$error":"#REF!"},{"$error":"#REF!"}]
[{"$f":"#REF!","v":{"$error":"#REF!"}},{"$f":"#REF!","v":{"$error":"#REF!"}},{"$f":"#REF!","v":{"$error":"#REF!"}},{"$f":"#REF!","v":{"$error":"#REF!"}},{"$f":"#REF!","v":{"$error":"#REF!"}},{"$error":"#REF!"},{"$f":"#REF!","v":{"$error":"#REF!"}},{"$error":"#REF!"},{"$f":"#REF!","v":{"$error":"#REF!"}},{"$error":"#REF!"},{"$f":"#REF!","v":{"$error":"#REF!"}},{"$error":"#REF!"},{"$f":"#REF!","v":{"$error":"#REF!"}},{"$error":"#REF!"},{"$f":"#REF!","v":{"$error":"#REF!"}},{"$error":"#REF!"},{"$f":"#REF!","v":{"$error":"#REF!"}},{"$error":"#REF!"},{"$f":"#REF!","v":{"$error":"#REF!"}},{"$error":"#REF!"},{"$f":"#REF!","v":{"$error":"#REF!"}},{"$error":"#REF!"},{"$f":"#REF!","v":{"$error":"#REF!"}},{"$error":"#REF!"},{"$f":"#REF!","v":{"$error":"#REF!"}},{"$error":"#REF!"},{"$f":"#REF!","v":{"$error":"#REF!"}},{"$error":"#REF!"},{"$error":"#REF!"},{"$error":"#REF!"}]
[{"$f":"#REF!","v":{"$error":"#REF!"}},{"$f":"#REF!","v":{"$error":"#REF!"}},{"$f":"#REF!","v":{"$error":"#REF!"}},{"$f":"#REF!","v":{"$error":"#REF!"}},{"$f":"#REF!","v":{"$error":"#REF!"}},{"$error":"#REF!"},{"$f":"#REF!","v":{"$error":"#REF!"}},{"$error":"#REF!"},{"$f":"#REF!","v":{"$error":"#REF!"}},{"$error":"#REF!"},{"$f":"#REF!","v":{"$error":"#REF!"}},{"$error":"#REF!"},{"$f":"#REF!","v":{"$error":"#REF!"}},{"$error":"#REF!"},{"$f":"#REF!","v":{"$error":"#REF!"}},{"$error":"#REF!"},{"$f":"#REF!","v":{"$error":"#REF!"}},{"$error":"#REF!"},{"$f":"#REF!","v":{"$error":"#REF!"}},{"$error":"#REF!"},{"$f":"#REF!","v":{"$error":"#REF!"}},{"$error":"#REF!"},{"$f":"#REF!","v":{"$error":"#REF!"}},{"$error":"#REF!"},{"$f":"#REF!","v":{"$error":"#REF!"}},{"$error":"#REF!"},{"$f":"#REF!","v":{"$error":"#REF!"}},{"$error":"#REF!"},{"$error":"#REF!"},{"$error":"#REF!"}]
[{"$f":"#REF!","v":{"$error":"#REF!"}},{"$f":"#REF!","v":{"$error":"#REF!"}},{"$f":"#REF!","v":{"$error":"#REF!"}},{"$f":"#REF!","v":{"$error":"#REF!"}},{"$f":"#REF!","v":{"$error":"#REF!"}},{"$error":"#REF!"},{"$f":"#REF!","v":{"$error":"#REF!"}},{"$error":"#REF!"},{"$f":"#REF!","v":{"$error":"#REF!"}},{"$error":"#REF!"},{"$f":"#REF!","v":{"$error":"#REF!"}},{"$error":"#REF!"},{"$f":"#REF!","v":{"$error":"#REF!"}},{"$error":"#REF!"},{"$f":"#REF!","v":{"$error":"#REF!"}},{"$error":"#REF!"},{"$f":"#REF!","v":{"$error":"#REF!"}},{"$error":"#REF!"},{"$f":"#REF!","v":{"$error":"#REF!"}},{"$error":"#REF!"},{"$f":"#REF!","v":{"$error":"#REF!"}},{"$error":"#REF!"},{"$f":"#REF!","v":{"$error":"#REF!"}},{"$error":"#REF!"},{"$f":"#REF!","v":{"$error":"#REF!"}},{"$error":"#REF!"},{"$f":"#REF!","v":{"$error":"#REF!"}},{"$error":"#REF!"},{"$error":"#REF!"},{"$error":"#REF!"}]
[{"$f":"#REF!","v":{"$error":"#REF!"}},{"$f":"#REF!","v":{"$error":"#REF!"}},{"$f":"#REF!","v":{"$error":"#REF!"}},{"$f":"#REF!","v":{"$error":"#REF!"}},{"$f":"#REF!","v":{"$error":"#REF!"}},{"$error":"#REF!"},{"$f":"#REF!","v":{"$error":"#REF!"}},{"$error":"#REF!"},{"$f":"#REF!","v":{"$error":"#REF!"}},{"$error":"#REF!"},{"$f":"#REF!","v":{"$error":"#REF!"}},{"$error":"#REF!"},{"$f":"#REF!","v":{"$error":"#REF!"}},{"$error":"#REF!"},{"$f":"#REF!","v":{"$error":"#REF!"}},{"$error":"#REF!"},{"$f":"#REF!","v":{"$error":"#REF!"}},{"$error":"#REF!"},{"$f":"#REF!","v":{"$error":"#REF!"}},{"$error":"#REF!"},{"$f":"#REF!","v":{"$error":"#REF!"}},{"$error":"#REF!"},{"$f":"#REF!","v":{"$error":"#REF!"}},{"$error":"#REF!"},{"$f":"#REF!","v":{"$error":"#REF!"}},{"$error":"#REF!"},{"$f":"#REF!","v":{"$error":"#REF!"}},{"$error":"#REF!"},{"$error":"#REF!"},{"$error":"#REF!"}]
[{"$f":"#REF!","v":{"$error":"#REF!"}},{"$f":"#REF!","v":{"$error":"#REF!"}},{"$f":"#REF!","v":{"$error":"#REF!"}},{"$f":"#REF!","v":{"$error":"#REF!"}},{"$f":"#REF!","v":{"$error":"#REF!"}},{"$error":"#REF!"},{"$f":"#REF!","v":{"$error":"#REF!"}},{"$error":"#REF!"},{"$f":"#REF!","v":{"$error":"#REF!"}},{"$error":"#REF!"},{"$f":"#REF!","v":{"$error":"#REF!"}},{"$error":"#REF!"},{"$f":"#REF!","v":{"$error":"#REF!"}},{"$error":"#REF!"},{"$f":"#REF!","v":{"$error":"#REF!"}},{"$error":"#REF!"},{"$f":"#REF!","v":{"$error":"#REF!"}},{"$error":"#REF!"},{"$f":"#REF!","v":{"$error":"#REF!"}},{"$error":"#REF!"},{"$f":"#REF!","v":{"$error":"#REF!"}},{"$error":"#REF!"},{"$f":"#REF!","v":{"$error":"#REF!"}},{"$error":"#REF!"},{"$f":"#REF!","v":{"$error":"#REF!"}},{"$error":"#REF!"},{"$f":"#REF!","v":{"$error":"#REF!"}},{"$error":"#REF!"},{"$error":"#REF!"},{"$error":"#REF!"}]
[{"$f":"#REF!","v":{"$error":"#REF!"}},{"$f":"#REF!","v":{"$error":"#REF!"}},{"$f":"#REF!","v":{"$error":"#REF!"}},{"$f":"#REF!","v":{"$error":"#REF!"}},{"$f":"#REF!","v":{"$error":"#REF!"}},{"$error":"#REF!"},{"$f":"#REF!","v":{"$error":"#REF!"}},{"$error":"#REF!"},{"$f":"#REF!","v":{"$error":"#REF!"}},{"$error":"#REF!"},{"$f":"#REF!","v":{"$error":"#REF!"}},{"$error":"#REF!"},{"$f":"#REF!","v":{"$error":"#REF!"}},{"$error":"#REF!"},{"$f":"#REF!","v":{"$error":"#REF!"}},{"$error":"#REF!"},{"$f":"#REF!","v":{"$error":"#REF!"}},{"$error":"#REF!"},{"$f":"#REF!","v":{"$error":"#REF!"}},{"$error":"#REF!"},{"$f":"#REF!","v":{"$error":"#REF!"}},{"$error":"#REF!"},{"$f":"#REF!","v":{"$error":"#REF!"}},{"$error":"#REF!"},{"$f":"#REF!","v":{"$error":"#REF!"}},{"$error":"#REF!"},{"$f":"#REF!","v":{"$error":"#REF!"}},{"$error":"#REF!"},{"$error":"#REF!"},{"$error":"#REF!"}]
[{"$f":"#REF!","v":{"$error":"#REF!"}},{"$f":"#REF!","v":{"$error":"#REF!"}},{"$f":"#REF!","v":{"$error":"#REF!"}},{"$f":"#REF!","v":{"$error":"#REF!"}},{"$f":"#REF!","v":{"$error":"#REF!"}},{"$error":"#REF!"},{"$f":"#REF!","v":{"$error":"#REF!"}},{"$error":"#REF!"},{"$f":"#REF!","v":{"$error":"#REF!"}},{"$error":"#REF!"},{"$f":"#REF!","v":{"$error":"#REF!"}},{"$error":"#REF!"},{"$f":"#REF!","v":{"$error":"#REF!"}},{"$error":"#REF!"},{"$f":"#REF!","v":{"$error":"#REF!"}},{"$error":"#REF!"},{"$f":"#REF!","v":{"$error":"#REF!"}},{"$error":"#REF!"},{"$f":"#REF!","v":{"$error":"#REF!"}},{"$error":"#REF!"},{"$f":"#REF!","v":{"$error":"#REF!"}},{"$error":"#REF!"},{"$f":"#REF!","v":{"$error":"#REF!"}},{"$error":"#REF!"},{"$f":"#REF!","v":{"$error":"#REF!"}},{"$error":"#REF!"},{"$f":"#REF!","v":{"$error":"#REF!"}},{"$error":"#REF!"},{"$error":"#REF!"},{"$error":"#REF!"}]
[{"$f":"#REF!","v":{"$error":"#REF!"}},{"$f":"#REF!","v":{"$error":"#REF!"}},{"$f":"#REF!","v":{"$error":"#REF!"}},{"$f":"#REF!","v":{"$error":"#REF!"}},{"$f":"#REF!","v":{"$error":"#REF!"}},{"$error":"#REF!"},{"$f":"#REF!","v":{"$error":"#REF!"}},{"$error":"#REF!"},{"$f":"#REF!","v":{"$error":"#REF!"}},{"$error":"#REF!"},{"$f":"#REF!","v":{"$error":"#REF!"}},{"$error":"#REF!"},{"$f":"#REF!","v":{"$error":"#REF!"}},{"$error":"#REF!"},{"$f":"#REF!","v":{"$error":"#REF!"}},{"$error":"#REF!"},{"$f":"#REF!","v":{"$error":"#REF!"}},{"$error":"#REF!"},{"$f":"#REF!","v":{"$error":"#REF!"}},{"$error":"#REF!"},{"$f":"#REF!","v":{"$error":"#REF!"}},{"$error":"#REF!"},{"$f":"#REF!","v":{"$error":"#REF!"}},{"$error":"#REF!"},{"$f":"#REF!","v":{"$error":"#REF!"}},{"$error":"#REF!"},{"$f":"#REF!","v":{"$error":"#REF!"}},{"$error":"#REF!"},{"$error":"#REF!"},{"$error":"#REF!"}]
[{"$f":"#REF!","v":{"$error":"#REF!"}},{"$f":"#REF!","v":{"$error":"#REF!"}},{"$f":"#REF!","v":{"$error":"#REF!"}},{"$f":"#REF!","v":{"$error":"#REF!"}},{"$f":"#REF!","v":{"$error":"#REF!"}},{"$error":"#REF!"},{"$f":"#REF!","v":{"$error":"#REF!"}},{"$error":"#REF!"},{"$f":"#REF!","v":{"$error":"#REF!"}},{"$error":"#REF!"},{"$f":"#REF!","v":{"$error":"#REF!"}},{"$error":"#REF!"},{"$f":"#REF!","v":{"$error":"#REF!"}},{"$error":"#REF!"},{"$f":"#REF!","v":{"$error":"#REF!"}},{"$error":"#REF!"},{"$f":"#REF!","v":{"$error":"#REF!"}},{"$error":"#REF!"},{"$f":"#REF!","v":{"$error":"#REF!"}},{"$error":"#REF!"},{"$f":"#REF!","v":{"$error":"#REF!"}},{"$error":"#REF!"},{"$f":"#REF!","v":{"$error":"#REF!"}},{"$error":"#REF!"},{"$f":"#REF!","v":{"$error":"#REF!"}},{"$error":"#REF!"},{"$f":"#REF!","v":{"$error":"#REF!"}},{"$error":"#REF!"},{"$error":"#REF!"},{"$error":"#REF!"}]
[{"$f":"#REF!","v":{"$error":"#REF!"}},{"$f":"#REF!","v":{"$error":"#REF!"}},{"$f":"#REF!","v":{"$error":"#REF!"}},{"$f":"#REF!","v":{"$error":"#REF!"}},{"$f":"#REF!","v":{"$error":"#REF!"}},{"$error":"#REF!"},{"$f":"#REF!","v":{"$error":"#REF!"}},{"$error":"#REF!"},{"$f":"#REF!","v":{"$error":"#REF!"}},{"$error":"#REF!"},{"$f":"#REF!","v":{"$error":"#REF!"}},{"$error":"#REF!"},{"$f":"#REF!","v":{"$error":"#REF!"}},{"$error":"#REF!"},{"$f":"#REF!","v":{"$error":"#REF!"}},{"$error":"#REF!"},{"$f":"#REF!","v":{"$error":"#REF!"}},{"$error":"#REF!"},{"$f":"#REF!","v":{"$error":"#REF!"}},{"$error":"#REF!"},{"$f":"#REF!","v":{"$error":"#REF!"}},{"$error":"#REF!"},{"$f":"#REF!","v":{"$error":"#REF!"}},{"$error":"#REF!"},{"$f":"#REF!","v":{"$error":"#REF!"}},{"$error":"#REF!"},{"$f":"#REF!","v":{"$error":"#REF!"}},{"$error":"#REF!"},{"$error":"#REF!"},{"$error":"#REF!"}]
[{"$f":"#REF!","v":{"$error":"#REF!"}},{"$f":"#REF!","v":{"$error":"#REF!"}},{"$f":"#REF!","v":{"$error":"#REF!"}},{"$f":"#REF!","v":{"$error":"#REF!"}},{"$f":"#REF!","v":{"$error":"#REF!"}},{"$error":"#REF!"},{"$f":"#REF!","v":{"$error":"#REF!"}},{"$error":"#REF!"},{"$f":"#REF!","v":{"$error":"#REF!"}},{"$error":"#REF!"},{"$f":"#REF!","v":{"$error":"#REF!"}},{"$error":"#REF!"},{"$f":"#REF!","v":{"$error":"#REF!"}},{"$error":"#REF!"},{"$f":"#REF!","v":{"$error":"#REF!"}},{"$error":"#REF!"},{"$f":"#REF!","v":{"$error":"#REF!"}},{"$error":"#REF!"},{"$f":"#REF!","v":{"$error":"#REF!"}},{"$error":"#REF!"},{"$f":"#REF!","v":{"$error":"#REF!"}},{"$error":"#REF!"},{"$f":"#REF!","v":{"$error":"#REF!"}},{"$error":"#REF!"},{"$f":"#REF!","v":{"$error":"#REF!"}},{"$error":"#REF!"},{"$f":"#REF!","v":{"$error":"#REF!"}},{"$error":"#REF!"},{"$error":"#REF!"},{"$error":"#REF!"}]
[{"$f":"#REF!","v":{"$error":"#REF!"}},{"$f":"#REF!","v":{"$error":"#REF!"}},{"$f":"#REF!","v":{"$error":"#REF!"}},{"$f":"#REF!","v":{"$error":"#REF!"}},{"$f":"#REF!","v":{"$error":"#REF!"}},{"$error":"#REF!"},{"$f":"#REF!","v":{"$error":"#REF!"}},{"$error":"#REF!"},{"$f":"#REF!","v":{"$error":"#REF!"}},{"$error":"#REF!"},{"$f":"#REF!","v":{"$error":"#REF!"}},{"$error":"#REF!"},{"$f":"#REF!","v":{"$error":"#REF!"}},{"$error":"#REF!"},{"$f":"#REF!","v":{"$error":"#REF!"}},{"$error":"#REF!"},{"$f":"#REF!","v":{"$error":"#REF!"}},{"$error":"#REF!"},{"$f":"#REF!","v":{"$error":"#REF!"}},{"$error":"#REF!"},{"$f":"#REF!","v":{"$error":"#REF!"}},{"$error":"#REF!"},{"$f":"#REF!","v":{"$error":"#REF!"}},{"$error":"#REF!"},{"$f":"#REF!","v":{"$error":"#REF!"}},{"$error":"#REF!"},{"$f":"#REF!","v":{"$error":"#REF!"}},{"$error":"#REF!"},{"$error":"#REF!"},{"$error":"#REF!"}]
[{"$f":"#REF!","v":{"$error":"#REF!"}},{"$f":"#REF!","v":{"$error":"#REF!"}},{"$f":"#REF!","v":{"$error":"#REF!"}},{"$f":"#REF!","v":{"$error":"#REF!"}},{"$f":"#REF!","v":{"$error":"#REF!"}},{"$error":"#REF!"},{"$f":"#REF!","v":{"$error":"#REF!"}},{"$error":"#REF!"},{"$f":"#REF!","v":{"$error":"#REF!"}},{"$error":"#REF!"},{"$f":"#REF!","v":{"$error":"#REF!"}},{"$error":"#REF!"},{"$f":"#REF!","v":{"$error":"#REF!"}},{"$error":"#REF!"},{"$f":"#REF!","v":{"$error":"#REF!"}},{"$error":"#REF!"},{"$f":"#REF!","v":{"$error":"#REF!"}},{"$error":"#REF!"},{"$f":"#REF!","v":{"$error":"#REF!"}},{"$error":"#REF!"},{"$f":"#REF!","v":{"$error":"#REF!"}},{"$error":"#REF!"},{"$f":"#REF!","v":{"$error":"#REF!"}},{"$error":"#REF!"},{"$f":"#REF!","v":{"$error":"#REF!"}},{"$error":"#REF!"},{"$f":"#REF!","v":{"$error":"#REF!"}},{"$error":"#REF!"},{"$error":"#REF!"},{"$error":"#REF!"}]
[{"$f":"#REF!","v":{"$error":"#REF!"}},{"$f":"#REF!","v":{"$error":"#REF!"}},{"$f":"#REF!","v":{"$error":"#REF!"}},{"$f":"#REF!","v":{"$error":"#REF!"}},{"$f":"#REF!","v":{"$error":"#REF!"}},{"$error":"#REF!"},{"$f":"#REF!","v":{"$error":"#REF!"}},{"$error":"#REF!"},{"$f":"#REF!","v":{"$error":"#REF!"}},{"$error":"#REF!"},{"$f":"#REF!","v":{"$error":"#REF!"}},{"$error":"#REF!"},{"$f":"#REF!","v":{"$error":"#REF!"}},{"$error":"#REF!"},{"$f":"#REF!","v":{"$error":"#REF!"}},{"$error":"#REF!"},{"$f":"#REF!","v":{"$error":"#REF!"}},{"$error":"#REF!"},{"$f":"#REF!","v":{"$error":"#REF!"}},{"$error":"#REF!"},{"$f":"#REF!","v":{"$error":"#REF!"}},{"$error":"#REF!"},{"$f":"#REF!","v":{"$error":"#REF!"}},{"$error":"#REF!"},{"$f":"#REF!","v":{"$error":"#REF!"}},{"$error":"#REF!"},{"$f":"#REF!","v":{"$error":"#REF!"}},{"$error":"#REF!"},{"$error":"#REF!"},{"$error":"#REF!"}]
[{"$f":"#REF!","v":{"$error":"#REF!"}},{"$f":"#REF!","v":{"$error":"#REF!"}},{"$f":"#REF!","v":{"$error":"#REF!"}},{"$f":"#REF!","v":{"$error":"#REF!"}},{"$f":"#REF!","v":{"$error":"#REF!"}},{"$error":"#REF!"},{"$f":"#REF!","v":{"$error":"#REF!"}},{"$error":"#REF!"},{"$f":"#REF!","v":{"$error":"#REF!"}},{"$error":"#REF!"},{"$f":"#REF!","v":{"$error":"#REF!"}},{"$error":"#REF!"},{"$f":"#REF!","v":{"$error":"#REF!"}},{"$error":"#REF!"},{"$f":"#REF!","v":{"$error":"#REF!"}},{"$error":"#REF!"},{"$f":"#REF!","v":{"$error":"#REF!"}},{"$error":"#REF!"},{"$f":"#REF!","v":{"$error":"#REF!"}},{"$error":"#REF!"},{"$f":"#REF!","v":{"$error":"#REF!"}},{"$error":"#REF!"},{"$f":"#REF!","v":{"$error":"#REF!"}},{"$error":"#REF!"},{"$f":"#REF!","v":{"$error":"#REF!"}},{"$error":"#REF!"},{"$f":"#REF!","v":{"$error":"#REF!"}},{"$error":"#REF!"},{"$error":"#REF!"},{"$error":"#REF!"}]
[{"$f":"#REF!","v":{"$error":"#REF!"}},{"$f":"#REF!","v":{"$error":"#REF!"}},{"$f":"#REF!","v":{"$error":"#REF!"}},{"$f":"#REF!","v":{"$error":"#REF!"}},{"$f":"#REF!","v":{"$error":"#REF!"}},{"$error":"#REF!"},{"$f":"#REF!","v":{"$error":"#REF!"}},{"$error":"#REF!"},{"$f":"#REF!","v":{"$error":"#REF!"}},{"$error":"#REF!"},{"$f":"#REF!","v":{"$error":"#REF!"}},{"$error":"#REF!"},{"$f":"#REF!","v":{"$error":"#REF!"}},{"$error":"#REF!"},{"$f":"#REF!","v":{"$error":"#REF!"}},{"$error":"#REF!"},{"$f":"#REF!","v":{"$error":"#REF!"}},{"$error":"#REF!"},{"$f":"#REF!","v":{"$error":"#REF!"}},{"$error":"#REF!"},{"$f":"#REF!","v":{"$error":"#REF!"}},{"$error":"#REF!"},{"$f":"#REF!","v":{"$error":"#REF!"}},{"$error":"#REF!"},{"$f":"#REF!","v":{"$error":"#REF!"}},{"$error":"#REF!"},{"$f":"#REF!","v":{"$error":"#REF!"}},{"$error":"#REF!"},{"$error":"#REF!"},{"$error":"#REF!"}]

{"sheet":"действие контроля май","index":7,"n_rows":33,"n_cols":30,"rows_kept":33,"hidden":true,"merged":[[0,0,0,29],[1,4,1,15],[1,16,1,27],[2,4,2,5],[2,6,2,7],[2,8,2,9],[2,10,2,11],[2,12,2,13],[2,14,2,15],[2,16,2,17],[2,18,2,19],[2,20,2,21],[2,22,2,23],[2,24,2,25],[2,26,2,27]]}
[{"$f":"#REF!","v":{"$error":"#REF!"}}]
[{"$nulls":4},"часть А",{"$nulls":11},"чсть Б"]
[{"$f":"#REF!","v":{"$error":"#REF!"}},{"$f":"#REF!","v":{"$error":"#REF!"}},{"$f":"#REF!","v":{"$error":"#REF!"}},{"$f":"#REF!","v":{"$error":"#REF!"}},29,null,30,null,31,null,32,null,33,null,34,null,29,null,30,null,31,null,32,null,33,null,34]
[{"$f":"#REF!","v":{"$error":"#REF!"}},{"$f":"IF(#REF!=\"\",\"\",#REF!)","v":{"$error":"#REF!"}},{"$f":"IF(#REF!=\"\",\"\",#REF!)","v":{"$error":"#REF!"}},{"$f":"IF(#REF!=\"\",\"\",#REF!)","v":{"$error":"#REF!"}},{"$f":"#REF!","v":{"$error":"#REF!"}},{"$f":"IF(E4=0,\"\",IF(E4=\"а\",1,2))","v":{"$error":"#REF!"}},{"$f":"#REF!","v":{"$error":"#REF!"}},{"$f":"IF(G4=0,\"\",IF(G4=\"а\",1,2))","v":{"$error":"#REF!"}},{"$f":"#REF!","v":{"$error":"#REF!"}},{"$f":"IF(I4=0,\"\",IF(I4=\"а\",2,3))","v":{"$error":"#REF!"}},{"$f":"#REF!","v":{"$error":"#REF!"}},{"$f":"IF(K4=0,\"\",IF(K4=\"а\",2,3))","v":{"$error":"#REF!"}},{"$f":"#REF!","v":{"$error":"#REF!"}},{"$f":"IF(M4=0,\"\",IF(M4=\"а\",4,IF(M4=\"б\",5,6)))","v":{"$error":"#REF!"}},{"$f":"#REF!","v":{"$error":"#REF!"}},{"$f":"IF(O4=0,\"\",IF(O4=\"а\",4,5))","v":{"$error":"#REF!"}},{"$f":"#REF!","v":{"$error":"#REF!"}},{"$f":"IF(Q4=0,\"\",IF(Q4=\"а\",1,2))","v":{"$error":"#REF!"}},{"$f":"#REF!","v":{"$error":"#REF!"}},{"$f":"IF(S4=0,\"\",IF(S4=\"а\",1,2))","v":{"$error":"#REF!"}},{"$f":"#REF!","v":{"$error":"#REF!"}},{"$f":"IF(U4=0,\"\",IF(U4=\"а\",2,3))","v":{"$error":"#REF!"}},{"$f":"#REF!","v":{"$error":"#REF!"}},{"$f":"IF(W4=0,\"\",IF(W4=\"а\",2,3))","v":{"$error":"#REF!"}},{"$f":"#REF!","v":{"$error":"#REF!"}},{"$f":"IF(Y4=0,\"\",IF(Y4=\"а\",4,5))","v":{"$error":"#REF!"}},{"$f":"#REF!","v":{"$error":"#REF!"}},{"$f":"IF(AA4=0,\"\",IF(AA4=\"а\",4,IF(AA4=\"б\",5,6)))","v":{"$error":"#REF!"}},{"$f":"IF(SUM(F4:AB4)=0,\"\",SUM(F4:AB4))","v":{"$error":"#REF!"}},{"$f":"IF(AC4=\"\",\"\",IF(AC4>=49,\"6 уровень\",IF(AND(AC4>=31,AC4<49),\"5 уровень\",IF(AND(AC4>=26,AC4<31),\"4 уровень\",IF(AND(AC4>=18,AC4<26),\"3 уровень\",IF(AND(AC4>=4,AC4<18),\"2 уровень;\"\"1уровень\"))))))","v":{"$error":"#REF!"}}]
[{"$f":"#REF!","v":{"$error":"#REF!"}},{"$f":"IF(#REF!=\"\",\"\",#REF!)","v":{"$error":"#REF!"}},{"$f":"IF(#REF!=\"\",\"\",#REF!)","v":{"$error":"#REF!"}},{"$f":"IF(#REF!=\"\",\"\",#REF!)","v":{"$error":"#REF!"}},{"$f":"#REF!","v":{"$error":"#REF!"}},{"$f":"IF(E5=0,\"\",IF(E5=\"а\",1,2))","v":{"$error":"#REF!"}},{"$f":"#REF!","v":{"$error":"#REF!"}},{"$f":"IF(G5=0,\"\",IF(G5=\"а\",1,2))","v":{"$error":"#REF!"}},{"$f":"#REF!","v":{"$error":"#REF!"}},{"$f":"IF(I5=0,\"\",IF(I5=\"а\",2,3))","v":{"$error":"#REF!"}},{"$f":"#REF!","v":{"$error":"#REF!"}},{"$f":"IF(K5=0,\"\",IF(K5=\"а\",2,3))","v":{"$error":"#REF!"}},{"$f":"#REF!","v":{"$error":"#REF!"}},{"$f":"IF(M5=0,\"\",IF(M5=\"а\",4,IF(M5=\"б\",5,6)))","v":{"$error":"#REF!"}},{"$f":"#REF!","v":{"$error":"#REF!"}},{"$f":"IF(O5=0,\"\",IF(O5=\"а\",4,5))","v":{"$error":"#REF!"}},{"$f":"#REF!","v":{"$error":"#REF!"}},{"$f":"IF(Q5=0,\"\",IF(Q5=\"а\",1,2))","v":{"$error":"#REF!"}},{"$f":"#REF!","v":{"$error":"#REF!"}},{"$f":"IF(S5=0,\"\",IF(S5=\"а\",1,2))","v":{"$error":"#REF!"}},{"$f":"#REF!","v":{"$error":"#REF!"}},{"$f":"IF(U5=0,\"\",IF(U5=\"а\",2,3))","v":{"$error":"#REF!"}},{"$f":"#REF!","v":{"$error":"#REF!"}},{"$f":"IF(W5=0,\"\",IF(W5=\"а\",2,3))","v":{"$error":"#REF!"}},{"$f":"#REF!","v":{"$error":"#REF!"}},{"$f":"IF(Y5=0,\"\",IF(Y5=\"а\",4,5))","v":{"$error":"#REF!"}},{"$f":"#REF!","v":{"$error":"#REF!"}},{"$f":"IF(AA5=0,\"\",IF(AA5=\"а\",4,IF(AA5=\"б\",5,6)))","v":{"$error":"#REF!"}},{"$f":"IF(SUM(F5:AB5)=0,\"\",SUM(F5:AB5))","v":{"$error":"#REF!"}},{"$f":"IF(AC5=\"\",\"\",IF(AC5>=49,\"6 уровень\",IF(AND(AC5>=31,AC5<49),\"5 уровень\",IF(AND(AC5>=26,AC5<31),\"4 уровень\",IF(AND(AC5>=18,AC5<26),\"3 уровень\",IF(AND(AC5>=4,AC5<18),\"2 уровень;\"\"1уровень\"))))))","v":{"$error":"#REF!"}}]
[{"$f":"#REF!","v":{"$error":"#REF!"}},{"$f":"IF(#REF!=\"\",\"\",#REF!)","v":{"$error":"#REF!"}},{"$f":"IF(#REF!=\"\",\"\",#REF!)","v":{"$error":"#REF!"}},{"$f":"IF(#REF!=\"\",\"\",#REF!)","v":{"$error":"#REF!"}},{"$f":"#REF!","v":{"$error":"#REF!"}},{"$error":"#REF!"},{"$f":"#REF!","v":{"$error":"#REF!"}},{"$error":"#REF!"},{"$f":"#REF!","v":{"$error":"#REF!"}},{"$error":"#REF!"},{"$f":"#REF!","v":{"$error":"#REF!"}},{"$error":"#REF!"},{"$f":"#REF!","v":{"$error":"#REF!"}},{"$error":"#REF!"},{"$f":"#REF!","v":{"$error":"#REF!"}},{"$error":"#REF!"},{"$f":"#REF!","v":{"$error":"#REF!"}},{"$error":"#REF!"},{"$f":"#REF!","v":{"$error":"#REF!"}},{"$error":"#REF!"},{"$f":"#REF!","v":{"$error":"#REF!"}},{"$error":"#REF!"},{"$f":"#REF!","v":{"$error":"#REF!"}},{"$error":"#REF!"},{"$f":"#REF!","v":{"$error":"#REF!"}},{"$error":"#REF!"},{"$f":"#REF!","v":{"$error":"#REF!"}},{"$error":"#REF!"},{"$error":"#REF!"},{"$f":"IF(AC6=\"\",\"\",IF(AC6>=49,\"6 уровень\",IF(AND(AC6>=31,AC6<49),\"5 уровень\",IF(AND(AC6>=26,AC6<31),\"4 уровень\",IF(AND(AC6>=18,AC6<26),\"3 уровень\",IF(AND(AC6>=4,AC6<18),\"2 уровень;\"\"1уровень\"))))))","v":{"$error":"#REF!"}}]
[{"$f":"#REF!","v":{"$error":"#REF!"}},{"$f":"IF(#REF!=\"\",\"\",#REF!)","v":{"$error":"#REF!"}},{"$f":"IF(#REF!=\"\",\"\",#REF!)","v":{"$error":"#REF!"}},{"$f":"IF(#REF!=\"\",\"\",#REF!)","v":{"$error":"#REF!"}},{"$f":"#REF!","v":{"$error":"#REF!"}},{"$error":"#REF!"},{"$f":"#REF!","v":{"$error":"#REF!"}},{"$error":"#REF!"},{"$f":"#REF!","v":{"$error":"#REF!"}},{"$error":"#REF!"},{"$f":"#REF!","v":{"$error":"#REF!"}},{"$error":"#REF!"},{"$f":"#REF!","v":{"$error":"#REF!"}},{"$error":"#REF!"},{"$f":"#REF!","v":{"$error":"#REF!"}},{"$error":"#REF!"},{"$f":"#REF!","v":{"$error":"#REF!"}},{"$error":"#REF!"},{"$f":"#REF!","v":{"$error":"#REF!"}},{"$error":"#REF!"},{"$f":"#REF!","v":{"$error":"#REF!"}},{"$error":"#REF!"},{"$f":"#REF!","v":{"$error":"#REF!"}},{"$error":"#REF!"},{"$f":"#REF!","v":{"$error":"#REF!"}},{"$error":"#REF!"},{"$f":"#REF!","v":{"$error":"#REF!"}},{"$error":"#REF!"},{"$error":"#REF!"},{"$error":"#REF!"}]
[{"$f":"#REF!","v":{"$error":"#REF!"}},{"$f":"IF(#REF!=\"\",\"\",#REF!)","v":{"$error":"#REF!"}},{"$f":"IF(#REF!=\"\",\"\",#REF!)","v":{"$error":"#REF!"}},{"$f":"IF(#REF!=\"\",\"\",#REF!)","v":{"$error":"#REF!"}},{"$f":"#REF!","v":{"$error":"#REF!"}},{"$error":"#REF!"},{"$f":"#REF!","v":{"$error":"#REF!"}},{"$error":"#REF!"},{"$f":"#REF!","v":{"$error":"#REF!"}},{"$error":"#REF!"},{"$f":"#REF!","v":{"$error":"#REF!"}},{"$error":"#REF!"},{"$f":"#REF!","v":{"$error":"#REF!"}},{"$error":"#REF!"},{"$f":"#REF!","v":{"$error":"#REF!"}},{"$error":"#REF!"},{"$f":"#REF!","v":{"$error":"#REF!"}},{"$error":"#REF!"},{"$f":"#REF!","v":{"$error":"#REF!"}},{"$error":"#REF!"},{"$f":"#REF!","v":{"$error":"#REF!"}},{"$error":"#REF!"},{"$f":"#REF!","v":{"$error":"#REF!"}},{"$error":"#REF!"},{"$f":"#REF!","v":{"$error":"#REF!"}},{"$error":"#REF!"},{"$f":"#REF!","v":{"$error":"#REF!"}},{"$error":"#REF!"},{"$error":"#REF!"},{"$error":"#REF!"}]
[{"$f":"#REF!","v":{"$error":"#REF!"}},{"$f":"IF(#REF!=\"\",\"\",#REF!)","v":{"$error":"#REF!"}},{"$f":"IF(#REF!=\"\",\"\",#REF!)","v":{"$error":"#REF!"}},{"$f":"IF(#REF!=\"\",\"\",#REF!)","v":{"$error":"#REF!"}},{"$f":"#REF!","v":{"$error":"#REF!"}},{"$error":"#REF!"},{"$f":"#REF!","v":{"$error":"#REF!"}},{"$error":"#REF!"},{"$f":"#REF!","v":{"$error":"#REF!"}},{"$error":"#REF!"},{"$f":"#REF!","v":{"$error":"#REF!"}},{"$error":"#REF!"},{"$f":"#REF!","v":{"$error":"#REF!"}},{"$error":"#REF!"},{"$f":"#REF!","v":{"$error":"#REF!"}},{"$error":"#REF!"},{"$f":"#REF!","v":{"$error":"#REF!"}},{"$error":"#REF!"},{"$f":"#REF!","v":{"$error":"#REF!"}},{"$error":"#REF!"},{"$f":"#REF!","v":{"$error":"#REF!"}},{"$error":"#REF!"},{"$f":"#REF!","v":{"$error":"#REF!"}},{"$error":"#REF!"},{"$f":"#REF!","v":{"$error":"#REF!"}},{"$error":"#REF!"},{"$f":"#REF!","v":{"$error":"#REF!"}},{"$error":"#REF!"},{"$error":"#REF!"},{"$error":"#REF!"}]
[{"$f":"#REF!","v":{"$error":"#REF!"}},{"$f":"IF(#REF!=\"\",\"\",#REF!)","v":{"$error":"#REF!"}},{"$f":"IF(#REF!=\"\",\"\",#REF!)","v":{"$error":"#REF!"}},{"$f":"IF(#REF!=\"\",\"\",#REF!)","v":{"$error":"#REF!"}},{"$f":"#REF!","v":{"$error":"#REF!"}},{"$error":"#REF!"},{"$f":"#REF!","v":{"$error":"#REF!"}},{"$error":"#REF!"},{"$f":"#REF!","v":{"$error":"#REF!"}},{"$error":"#REF!"},{"$f":"#REF!","v":{"$error":"#REF!"}},{"$error":"#REF!"},{"$f":"#REF!","v":{"$error":"#REF!"}},{"$error":"#REF!"},{"$f":"#REF!","v":{"$error":"#REF!"}},{"$error":"#REF!"},{"$f":"#REF!","v":{"$error":"#REF!"}},{"$error":"#REF!"},{"$f":"#REF!","v":{"$error":"#REF!"}},{"$error":"#REF!"},{"$f":"#REF!","v":{"$error":"#REF!"}},{"$error":"#REF!"},{"$f":"#REF!","v":{"$error":"#REF!"}},{"$error":"#REF!"},{"$f":"#REF!","v":{"$error":"#REF!"}},{"$error":"#REF!"},{"$f":"#REF!","v":{"$error":"#REF!"}},{"$error":"#REF!"},{"$error":"#REF!"},{"$error":"#REF!"}]
[{"$f":"#REF!","v":{"$error":"#REF!"}},{"$f":"IF(#REF!=\"\",\"\",#REF!)","v":{"$error":"#REF!"}},{"$f":"IF(#REF!=\"\",\"\",#REF!)","v":{"$error":"#REF!"}},{"$f":"IF(#REF!=\"\",\"\",#REF!)","v":{"$error":"#REF!"}},{"$f":"#REF!","v":{"$error":"#REF!"}},{"$error":"#REF!"},{"$f":"#REF!","v":{"$error":"#REF!"}},{"$error":"#REF!"},{"$f":"#REF!","v":{"$error":"#REF!"}},{"$error":"#REF!"},{"$f":"#REF!","v":{"$error":"#REF!"}},{"$error":"#REF!"},{"$f":"#REF!","v":{"$error":"#REF!"}},{"$error":"#REF!"},{"$f":"#REF!","v":{"$error":"#REF!"}},{"$error":"#REF!"},{"$f":"#REF!","v":{"$error":"#REF!"}},{"$error":"#REF!"},{"$f":"#REF!","v":{"$error":"#REF!"}},{"$error":"#REF!"},{"$f":"#REF!","v":{"$error":"#REF!"}},{"$error":"#REF!"},{"$f":"#REF!","v":{"$error":"#REF!"}},{"$error":"#REF!"},{"$f":"#REF!","v":{"$error":"#REF!"}},{"$error":"#REF!"},{"$f":"#REF!","v":{"$error":"#REF!"}},{"$error":"#REF!"},{"$error":"#REF!"},{"$error":"#REF!"}]
[{"$f":"#REF!","v":{"$error":"#REF!"}},{"$f":"IF(#REF!=\"\",\"\",#REF!)","v":{"$error":"#REF!"}},{"$f":"IF(#REF!=\"\",\"\",#REF!)","v":{"$error":"#REF!"}},{"$f":"IF(#REF!=\"\",\"\",#REF!)","v":{"$error":"#REF!"}},{"$f":"#REF!","v":{"$error":"#REF!"}},{"$error":"#REF!"},{"$f":"#REF!","v":{"$error":"#REF!"}},{"$error":"#REF!"},{"$f":"#REF!","v":{"$error":"#REF!"}},{"$error":"#REF!"},{"$f":"#REF!","v":{"$error":"#REF!"}},{"$error":"#REF!"},{"$f":"#REF!","v":{"$error":"#REF!"}},{"$error":"#REF!"},{"$f":"#REF!","v":{"$error":"#REF!"}},{"$error":"#REF!"},{"$f":"#REF!","v":{"$error":"#REF!"}},{"$error":"#REF!"},{"$f":"#REF!","v":{"$error":"#REF!"}},{"$error":"#REF!"},{"$f":"#REF!","v":{"$error":"#REF!"}},{"$error":"#REF!"},{"$f":"#REF!","v":{"$error":"#REF!"}},{"$error":"#REF!"},{"$f":"#REF!","v":{"$error":"#REF!"}},{"$error":"#REF!"},{"$f":"#REF!","v":{"$error":"#REF!"}},{"$error":"#REF!"},{"$error":"#REF!"},{"$error":"#REF!"}]
[{"$f":"#REF!","v":{"$error":"#REF!"}},{"$f":"IF(#REF!=\"\",\"\",#REF!)","v":{"$error":"#REF!"}},{"$f":"IF(#REF!=\"\",\"\",#REF!)","v":{"$error":"#REF!"}},{"$f":"IF(#REF!=\"\",\"\",#REF!)","v":{"$error":"#REF!"}},{"$f":"#REF!","v":{"$error":"#REF!"}},{"$error":"#REF!"},{"$f":"#REF!","v":{"$error":"#REF!"}},{"$error":"#REF!"},{"$f":"#REF!","v":{"$error":"#REF!"}},{"$error":"#REF!"},{"$f":"#REF!","v":{"$error":"#REF!"}},{"$error":"#REF!"},{"$f":"#REF!","v":{"$error":"#REF!"}},{"$error":"#REF!"},{"$f":"#REF!","v":{"$error":"#REF!"}},{"$error":"#REF!"},{"$f":"#REF!","v":{"$error":"#REF!"}},{"$error":"#REF!"},{"$f":"#REF!","v":{"$error":"#REF!"}},{"$error":"#REF!"},{"$f":"#REF!","v":{"$error":"#REF!"}},{"$error":"#REF!"},{"$f":"#REF!","v":{"$error":"#REF!"}},{"$error":"#REF!"},{"$f":"#REF!","v":{"$error":"#REF!"}},{"$error":"#REF!"},{"$f":"#REF!","v":{"$error":"#REF!"}},{"$error":"#REF!"},{"$error":"#REF!"},{"$error":"#REF!"}]
[{"$f":"#REF!","v":{"$error":"#REF!"}},{"$f":"IF(#REF!=\"\",\"\",#REF!)","v":{"$error":"#REF!"}},{"$f":"IF(#REF!=\"\",\"\",#REF!)","v":{"$error":"#REF!"}},{"$f":"IF(#REF!=\"\",\"\",#REF!)","v":{"$error":"#REF!"}},{"$f":"#REF!","v":{"$error":"#REF!"}},{"$error":"#REF!"},{"$f":"#REF!","v":{"$error":"#REF!"}},{"$error":"#REF!"},{"$f":"#REF!","v":{"$error":"#REF!"}},{"$error":"#REF!"},{"$f":"#REF!","v":{"$error":"#REF!"}},{"$error":"#REF!"},{"$f":"#REF!","v":{"$error":"#REF!"}},{"$error":"#REF!"},{"$f":"#REF!","v":{"$error":"#REF!"}},{"$error":"#REF!"},{"$f":"#REF!","v":{"$error":"#REF!"}},{"$error":"#REF!"},{"$f":"#REF!","v":{"$error":"#REF!"}},{"$error":"#REF!"},{"$f":"#REF!","v":{"$error":"#REF!"}},{"$error":"#REF!"},{"$f":"#REF!","v":{"$error":"#REF!"}},{"$error":"#REF!"},{"$f":"#REF!","v":{"$error":"#REF!"}},{"$error":"#REF!"},{"$f":"#REF!","v":{"$error":"#REF!"}},{"$error":"#REF!"},{"$error":"#REF!"},{"$error":"#REF!"}]
[{"$f":"#REF!","v":{"$error":"#REF!"}},{"$f":"IF(#REF!=\"\",\"\",#REF!)","v":{"$error":"#REF!"}},{"$f":"IF(#REF!=\"\",\"\",#REF!)","v":{"$error":"#REF!"}},{"$f":"IF(#REF!=\"\",\"\",#REF!)","v":{"$error":"#REF!"}},{"$f":"#REF!","v":{"$error":"#REF!"}},{"$error":"#REF!"},{"$f":"#REF!","v":{"$error":"#REF!"}},{"$error":"#REF!"},{"$f":"#REF!","v":{"$error":"#REF!"}},{"$error":"#REF!"},{"$f":"#REF!","v":{"$error":"#REF!"}},{"$error":"#REF!"},{"$f":"#REF!","v":{"$error":"#REF!"}},{"$error":"#REF!"},{"$f":"#REF!","v":{"$error":"#REF!"}},{"$error":"#REF!"},{"$f":"#REF!","v":{"$error":"#REF!"}},{"$error":"#REF!"},{"$f":"#REF!","v":{"$error":"#REF!"}},{"$error":"#REF!"},{"$f":"#REF!","v":{"$error":"#REF!"}},{"$error":"#REF!"},{"$f":"#REF!","v":{"$error":"#REF!"}},{"$error":"#REF!"},{"$f":"#REF!","v":{"$error":"#REF!"}},{"$error":"#REF!"},{"$f":"#REF!","v":{"$error":"#REF!"}},{"$error":"#REF!"},{"$error":"#REF!"},{"$error":"#REF!"}]
[{"$f":"#REF!","v":{"$error":"#REF!"}},{"$f":"IF(#REF!=\"\",\"\",#REF!)","v":{"$error":"#REF!"}},{"$f":"IF(#REF!=\"\",\"\",#REF!)","v":{"$error":"#REF!"}},{"$f":"IF(#REF!=\"\",\"\",#REF!)","v":{"$error":"#REF!"}},{"$f":"#REF!","v":{"$error":"#REF!"}},{"$error":"#REF!"},{"$f":"#REF!","v":{"$error":"#REF!"}},{"$error":"#REF!"},{"$f":"#REF!","v":{"$error":"#REF!"}},{"$error":"#REF!"},{"$f":"#REF!","v":{"$error":"#REF!"}},{"$error":"#REF!"},{"$f":"#REF!","v":{"$error":"#REF!"}},{"$error":"#REF!"},{"$f":"#REF!","v":{"$error":"#REF!"}},{"$error":"#REF!"},{"$f":"#REF!","v":{"$error":"#REF!"}},{"$error":"#REF!"},{"$f":"#REF!","v":{"$error":"#REF!"}},{"$error":"#REF!"},{"$f":"#REF!","v":{"$error":"#REF!"}},{"$error":"#REF!"},{"$f":"#REF!","v":{"$error":"#REF!"}},{"$error":"#REF!"},{"$f":"#REF!","v":{"$error":"#REF!"}},{"$error":"#REF!"},{"$f":"#REF!","v":{"$error":"#REF!"}},{"$error":"#REF!"},{"$error":"#REF!"},{"$error":"#REF!"}]
[{"$f":"#REF!","v":{"$error":"#REF!"}},{"$f":"IF(#REF!=\"\",\"\",#REF!)","v":{"$error":"#REF!"}},{"$f":"IF(#REF!=\"\",\"\",#REF!)","v":{"$error":"#REF!"}},{"$f":"IF(#REF!=\"\",\"\",#REF!)","v":{"$error":"#REF!"}},{"$f":"#REF!","v":{"$error":"#REF!"}},{"$error":"#REF!"},{"$f":"#REF!","v":{"$error":"#REF!"}},{"$error":"#REF!"},{"$f":"#REF!","v":{"$error":"#REF!"}},{"$error":"#REF!"},{"$f":"#REF!","v":{"$error":"#REF!"}},{"$error":"#REF!"},{"$f":"#REF!","v":{"$error":"#REF!"}},{"$error":"#REF!"},{"$f":"#REF!","v":{"$error":"#REF!"}},{"$error":"#REF!"},{"$f":"#REF!","v":{"$error":"#REF!"}},{"$error":"#REF!"},{"$f":"#REF!","v":{"$error":"#REF!"}},{"$error":"#REF!"},{"$f":"#REF!","v":{"$error":"#REF!"}},{"$error":"#REF!"},{"$f":"#REF!","v":{"$error":"#REF!"}},{"$error":"#REF!"},{"$f":"#REF!","v":{"$error":"#REF!"}},{"$error":"#REF!"},{"$f":"#REF!","v":{"$error":"#REF!"}},{"$error":"#REF!"},{"$error":"#REF!"},{"$error":"#REF!"}]
[{"$f":"#REF!","v":{"$error":"#REF!"}},{"$f":"IF(#REF!=\"\",\"\",#REF!)","v":{"$error":"#REF!"}},{"$f":"IF(#REF!=\"\",\"\",#REF!)","v":{"$error":"#REF!"}},{"$f":"IF(#REF!=\"\",\"\",#REF!)","v":{"$error":"#REF!"}},{"$f":"#REF!","v":{"$error":"#REF!"}},{"$error":"#REF!"},{"$f":"#REF!","v":{"$error":"#REF!"}},{"$error":"#REF!"},{"$f":"#REF!","v":{"$error":"#REF!"}},{"$error":"#REF!"},{"$f":"#REF!","v":{"$error":"#REF!"}},{"$error":"#REF!"},{"$f":"#REF!","v":{"$error":"#REF!"}},{"$error":"#REF!"},{"$f":"#REF!","v":{"$error":"#REF!"}},{"$error":"#REF!"},{"$f":"#REF!","v":{"$error":"#REF!"}},{"$error":"#REF!"},{"$f":"#REF!","v":{"$error":"#REF!"}},{"$error":"#REF!"},{"$f":"#REF!","v":{"$error":"#REF!"}},{"$error":"#REF!"},{"$f":"#REF!","v":{"$error":"#REF!"}},{"$error":"#REF!"},{"$f":"#REF!","v":{"$error":"#REF!"}},{"$error":"#REF!"},{"$f":"#REF!","v":{"$error":"#REF!"}},{"$error":"#REF!"},{"$error":"#REF!"},{"$error":"#REF!"}]
[{"$f":"#REF!","v":{"$error":"#REF!"}},{"$f":"IF(#REF!=\"\",\"\",#REF!)","v":{"$error":"#REF!"}},{"$f":"IF(#REF!=\"\",\"\",#REF!)","v":{"$error":"#REF!"}},{"$f":"IF(#REF!=\"\",\"\",#REF!)","v":{"$error":"#REF!"}},{"$f":"#REF!","v":{"$error":"#REF!"}},{"$error":"#REF!"},{"$f":"#REF!","v":{"$error":"#REF!"}},{"$error":"#REF!"},{"$f":"#REF!","v":{"$error":"#REF!"}},{"$error":"#REF!"},{"$f":"#REF!","v":{"$error":"#REF!"}},{"$error":"#REF!"},{"$f":"#REF!","v":{"$error":"#REF!"}},{"$error":"#REF!"},{"$f":"#REF!","v":{"$error":"#REF!"}},{"$error":"#REF!"},{"$f":"#REF!","v":{"$error":"#REF!"}},{"$error":"#REF!"},{"$f":"#REF!","v":{"$error":"#REF!"}},{"$error":"#REF!"},{"$f":"#REF!","v":{"$error":"#REF!"}},{"$error":"#REF!"},{"$f":"#REF!","v":{"$error":"#REF!"}},{"$error":"#REF!"},{"$f":"#REF!","v":{"$error":"#REF!"}},{"$error":"#REF!"},{"$f":"#REF!","v":{"$error":"#REF!"}},{"$error":"#REF!"},{"$error":"#REF!"},{"$error":"#REF!"}]
[{"$f":"#REF!","v":{"$error":"#REF!"}},{"$f":"IF(#REF!=\"\",\"\",#REF!)","v":{"$error":"#REF!"}},{"$f":"IF(#REF!=\"\",\"\",#REF!)","v":{"$error":"#REF!"}},{"$f":"IF(#REF!=\"\",\"\",#REF!)","v":{"$error":"#REF!"}},{"$f":"#REF!","v":{"$error":"#REF!"}},{"$error":"#REF!"},{"$f":"#REF!","v":{"$error":"#REF!"}},{"$error":"#REF!"},{"$f":"#REF!","v":{"$error":"#REF!"}},{"$error":"#REF!"},{"$f":"#REF!","v":{"$error":"#REF!"}},{"$error":"#REF!"},{"$f":"#REF!","v":{"$error":"#REF!"}},{"$error":"#REF!"},{"$f":"#REF!","v":{"$error":"#REF!"}},{"$error":"#REF!"},{"$f":"#REF!","v":{"$error":"#REF!"}},{"$error":"#REF!"},{"$f":"#REF!","v":{"$error":"#REF!"}},{"$error":"#REF!"},{"$f":"#REF!","v":{"$error":"#REF!"}},{"$error":"#REF!"},{"$f":"#REF!","v":{"$error":"#REF!"}},{"$error":"#REF!"},{"$f":"#REF!","v":{"$error":"#REF!"}},{"$error":"#REF!"},{"$f":"#REF!","v":{"$error":"#REF!"}},{"$error":"#REF!"},{"$error":"#REF!"},{"$error":"#REF!"}]
[{"$f":"#REF!","v":{"$error":"#REF!"}},{"$f":"IF(#REF!=\"\",\"\",#REF!)","v":{"$error":"#REF!"}},{"$f":"IF(#REF!=\"\",\"\",#REF!)","v":{"$error":"#REF!"}},{"$f":"IF(#REF!=\"\",\"\",#REF!)","v":{"$error":"#REF!"}},{"$f":"#REF!","v":{"$error":"#REF!"}},{"$error":"#REF!"},{"$f":"#REF!","v":{"$error":"#REF!"}},{"$error":"#REF!"},{"$f":"#REF!","v":{"$error":"#REF!"}},{"$error":"#REF!"},{"$f":"#REF!","v":{"$error":"#REF!"}},{"$error":"#REF!"},{"$f":"#REF!","v":{"$error":"#REF!"}},{"$error":"#REF!"},{"$f":"#REF!","v":{"$error":"#REF!"}},{"$error":"#REF!"},{"$f":"#REF!","v":{"$error":"#REF!"}},{"$error":"#REF!"},{"$f":"#REF!","v":{"$error":"#REF!"}},{"$error":"#REF!"},{"$f":"#REF!","v":{"$error":"#REF!"}},{"$error":"#REF!"},{"$f":"#REF!","v":{"$error":"#REF!"}},{"$error":"#REF!"},{"$f":"#REF!","v":{"$error":"#REF!"}},{"$error":"#REF!"},{"$f":"#REF!","v":{"$error":"#REF!"}},{"$error":"#REF!"},{"$error":"#REF!"},{"$error":"#REF!"}]
[{"$f":"#REF!","v":{"$error":"#REF!"}},{"$f":"IF(#REF!=\"\",\"\",#REF!)","v":{"$error":"#REF!"}},{"$f":"IF(#REF!=\"\",\"\",#REF!)","v":{"$error":"#REF!"}},{"$f":"IF(#REF!=\"\",\"\",#REF!)","v":{"$error":"#REF!"}},{"$f":"#REF!","v":{"$error":"#REF!"}},{"$error":"#REF!"},{"$f":"#REF!","v":{"$error":"#REF!"}},{"$error":"#REF!"},{"$f":"#REF!","v":{"$error":"#REF!"}},{"$error":"#REF!"},{"$f":"#REF!","v":{"$error":"#REF!"}},{"$error":"#REF!"},{"$f":"#REF!","v":{"$error":"#REF!"}},{"$error":"#REF!"},{"$f":"#REF!","v":{"$error":"#REF!"}},{"$error":"#REF!"},{"$f":"#REF!","v":{"$error":"#REF!"}},{"$error":"#REF!"},{"$f":"#REF!","v":{"$error":"#REF!"}},{"$error":"#REF!"},{"$f":"#REF!","v":{"$error":"#REF!"}},{"$error":"#REF!"},{"$f":"#REF!","v":{"$error":"#REF!"}},{"$error":"#REF!"},{"$f":"#REF!","v":{"$error":"#REF!"}},{"$error":"#REF!"},{"$f":"#REF!","v":{"$error":"#REF!"}},{"$error":"#REF!"},{"$error":"#REF!"},{"$error":"#REF!"}]
[{"$f":"#REF!","v":{"$error":"#REF!"}},{"$f":"IF(#REF!=\"\",\"\",#REF!)","v":{"$error":"#REF!"}},{"$f":"IF(#REF!=\"\",\"\",#REF!)","v":{"$error":"#REF!"}},{"$f":"IF(#REF!=\"\",\"\",#REF!)","v":{"$error":"#REF!"}},{"$f":"#REF!","v":{"$error":"#REF!"}},{"$error":"#REF!"},{"$f":"#REF!","v":{"$error":"#REF!"}},{"$error":"#REF!"},{"$f":"#REF!","v":{"$error":"#REF!"}},{"$error":"#REF!"},{"$f":"#REF!","v":{"$error":"#REF!"}},{"$error":"#REF!"},{"$f":"#REF!","v":{"$error":"#REF!"}},{"$error":"#REF!"},{"$f":"#REF!","v":{"$error":"#REF!"}},{"$error":"#REF!"},{"$f":"#REF!","v":{"$error":"#REF!"}},{"$error":"#REF!"},{"$f":"#REF!","v":{"$error":"#REF!"}},{"$error":"#REF!"},{"$f":"#REF!","v":{"$error":"#REF!"}},{"$error":"#REF!"},{"$f":"#REF!","v":{"$error":"#REF!"}},{"$error":"#REF!"},{"$f":"#REF!","v":{"$error":"#REF!"}},{"$error":"#REF!"},{"$f":"#REF!","v":{"$error":"#REF!"}},{"$error":"#REF!"},{"$error":"#REF!"},{"$error":"#REF!"}]
[{"$f":"#REF!","v":{"$error":"#REF!"}},{"$f":"IF(#REF!=\"\",\"\",#REF!)","v":{"$error":"#REF!"}},{"$f":"IF(#REF!=\"\",\"\",#REF!)","v":{"$error":"#REF!"}},{"$f":"IF(#REF!=\"\",\"\",#REF!)","v":{"$error":"#REF!"}},{"$f":"#REF!","v":{"$error":"#REF!"}},{"$error":"#REF!"},{"$f":"#REF!","v":{"$error":"#REF!"}},{"$error":"#REF!"},{"$f":"#REF!","v":{"$error":"#REF!"}},{"$error":"#REF!"},{"$f":"#REF!","v":{"$error":"#REF!"}},{"$error":"#REF!"},{"$f":"#REF!","v":{"$error":"#REF!"}},{"$error":"#REF!"},{"$f":"#REF!","v":{"$error":"#REF!"}},{"$error":"#REF!"},{"$f":"#REF!","v":{"$error":"#REF!"}},{"$error":"#REF!"},{"$f":"#REF!","v":{"$error":"#REF!"}},{"$error":"#REF!"},{"$f":"#REF!","v":{"$error":"#REF!"}},{"$error":"#REF!"},{"$f":"#REF!","v":{"$error":"#REF!"}},{"$error":"#REF!"},{"$f":"#REF!","v":{"$error":"#REF!"}},{"$error":"#REF!"},{"$f":"#REF!","v":{"$error":"#REF!"}},{"$error":"#REF!"},{"$error":"#REF!"},{"$error":"#REF!"}]
[{"$f":"#REF!","v":{"$error":"#REF!"}},{"$f":"IF(#REF!=\"\",\"\",#REF!)","v":{"$error":"#REF!"}},{"$f":"IF(#REF!=\"\",\"\",#REF!)","v":{"$error":"#REF!"}},{"$f":"IF(#REF!=\"\",\"\",#REF!)","v":{"$error":"#REF!"}},{"$f":"#REF!","v":{"$error":"#REF!"}},{"$error":"#REF!"},{"$f":"#REF!","v":{"$error":"#REF!"}},{"$error":"#REF!"},{"$f":"#REF!","v":{"$error":"#REF!"}},{"$error":"#REF!"},{"$f":"#REF!","v":{"$error":"#REF!"}},{"$error":"#REF!"},{"$f":"#REF!","v":{"$error":"#REF!"}},{"$error":"#REF!"},{"$f":"#REF!","v":{"$error":"#REF!"}},{"$error":"#REF!"},{"$f":"#REF!","v":{"$error":"#REF!"}},{"$error":"#REF!"},{"$f":"#REF!","v":{"$error":"#REF!"}},{"$error":"#REF!"},{"$f":"#REF!","v":{"$error":"#REF!"}},{"$error":"#REF!"},{"$f":"#REF!","v":{"$error":"#REF!"}},{"$error":"#REF!"},{"$f":"#REF!","v":{"$error":"#REF!"}},{"$error":"#REF!"},{"$f":"#REF!","v":{"$error":"#REF!"}},{"$error":"#REF!"},{"$error":"#REF!"},{"$error":"#REF!"}]
[{"$f":"#REF!","v":{"$error":"#REF!"}},{"$f":"IF(#REF!=\"\",\"\",#REF!)","v":{"$error":"#REF!"}},{"$f":"IF(#REF!=\"\",\"\",#REF!)","v":{"$error":"#REF!"}},{"$f":"IF(#REF!=\"\",\"\",#REF!)","v":{"$error":"#REF!"}},{"$f":"#REF!","v":{"$error":"#REF!"}},{"$error":"#REF!"},{"$f":"#REF!","v":{"$error":"#REF!"}},{"$error":"#REF!"},{"$f":"#REF!","v":{"$error":"#REF!"}},{"$error":"#REF!"},{"$f":"#REF!","v":{"$error":"#REF!"}},{"$error":"#REF!"},{"$f":"#REF!","v":{"$error":"#REF!"}},{"$error":"#REF!"},{"$f":"#REF!","v":{"$error":"#REF!"}},{"$error":"#REF!"},{"$f":"#REF!","v":{"$error":"#REF!"}},{"$error":"#REF!"},{"$f":"#REF!","v":{"$error":"#REF!"}},{"$error":"#REF!"},{"$f":"#REF!","v":{"$error":"#REF!"}},{"$error":"#REF!"},{"$f":"#REF!","v":{"$error":"#REF!"}},{"$error":"#REF!"},{"$f":"#REF!","v":{"$error":"#REF!"}},{"$error":"#REF!"},{"$f":"#REF!","v":{"$error":"#REF!"}},{"$error":"#REF!"},{"$error":"#REF!"},{"$error":"#REF!"}]
[{"$f":"#REF!","v":{"$error":"#REF!"}},{"$f":"IF(#REF!=\"\",\"\",#REF!)","v":{"$error":"#REF!"}},{"$f":"IF(#REF!=\"\",\"\",#REF!)","v":{"$error":"#REF!"}},{"$f":"IF(#REF!=\"\",\"\",#REF!)","v":{"$error":"#REF!"}},{"$f":"#REF!","v":{"$error":"#REF!"}},{"$error":"#REF!"},{"$f":"#REF!","v":{"$error":"#REF!"}},{"$error":"#REF!"},{"$f":"#REF!","v":{"$error":"#REF!"}},{"$error":"#REF!"},{"$f":"#REF!","v":{"$error":"#REF!"}},{"$error":"#REF!"},{"$f":"#REF!","v":{"$error":"#REF!"}},{"$error":"#REF!"},{"$f":"#REF!","v":{"$error":"#REF!"}},{"$error":"#REF!"},{"$f":"#REF!","v":{"$error":"#REF!"}},{"$error":"#REF!"},{"$f":"#REF!","v":{"$error":"#REF!"}},{"$error":"#REF!"},{"$f":"#REF!","v":{"$error":"#REF!"}},{"$error":"#REF!"},{"$f":"#REF!","v":{"$error":"#REF!"}},{"$error":"#REF!"},{"$f":"#REF!","v":{"$error":"#REF!"}},{"$error":"#REF!"},{"$f":"#REF!","v":{"$error":"#REF!"}},{"$error":"#REF!"},{"$error":"#REF!"},{"$error":"#REF!"}]
[{"$f":"#REF!","v":{"$error":"#REF!"}},{"$f":"IF(#REF!=\"\",\"\",#REF!)","v":{"$error":"#REF!"}},{"$f":"IF(#REF!=\"\",\"\",#REF!)","v":{"$error":"#REF!"}},{"$f":"IF(#REF!=\"\",\"\",#REF!)","v":{"$error":"#REF!"}},{"$f":"#REF!","v":{"$error":"#REF!"}},{"$error":"#REF!"},{"$f":"#REF!","v":{"$error":"#REF!"}},{"$error":"#REF!"},{"$f":"#REF!","v":{"$error":"#REF!"}},{"$error":"#REF!"},{"$f":"#REF!","v":{"$error":"#REF!"}},{"$error":"#REF!"},{"$f":"#REF!","v":{"$error":"#REF!"}},{"$error":"#REF!"},{"$f":"#REF!","v":{"$error":"#REF!"}},{"$error":"#REF!"},{"$f":"#REF!","v":{"$error":"#REF!"}},{"$error":"#REF!"},{"$f":"#REF!","v":{"$error":"#REF!"}},{"$error":"#REF!"},{"$f":"#REF!","v":{"$error":"#REF!"}},{"$error":"#REF!"},{"$f":"#REF!","v":{"$error":"#REF!"}},{"$error":"#REF!"},{"$f":"#REF!","v":{"$error":"#REF!"}},{"$error":"#REF!"},{"$f":"#REF!","v":{"$error":"#REF!"}},{"$error":"#REF!"},{"$error":"#REF!"},{"$error":"#REF!"}]
[{"$f":"#REF!","v":{"$error":"#REF!"}},{"$f":"IF(#REF!=\"\",\"\",#REF!)","v":{"$error":"#REF!"}},{"$f":"IF(#REF!=\"\",\"\",#REF!)","v":{"$error":"#REF!"}},{"$f":"IF(#REF!=\"\",\"\",#REF!)","v":{"$error":"#REF!"}},{"$f":"#REF!","v":{"$error":"#REF!"}},{"$error":"#REF!"},{"$f":"#REF!","v":{"$error":"#REF!"}},{"$error":"#REF!"},{"$f":"#REF!","v":{"$error":"#REF!"}},{"$error":"#REF!"},{"$f":"#REF!","v":{"$error":"#REF!"}},{"$error":"#REF!"},{"$f":"#REF!","v":{"$error":"#REF!"}},{"$error":"#REF!"},{"$f":"#REF!","v":{"$error":"#REF!"}},{"$error":"#REF!"},{"$f":"#REF!","v":{"$error":"#REF!"}},{"$error":"#REF!"},{"$f":"#REF!","v":{"$error":"#REF!"}},{"$error":"#REF!"},{"$f":"#REF!","v":{"$error":"#REF!"}},{"$error":"#REF!"},{"$f":"#REF!","v":{"$error":"#REF!"}},{"$error":"#REF!"},{"$f":"#REF!","v":{"$error":"#REF!"}},{"$error":"#REF!"},{"$f":"#REF!","v":{"$error":"#REF!"}},{"$error":"#REF!"},{"$error":"#REF!"},{"$error":"#REF!"}]
[{"$f":"#REF!","v":{"$error":"#REF!"}},{"$f":"IF(#REF!=\"\",\"\",#REF!)","v":{"$error":"#REF!"}},{"$f":"IF(#REF!=\"\",\"\",#REF!)","v":{"$error":"#REF!"}},{"$f":"IF(#REF!=\"\",\"\",#REF!)","v":{"$error":"#REF!"}},{"$f":"#REF!","v":{"$error":"#REF!"}},{"$error":"#REF!"},{"$f":"#REF!","v":{"$error":"#REF!"}},{"$error":"#REF!"},{"$f":"#REF!","v":{"$error":"#REF!"}},{"$error":"#REF!"},{"$f":"#REF!","v":{"$error":"#REF!"}},{"$error":"#REF!"},{"$f":"#REF!","v":{"$error":"#REF!"}},{"$error":"#REF!"},{"$f":"#REF!","v":{"$error":"#REF!"}},{"$error":"#REF!"},{"$f":"#REF!","v":{"$error":"#REF!"}},{"$error":"#REF!"},{"$f":"#REF!","v":{"$error":"#REF!"}},{"$error":"#REF!"},{"$f":"#REF!","v":{"$error":"#REF!"}},{"$error":"#REF!"},{"$f":"#REF!","v":{"$error":"#REF!"}},{"$error":"#REF!"},{"$f":"#REF!","v":{"$error":"#REF!"}},{"$error":"#REF!"},{"$f":"#REF!","v":{"$error":"#REF!"}},{"$error":"#REF!"},{"$error":"#REF!"},{"$error":"#REF!"}]
[{"$f":"#REF!","v":{"$error":"#REF!"}},{"$f":"IF(#REF!=\"\",\"\",#REF!)","v":{"$error":"#REF!"}},{"$f":"IF(#REF!=\"\",\"\",#REF!)","v":{"$error":"#REF!"}},{"$f":"IF(#REF!=\"\",\"\",#REF!)","v":{"$error":"#REF!"}},{"$f":"#REF!","v":{"$error":"#REF!"}},{"$error":"#REF!"},{"$f":"#REF!","v":{"$error":"#REF!"}},{"$error":"#REF!"},{"$f":"#REF!","v":{"$error":"#REF!"}},{"$error":"#REF!"},{"$f":"#REF!","v":{"$error":"#REF!"}},{"$error":"#REF!"},{"$f":"#REF!","v":{"$error":"#REF!"}},{"$error":"#REF!"},{"$f":"#REF!","v":{"$error":"#REF!"}},{"$error":"#REF!"},{"$f":"#REF!","v":{"$error":"#REF!"}},{"$error":"#REF!"},{"$f":"#REF!","v":{"$error":"#REF!"}},{"$error":"#REF!"},{"$f":"#REF!","v":{"$error":"#REF!"}},{"$error":"#REF!"},{"$f":"#REF!","v":{"$error":"#REF!"}},{"$error":"#REF!"},{"$f":"#REF!","v":{"$error":"#REF!"}},{"$error":"#REF!"},{"$f":"#REF!","v":{"$error":"#REF!"}},{"$error":"#REF!"},{"$error":"#REF!"},{"$error":"#REF!"}]
[{"$f":"#REF!","v":{"$error":"#REF!"}},{"$f":"IF(#REF!=\"\",\"\",#REF!)","v":{"$error":"#REF!"}},{"$f":"IF(#REF!=\"\",\"\",#REF!)","v":{"$error":"#REF!"}},{"$f":"IF(#REF!=\"\",\"\",#REF!)","v":{"$error":"#REF!"}},{"$f":"#REF!","v":{"$error":"#REF!"}},{"$error":"#REF!"},{"$f":"#REF!","v":{"$error":"#REF!"}},{"$error":"#REF!"},{"$f":"#REF!","v":{"$error":"#REF!"}},{"$error":"#REF!"},{"$f":"#REF!","v":{"$error":"#REF!"}},{"$error":"#REF!"},{"$f":"#REF!","v":{"$error":"#REF!"}},{"$error":"#REF!"},{"$f":"#REF!","v":{"$error":"#REF!"}},{"$error":"#REF!"},{"$f":"#REF!","v":{"$error":"#REF!"}},{"$error":"#REF!"},{"$f":"#REF!","v":{"$error":"#REF!"}},{"$error":"#REF!"},{"$f":"#REF!","v":{"$error":"#REF!"}},{"$error":"#REF!"},{"$f":"#REF!","v":{"$error":"#REF!"}},{"$error":"#REF!"},{"$f":"#REF!","v":{"$error":"#REF!"}},{"$error":"#REF!"},{"$f":"#REF!","v":{"$error":"#REF!"}},{"$error":"#REF!"},{"$error":"#REF!"},{"$error":"#REF!"}]
[{"$f":"#REF!","v":{"$error":"#REF!"}},{"$f":"IF(#REF!=\"\",\"\",#REF!)","v":{"$error":"#REF!"}},{"$f":"IF(#REF!=\"\",\"\",#REF!)","v":{"$error":"#REF!"}},{"$f":"IF(#REF!=\"\",\"\",#REF!)","v":{"$error":"#REF!"}},{"$f":"#REF!","v":{"$error":"#REF!"}},{"$error":"#REF!"},{"$f":"#REF!","v":{"$error":"#REF!"}},{"$error":"#REF!"},{"$f":"#REF!","v":{"$error":"#REF!"}},{"$error":"#REF!"},{"$f":"#REF!","v":{"$error":"#REF!"}},{"$error":"#REF!"},{"$f":"#REF!","v":{"$error":"#REF!"}},{"$error":"#REF!"},{"$f":"#REF!","v":{"$error":"#REF!"}},{"$error":"#REF!"},{"$f":"#REF!","v":{"$error":"#REF!"}},{"$error":"#REF!"},{"$f":"#REF!","v":{"$error":"#REF!"}},{"$error":"#REF!"},{"$f":"#REF!","v":{"$error":"#REF!"}},{"$error":"#REF!"},{"$f":"#REF!","v":{"$error":"#REF!"}},{"$error":"#REF!"},{"$f":"#REF!","v":{"$error":"#REF!"}},{"$error":"#REF!"},{"$f":"#REF!","v":{"$error":"#REF!"}},{"$error":"#REF!"},{"$error":"#REF!"},{"$error":"#REF!"}]

{"sheet":"действия оценки","index":8,"n_rows":33,"n_cols":12,"rows_kept":33,"hidden":true,"merged":[[0,0,0,27],[1,4,1,9],[2,4,2,5],[2,6,2,7],[2,8,2,9],[2,11,2,12],[3,11,3,12],[4,11,4,12],[5,11,5,12],[6,11,6,12],[7,11,7,12],[8,11,8,12],[9,11,9,12],[10,11,10,12],[11,11,11,12],[12,11,12,12],[13,11,13,12],[14,11,14,12],[15,11,15,12],[16,11,16,12],[17,11,17,12],[18,11,18,12],[19,11,19,12],[20,11,20,12],[21,11,21,12],[22,11,22,12],[23,11,23,12],[24,11,24,12],[25,11,25,12],[26,11,26,12],[27,11,27,12],[28,11,28,12],[29,11,29,12],[30,11,30,12],[31,11,31,12],[32,11,32,12],[33,11,33,12]]}
[{"$f":"#REF!","v":{"$error":"#REF!"}}]
[{"$f":"#REF!","v":{"$error":"#REF!"}},{"$f":"#REF!","v":{"$error":"#REF!"}},{"$f":"#REF!","v":{"$error":"#REF!"}},{"$f":"#REF!","v":{"$error":"#REF!"}}]
[{"$f":"#REF!","v":{"$error":"#REF!"}},{"$f":"IF(#REF!=\"\",\"\",#REF!)","v":{"$error":"#REF!"}},{"$f":"IF(#REF!=\"\",\"\",#REF!)","v":{"$error":"#REF!"}},{"$f":"IF(#REF!=\"\",\"\",#REF!)","v":{"$error":"#REF!"}},{"$f":"'[1]сырые баллы'!AM3","v":35},null,{"$f":"'[1]сырые баллы'!AN3","v":36},null,{"$f":"'[1]сырые баллы'!AO3","v":37},null,null,"уровень"]
[{"$f":"#REF!","v":{"$error":"#REF!"}},{"$f":"IF(#REF!=\"\",\"\",#REF!)","v":{"$error":"#REF!"}},{"$f":"IF(#REF!=\"\",\"\",#REF!)","v":{"$error":"#REF!"}},{"$f":"IF(#REF!=\"\",\"\",#REF!)","v":{"$error":"#REF!"}},{"$f":"#REF!","v":{"$error":"#REF!"}},{"$f":"IF(E4=0,\"\",IF(E4=\"а\",1,2))","v":{"$error":"#REF!"}},{"$f":"#REF!","v":{"$error":"#REF!"}},{"$f":"IF(G4=0,\"\",IF(G4=\"а\",1,IF(E4=\"г\",3,2)))","v":{"$error":"#REF!"}},{"$f":"#REF!","v":{"$error":"#REF!"}},{"$f":"IF(I4=0,\"\",IF(I4=\"а\",1,IF(I4=\"б\",3,IF(I4=\"в\",4,IF(I4=\"г\",5,6)))))","v":{"$error":"#REF!"}},{"$f":"IF(SUM(F4:J4)=0,\"\",SUM(F4:J4))","v":{"$error":"#REF!"}},{"$f":"IF(K4=\"\",\"\",IF(K4>=24,\"6 уровень\",IF(AND(K4>=18,K4<24),\"5 уровень\",IF(AND(K4>=13,K4<18),\"4 уровень\",IF(AND(K4>=9,K4<13),\"3 уровень\",IF(AND(K4>=3,K4<9),\"2 уровень\",\"1 уровень\"))))))","v":{"$error":"#REF!"}}]
[{"$f":"#REF!","v":{"$error":"#REF!"}},{"$f":"IF(#REF!=\"\",\"\",#REF!)","v":{"$error":"#REF!"}},{"$f":"IF(#REF!=\"\",\"\",#REF!)","v":{"$error":"#REF!"}},{"$f":"IF(#REF!=\"\",\"\",#REF!)","v":{"$error":"#REF!"}},{"$f":"#REF!","v":{"$error":"#REF!"}},{"$f":"IF(E5=0,\"\",IF(E5=\"а\",1,2))","v":{"$error":"#REF!"}},{"$f":"#REF!","v":{"$error":"#REF!"}},{"$f":"IF(G5=0,\"\",IF(G5=\"а\",1,IF(E5=\"г\",3,2)))","v":{"$error":"#REF!"}},{"$f":"#REF!","v":{"$error":"#REF!"}},{"$f":"IF(I5=0,\"\",IF(I5=\"а\",1,IF(I5=\"б\",3,IF(I5=\"в\",4,IF(I5=\"г\",5,6)))))","v":{"$error":"#REF!"}},{"$f":"IF(SUM(F5:J5)=0,\"\",SUM(F5:J5))","v":{"$error":"#REF!"}},{"$f":"IF(K5=\"\",\"\",IF(K5>=24,\"6 уровень\",IF(AND(K5>=18,K5<24),\"5 уровень\",IF(AND(K5>=13,K5<18),\"4 уровень\",IF(AND(K5>=9,K5<13),\"3 уровень\",IF(AND(K5>=3,K5<9),\"2 уровень\",\"1 уровень\"))))))","v":{"$error":"#REF!"}}]
[{"$f":"#REF!","v":{"$error":"#REF!"}},{"$f":"IF(#REF!=\"\",\"\",#REF!)","v":{"$error":"#REF!"}},{"$f":"IF(#REF!=\"\",\"\",#REF!)","v":{"$error":"#REF!"}},{"$f":"IF(#REF!=\"\",\"\",#REF!)","v":{"$error":"#REF!"}},{"$f":"#REF!","v":{"$error":"#REF!"}},{"$error":"#REF!"},{"$f":"#REF!","v":{"$error":"#REF!"}},{"$error":"#REF!"},{"$f":"#REF!","v":{"$error":"#REF!"}},{"$error":"#REF!"},{"$error":"#REF!"},{"$error":"#REF!"}]
[{"$f":"#REF!","v":{"$error":"#REF!"}},{"$f":"IF(#REF!=\"\",\"\",#REF!)","v":{"$error":"#REF!"}},{"$f":"IF(#REF!=\"\",\"\",#REF!)","v":{"$error":"#REF!"}},{"$f":"IF(#REF!=\"\",\"\",#REF!)","v":{"$error":"#REF!"}},{"$f":"#REF!","v":{"$error":"#REF!"}},{"$error":"#REF!"},{"$f":"#REF!","v":{"$error":"#REF!"}},{"$error":"#REF!"},{"$f":"#REF!","v":{"$error":"#REF!"}},{"$error":"#REF!"},{"$error":"#REF!"},{"$error":"#REF!"}]
[{"$f":"#REF!","v":{"$error":"#REF!"}},{"$f":"IF(#REF!=\"\",\"\",#REF!)","v":{"$error":"#REF!"}},{"$f":"IF(#REF!=\"\",\"\",#REF!)","v":{"$error":"#REF!"}},{"$f":"IF(#REF!=\"\",\"\",#REF!)","v":{"$error":"#REF!"}},{"$f":"#REF!","v":{"$error":"#REF!"}},{"$error":"#REF!"},{"$f":"#REF!","v":{"$error":"#REF!"}},{"$error":"#REF!"},{"$f":"#REF!","v":{"$error":"#REF!"}},{"$error":"#REF!"},{"$error":"#REF!"},{"$error":"#REF!"}]
[{"$f":"#REF!","v":{"$error":"#REF!"}},{"$f":"IF(#REF!=\"\",\"\",#REF!)","v":{"$error":"#REF!"}},{"$f":"IF(#REF!=\"\",\"\",#REF!)","v":{"$error":"#REF!"}},{"$f":"IF(#REF!=\"\",\"\",#REF!)","v":{"$error":"#REF!"}},{"$f":"#REF!","v":{"$error":"#REF!"}},{"$error":"#REF!"},{"$f":"#REF!","v":{"$error":"#REF!"}},{"$error":"#REF!"},{"$f":"#REF!","v":{"$error":"#REF!"}},{"$error":"#REF!"},{"$error":"#REF!"},{"$error":"#REF!"}]
[{"$f":"#REF!","v":{"$error":"#REF!"}},{"$f":"IF(#REF!=\"\",\"\",#REF!)","v":{"$error":"#REF!"}},{"$f":"IF(#REF!=\"\",\"\",#REF!)","v":{"$error":"#REF!"}},{"$f":"IF(#REF!=\"\",\"\",#REF!)","v":{"$error":"#REF!"}},{"$f":"#REF!","v":{"$error":"#REF!"}},{"$error":"#REF!"},{"$f":"#REF!","v":{"$error":"#REF!"}},{"$error":"#REF!"},{"$f":"#REF!","v":{"$error":"#REF!"}},{"$error":"#REF!"},{"$error":"#REF!"},{"$error":"#REF!"}]
[{"$f":"#REF!","v":{"$error":"#REF!"}},{"$f":"IF(#REF!=\"\",\"\",#REF!)","v":{"$error":"#REF!"}},{"$f":"IF(#REF!=\"\",\"\",#REF!)","v":{"$error":"#REF!"}},{"$f":"IF(#REF!=\"\",\"\",#REF!)","v":{"$error":"#REF!"}},{"$f":"#REF!","v":{"$error":"#REF!"}},{"$error":"#REF!"},{"$f":"#REF!","v":{"$error":"#REF!"}},{"$error":"#REF!"},{"$f":"#REF!","v":{"$error":"#REF!"}},{"$error":"#REF!"},{"$error":"#REF!"},{"$error":"#REF!"}]
[{"$f":"#REF!","v":{"$error":"#REF!"}},{"$f":"IF(#REF!=\"\",\"\",#REF!)","v":{"$error":"#REF!"}},{"$f":"IF(#REF!=\"\",\"\",#REF!)","v":{"$error":"#REF!"}},{"$f":"IF(#REF!=\"\",\"\",#REF!)","v":{"$error":"#REF!"}},{"$f":"#REF!","v":{"$error":"#REF!"}},{"$error":"#REF!"},{"$f":"#REF!","v":{"$error":"#REF!"}},{"$error":"#REF!"},{"$f":"#REF!","v":{"$error":"#REF!"}},{"$error":"#REF!"},{"$error":"#REF!"},{"$error":"#REF!"}]
[{"$f":"#REF!","v":{"$error":"#REF!"}},{"$f":"IF(#REF!=\"\",\"\",#REF!)","v":{"$error":"#REF!"}},{"$f":"IF(#REF!=\"\",\"\",#REF!)","v":{"$error":"#REF!"}},{"$f":"IF(#REF!=\"\",\"\",#REF!)","v":{"$error":"#REF!"}},{"$f":"#REF!","v":{"$error":"#REF!"}},{"$error":"#REF!"},{"$f":"#REF!","v":{"$error":"#REF!"}},{"$error":"#REF!"},{"$f":"#REF!","v":{"$error":"#REF!"}},{"$error":"#REF!"},{"$error":"#REF!"},{"$error":"#REF!"}]
[{"$f":"#REF!","v":{"$error":"#REF!"}},{"$f":"IF(#REF!=\"\",\"\",#REF!)","v":{"$error":"#REF!"}},{"$f":"IF(#REF!=\"\",\"\",#REF!)","v":{"$error":"#REF!"}},{"$f":"IF(#REF!=\"\",\"\",#REF!)","v":{"$error":"#REF!"}},{"$f":"#REF!","v":{"$error":"#REF!"}},{"$error":"#REF!"},{"$f":"#REF!","v":{"$error":"#REF!"}},{"$error":"#REF!"},{"$f":"#REF!","v":{"$error":"#REF!"}},{"$error":"#REF!"},{"$error":"#REF!"},{"$error":"#REF!"}]
[{"$f":"#REF!","v":{"$error":"#REF!"}},{"$f":"IF(#REF!=\"\",\"\",#REF!)","v":{"$error":"#REF!"}},{"$f":"IF(#REF!=\"\",\"\",#REF!)","v":{"$error":"#REF!"}},{"$f":"IF(#REF!=\"\",\"\",#REF!)","v":{"$error":"#REF!"}},{"$f":"#REF!","v":{"$error":"#REF!"}},{"$error":"#REF!"},{"$f":"#REF!","v":{"$error":"#REF!"}},{"$error":"#REF!"},{"$f":"#REF!","v":{"$error":"#REF!"}},{"$error":"#REF!"},{"$error":"#REF!"},{"$error":"#REF!"}]
[{"$f":"#REF!","v":{"$error":"#REF!"}},{"$f":"IF(#REF!=\"\",\"\",#REF!)","v":{"$error":"#REF!"}},{"$f":"IF(#REF!=\"\",\"\",#REF!)","v":{"$error":"#REF!"}},{"$f":"IF(#REF!=\"\",\"\",#REF!)","v":{"$error":"#REF!"}},{"$f":"#REF!","v":{"$error":"#REF!"}},{"$error":"#REF!"},{"$f":"#REF!","v":{"$error":"#REF!"}},{"$error":"#REF!"},{"$f":"#REF!","v":{"$error":"#REF!"}},{"$error":"#REF!"},{"$error":"#REF!"},{"$error":"#REF!"}]
[{"$f":"#REF!","v":{"$error":"#REF!"}},{"$f":"IF(#REF!=\"\",\"\",#REF!)","v":{"$error":"#REF!"}},{"$f":"IF(#REF!=\"\",\"\",#REF!)","v":{"$error":"#REF!"}},{"$f":"IF(#REF!=\"\",\"\",#REF!)","v":{"$error":"#REF!"}},{"$f":"#REF!","v":{"$error":"#REF!"}},{"$error":"#REF!"},{"$f":"#REF!","v":{"$error":"#REF!"}},{"$error":"#REF!"},{"$f":"#REF!","v":{"$error":"#REF!"}},{"$error":"#REF!"},{"$error":"#REF!"},{"$error":"#REF!"}]
[{"$f":"#REF!","v":{"$error":"#REF!"}},{"$f":"IF(#REF!=\"\",\"\",#REF!)","v":{"$error":"#REF!"}},{"$f":"IF(#REF!=\"\",\"\",#REF!)","v":{"$error":"#REF!"}},{"$f":"IF(#REF!=\"\",\"\",#REF!)","v":{"$error":"#REF!"}},{"$f":"#REF!","v":{"$error":"#REF!"}},{"$error":"#REF!"},{"$f":"#REF!","v":{"$error":"#REF!"}},{"$error":"#REF!"},{"$f":"#REF!","v":{"$error":"#REF!"}},{"$error":"#REF!"},{"$error":"#REF!"},{"$error":"#REF!"}]
[{"$f":"#REF!","v":{"$error":"#REF!"}},{"$f":"IF(#REF!=\"\",\"\",#REF!)","v":{"$error":"#REF!"}},{"$f":"IF(#REF!=\"\",\"\",#REF!)","v":{"$error":"#REF!"}},{"$f":"IF(#REF!=\"\",\"\",#REF!)","v":{"$error":"#REF!"}},{"$f":"#REF!","v":{"$error":"#REF!"}},{"$error":"#REF!"},{"$f":"#REF!","v":{"$error":"#REF!"}},{"$error":"#REF!"},{"$f":"#REF!","v":{"$error":"#REF!"}},{"$error":"#REF!"},{"$error":"#REF!"},{"$error":"#REF!"}]
[{"$f":"#REF!","v":{"$error":"#REF!"}},{"$f":"IF(#REF!=\"\",\"\",#REF!)","v":{"$error":"#REF!"}},{"$f":"IF(#REF!=\"\",\"\",#REF!)","v":{"$error":"#REF!"}},{"$f":"IF(#REF!=\"\",\"\",#REF!)","v":{"$error":"#REF!"}},{"$f":"#REF!","v":{"$error":"#REF!"}},{"$error":"#REF!"},{"$f":"#REF!","v":{"$error":"#REF!"}},{"$error":"#REF!"},{"$f":"#REF!","v":{"$error":"#REF!"}},{"$error":"#REF!"},{"$error":"#REF!"},{"$error":"#REF!"}]
[{"$f":"#REF!","v":{"$error":"#REF!"}},{"$f":"IF(#REF!=\"\",\"\",#REF!)","v":{"$error":"#REF!"}},{"$f":"IF(#REF!=\"\",\"\",#REF!)","v":{"$error":"#REF!"}},{"$f":"IF(#REF!=\"\",\"\",#REF!)","v":{"$error":"#REF!"}},{"$f":"#REF!","v":{"$error":"#REF!"}},{"$error":"#REF!"},{"$f":"#REF!","v":{"$error":"#REF!"}},{"$error":"#REF!"},{"$f":"#REF!","v":{"$error":"#REF!"}},{"$error":"#REF!"},{"$error":"#REF!"},{"$error":"#REF!"}]
[{"$f":"#REF!","v":{"$error":"#REF!"}},{"$f":"IF(#REF!=\"\",\"\",#REF!)","v":{"$error":"#REF!"}},{"$f":"IF(#REF!=\"\",\"\",#REF!)","v":{"$error":"#REF!"}},{"$f":"IF(#REF!=\"\",\"\",#REF!)","v":{"$error":"#REF!"}},{"$f":"#REF!","v":{"$error":"#REF!"}},{"$error":"#REF!"},{"$f":"#REF!","v":{"$error":"#REF!"}},{"$error":"#REF!"},{"$f":"#REF!","v":{"$error":"#REF!"}},{"$error":"#REF!"},{"$error":"#REF!"},{"$error":"#REF!"}]
[{"$f":"#REF!","v":{"$error":"#REF!"}},{"$f":"IF(#REF!=\"\",\"\",#REF!)","v":{"$error":"#REF!"}},{"$f":"IF(#REF!=\"\",\"\",#REF!)","v":{"$error":"#REF!"}},{"$f":"IF(#REF!=\"\",\"\",#REF!)","v":{"$error":"#REF!"}},{"$f":"#REF!","v":{"$error":"#REF!"}},{"$error":"#REF!"},{"$f":"#REF!","v":{"$error":"#REF!"}},{"$error":"#REF!"},{"$f":"#REF!","v":{"$error":"#REF!"}},{"$error":"#REF!"},{"$error":"#REF!"},{"$error":"#REF!"}]
[{"$f":"#REF!","v":{"$error":"#REF!"}},{"$f":"IF(#REF!=\"\",\"\",#REF!)","v":{"$error":"#REF!"}},{"$f":"IF(#REF!=\"\",\"\",#REF!)","v":{"$error":"#REF!"}},{"$f":"IF(#REF!=\"\",\"\",#REF!)","v":{"$error":"#REF!"}},{"$f":"#REF!","v":{"$error":"#REF!"}},{"$error":"#REF!"},{"$f":"#REF!","v":{"$error":"#REF!"}},{"$error":"#REF!"},{"$f":"#REF!","v":{"$error":"#REF!"}},{"$error":"#REF!"},{"$error":"#REF!"},{"$error":"#REF!"}]
[{"$f":"#REF!","v":{"$error":"#REF!"}},{"$f":"IF(#REF!=\"\",\"\",#REF!)","v":{"$error":"#REF!"}},{"$f":"IF(#REF!=\"\",\"\",#REF!)","v":{"$error":"#REF!"}},{"$f":"IF(#REF!=\"\",\"\",#REF!)","v":{"$error":"#REF!"}},{"$f":"#REF!","v":{"$error":"#REF!"}},{"$error":"#REF!"},{"$f":"#REF!","v":{"$error":"#REF!"}},{"$error":"#REF!"},{"$f":"#REF!","v":{"$error":"#REF!"}},{"$error":"#REF!"},{"$error":"#REF!"},{"$error":"#REF!"}]
[{"$f":"#REF!","v":{"$error":"#REF!"}},{"$f":"IF(#REF!=\"\",\"\",#REF!)","v":{"$error":"#REF!"}},{"$f":"IF(#REF!=\"\",\"\",#REF!)","v":{"$error":"#REF!"}},{"$f":"IF(#REF!=\"\",\"\",#REF!)","v":{"$error":"#REF!"}},{"$f":"#REF!","v":{"$error":"#REF!"}},{"$error":"#REF!"},{"$f":"#REF!","v":{"$error":"#REF!"}},{"$error":"#REF!"},{"$f":"#REF!","v":{"$error":"#REF!"}},{"$error":"#REF!"},{"$error":"#REF!"},{"$error":"#REF!"}]
[{"$f":"#REF!","v":{"$error":"#REF!"}},{"$f":"IF(#REF!=\"\",\"\",#REF!)","v":{"$error":"#REF!"}},{"$f":"IF(#REF!=\"\",\"\",#REF!)","v":{"$error":"#REF!"}},{"$f":"IF(#REF!=\"\",\"\",#REF!)","v":{"$error":"#REF!"}},{"$f":"#REF!","v":{"$error":"#REF!"}},{"$error":"#REF!"},{"$f":"#REF!","v":{"$error":"#REF!"}},{"$error":"#REF!"},{"$f":"#REF!","v":{"$error":"#REF!"}},{"$error":"#REF!"},{"$error":"#REF!"},{"$error":"#REF!"}]
[{"$f":"#REF!","v":{"$error":"#REF!"}},{"$f":"IF(#REF!=\"\",\"\",#REF!)","v":{"$error":"#REF!"}},{"$f":"IF(#REF!=\"\",\"\",#REF!)","v":{"$error":"#REF!"}},{"$f":"IF(#REF!=\"\",\"\",#REF!)","v":{"$error":"#REF!"}},{"$f":"#REF!","v":{"$error":"#REF!"}},{"$error":"#REF!"},{"$f":"#REF!","v":{"$error":"#REF!"}},{"$error":"#REF!"},{"$f":"#REF!","v":{"$error":"#REF!"}},{"$error":"#REF!"},{"$error":"#REF!"},{"$error":"#REF!"}]
[{"$f":"#REF!","v":{"$error":"#REF!"}},{"$f":"IF(#REF!=\"\",\"\",#REF!)","v":{"$error":"#REF!"}},{"$f":"IF(#REF!=\"\",\"\",#REF!)","v":{"$error":"#REF!"}},{"$f":"IF(#REF!=\"\",\"\",#REF!)","v":{"$error":"#REF!"}},{"$f":"#REF!","v":{"$error":"#REF!"}},{"$error":"#REF!"},{"$f":"#REF!","v":{"$error":"#REF!"}},{"$error":"#REF!"},{"$f":"#REF!","v":{"$error":"#REF!"}},{"$error":"#REF!"},{"$error":"#REF!"},{"$error":"#REF!"}]
[{"$f":"#REF!","v":{"$error":"#REF!"}},{"$f":"IF(#REF!=\"\",\"\",#REF!)","v":{"$error":"#REF!"}},{"$f":"IF(#REF!=\"\",\"\",#REF!)","v":{"$error":"#REF!"}},{"$f":"IF(#REF!=\"\",\"\",#REF!)","v":{"$error":"#REF!"}},{"$f":"#REF!","v":{"$error":"#REF!"}},{"$error":"#REF!"},{"$f":"#REF!","v":{"$error":"#REF!"}},{"$error":"#REF!"},{"$f":"#REF!","v":{"$error":"#REF!"}},{"$error":"#REF!"},{"$error":"#REF!"},{"$error":"#REF!"}]
[{"$f":"#REF!","v":{"$error":"#REF!"}},{"$f":"IF(#REF!=\"\",\"\",#REF!)","v":{"$error":"#REF!"}},{"$f":"IF(#REF!=\"\",\"\",#REF!)","v":{"$error":"#REF!"}},{"$f":"IF(#REF!=\"\",\"\",#REF!)","v":{"$error":"#REF!"}},{"$f":"#REF!","v":{"$error":"#REF!"}},{"$error":"#REF!"},{"$f":"#REF!","v":{"$error":"#REF!"}},{"$error":"#REF!"},{"$f":"#REF!","v":{"$error":"#REF!"}},{"$error":"#REF!"},{"$error":"#REF!"},{"$error":"#REF!"}]
[{"$f":"#REF!","v":{"$error":"#REF!"}},{"$f":"IF(#REF!=\"\",\"\",#REF!)","v":{"$error":"#REF!"}},{"$f":"IF(#REF!=\"\",\"\",#REF!)","v":{"$error":"#REF!"}},{"$f":"IF(#REF!=\"\",\"\",#REF!)","v":{"$error":"#REF!"}},{"$f":"#REF!","v":{"$error":"#REF!"}},{"$error":"#REF!"},{"$f":"#REF!","v":{"$error":"#REF!"}},{"$error":"#REF!"},{"$f":"#REF!","v":{"$error":"#REF!"}},{"$error":"#REF!"},{"$error":"#REF!"},{"$error":"#REF!"}]
[{"$f":"#REF!","v":{"$error":"#REF!"}},{"$f":"IF(#REF!=\"\",\"\",#REF!)","v":{"$error":"#REF!"}},{"$f":"IF(#REF!=\"\",\"\",#REF!)","v":{"$error":"#REF!"}},{"$f":"IF(#REF!=\"\",\"\",#REF!)","v":{"$error":"#REF!"}},{"$f":"#REF!","v":{"$error":"#REF!"}},{"$error":"#REF!"},{"$f":"#REF!","v":{"$error":"#REF!"}},{"$error":"#REF!"},{"$f":"#REF!","v":{"$error":"#REF!"}},{"$error":"#REF!"},{"$error":"#REF!"},{"$error":"#REF!"}]

{"sheet":"действия оценки май","index":9,"n_rows":33,"n_cols":12,"rows_kept":33,"hidden":true,"merged":[[0,0,0,27],[1,4,1,9],[2,4,2,5],[2,6,2,7],[2,8,2,9],[2,11,2,12],[3,11,3,12],[4,11,4,12],[5,11,5,12],[6,11,6,12],[7,11,7,12],[8,11,8,12],[9,11,9,12],[10,11,10,12],[11,11,11,12],[12,11,12,12],[13,11,13,12],[14,11,14,12],[15,11,15,12],[16,11,16,12],[17,11,17,12],[18,11,18,12],[19,11,19,12],[20,11,20,12],[21,11,21,12],[22,11,22,12],[23,11,23,12],[24,11,24,12],[25,11,25,12],[26,11,26,12],[27,11,27,12],[28,11,28,12],[29,11,29,12],[30,11,30,12],[31,11,31,12],[32,11,32,12]]}
[{"$f":"#REF!","v":{"$error":"#REF!"}}]
[{"$f":"#REF!","v":{"$error":"#REF!"}},{"$f":"#REF!","v":{"$error":"#REF!"}},{"$f":"#REF!","v":{"$error":"#REF!"}},{"$f":"#REF!","v":{"$error":"#REF!"}}]
[{"$f":"#REF!","v":{"$error":"#REF!"}},{"$f":"IF(#REF!=\"\",\"\",#REF!)","v":{"$error":"#REF!"}},{"$f":"IF(#REF!=\"\",\"\",#REF!)","v":{"$error":"#REF!"}},{"$f":"IF(#REF!=\"\",\"\",#REF!)","v":{"$error":"#REF!"}},{"$f":"'[1]сырые баллы'!AM3","v":35},null,{"$f":"'[1]сырые баллы'!AN3","v":36},null,{"$f":"'[1]сырые баллы'!AO3","v":37},null,null,"уровень"]
[{"$f":"#REF!","v":{"$error":"#REF!"}},{"$f":"IF(#REF!=\"\",\"\",#REF!)","v":{"$error":"#REF!"}},{"$f":"IF(#REF!=\"\",\"\",#REF!)","v":{"$error":"#REF!"}},{"$f":"IF(#REF!=\"\",\"\",#REF!)","v":{"$error":"#REF!"}},{"$f":"#REF!","v":{"$error":"#REF!"}},{"$f":"IF(E4=0,\"\",IF(E4=\"а\",1,2))","v":{"$error":"#REF!"}},{"$f":"#REF!","v":{"$error":"#REF!"}},{"$f":"IF(G4=0,\"\",IF(G4=\"а\",1,IF(E4=\"г\",3,2)))","v":{"$error":"#REF!"}},{"$f":"#REF!","v":{"$error":"#REF!"}},{"$f":"IF(I4=0,\"\",IF(I4=\"а\",1,IF(I4=\"б\",3,IF(I4=\"в\",4,IF(I4=\"г\",5,6)))))","v":{"$error":"#REF!"}},{"$f":"IF(SUM(F4:J4)=0,\"\",SUM(F4:J4))","v":{"$error":"#REF!"}},{"$f":"IF(K4=\"\",\"\",IF(K4>=24,\"6 уровень\",IF(AND(K4>=18,K4<24),\"5 уровень\",IF(AND(K4>=13,K4<18),\"4 уровень\",IF(AND(K4>=9,K4<13),\"3 уровень\",IF(AND(K4>=3,K4<9),\"2 уровень\",\"1 уровень\"))))))","v":{"$error":"#REF!"}}]
[{"$f":"#REF!","v":{"$error":"#REF!"}},{"$f":"IF(#REF!=\"\",\"\",#REF!)","v":{"$error":"#REF!"}},{"$f":"IF(#REF!=\"\",\"\",#REF!)","v":{"$error":"#REF!"}},{"$f":"IF(#REF!=\"\",\"\",#REF!)","v":{"$error":"#REF!"}},{"$f":"#REF!","v":{"$error":"#REF!"}},{"$f":"IF(E5=0,\"\",IF(E5=\"а\",1,2))","v":{"$error":"#REF!"}},{"$f":"#REF!","v":{"$error":"#REF!"}},{"$f":"IF(G5=0,\"\",IF(G5=\"а\",1,IF(E5=\"г\",3,2)))","v":{"$error":"#REF!"}},{"$f":"#REF!","v":{"$error":"#REF!"}},{"$f":"IF(I5=0,\"\",IF(I5=\"а\",1,IF(I5=\"б\",3,IF(I5=\"в\",4,IF(I5=\"г\",5,6)))))","v":{"$error":"#REF!"}},{"$f":"IF(SUM(F5:J5)=0,\"\",SUM(F5:J5))","v":{"$error":"#REF!"}},{"$f":"IF(K5=\"\",\"\",IF(K5>=24,\"6 уровень\",IF(AND(K5>=18,K5<24),\"5 уровень\",IF(AND(K5>=13,K5<18),\"4 уровень\",IF(AND(K5>=9,K5<13),\"3 уровень\",IF(AND(K5>=3,K5<9),\"2 уровень\",\"1 уровень\"))))))","v":{"$error":"#REF!"}}]
[{"$f":"#REF!","v":{"$error":"#REF!"}},{"$f":"IF(#REF!=\"\",\"\",#REF!)","v":{"$error":"#REF!"}},{"$f":"IF(#REF!=\"\",\"\",#REF!)","v":{"$error":"#REF!"}},{"$f":"IF(#REF!=\"\",\"\",#REF!)","v":{"$error":"#REF!"}},{"$f":"#REF!","v":{"$error":"#REF!"}},{"$error":"#REF!"},{"$f":"#REF!","v":{"$error":"#REF!"}},{"$error":"#REF!"},{"$f":"#REF!","v":{"$error":"#REF!"}},{"$error":"#REF!"},{"$error":"#REF!"},{"$error":"#REF!"}]
[{"$f":"#REF!","v":{"$error":"#REF!"}},{"$f":"IF(#REF!=\"\",\"\",#REF!)","v":{"$error":"#REF!"}},{"$f":"IF(#REF!=\"\",\"\",#REF!)","v":{"$error":"#REF!"}},{"$f":"IF(#REF!=\"\",\"\",#REF!)","v":{"$error":"#REF!"}},{"$f":"#REF!","v":{"$error":"#REF!"}},{"$error":"#REF!"},{"$f":"#REF!","v":{"$error":"#REF!"}},{"$error":"#REF!"},{"$f":"#REF!","v":{"$error":"#REF!"}},{"$error":"#REF!"},{"$error":"#REF!"},{"$error":"#REF!"}]
[{"$f":"#REF!","v":{"$error":"#REF!"}},{"$f":"IF(#REF!=\"\",\"\",#REF!)","v":{"$error":"#REF!"}},{"$f":"IF(#REF!=\"\",\"\",#REF!)","v":{"$error":"#REF!"}},{"$f":"IF(#REF!=\"\",\"\",#REF!)","v":{"$error":"#REF!"}},{"$f":"#REF!","v":{"$error":"#REF!"}},{"$error":"#REF!"},{"$f":"#REF!","v":{"$error":"#REF!"}},{"$error":"#REF!"},{"$f":"#REF!","v":{"$error":"#REF!"}},{"$error":"#REF!"},{"$error":"#REF!"},{"$error":"#REF!"}]
[{"$f":"#REF!","v":{"$error":"#REF!"}},{"$f":"IF(#REF!=\"\",\"\",#REF!)","v":{"$error":"#REF!"}},{"$f":"IF(#REF!=\"\",\"\",#REF!)","v":{"$error":"#REF!"}},{"$f":"IF(#REF!=\"\",\"\",#REF!)","v":{"$error":"#REF!"}},{"$f":"#REF!","v":{"$error":"#REF!"}},{"$error":"#REF!"},{"$f":"#REF!","v":{"$error":"#REF!"}},{"$error":"#REF!"},{"$f":"#REF!","v":{"$error":"#REF!"}},{"$error":"#REF!"},{"$error":"#REF!"},{"$error":"#REF!"}]
[{"$f":"#REF!","v":{"$error":"#REF!"}},{"$f":"IF(#REF!=\"\",\"\",#REF!)","v":{"$error":"#REF!"}},{"$f":"IF(#REF!=\"\",\"\",#REF!)","v":{"$error":"#REF!"}},{"$f":"IF(#REF!=\"\",\"\",#REF!)","v":{"$error":"#REF!"}},{"$f":"#REF!","v":{"$error":"#REF!"}},{"$error":"#REF!"},{"$f":"#REF!","v":{"$error":"#REF!"}},{"$error":"#REF!"},{"$f":"#REF!","v":{"$error":"#REF!"}},{"$error":"#REF!"},{"$error":"#REF!"},{"$error":"#REF!"}]
[{"$f":"#REF!","v":{"$error":"#REF!"}},{"$f":"IF(#REF!=\"\",\"\",#REF!)","v":{"$error":"#REF!"}},{"$f":"IF(#REF!=\"\",\"\",#REF!)","v":{"$error":"#REF!"}},{"$f":"IF(#REF!=\"\",\"\",#REF!)","v":{"$error":"#REF!"}},{"$f":"#REF!","v":{"$error":"#REF!"}},{"$error":"#REF!"},{"$f":"#REF!","v":{"$error":"#REF!"}},{"$error":"#REF!"},{"$f":"#REF!","v":{"$error":"#REF!"}},{"$error":"#REF!"},{"$error":"#REF!"},{"$error":"#REF!"}]
[{"$f":"#REF!","v":{"$error":"#REF!"}},{"$f":"IF(#REF!=\"\",\"\",#REF!)","v":{"$error":"#REF!"}},{"$f":"IF(#REF!=\"\",\"\",#REF!)","v":{"$error":"#REF!"}},{"$f":"IF(#REF!=\"\",\"\",#REF!)","v":{"$error":"#REF!"}},{"$f":"#REF!","v":{"$error":"#REF!"}},{"$error":"#REF!"},{"$f":"#REF!","v":{"$error":"#REF!"}},{"$error":"#REF!"},{"$f":"#REF!","v":{"$error":"#REF!"}},{"$error":"#REF!"},{"$error":"#REF!"},{"$error":"#REF!"}]
[{"$f":"#REF!","v":{"$error":"#REF!"}},{"$f":"IF(#REF!=\"\",\"\",#REF!)","v":{"$error":"#REF!"}},{"$f":"IF(#REF!=\"\",\"\",#REF!)","v":{"$error":"#REF!"}},{"$f":"IF(#REF!=\"\",\"\",#REF!)","v":{"$error":"#REF!"}},{"$f":"#REF!","v":{"$error":"#REF!"}},{"$error":"#REF!"},{"$f":"#REF!","v":{"$error":"#REF!"}},{"$error":"#REF!"},{"$f":"#REF!","v":{"$error":"#REF!"}},{"$error":"#REF!"},{"$error":"#REF!"},{"$error":"#REF!"}]
[{"$f":"#REF!","v":{"$error":"#REF!"}},{"$f":"IF(#REF!=\"\",\"\",#REF!)","v":{"$error":"#REF!"}},{"$f":"IF(#REF!=\"\",\"\",#REF!)","v":{"$error":"#REF!"}},{"$f":"IF(#REF!=\"\",\"\",#REF!)","v":{"$error":"#REF!"}},{"$f":"#REF!","v":{"$error":"#REF!"}},{"$error":"#REF!"},{"$f":"#REF!","v":{"$error":"#REF!"}},{"$error":"#REF!"},{"$f":"#REF!","v":{"$error":"#REF!"}},{"$error":"#REF!"},{"$error":"#REF!"},{"$error":"#REF!"}]
[{"$f":"#REF!","v":{"$error":"#REF!"}},{"$f":"IF(#REF!=\"\",\"\",#REF!)","v":{"$error":"#REF!"}},{"$f":"IF(#REF!=\"\",\"\",#REF!)","v":{"$error":"#REF!"}},{"$f":"IF(#REF!=\"\",\"\",#REF!)","v":{"$error":"#REF!"}},{"$f":"#REF!","v":{"$error":"#REF!"}},{"$error":"#REF!"},{"$f":"#REF!","v":{"$error":"#REF!"}},{"$error":"#REF!"},{"$f":"#REF!","v":{"$error":"#REF!"}},{"$error":"#REF!"},{"$error":"#REF!"},{"$error":"#REF!"}]
[{"$f":"#REF!","v":{"$error":"#REF!"}},{"$f":"IF(#REF!=\"\",\"\",#REF!)","v":{"$error":"#REF!"}},{"$f":"IF(#REF!=\"\",\"\",#REF!)","v":{"$error":"#REF!"}},{"$f":"IF(#REF!=\"\",\"\",#REF!)","v":{"$error":"#REF!"}},{"$f":"#REF!","v":{"$error":"#REF!"}},{"$error":"#REF!"},{"$f":"#REF!","v":{"$error":"#REF!"}},{"$error":"#REF!"},{"$f":"#REF!","v":{"$error":"#REF!"}},{"$error":"#REF!"},{"$error":"#REF!"},{"$error":"#REF!"}]
[{"$f":"#REF!","v":{"$error":"#REF!"}},{"$f":"IF(#REF!=\"\",\"\",#REF!)","v":{"$error":"#REF!"}},{"$f":"IF(#REF!=\"\",\"\",#REF!)","v":{"$error":"#REF!"}},{"$f":"IF(#REF!=\"\",\"\",#REF!)","v":{"$error":"#REF!"}},{"$f":"#REF!","v":{"$error":"#REF!"}},{"$error":"#REF!"},{"$f":"#REF!","v":{"$error":"#REF!"}},{"$error":"#REF!"},{"$f":"#REF!","v":{"$error":"#REF!"}},{"$error":"#REF!"},{"$error":"#REF!"},{"$error":"#REF!"}]
[{"$f":"#REF!","v":{"$error":"#REF!"}},{"$f":"IF(#REF!=\"\",\"\",#REF!)","v":{"$error":"#REF!"}},{"$f":"IF(#REF!=\"\",\"\",#REF!)","v":{"$error":"#REF!"}},{"$f":"IF(#REF!=\"\",\"\",#REF!)","v":{"$error":"#REF!"}},{"$f":"#REF!","v":{"$error":"#REF!"}},{"$error":"#REF!"},{"$f":"#REF!","v":{"$error":"#REF!"}},{"$error":"#REF!"},{"$f":"#REF!","v":{"$error":"#REF!"}},{"$error":"#REF!"},{"$error":"#REF!"},{"$error":"#REF!"}]
[{"$f":"#REF!","v":{"$error":"#REF!"}},{"$f":"IF(#REF!=\"\",\"\",#REF!)","v":{"$error":"#REF!"}},{"$f":"IF(#REF!=\"\",\"\",#REF!)","v":{"$error":"#REF!"}},{"$f":"IF(#REF!=\"\",\"\",#REF!)","v":{"$error":"#REF!"}},{"$f":"#REF!","v":{"$error":"#REF!"}},{"$error":"#REF!"},{"$f":"#REF!","v":{"$error":"#REF!"}},{"$error":"#REF!"},{"$f":"#REF!","v":{"$error":"#REF!"}},{"$error":"#REF!"},{"$error":"#REF!"},{"$error":"#REF!"}]
[{"$f":"#REF!","v":{"$error":"#REF!"}},{"$f":"IF(#REF!=\"\",\"\",#REF!)","v":{"$error":"#REF!"}},{"$f":"IF(#REF!=\"\",\"\",#REF!)","v":{"$error":"#REF!"}},{"$f":"IF(#REF!=\"\",\"\",#REF!)","v":{"$error":"#REF!"}},{"$f":"#REF!","v":{"$error":"#REF!"}},{"$error":"#REF!"},{"$f":"#REF!","v":{"$error":"#REF!"}},{"$error":"#REF!"},{"$f":"#REF!","v":{"$error":"#REF!"}},{"$error":"#REF!"},{"$error":"#REF!"},{"$error":"#REF!"}]
[{"$f":"#REF!","v":{"$error":"#REF!"}},{"$f":"IF(#REF!=\"\",\"\",#REF!)","v":{"$error":"#REF!"}},{"$f":"IF(#REF!=\"\",\"\",#REF!)","v":{"$error":"#REF!"}},{"$f":"IF(#REF!=\"\",\"\",#REF!)","v":{"$error":"#REF!"}},{"$f":"#REF!","v":{"$error":"#REF!"}},{"$error":"#REF!"},{"$f":"#REF!","v":{"$error":"#REF!"}},{"$error":"#REF!"},{"$f":"#REF!","v":{"$error":"#REF!"}},{"$error":"#REF!"},{"$error":"#REF!"},{"$error":"#REF!"}]
[{"$f":"#REF!","v":{"$error":"#REF!"}},{"$f":"IF(#REF!=\"\",\"\",#REF!)","v":{"$error":"#REF!"}},{"$f":"IF(#REF!=\"\",\"\",#REF!)","v":{"$error":"#REF!"}},{"$f":"IF(#REF!=\"\",\"\",#REF!)","v":{"$error":"#REF!"}},{"$f":"#REF!","v":{"$error":"#REF!"}},{"$error":"#REF!"},{"$f":"#REF!","v":{"$error":"#REF!"}},{"$error":"#REF!"},{"$f":"#REF!","v":{"$error":"#REF!"}},{"$error":"#REF!"},{"$error":"#REF!"},{"$error":"#REF!"}]
[{"$f":"#REF!","v":{"$error":"#REF!"}},{"$f":"IF(#REF!=\"\",\"\",#REF!)","v":{"$error":"#REF!"}},{"$f":"IF(#REF!=\"\",\"\",#REF!)","v":{"$error":"#REF!"}},{"$f":"IF(#REF!=\"\",\"\",#REF!)","v":{"$error":"#REF!"}},{"$f":"#REF!","v":{"$error":"#REF!"}},{"$error":"#REF!"},{"$f":"#REF!","v":{"$error":"#REF!"}},{"$error":"#REF!"},{"$f":"#REF!","v":{"$error":"#REF!"}},{"$error":"#REF!"},{"$error":"#REF!"},{"$error":"#REF!"}]
[{"$f":"#REF!","v":{"$error":"#REF!"}},{"$f":"IF(#REF!=\"\",\"\",#REF!)","v":{"$error":"#REF!"}},{"$f":"IF(#REF!=\"\",\"\",#REF!)","v":{"$error":"#REF!"}},{"$f":"IF(#REF!=\"\",\"\",#REF!)","v":{"$error":"#REF!"}},{"$f":"#REF!","v":{"$error":"#REF!"}},{"$error":"#REF!"},{"$f":"#REF!","v":{"$error":"#REF!"}},{"$error":"#REF!"},{"$f":"#REF!","v":{"$error":"#REF!"}},{"$error":"#REF!"},{"$error":"#REF!"},{"$error":"#REF!"}]
[{"$f":"#REF!","v":{"$error":"#REF!"}},{"$f":"IF(#REF!=\"\",\"\",#REF!)","v":{"$error":"#REF!"}},{"$f":"IF(#REF!=\"\",\"\",#REF!)","v":{"$error":"#REF!"}},{"$f":"IF(#REF!=\"\",\"\",#REF!)","v":{"$error":"#REF!"}},{"$f":"#REF!","v":{"$error":"#REF!"}},{"$error":"#REF!"},{"$f":"#REF!","v":{"$error":"#REF!"}},{"$error":"#REF!"},{"$f":"#REF!","v":{"$error":"#REF!"}},{"$error":"#REF!"},{"$error":"#REF!"},{"$error":"#REF!"}]
[{"$f":"#REF!","v":{"$error":"#REF!"}},{"$f":"IF(#REF!=\"\",\"\",#REF!)","v":{"$error":"#REF!"}},{"$f":"IF(#REF!=\"\",\"\",#REF!)","v":{"$error":"#REF!"}},{"$f":"IF(#REF!=\"\",\"\",#REF!)","v":{"$error":"#REF!"}},{"$f":"#REF!","v":{"$error":"#REF!"}},{"$error":"#REF!"},{"$f":"#REF!","v":{"$error":"#REF!"}},{"$error":"#REF!"},{"$f":"#REF!","v":{"$error":"#REF!"}},{"$error":"#REF!"},{"$error":"#REF!"},{"$error":"#REF!"}]
[{"$f":"#REF!","v":{"$error":"#REF!"}},{"$f":"IF(#REF!=\"\",\"\",#REF!)","v":{"$error":"#REF!"}},{"$f":"IF(#REF!=\"\",\"\",#REF!)","v":{"$error":"#REF!"}},{"$f":"IF(#REF!=\"\",\"\",#REF!)","v":{"$error":"#REF!"}},{"$f":"#REF!","v":{"$error":"#REF!"}},{"$error":"#REF!"},{"$f":"#REF!","v":{"$error":"#REF!"}},{"$error":"#REF!"},{"$f":"#REF!","v":{"$error":"#REF!"}},{"$error":"#REF!"},{"$error":"#REF!"},{"$error":"#REF!"}]
[{"$f":"#REF!","v":{"$error":"#REF!"}},{"$f":"IF(#REF!=\"\",\"\",#REF!)","v":{"$error":"#REF!"}},{"$f":"IF(#REF!=\"\",\"\",#REF!)","v":{"$error":"#REF!"}},{"$f":"IF(#REF!=\"\",\"\",#REF!)","v":{"$error":"#REF!"}},{"$f":"#REF!","v":{"$error":"#REF!"}},{"$error":"#REF!"},{"$f":"#REF!","v":{"$error":"#REF!"}},{"$error":"#REF!"},{"$f":"#REF!","v":{"$error":"#REF!"}},{"$error":"#REF!"},{"$error":"#REF!"},{"$error":"#REF!"}]
[{"$f":"#REF!","v":{"$error":"#REF!"}},{"$f":"IF(#REF!=\"\",\"\",#REF!)","v":{"$error":"#REF!"}},{"$f":"IF(#REF!=\"\",\"\",#REF!)","v":{"$error":"#REF!"}},{"$f":"IF(#REF!=\"\",\"\",#REF!)","v":{"$error":"#REF!"}},{"$f":"#REF!","v":{"$error":"#REF!"}},{"$error":"#REF!"},{"$f":"#REF!","v":{"$error":"#REF!"}},{"$error":"#REF!"},{"$f":"#REF!","v":{"$error":"#REF!"}},{"$error":"#REF!"},{"$error":"#REF!"},{"$error":"#REF!"}]
[{"$f":"#REF!","v":{"$error":"#REF!"}},{"$f":"IF(#REF!=\"\",\"\",#REF!)","v":{"$error":"#REF!"}},{"$f":"IF(#REF!=\"\",\"\",#REF!)","v":{"$error":"#REF!"}},{"$f":"IF(#REF!=\"\",\"\",#REF!)","v":{"$error":"#REF!"}},{"$f":"#REF!","v":{"$error":"#REF!"}},{"$error":"#REF!"},{"$f":"#REF!","v":{"$error":"#REF!"}},{"$error":"#REF!"},{"$f":"#REF!","v":{"$error":"#REF!"}},{"$error":"#REF!"},{"$error":"#REF!"},{"$error":"#REF!"}]
[{"$f":"#REF!","v":{"$error":"#REF!"}},{"$f":"IF(#REF!=\"\",\"\",#REF!)","v":{"$error":"#REF!"}},{"$f":"IF(#REF!=\"\",\"\",#REF!)","v":{"$error":"#REF!"}},{"$f":"IF(#REF!=\"\",\"\",#REF!)","v":{"$error":"#REF!"}},{"$f":"#REF!","v":{"$error":"#REF!"}},{"$error":"#REF!"},{"$f":"#REF!","v":{"$error":"#REF!"}},{"$error":"#REF!"},{"$f":"#REF!","v":{"$error":"#REF!"}},{"$error":"#REF!"},{"$error":"#REF!"},{"$error":"#REF!"}]
[{"$f":"#REF!","v":{"$error":"#REF!"}},{"$f":"IF(#REF!=\"\",\"\",#REF!)","v":{"$error":"#REF!"}},{"$f":"IF(#REF!=\"\",\"\",#REF!)","v":{"$error":"#REF!"}},{"$f":"IF(#REF!=\"\",\"\",#REF!)","v":{"$error":"#REF!"}},{"$f":"#REF!","v":{"$error":"#REF!"}},{"$error":"#REF!"},{"$f":"#REF!","v":{"$error":"#REF!"}},{"$error":"#REF!"},{"$f":"#REF!","v":{"$error":"#REF!"}},{"$error":"#REF!"},{"$error":"#REF!"},{"$error":"#REF!"}]
[{"$f":"#REF!","v":{"$error":"#REF!"}},{"$f":"IF(#REF!=\"\",\"\",#REF!)","v":{"$error":"#REF!"}},{"$f":"IF(#REF!=\"\",\"\",#REF!)","v":{"$error":"#REF!"}},{"$f":"IF(#REF!=\"\",\"\",#REF!)","v":{"$error":"#REF!"}},{"$f":"#REF!","v":{"$error":"#REF!"}},{"$error":"#REF!"},{"$f":"#REF!","v":{"$error":"#REF!"}},{"$error":"#REF!"},{"$f":"#REF!","v":{"$error":"#REF!"}},{"$error":"#REF!"},{"$error":"#REF!"},{"$error":"#REF!"}]

{"sheet":"Целевые ориентиры сводная","index":10,"n_rows":10561,"n_cols":159,"rows_kept":10561,"merged":[[0,0,0,158],[1,0,3,0],[1,1,3,1],[1,25,2,27],[1,41,2,43],[1,57,2,59],[1,80,2,82],[1,99,2,101],[1,117,2,119],[1,156,2,158]]}
["Сформированность показателей развития в соответствии с целевыми ориентирами"]
["№","Возрастная группа ",{"$nulls":23},"Ребенок овладевает основными культурными способами деятельности, проявляет инициативу и самостоятельность в разных видах деятельности - игре, общении, познавательно-исследовательской деятельности, конструировании и др.; способен выбирать себе род занятий, участников по совместной деятельности.",{"$nulls":15},"Ребенок обладает установкой положительного отношения к миру, к разным видам труда, другим людям и самому себе, обладает чувством собственного достоинства; активно взаимодействует со сверстниками и взрослыми, участвует в совместных играх. Способен договариваться, учитывать интересы и чувства других, сопереживать неудачам и радоваться успехам других, адекватно проявляет свои чувства, в том числе чувство веры в себя, старается разрешать конфликты.",{"$nulls":15}," Ребенок обладает развитым воображением, которое реализуется в разных видах деятельности, и прежде всего в игре; ребенок владеет разными формами и видами игры, различает условную и реальную ситуации, умеет подчиняться разным правилам и социальным нормам.",{"$nulls":22}," Ребенок достаточно хорошо владеет устной речью, может выражать свои мысли и желания, может использовать речь для выражения своих мыслей, чувств и желаний, построения речевого высказывания в ситуации общения, может выделять звуки в словах, у ребенка складываются предпосылки грамотности.",{"$nulls":18},"  У ребенка развита крупная и мелкая моторика; он подвижен, вынослив, владеет основными движениями, может контролировать свои движения и управлять ими.",{"$nulls":17},"Ребенок способен к волевым усилиям, может следовать социальным нормам поведения и правилам в разных видах деятельности, во взаимоотношениях со взрослыми и сверстниками, может соблюдать правила безопасного поведения и личной гигиены.",{"$nulls":38},"  Ребенок проявляет любознательность, задает вопросы взрослым и сверстникам, интересуется причинно-следственными связями, пытается самостоятельно придумывать объяснения явлениям природы и поступкам людей; склонен наблюдать, экспериментировать. Обладает начальными знаниями о себе, о природном и социальном мире, в котором он живет; знаком с произведениями детской литературы, обладает элементарными представлениями из области живой природы, естествознания, математики, истории и т.п.; ребенок способен к принятию собственных решений, опираясь на свои знания и умения в различных видах деятельности."]
[null,null,"Проявляет доброжелательность к сверстникам, оказывает помощь, умеет вместе играть и пользоваться игрушками и книжками.","Проявляет интерес к своей семье и родственным связям.","Выбирает и берёт на себя роль в сюжетно-ролевой игре.","Взаимодействует и ладит со сверстниками.","Проявляет интерес к средствам и способам практических действий, экспериментированию с предметами и материалами.","Проявляет активность в экспериментировании.","Конструирует несложные постройки из                  2—3 деталей.","Создаёт постройки «по сюжету» (дом, машина и т.д.).","Выполняет в сотворчестве со взрослым                   поделки из природного материала.","Проявляет участие в уходе за растениями. ","Участвует непосредственно в уходе за                 живыми объектами.","Выявляет самостоятельно отношения равенства и неравенства путём  практического сравнения, зрительного восприятия","Проявляет желание и умение воспроизводить короткие стихи, рассказы.","Проявляет активность в общении.","Самостоятельно рассказывает известную сказку                  по схеме-модели.","Изображает отдельные предметы, простые композиции и незамысловатые по содержанию сюжеты.","Лепит различные предметы, состоящие из 1-3 частей, используя разнообразные приёмы                   лепки.","Создаёт изображения предметов из готовых фигур, украшает заготовки из бумаги разной формы.","Подбирает цвета, соответствующие изображаемым предметам и по собственному желанию.","Участвует в подвижных играх, инициативен, радуется своим успехам в физических упражнениях.","Самостоятельно  выполняет  гигиенические                           процедуры (моет руки, лицо).","Самостоятельно соблюдает элементарные правила поведения во время еды.",{"$nulls":4},"Замечает  ярко  выраженное  настроение взрослых и детей (смеётся, плачет, радуется, сердится).","Проявляет доброжелательность к сверстникам, оказывает помощь, умеет вместе играть и пользоваться игрушками и книжками.","Соблюдает правила поведения в группе и на улице.","Взаимодействует и ладит со сверстниками.","Соблюдает порядок и чистоту в группе и на участке детского сада (убирает на место за собой игрушки, помогает готовить материалы к занятиям, накрывает на стол)","Замечает  существующие  в окружающем мире простые закономерности и зависимости.","Выполняет в сотворчестве со взрослым                   поделки из природного материала.","Отвечает  на  разнообразные  вопросы взрослого (в пределах ближайшего окружения).","Проявляет активность в общении.","Рассказывает содержание произведения с опорой на рисунки в книге, вопросы воспитателя.","Читает наизусть небольшое стихотворение.","Продолжает  или заканчивает начатую                       взрослым сказку, рассказ.",{"$nulls":4},"Замечает  ярко  выраженное  настроение взрослых и детей (смеётся, плачет, радуется, сердится).","Проявляет доброжелательность к сверстникам, оказывает помощь, умеет вместе играть и пользоваться игрушками и книжками.","Соблюдает правила поведения в группе и на улице.","Выбирает и берёт на себя роль в сюжетно-ролевой игре.","Взаимодействует и ладит со сверстниками.","Обогащает игру посредством объединения отдельных действий в единую сюжетную линию","Создаёт постройки «по сюжету» (дом, машина и т.д.).","Проявляет желание и умение воспроизводить короткие стихи, рассказы.","Продолжает  или заканчивает начатую                       взрослым сказку, рассказ.","Изображает отдельные предметы, простые композиции и незамысловатые по содержанию сюжеты.","Создаёт изображения предметов из готовых фигур, украшает заготовки из бумаги разной формы.","Поёт, не отставая и не опережая других.",{"$nulls":4},"Объясняет, зачем нужны органы чувств и части тела.","Называет и употребляет в общении: свои имя, фамилию; имя родителей, воспитателя; членов семьи, указывая родственные связи и свою социальную роль (мама, папа, дедушка, бабушка, сын, дочь).","Называет своё имя, фамилию, возраст; название родного города, села; название группы, которую посещает.","Различает и называет конкретные виды деревьев, кустарников, травянистых                  растений, животных разных групп.","Называет основное строение, признаки                   живого объекта, состояние по сезонам.","Выделяет и называет несколько свойств        предметов путём сравнения и обобщения.","Понимает и использует в речи слова:  больше, чем…, короче, чем...; сначала, потом; вперёд, назад; направо, налево и др.","Отвечает  на  разнообразные  вопросы взрослого (в пределах ближайшего окружения).","Проявляет желание и умение воспроизводить короткие стихи, рассказы.","Проявляет активность в общении.","Отбирает слова в зависимости от контекста            или речевой ситуации.","Оперирует антонимами, синонимами","Рассказывает содержание произведения с опорой на рисунки в книге, вопросы воспитателя.","Называет произведение (в произвольном изложении), прослушав отрывок из него.","Читает наизусть небольшое стихотворение.","Самостоятельно рассказывает известную сказку                  по схеме-модели.","Продолжает  или заканчивает начатую                       взрослым сказку, рассказ.","Знает, называет и правильно использует изобразительные материалы.","Знает и называет названия народных игрушек (матрёшка, дымковская игрушка).",{"$nulls":4},"Собирает одноцветные и разноцветные               пирамидки из 4—5 деталей.","Умеет отделять от большого куска глины небольшие комочки, раскатывать их прямыми                     и круговыми движениями ладоней.","Лепит различные предметы, состоящие из 1-3 частей, используя разнообразные приёмы                   лепки.","Умеет выполнять танцевальные движения: кружиться в парах, притопывать, двигаться под музыку с предметами.","Выполняет правильно все виды основных движений (ходьба, бег, прыжки, метание, лазанье).","Умеет ходить прямо, свободно, не опуская головы в заданном направлении.","Умеет ходить и бегать, сохраняя равновесие при ходьбе и беге по ограниченной плоскости.","Умеет перестроиться в колонну, шеренгу, круг.","Правильно принимает исходные положения,                                            соблюдает направление движения тела и его частей.","Чувствует ритм, изменяет положение тела в такт                                  музыке или под счёт.","Умеет ползать на четвереньках, лазать по                лесенке-стремянке, гимнастической стенке произвольным способом (захват реек кистями рук: четыре пальца сверху, большой снизу; постановка серединой стопы ног на рейку).","Энергично отталкивается в прыжках на двух ногах, выполняет прыжок в длину с места с мягким приземлением","Умеет катать мяч в заданном направлении, ловит мяч кистями рук, многократно ударяет им о пол и ловит его.","Самостоятельно скатывается на санках с горки, скользит по ледяной дорожке с помощью взрослых.","Участвует в подвижных играх, инициативен, радуется своим успехам в физических упражнениях.",{"$nulls":4},"Проявляет доброжелательность к сверстникам, оказывает помощь, умеет вместе играть и пользоваться игрушками и книжками.","Соблюдает правила поведения в группе и на улице.","Взаимодействует и ладит со сверстниками.","Владеет навыками  самообслуживания.","Соблюдает порядок и чистоту в группе и на участке детского сада (убирает на место за собой игрушки, помогает готовить материалы к занятиям, накрывает на стол)","Знает в лицо своих родственников.","Понимает, что чужой человек может быть опасным.","Понимает, что нельзя подходить к открытому окну, выходить на балкон без сопровождения взрослого.","Знает предметы, опасные для маленьких детей (ножи, ножницы, иголки, вилки, спички, зажигалки, лекарства).","Отличает движущуюся машину от стоящей на месте.","Называет сигналы светофора, знает, при каком сигнале можно переходить дорогу","Самостоятельно  выполняет  гигиенические                           процедуры (моет руки, лицо).","Самостоятельно соблюдает элементарные правила поведения во время еды.","Имеет  элементарные  представления о ценности здоровья, закаливании, необходимости соблюдения                         правил гигиены",{"$nulls":4},"Знает в лицо своих родственников.","Понимает, что чужой человек может быть опасным.","Понимает, что нельзя подходить к открытому окну, выходить на балкон без сопровождения взрослого.","Знает предметы, опасные для маленьких детей (ножи, ножницы, иголки, вилки, спички, зажигалки, лекарства).","Отличает движущуюся машину от стоящей на месте.","Называет сигналы светофора, знает, при каком сигнале можно переходить дорогу","Различает и выделяет в объектах и                          предметах семь цветов спектра.","Ориентируется в плоскостных фигурах,           подбирая формы по образцу.","Различает пять геометрических форм и                   четыре фигуры.","Осуществляет сенсорный анализ, выделяя                      ярко выраженные в предметах качества и свойства.","Собирает одноцветные и разноцветные               пирамидки из 4—5 деталей.","Проявляет интерес к средствам и способам практических действий, экспериментированию с предметами и материалами.","Замечает  существующие  в окружающем мире простые закономерности и зависимости.","Составляет  описательные рассказы об объектах.","Проявляет активность в экспериментировании.","Конструирует несложные постройки из                  2—3 деталей.","Различает и называет конкретные виды деревьев, кустарников, травянистых                  растений, животных разных групп.","Называет основное строение, признаки                   живого объекта, состояние по сезонам.","Выделяет причины изменения во внешнем                  виде растения (поникшие листочки,              опавшие цветы).","Определяет состояние живого объекта по сезонам.","Находит и группирует предметы по                 указанным свойствам.","Составляет при помощи взрослого группы               из однородных предметов и выделяет один предмет из группы.","Выделяет и называет несколько свойств        предметов путём сравнения и обобщения.","Находит в окружающей обстановке один и          много одинаковых предметов.","Понимает и использует в речи слова:  больше, чем…, короче, чем...; сначала, потом; вперёд, назад; направо, налево и др.","Различает круг, квадрат, соотносит с предметами, имеющими углы и круглую форму. ","Понимает смысл обозначений: вверху -  внизу, впереди - сзади, слева - справа, верхняя­ -        нижняя полоска.","Понимает смысл слов: утро, вечер, день,  ночь.","Выявляет самостоятельно отношения равенства и неравенства путём  практического сравнения, зрительного восприятия","Отвечает  на  разнообразные  вопросы взрослого (в пределах ближайшего окружения).","Рассказывает содержание произведения с опорой на рисунки в книге, вопросы воспитателя.","Называет произведение (в произвольном изложении), прослушав отрывок из него.","Читает наизусть небольшое стихотворение.","Самостоятельно рассказывает известную сказку                  по схеме-модели.","Продолжает  или заканчивает начатую                       взрослым сказку, рассказ."]
[{"$nulls":25},"сформирован","в стадии формирования","не сформирован",{"$nulls":13},"сформирован","в стадии формирования","не сформирован",{"$nulls":13},"сформирован","в стадии формирования","не сформирован",{"$nulls":20},"сформирован","в стадии формирования","не сформирован",{"$nulls":16},"сформирован","в стадии формирования","не сформирован",{"$nulls":15},"сформирован","в стадии формирования","не сформирован",{"$nulls":36},"сформирован","в стадии формирования","не сформирован"]
[1,"Ранний возраст_1",{"$f":"IF(#REF!=\"\",\"\",IF(#REF!=2,\"сформирован\",IF(#REF!=0,\"не сформирован\", \"в стадии формирования\")))","v":{"$error":"#REF!"}},{"$f":"IF(#REF!=\"\",\"\",IF(#REF!=2,\"сформирован\",IF(#REF!=0,\"не сформирован\", \"в стадии формирования\")))","v":{"$error":"#REF!"}},{"$f":"IF(#REF!=\"\",\"\",IF(#REF!=2,\"сформирован\",IF(#REF!=0,\"не сформирован\", \"в стадии формирования\")))","v":{"$error":"#REF!"}},{"$f":"IF(#REF!=\"\",\"\",IF(#REF!=2,\"сформирован\",IF(#REF!=0,\"не сформирован\", \"в стадии формирования\")))","v":{"$error":"#REF!"}},{"$f":"IF(#REF!=\"\",\"\",IF(#REF!=2,\"сформирован\",IF(#REF!=0,\"не сформирован\", \"в стадии формирования\")))","v":{"$error":"#REF!"}},{"$f":"IF(#REF!=\"\",\"\",IF(#REF!=2,\"сформирован\",IF(#REF!=0,\"не сформирован\", \"в стадии формирования\")))","v":{"$error":"#REF!"}},{"$f":"IF(#REF!=\"\",\"\",IF(#REF!=2,\"сформирован\",IF(#REF!=0,\"не сформирован\", \"в стадии формирования\")))","v":{"$error":"#REF!"}},{"$f":"IF(#REF!=\"\",\"\",IF(#REF!=2,\"сформирован\",IF(#REF!=0,\"не сформирован\", \"в стадии формирования\")))","v":{"$error":"#REF!"}},{"$f":"IF(#REF!=\"\",\"\",IF(#REF!=2,\"сформирован\",IF(#REF!=0,\"не сформирован\", \"в стадии формирования\")))","v":{"$error":"#REF!"}},{"$f":"IF(#REF!=\"\",\"\",IF(#REF!=2,\"сформирован\",IF(#REF!=0,\"не сформирован\", \"в стадии формирования\")))","v":{"$error":"#REF!"}},{"$f":"IF(#REF!=\"\",\"\",IF(#REF!=2,\"сформирован\",IF(#REF!=0,\"не сформирован\", \"в стадии формирования\")))","v":{"$error":"#REF!"}},{"$f":"IF(#REF!=\"\",\"\",IF(#REF!=2,\"сформирован\",IF(#REF!=0,\"не сформирован\", \"в стадии формирования\")))","v":{"$error":"#REF!"}},{"$f":"IF(#REF!=\"\",\"\",IF(#REF!=2,\"сформирован\",IF(#REF!=0,\"не сформирован\", \"в стадии формирования\")))","v":{"$error":"#REF!"}},{"$f":"IF(#REF!=\"\",\"\",IF(#REF!=2,\"сформирован\",IF(#REF!=0,\"не сформирован\", \"в стадии формирования\")))","v":{"$error":"#REF!"}},{"$f":"IF(#REF!=\"\",\"\",IF(#REF!=2,\"сформирован\",IF(#REF!=0,\"не сформирован\", \"в стадии формирования\")))","v":{"$error":"#REF!"}},{"$f":"IF(#REF!=\"\",\"\",IF(#REF!=2,\"сформирован\",IF(#REF!=0,\"не сформирован\", \"в стадии формирования\")))","v":{"$error":"#REF!"}},{"$f":"IF(#REF!=\"\",\"\",IF(#REF!=2,\"сформирован\",IF(#REF!=0,\"не сформирован\", \"в стадии формирования\")))","v":{"$error":"#REF!"}},{"$f":"IF(#REF!=\"\",\"\",IF(#REF!=2,\"сформирован\",IF(#REF!=0,\"не сформирован\", \"в стадии формирования\")))","v":{"$error":"#REF!"}},{"$f":"IF(#REF!=\"\",\"\",IF(#REF!=2,\"сформирован\",IF(#REF!=0,\"не сформирован\", \"в стадии формирования\")))","v":{"$error":"#REF!"}},{"$f":"IF(#REF!=\"\",\"\",IF(#REF!=2,\"сформирован\",IF(#REF!=0,\"не сформирован\", \"в стадии формирования\")))","v":{"$error":"#REF!"}},{"$f":"IF(#REF!=\"\",\"\",IF(#REF!=2,\"сформирован\",IF(#REF!=0,\"не сформирован\", \"в стадии формирования\")))","v":{"$error":"#REF!"}},{"$f":"IF(#REF!=\"\",\"\",IF(#REF!=2,\"сформирован\",IF(#REF!=0,\"не сформирован\", \"в стадии формирования\")))","v":{"$error":"#REF!"}},{"$f":"IF(#REF!=\"\",\"\",IF(#REF!=\"\",\"\",IF(#REF!=\"\",\"\",IF(#REF!=\"\",\"\",IF(#REF!=\"\",\"\",IF(#REF!=\"\",\"\",IF(#REF!=\"\",\"\",IF(#REF!=\"\",\"\",IF(#REF!=\"\",\"\",IF(#REF!=\"\",\"\",IF(#REF!=\"\",\"\",IF(#REF!=\"\",\"\",IF(#REF!=\"\",\"\",IF(#REF!=\"\",\"\",IF(#REF!=\"\",\"\",IF(#REF!=\"\",\"\",IF(#REF!=\"\",\"\",IF(#REF!=\"\",\"\",IF(#REF!=\"\",\"\",IF(#REF!=\"\",\"\",IF(#REF!=\"\",\"\",IF(#REF!=\"\",\"\",(#REF!+#REF!+#REF!+#REF!+#REF!+#REF!+#REF!+#REF!+#REF!+#REF!+#REF!+#REF!+#REF!+#REF!+#REF!+#REF!+#REF!+#REF!+#REF!+#REF!+#REF!)/22))))))))))))))))))))))","v":{"$error":"#REF!"}},{"$f":"'[2]Целевые ориентиры_сводная'!$D$56","v":{"$error":"#DIV/0!"}},{"$f":"'[2]Целевые ориентиры_сводная'!$D$57","v":{"$error":"#DIV/0!"}},{"$f":"'[2]Целевые ориентиры_сводная'!$D$58","v":{"$error":"#DIV/0!"}},{"$nulls":13},{"$f":"'[2]Целевые ориентиры_сводная'!$H$56","v":{"$error":"#DIV/0!"}},{"$f":"'[2]Целевые ориентиры_сводная'!$H$57","v":{"$error":"#DIV/0!"}},{"$f":"'[2]Целевые ориентиры_сводная'!$H$58","v":{"$error":"#DIV/0!"}},{"$nulls":13},{"$f":"'[2]Целевые ориентиры_сводная'!$I$56","v":{"$error":"#DIV/0!"}},{"$f":"'[2]Целевые ориентиры_сводная'!$I$57","v":{"$error":"#DIV/0!"}},{"$f":"'[2]Целевые ориентиры_сводная'!$I$58","v":{"$error":"#DIV/0!"}},{"$nulls":20},{"$f":"'[2]Целевые ориентиры_сводная'!$J$56","v":{"$error":"#DIV/0!"}},{"$f":"'[2]Целевые ориентиры_сводная'!$J$57","v":{"$error":"#DIV/0!"}},{"$f":"'[2]Целевые ориентиры_сводная'!$J$58","v":{"$error":"#DIV/0!"}},{"$nulls":16},{"$f":"'[2]Целевые ориентиры_сводная'!$K$56","v":{"$error":"#DIV/0!"}},{"$f":"'[2]Целевые ориентиры_сводная'!$K$57","v":{"$error":"#DIV/0!"}},{"$f":"'[2]Целевые ориентиры_сводная'!$K$58","v":{"$error":"#DIV/0!"}},{"$nulls":15},{"$f":"'[2]Целевые ориентиры_сводная'!$L$56","v":{"$error":"#DIV/0!"}},{"$f":"'[2]Целевые ориентиры_сводная'!$L$57","v":{"$error":"#DIV/0!"}},{"$f":"'[2]Целевые ориентиры_сводная'!$L$58","v":{"$error":"#DIV/0!"}},{"$nulls":36},{"$f":"'[2]Целевые ориентиры_сводная'!$M$56","v":{"$error":"#DIV/0!"}},{"$f":"'[2]Целевые ориентиры_сводная'!$M$57","v":{"$error":"#DIV/0!"}},{"$f":"'[2]Целевые ориентиры_сводная'!$M$58","v":{"$error":"#DIV/0!"}}]
[2,"Ранний возраст_2",{"$nulls":23},{"$f":"'[3]Целевые ориентиры_сводная'!$D$56","v":{"$error":"#DIV/0!"}},{"$f":"'[3]Целевые ориентиры_сводная'!$D$57","v":{"$error":"#DIV/0!"}},{"$f":"'[3]Целевые ориентиры_сводная'!$D$58","v":{"$error":"#DIV/0!"}},{"$nulls":13},{"$f":"'[3]Целевые ориентиры_сводная'!$H$56","v":{"$error":"#DIV/0!"}},{"$f":"'[3]Целевые ориентиры_сводная'!$H$57","v":{"$error":"#DIV/0!"}},{"$f":"'[3]Целевые ориентиры_сводная'!$H$58","v":{"$error":"#DIV/0!"}},{"$nulls":13},{"$f":"'[3]Целевые ориентиры_сводная'!$I$56","v":{"$error":"#DIV/0!"}},{"$f":"'[3]Целевые ориентиры_сводная'!$I$57","v":{"$error":"#DIV/0!"}},{"$f":"'[3]Целевые ориентиры_сводная'!$I$58","v":{"$error":"#DIV/0!"}},{"$nulls":20},{"$f":"'[3]Целевые ориентиры_сводная'!$J$56","v":{"$error":"#DIV/0!"}},{"$f":"'[3]Целевые ориентиры_сводная'!$J$57","v":{"$error":"#DIV/0!"}},{"$f":"'[3]Целевые ориентиры_сводная'!$J$58","v":{"$error":"#DIV/0!"}},{"$nulls":16},{"$f":"'[3]Целевые ориентиры_сводная'!$K$56","v":{"$error":"#DIV/0!"}},{"$f":"'[3]Целевые ориентиры_сводная'!$K$57","v":{"$error":"#DIV/0!"}},{"$f":"'[3]Целевые ориентиры_сводная'!$K$58","v":{"$error":"#DIV/0!"}},{"$nulls":15},{"$f":"'[3]Целевые ориентиры_сводная'!$L$56","v":{"$error":"#DIV/0!"}},{"$f":"'[3]Целевые ориентиры_сводная'!$L$57","v":{"$error":"#DIV/0!"}},{"$f":"'[3]Целевые ориентиры_сводная'!$L$58","v":{"$error":"#DIV/0!"}},{"$nulls":36},{"$f":"'[3]Целевые ориентиры_сводная'!$M$56","v":{"$error":"#DIV/0!"}},{"$f":"'[3]Целевые ориентиры_сводная'!$M$57","v":{"$error":"#DIV/0!"}},{"$f":"'[3]Целевые ориентиры_сводная'!$M$58","v":{"$error":"#DIV/0!"}}]
[3,"Ранний возраст_3",{"$nulls":23},{"$f":"'[4]Целевые ориентиры_сводная'!$D$56","v":{"$error":"#DIV/0!"}},{"$f":"'[4]Целевые ориентиры_сводная'!$D$57","v":{"$error":"#DIV/0!"}},{"$f":"'[4]Целевые ориентиры_сводная'!$D$58","v":{"$error":"#DIV/0!"}},{"$nulls":13},{"$f":"'[4]Целевые ориентиры_сводная'!$H$56","v":{"$error":"#DIV/0!"}},{"$f":"'[4]Целевые ориентиры_сводная'!$H$57","v":{"$error":"#DIV/0!"}},{"$f":"'[4]Целевые ориентиры_сводная'!$H$58","v":{"$error":"#DIV/0!"}},{"$nulls":13},{"$f":"'[4]Целевые ориентиры_сводная'!$I$56","v":{"$error":"#DIV/0!"}},{"$f":"'[4]Целевые ориентиры_сводная'!$I$57","v":{"$error":"#DIV/0!"}},{"$f":"'[4]Целевые ориентиры_сводная'!$I$58","v":{"$error":"#DIV/0!"}},{"$nulls":20},{"$f":"'[4]Целевые ориентиры_сводная'!$J$56","v":{"$error":"#DIV/0!"}},{"$f":"'[4]Целевые ориентиры_сводная'!$J$57","v":{"$error":"#DIV/0!"}},{"$f":"'[4]Целевые ориентиры_сводная'!$J$58","v":{"$error":"#DIV/0!"}},{"$nulls":16},{"$f":"'[4]Целевые ориентиры_сводная'!$K$56","v":{"$error":"#DIV/0!"}},{"$f":"'[4]Целевые ориентиры_сводная'!$K$57","v":{"$error":"#DIV/0!"}},{"$f":"'[4]Целевые ориентиры_сводная'!$K$58","v":{"$error":"#DIV/0!"}},{"$nulls":15},{"$f":"'[4]Целевые ориентиры_сводная'!$L$56","v":{"$error":"#DIV/0!"}},{"$f":"'[4]Целевые ориентиры_сводная'!$L$57","v":{"$error":"#DIV/0!"}},{"$f":"'[4]Целевые ориентиры_сводная'!$L$58","v":{"$error":"#DIV/0!"}},{"$nulls":36},{"$f":"'[4]Целевые ориентиры_сводная'!$M$56","v":{"$error":"#DIV/0!"}},{"$f":"'[4]Целевые ориентиры_сводная'!$M$57","v":{"$error":"#DIV/0!"}},{"$f":"'[4]Целевые ориентиры_сводная'!$M$58","v":{"$error":"#DIV/0!"}}]
[4,"Ранний возраст_4",{"$nulls":23},{"$f":"'[5]Целевые ориентиры_сводная'!$D$56","v":{"$error":"#DIV/0!"}},{"$f":"'[5]Целевые ориентиры_сводная'!$D$57","v":{"$error":"#DIV/0!"}},{"$f":"'[5]Целевые ориентиры_сводная'!$D$58","v":{"$error":"#DIV/0!"}},{"$nulls":13},{"$f":"'[5]Целевые ориентиры_сводная'!$H$56","v":{"$error":"#DIV/0!"}},{"$f":"'[5]Целевые ориентиры_сводная'!$H$57","v":{"$error":"#DIV/0!"}},{"$f":"'[5]Целевые ориентиры_сводная'!$H$58","v":{"$error":"#DIV/0!"}},{"$nulls":13},{"$f":"'[5]Целевые ориентиры_сводная'!$I$56","v":{"$error":"#DIV/0!"}},{"$f":"'[5]Целевые ориентиры_сводная'!$I$57","v":{"$error":"#DIV/0!"}},{"$f":"'[5]Целевые ориентиры_сводная'!$I$58","v":{"$error":"#DIV/0!"}},{"$nulls":20},{"$f":"'[5]Целевые ориентиры_сводная'!$J$56","v":{"$error":"#DIV/0!"}},{"$f":"'[5]Целевые ориентиры_сводная'!$J$57","v":{"$error":"#DIV/0!"}},{"$f":"'[5]Целевые ориентиры_сводная'!$J$58","v":{"$error":"#DIV/0!"}},{"$nulls":16},{"$f":"'[5]Целевые ориентиры_сводная'!$K$56","v":{"$error":"#DIV/0!"}},{"$f":"'[5]Целевые ориентиры_сводная'!$K$57","v":{"$error":"#DIV/0!"}},{"$f":"'[5]Целевые ориентиры_сводная'!$K$58","v":{"$error":"#DIV/0!"}},{"$nulls":15},{"$f":"'[5]Целевые ориентиры_сводная'!$L$56","v":{"$error":"#DIV/0!"}},{"$f":"'[5]Целевые ориентиры_сводная'!$L$57","v":{"$error":"#DIV/0!"}},{"$f":"'[5]Целевые ориентиры_сводная'!$L$58","v":{"$error":"#DIV/0!"}},{"$nulls":36},{"$f":"'[5]Целевые ориентиры_сводная'!$M$56","v":{"$error":"#DIV/0!"}},{"$f":"'[5]Целевые ориентиры_сводная'!$M$57","v":{"$error":"#DIV/0!"}},{"$f":"'[5]Целевые ориентиры_сводная'!$M$58","v":{"$error":"#DIV/0!"}}]
[5,"Ранний возраст_5",{"$nulls":23},{"$f":"'[6]Целевые ориентиры_сводная'!$D$56","v":{"$error":"#DIV/0!"}},{"$f":"'[6]Целевые ориентиры_сводная'!$D$57","v":{"$error":"#DIV/0!"}},{"$f":"'[6]Целевые ориентиры_сводная'!$D$58","v":{"$error":"#DIV/0!"}},{"$nulls":13},{"$f":"'[6]Целевые ориентиры_сводная'!$H$56","v":{"$error":"#DIV/0!"}},{"$f":"'[6]Целевые ориентиры_сводная'!$H$57","v":{"$error":"#DIV/0!"}},{"$f":"'[6]Целевые ориентиры_сводная'!$H$58","v":{"$error":"#DIV/0!"}},{"$nulls":13},{"$f":"'[6]Целевые ориентиры_сводная'!$I$56","v":{"$error":"#DIV/0!"}},{"$f":"'[6]Целевые ориентиры_сводная'!$I$57","v":{"$error":"#DIV/0!"}},{"$f":"'[6]Целевые ориентиры_сводная'!$I$58","v":{"$error":"#DIV/0!"}},{"$nulls":20},{"$f":"'[6]Целевые ориентиры_сводная'!$J$56","v":{"$error":"#DIV/0!"}},{"$f":"'[6]Целевые ориентиры_сводная'!$J$57","v":{"$error":"#DIV/0!"}},{"$f":"'[6]Целевые ориентиры_сводная'!$J$58","v":{"$error":"#DIV/0!"}},{"$nulls":16},{"$f":"'[6]Целевые ориентиры_сводная'!$K$56","v":{"$error":"#DIV/0!"}},{"$f":"'[6]Целевые ориентиры_сводная'!$K$57","v":{"$error":"#DIV/0!"}},{"$f":"'[6]Целевые ориентиры_сводная'!$K$58","v":{"$error":"#DIV/0!"}},{"$nulls":15},{"$f":"'[6]Целевые ориентиры_сводная'!$L$56","v":{"$error":"#DIV/0!"}},{"$f":"'[6]Целевые ориентиры_сводная'!$L$57","v":{"$error":"#DIV/0!"}},{"$f":"'[6]Целевые ориентиры_сводная'!$L$58","v":{"$error":"#DIV/0!"}},{"$nulls":36},{"$f":"'[6]Целевые ориентиры_сводная'!$M$56","v":{"$error":"#DIV/0!"}},{"$f":"'[6]Целевые ориентиры_сводная'!$M$57","v":{"$error":"#DIV/0!"}},{"$f":"'[6]Целевые ориентиры_сводная'!$M$58","v":{"$error":"#DIV/0!"}}]
[6,"Младшая_1",{"$f":"IF(#REF!=\"\",\"\",IF(#REF!=2,\"сформирован\",IF(#REF!=0,\"не сформирован\", \"в стадии формирования\")))","v":{"$error":"#REF!"}},{"$f":"IF(#REF!=\"\",\"\",IF(#REF!=2,\"сформирован\",IF(#REF!=0,\"не сформирован\", \"в стадии формирования\")))","v":{"$error":"#REF!"}},{"$f":"IF(#REF!=\"\",\"\",IF(#REF!=2,\"сформирован\",IF(#REF!=0,\"не сформирован\", \"в стадии формирования\")))","v":{"$error":"#REF!"}},{"$f":"IF(#REF!=\"\",\"\",IF(#REF!=2,\"сформирован\",IF(#REF!=0,\"не сформирован\", \"в стадии формирования\")))","v":{"$error":"#REF!"}},{"$f":"IF(#REF!=\"\",\"\",IF(#REF!=2,\"сформирован\",IF(#REF!=0,\"не сформирован\", \"в стадии формирования\")))","v":{"$error":"#REF!"}},{"$f":"IF(#REF!=\"\",\"\",IF(#REF!=2,\"сформирован\",IF(#REF!=0,\"не сформирован\", \"в стадии формирования\")))","v":{"$error":"#REF!"}},{"$f":"IF(#REF!=\"\",\"\",IF(#REF!=2,\"сформирован\",IF(#REF!=0,\"не сформирован\", \"в стадии формирования\")))","v":{"$error":"#REF!"}},{"$f":"IF(#REF!=\"\",\"\",IF(#REF!=2,\"сформирован\",IF(#REF!=0,\"не сформирован\", \"в стадии формирования\")))","v":{"$error":"#REF!"}},{"$f":"IF(#REF!=\"\",\"\",IF(#REF!=2,\"сформирован\",IF(#REF!=0,\"не сформирован\", \"в стадии формирования\")))","v":{"$error":"#REF!"}},{"$f":"IF(#REF!=\"\",\"\",IF(#REF!=2,\"сформирован\",IF(#REF!=0,\"не сформирован\", \"в стадии формирования\")))","v":{"$error":"#REF!"}},{"$f":"IF(#REF!=\"\",\"\",IF(#REF!=2,\"сформирован\",IF(#REF!=0,\"не сформирован\", \"в стадии формирования\")))","v":{"$error":"#REF!"}},{"$f":"IF(#REF!=\"\",\"\",IF(#REF!=2,\"сформирован\",IF(#REF!=0,\"не сформирован\", \"в стадии формирования\")))","v":{"$error":"#REF!"}},{"$f":"IF(#REF!=\"\",\"\",IF(#REF!=2,\"сформирован\",IF(#REF!=0,\"не сформирован\", \"в стадии формирования\")))","v":{"$error":"#REF!"}},{"$f":"IF(#REF!=\"\",\"\",IF(#REF!=2,\"сформирован\",IF(#REF!=0,\"не сформирован\", \"в стадии формирования\")))","v":{"$error":"#REF!"}},{"$f":"IF(#REF!=\"\",\"\",IF(#REF!=2,\"сформирован\",IF(#REF!=0,\"не сформирован\", \"в стадии формирования\")))","v":{"$error":"#REF!"}},{"$f":"IF(#REF!=\"\",\"\",IF(#REF!=2,\"сформирован\",IF(#REF!=0,\"не сформирован\", \"в стадии формирования\")))","v":{"$error":"#REF!"}},{"$f":"IF(#REF!=\"\",\"\",IF(#REF!=2,\"сформирован\",IF(#REF!=0,\"не сформирован\", \"в стадии формирования\")))","v":{"$error":"#REF!"}},{"$f":"IF(#REF!=\"\",\"\",IF(#REF!=2,\"сформирован\",IF(#REF!=0,\"не сформирован\", \"в стадии формирования\")))","v":{"$error":"#REF!"}},{"$f":"IF(#REF!=\"\",\"\",IF(#REF!=2,\"сформирован\",IF(#REF!=0,\"не сформирован\", \"в стадии формирования\")))","v":{"$error":"#REF!"}},{"$f":"IF(#REF!=\"\",\"\",IF(#REF!=2,\"сформирован\",IF(#REF!=0,\"не сформирован\", \"в стадии формирования\")))","v":{"$error":"#REF!"}},{"$f":"IF(#REF!=\"\",\"\",IF(#REF!=2,\"сформирован\",IF(#REF!=0,\"не сформирован\", \"в стадии формирования\")))","v":{"$error":"#REF!"}},{"$f":"IF(#REF!=\"\",\"\",IF(#REF!=2,\"сформирован\",IF(#REF!=0,\"не сформирован\", \"в стадии формирования\")))","v":{"$error":"#REF!"}},{"$f":"IF(#REF!=\"\",\"\",IF(#REF!=\"\",\"\",IF(#REF!=\"\",\"\",IF(#REF!=\"\",\"\",IF(#REF!=\"\",\"\",IF(#REF!=\"\",\"\",IF(#REF!=\"\",\"\",IF(#REF!=\"\",\"\",IF(#REF!=\"\",\"\",IF(#REF!=\"\",\"\",IF(#REF!=\"\",\"\",IF(#REF!=\"\",\"\",IF(#REF!=\"\",\"\",IF(#REF!=\"\",\"\",IF(#REF!=\"\",\"\",IF(#REF!=\"\",\"\",IF(#REF!=\"\",\"\",IF(#REF!=\"\",\"\",IF(#REF!=\"\",\"\",IF(#REF!=\"\",\"\",IF(#REF!=\"\",\"\",IF(#REF!=\"\",\"\",(#REF!+#REF!+#REF!+#REF!+#REF!+#REF!+#REF!+#REF!+#REF!+#REF!+#REF!+#REF!+#REF!+#REF!+#REF!+#REF!+#REF!+#REF!+#REF!+#REF!+#REF!)/22))))))))))))))))))))))","v":{"$error":"#REF!"}},{"$f":"'[7]Целевые ориентиры сводная'!$AA$45","v":{"$error":"#DIV/0!"}},{"$f":"'[7]Целевые ориентиры сводная'!$AA$46","v":{"$error":"#DIV/0!"}},{"$f":"'[7]Целевые ориентиры сводная'!$AA$47","v":{"$error":"#DIV/0!"}},{"$nulls":13},{"$f":"'[7]Целевые ориентиры сводная'!$AO$45","v":{"$error":"#DIV/0!"}},{"$f":"'[7]Целевые ориентиры сводная'!$AO$46","v":{"$error":"#DIV/0!"}},{"$f":"'[7]Целевые ориентиры сводная'!$AO$47","v":{"$error":"#DIV/0!"}},{"$nulls":13},{"$f":"'[7]Целевые ориентиры сводная'!$BC$45","v":{"$error":"#DIV/0!"}},{"$f":"'[7]Целевые ориентиры сводная'!$BC$46","v":{"$error":"#DIV/0!"}},{"$f":"'[7]Целевые ориентиры сводная'!$BC$47","v":{"$error":"#DIV/0!"}},{"$nulls":20},{"$f":"'[7]Целевые ориентиры сводная'!$BX$45","v":{"$error":"#DIV/0!"}},{"$f":"'[7]Целевые ориентиры сводная'!$BX$46","v":{"$error":"#DIV/0!"}},{"$f":"'[7]Целевые ориентиры сводная'!$BX$47","v":{"$error":"#DIV/0!"}},{"$nulls":16},{"$f":"'[7]Целевые ориентиры сводная'!$CO$45","v":{"$error":"#DIV/0!"}},{"$f":"'[7]Целевые ориентиры сводная'!$CO$46","v":{"$error":"#DIV/0!"}},{"$f":"'[7]Целевые ориентиры сводная'!$CO$47","v":{"$error":"#DIV/0!"}},{"$nulls":15},{"$f":"'[7]Целевые ориентиры сводная'!$DE$45","v":{"$error":"#DIV/0!"}},{"$f":"'[7]Целевые ориентиры сводная'!$DE$46","v":{"$error":"#DIV/0!"}},{"$f":"'[7]Целевые ориентиры сводная'!$DE$47","v":{"$error":"#DIV/0!"}},{"$nulls":36},{"$f":"'[7]Целевые ориентиры сводная'!$EP$45","v":{"$error":"#DIV/0!"}},{"$f":"'[7]Целевые ориентиры сводная'!$EP$46","v":{"$error":"#DIV/0!"}},{"$f":"'[7]Целевые ориентиры сводная'!$EP$47","v":{"$error":"#DIV/0!"}}]
[7,"Младшая_2",{"$f":"IF(#REF!=\"\",\"\",IF(#REF!=2,\"сформирован\",IF(#REF!=0,\"не сформирован\", \"в стадии формирования\")))","v":{"$error":"#REF!"}},{"$f":"IF(#REF!=\"\",\"\",IF(#REF!=2,\"сформирован\",IF(#REF!=0,\"не сформирован\", \"в стадии формирования\")))","v":{"$error":"#REF!"}},{"$f":"IF(#REF!=\"\",\"\",IF(#REF!=2,\"сформирован\",IF(#REF!=0,\"не сформирован\", \"в стадии формирования\")))","v":{"$error":"#REF!"}},{"$f":"IF(#REF!=\"\",\"\",IF(#REF!=2,\"сформирован\",IF(#REF!=0,\"не сформирован\", \"в стадии формирования\")))","v":{"$error":"#REF!"}},{"$f":"IF(#REF!=\"\",\"\",IF(#REF!=2,\"сформирован\",IF(#REF!=0,\"не сформирован\", \"в стадии формирования\")))","v":{"$error":"#REF!"}},{"$f":"IF(#REF!=\"\",\"\",IF(#REF!=2,\"сформирован\",IF(#REF!=0,\"не сформирован\", \"в стадии формирования\")))","v":{"$error":"#REF!"}},{"$f":"IF(#REF!=\"\",\"\",IF(#REF!=2,\"сформирован\",IF(#REF!=0,\"не сформирован\", \"в стадии формирования\")))","v":{"$error":"#REF!"}},{"$f":"IF(#REF!=\"\",\"\",IF(#REF!=2,\"сформирован\",IF(#REF!=0,\"не сформирован\", \"в стадии формирования\")))","v":{"$error":"#REF!"}},{"$f":"IF(#REF!=\"\",\"\",IF(#REF!=2,\"сформирован\",IF(#REF!=0,\"не сформирован\", \"в стадии формирования\")))","v":{"$error":"#REF!"}},{"$f":"IF(#REF!=\"\",\"\",IF(#REF!=2,\"сформирован\",IF(#REF!=0,\"не сформирован\", \"в стадии формирования\")))","v":{"$error":"#REF!"}},{"$f":"IF(#REF!=\"\",\"\",IF(#REF!=2,\"сформирован\",IF(#REF!=0,\"не сформирован\", \"в стадии формирования\")))","v":{"$error":"#REF!"}},{"$f":"IF(#REF!=\"\",\"\",IF(#REF!=2,\"сформирован\",IF(#REF!=0,\"не сформирован\", \"в стадии формирования\")))","v":{"$error":"#REF!"}},{"$f":"IF(#REF!=\"\",\"\",IF(#REF!=2,\"сформирован\",IF(#REF!=0,\"не сформирован\", \"в стадии формирования\")))","v":{"$error":"#REF!"}},{"$f":"IF(#REF!=\"\",\"\",IF(#REF!=2,\"сформирован\",IF(#REF!=0,\"не сформирован\", \"в стадии формирования\")))","v":{"$error":"#REF!"}},{"$f":"IF(#REF!=\"\",\"\",IF(#REF!=2,\"сформирован\",IF(#REF!=0,\"не сформирован\", \"в стадии формирования\")))","v":{"$error":"#REF!"}},{"$f":"IF(#REF!=\"\",\"\",IF(#REF!=2,\"сформирован\",IF(#REF!=0,\"не сформирован\", \"в стадии формирования\")))","v":{"$error":"#REF!"}},{"$f":"IF(#REF!=\"\",\"\",IF(#REF!=2,\"сформирован\",IF(#REF!=0,\"не сформирован\", \"в стадии формирования\")))","v":{"$error":"#REF!"}},{"$f":"IF(#REF!=\"\",\"\",IF(#REF!=2,\"сформирован\",IF(#REF!=0,\"не сформирован\", \"в стадии формирования\")))","v":{"$error":"#REF!"}},{"$f":"IF(#REF!=\"\",\"\",IF(#REF!=2,\"сформирован\",IF(#REF!=0,\"не сформирован\", \"в стадии формирования\")))","v":{"$error":"#REF!"}},{"$f":"IF(#REF!=\"\",\"\",IF(#REF!=2,\"сформирован\",IF(#REF!=0,\"не сформирован\", \"в стадии формирования\")))","v":{"$error":"#REF!"}},{"$f":"IF(#REF!=\"\",\"\",IF(#REF!=2,\"сформирован\",IF(#REF!=0,\"не сформирован\", \"в стадии формирования\")))","v":{"$error":"#REF!"}},{"$f":"IF(#REF!=\"\",\"\",IF(#REF!=2,\"сформирован\",IF(#REF!=0,\"не сформирован\", \"в стадии формирования\")))","v":{"$error":"#REF!"}},{"$f":"IF(#REF!=\"\",\"\",IF(#REF!=\"\",\"\",IF(#REF!=\"\",\"\",IF(#REF!=\"\",\"\",IF(#REF!=\"\",\"\",IF(#REF!=\"\",\"\",IF(#REF!=\"\",\"\",IF(#REF!=\"\",\"\",IF(#REF!=\"\",\"\",IF(#REF!=\"\",\"\",IF(#REF!=\"\",\"\",IF(#REF!=\"\",\"\",IF(#REF!=\"\",\"\",IF(#REF!=\"\",\"\",IF(#REF!=\"\",\"\",IF(#REF!=\"\",\"\",IF(#REF!=\"\",\"\",IF(#REF!=\"\",\"\",IF(#REF!=\"\",\"\",IF(#REF!=\"\",\"\",IF(#REF!=\"\",\"\",IF(#REF!=\"\",\"\",(#REF!+#REF!+#REF!+#REF!+#REF!+#REF!+#REF!+#REF!+#REF!+#REF!+#REF!+#REF!+#REF!+#REF!+#REF!+#REF!+#REF!+#REF!+#REF!+#REF!+#REF!)/22))))))))))))))))))))))","v":{"$error":"#REF!"}},{"$f":"'[8]Целевые ориентиры сводная'!$AA$45","v":{"$error":"#DIV/0!"}},{"$f":"'[8]Целевые ориентиры сводная'!$AA$46","v":{"$error":"#DIV/0!"}},{"$f":"'[8]Целевые ориентиры сводная'!$AA$47","v":{"$error":"#DIV/0!"}},{"$nulls":13},{"$f":"'[8]Целевые ориентиры сводная'!$AO$45","v":{"$error":"#DIV/0!"}},{"$f":"'[8]Целевые ориентиры сводная'!$AO$46","v":{"$error":"#DIV/0!"}},{"$f":"'[8]Целевые ориентиры сводная'!$AO$47","v":{"$error":"#DIV/0!"}},{"$nulls":13},{"$f":"'[8]Целевые ориентиры сводная'!$BC$45","v":{"$error":"#DIV/0!"}},{"$f":"'[8]Целевые ориентиры сводная'!$BC$46","v":{"$error":"#DIV/0!"}},{"$f":"'[8]Целевые ориентиры сводная'!$BC$47","v":{"$error":"#DIV/0!"}},{"$nulls":20},{"$f":"'[8]Целевые ориентиры сводная'!$BX$45","v":{"$error":"#DIV/0!"}},{"$f":"'[8]Целевые ориентиры сводная'!$BX$46","v":{"$error":"#DIV/0!"}},{"$f":"'[8]Целевые ориентиры сводная'!$BX$47","v":{"$error":"#DIV/0!"}},{"$nulls":16},{"$f":"'[8]Целевые ориентиры сводная'!$CO$45","v":{"$error":"#DIV/0!"}},{"$f":"'[8]Целевые ориентиры сводная'!$CO$46","v":{"$error":"#DIV/0!"}},{"$f":"'[8]Целевые ориентиры сводная'!$CO$47","v":{"$error":"#DIV/0!"}},{"$nulls":15},{"$f":"'[8]Целевые ориентиры сводная'!$DE$45","v":{"$error":"#DIV/0!"}},{"$f":"'[8]Целевые ориентиры сводная'!$DE$46","v":{"$error":"#DIV/0!"}},{"$f":"'[8]Целевые ориентиры сводная'!$DE$47","v":{"$error":"#DIV/0!"}},{"$nulls":36},{"$f":"'[8]Целевые ориентиры сводная'!$EP$45","v":{"$error":"#DIV/0!"}},{"$f":"'[8]Целевые ориентиры сводная'!$EP$46","v":{"$error":"#DIV/0!"}},{"$f":"'[8]Целевые ориентиры сводная'!$EP$47","v":{"$error":"#DIV/0!"}}]
[8,"Младшая_3",{"$f":"IF(#REF!=\"\",\"\",IF(#REF!=2,\"сформирован\",IF(#REF!=0,\"не сформирован\", \"в стадии формирования\")))","v":{"$error":"#REF!"}},{"$f":"IF(#REF!=\"\",\"\",IF(#REF!=2,\"сформирован\",IF(#REF!=0,\"не сформирован\", \"в стадии формирования\")))","v":{"$error":"#REF!"}},{"$f":"IF(#REF!=\"\",\"\",IF(#REF!=2,\"сформирован\",IF(#REF!=0,\"не сформирован\", \"в стадии формирования\")))","v":{"$error":"#REF!"}},{"$f":"IF(#REF!=\"\",\"\",IF(#REF!=2,\"сформирован\",IF(#REF!=0,\"не сформирован\", \"в стадии формирования\")))","v":{"$error":"#REF!"}},{"$f":"IF(#REF!=\"\",\"\",IF(#REF!=2,\"сформирован\",IF(#REF!=0,\"не сформирован\", \"в стадии формирования\")))","v":{"$error":"#REF!"}},{"$f":"IF(#REF!=\"\",\"\",IF(#REF!=2,\"сформирован\",IF(#REF!=0,\"не сформирован\", \"в стадии формирования\")))","v":{"$error":"#REF!"}},{"$f":"IF(#REF!=\"\",\"\",IF(#REF!=2,\"сформирован\",IF(#REF!=0,\"не сформирован\", \"в стадии формирования\")))","v":{"$error":"#REF!"}},{"$f":"IF(#REF!=\"\",\"\",IF(#REF!=2,\"сформирован\",IF(#REF!=0,\"не сформирован\", \"в стадии формирования\")))","v":{"$error":"#REF!"}},{"$f":"IF(#REF!=\"\",\"\",IF(#REF!=2,\"сформирован\",IF(#REF!=0,\"не сформирован\", \"в стадии формирования\")))","v":{"$error":"#REF!"}},{"$f":"IF(#REF!=\"\",\"\",IF(#REF!=2,\"сформирован\",IF(#REF!=0,\"не сформирован\", \"в стадии формирования\")))","v":{"$error":"#REF!"}},{"$f":"IF(#REF!=\"\",\"\",IF(#REF!=2,\"сформирован\",IF(#REF!=0,\"не сформирован\", \"в стадии формирования\")))","v":{"$error":"#REF!"}},{"$f":"IF(#REF!=\"\",\"\",IF(#REF!=2,\"сформирован\",IF(#REF!=0,\"не сформирован\", \"в стадии формирования\")))","v":{"$error":"#REF!"}},{"$f":"IF(#REF!=\"\",\"\",IF(#REF!=2,\"сформирован\",IF(#REF!=0,\"не сформирован\", \"в стадии формирования\")))","v":{"$error":"#REF!"}},{"$f":"IF(#REF!=\"\",\"\",IF(#REF!=2,\"сформирован\",IF(#REF!=0,\"не сформирован\", \"в стадии формирования\")))","v":{"$error":"#REF!"}},{"$f":"IF(#REF!=\"\",\"\",IF(#REF!=2,\"сформирован\",IF(#REF!=0,\"не сформирован\", \"в стадии формирования\")))","v":{"$error":"#REF!"}},{"$f":"IF(#REF!=\"\",\"\",IF(#REF!=2,\"сформирован\",IF(#REF!=0,\"не сформирован\", \"в стадии формирования\")))","v":{"$error":"#REF!"}},{"$f":"IF(#REF!=\"\",\"\",IF(#REF!=2,\"сформирован\",IF(#REF!=0,\"не сформирован\", \"в стадии формирования\")))","v":{"$error":"#REF!"}},{"$f":"IF(#REF!=\"\",\"\",IF(#REF!=2,\"сформирован\",IF(#REF!=0,\"не сформирован\", \"в стадии формирования\")))","v":{"$error":"#REF!"}},{"$f":"IF(#REF!=\"\",\"\",IF(#REF!=2,\"сформирован\",IF(#REF!=0,\"не сформирован\", \"в стадии формирования\")))","v":{"$error":"#REF!"}},{"$f":"IF(#REF!=\"\",\"\",IF(#REF!=2,\"сформирован\",IF(#REF!=0,\"не сформирован\", \"в стадии формирования\")))","v":{"$error":"#REF!"}},{"$f":"IF(#REF!=\"\",\"\",IF(#REF!=2,\"сформирован\",IF(#REF!=0,\"не сформирован\", \"в стадии формирования\")))","v":{"$error":"#REF!"}},{"$f":"IF(#REF!=\"\",\"\",IF(#REF!=2,\"сформирован\",IF(#REF!=0,\"не сформирован\", \"в стадии формирования\")))","v":{"$error":"#REF!"}},{"$f":"IF(#REF!=\"\",\"\",IF(#REF!=\"\",\"\",IF(#REF!=\"\",\"\",IF(#REF!=\"\",\"\",IF(#REF!=\"\",\"\",IF(#REF!=\"\",\"\",IF(#REF!=\"\",\"\",IF(#REF!=\"\",\"\",IF(#REF!=\"\",\"\",IF(#REF!=\"\",\"\",IF(#REF!=\"\",\"\",IF(#REF!=\"\",\"\",IF(#REF!=\"\",\"\",IF(#REF!=\"\",\"\",IF(#REF!=\"\",\"\",IF(#REF!=\"\",\"\",IF(#REF!=\"\",\"\",IF(#REF!=\"\",\"\",IF(#REF!=\"\",\"\",IF(#REF!=\"\",\"\",IF(#REF!=\"\",\"\",IF(#REF!=\"\",\"\",(#REF!+#REF!+#REF!+#REF!+#REF!+#REF!+#REF!+#REF!+#REF!+#REF!+#REF!+#REF!+#REF!+#REF!+#REF!+#REF!+#REF!+#REF!+#REF!+#REF!+#REF!)/22))))))))))))))))))))))","v":{"$error":"#REF!"}},{"$f":"'[9]Целевые ориентиры сводная'!$AA$45","v":{"$error":"#DIV/0!"}},{"$f":"'[9]Целевые ориентиры сводная'!$AA$46","v":{"$error":"#DIV/0!"}},{"$f":"'[9]Целевые ориентиры сводная'!$AA$47","v":{"$error":"#DIV/0!"}},{"$nulls":13},{"$f":"'[9]Целевые ориентиры сводная'!$AO$45","v":{"$error":"#DIV/0!"}},{"$f":"'[9]Целевые ориентиры сводная'!$AO$46","v":{"$error":"#DIV/0!"}},{"$f":"'[9]Целевые ориентиры сводная'!$AO$47","v":{"$error":"#DIV/0!"}},{"$nulls":13},{"$f":"'[9]Целевые ориентиры сводная'!$BC$45","v":{"$error":"#DIV/0!"}},{"$f":"'[9]Целевые ориентиры сводная'!$BC$46","v":{"$error":"#DIV/0!"}},{"$f":"'[9]Целевые ориентиры сводная'!$BC$47","v":{"$error":"#DIV/0!"}},{"$nulls":20},{"$f":"'[9]Целевые ориентиры сводная'!$BX$45","v":{"$error":"#DIV/0!"}},{"$f":"'[9]Целевые ориентиры сводная'!$BX$46","v":{"$error":"#DIV/0!"}},{"$f":"'[9]Целевые ориентиры сводная'!$BX$47","v":{"$error":"#DIV/0!"}},{"$nulls":16},{"$f":"'[9]Целевые ориентиры сводная'!$CO$45","v":{"$error":"#DIV/0!"}},{"$f":"'[9]Целевые ориентиры сводная'!$CO$46","v":{"$error":"#DIV/0!"}},{"$f":"'[9]Целевые ориентиры сводная'!$CO$47","v":{"$error":"#DIV/0!"}},{"$nulls":15},{"$f":"'[9]Целевые ориентиры сводная'!$DE$45","v":{"$error":"#DIV/0!"}},{"$f":"'[9]Целевые ориентиры сводная'!$DE$46","v":{"$error":"#DIV/0!"}},{"$f":"'[9]Целевые ориентиры сводная'!$DE$47","v":{"$error":"#DIV/0!"}},{"$nulls":36},{"$f":"'[9]Целевые ориентиры сводная'!$EP$45","v":{"$error":"#DIV/0!"}},{"$f":"'[9]Целевые ориентиры сводная'!$EP$46","v":{"$error":"#DIV/0!"}},{"$f":"'[9]Целевые ориентиры сводная'!$EP$47","v":{"$error":"#DIV/0!"}}]
[9,"Младшая_4",{"$nulls":23},{"$f":"'[10]Целевые ориентиры сводная'!$AA$45","v":{"$error":"#DIV/0!"}},{"$f":"'[10]Целевые ориентиры сводная'!$AA$46","v":{"$error":"#DIV/0!"}},{"$f":"'[10]Целевые ориентиры сводная'!$AA$47","v":{"$error":"#DIV/0!"}},{"$nulls":13},{"$f":"'[10]Целевые ориентиры сводная'!$AO$45","v":{"$error":"#DIV/0!"}},{"$f":"'[10]Целевые ориентиры сводная'!$AO$46","v":{"$error":"#DIV/0!"}},{"$f":"'[10]Целевые ориентиры сводная'!$AO$47","v":{"$error":"#DIV/0!"}},{"$nulls":13},{"$f":"'[10]Целевые ориентиры сводная'!$BC$45","v":{"$error":"#DIV/0!"}},{"$f":"'[10]Целевые ориентиры сводная'!$BC$46","v":{"$error":"#DIV/0!"}},{"$f":"'[10]Целевые ориентиры сводная'!$BC$47","v":{"$error":"#DIV/0!"}},{"$nulls":20},{"$f":"'[10]Целевые ориентиры сводная'!$BX$45","v":{"$error":"#DIV/0!"}},{"$f":"'[10]Целевые ориентиры сводная'!$BX$46","v":{"$error":"#DIV/0!"}},{"$f":"'[10]Целевые ориентиры сводная'!$BX$47","v":{"$error":"#DIV/0!"}},{"$nulls":16},{"$f":"'[10]Целевые ориентиры сводная'!$CO$45","v":{"$error":"#DIV/0!"}},{"$f":"'[10]Целевые ориентиры сводная'!$CO$46","v":{"$error":"#DIV/0!"}},{"$f":"'[10]Целевые ориентиры сводная'!$CO$47","v":{"$error":"#DIV/0!"}},{"$nulls":15},{"$f":"'[10]Целевые ориентиры сводная'!$DE$45","v":{"$error":"#DIV/0!"}},{"$f":"'[10]Целевые ориентиры сводная'!$DE$46","v":{"$error":"#DIV/0!"}},{"$f":"'[10]Целевые ориентиры сводная'!$DE$47","v":{"$error":"#DIV/0!"}},{"$nulls":36},{"$f":"'[10]Целевые ориентиры сводная'!$EP$45","v":{"$error":"#DIV/0!"}},{"$f":"'[10]Целевые ориентиры сводная'!$EP$46","v":{"$error":"#DIV/0!"}},{"$f":"'[10]Целевые ориентиры сводная'!$EP$47","v":{"$error":"#DIV/0!"}}]
[10,"Младшая_5",{"$nulls":23},{"$f":"'[11]Целевые ориентиры сводная'!$AA$45","v":{"$error":"#DIV/0!"}},{"$f":"'[11]Целевые ориентиры сводная'!$AA$46","v":{"$error":"#DIV/0!"}},{"$f":"'[11]Целевые ориентиры сводная'!$AA$47","v":{"$error":"#DIV/0!"}},{"$nulls":13},{"$f":"'[11]Целевые ориентиры сводная'!$AO$45","v":{"$error":"#DIV/0!"}},{"$f":"'[11]Целевые ориентиры сводная'!$AO$46","v":{"$error":"#DIV/0!"}},{"$f":"'[11]Целевые ориентиры сводная'!$AO$47","v":{"$error":"#DIV/0!"}},{"$nulls":13},{"$f":"'[11]Целевые ориентиры сводная'!$BC$45","v":{"$error":"#DIV/0!"}},{"$f":"'[11]Целевые ориентиры сводная'!$BC$46","v":{"$error":"#DIV/0!"}},{"$f":"'[11]Целевые ориентиры сводная'!$BC$47","v":{"$error":"#DIV/0!"}},{"$nulls":20},{"$f":"'[11]Целевые ориентиры сводная'!$BX$45","v":{"$error":"#DIV/0!"}},{"$f":"'[11]Целевые ориентиры сводная'!$BX$46","v":{"$error":"#DIV/0!"}},{"$f":"'[11]Целевые ориентиры сводная'!$BX$47","v":{"$error":"#DIV/0!"}},{"$nulls":16},{"$f":"'[11]Целевые ориентиры сводная'!$CO$45","v":{"$error":"#DIV/0!"}},{"$f":"'[11]Целевые ориентиры сводная'!$CO$46","v":{"$error":"#DIV/0!"}},{"$f":"'[11]Целевые ориентиры сводная'!$CO$47","v":{"$error":"#DIV/0!"}},{"$nulls":15},{"$f":"'[11]Целевые ориентиры сводная'!$DE$45","v":{"$error":"#DIV/0!"}},{"$f":"'[11]Целевые ориентиры сводная'!$DE$46","v":{"$error":"#DIV/0!"}},{"$f":"'[11]Целевые ориентиры сводная'!$DE$47","v":{"$error":"#DIV/0!"}},{"$nulls":36},{"$f":"'[11]Целевые ориентиры сводная'!$EP$45","v":{"$error":"#DIV/0!"}},{"$f":"'[11]Целевые ориентиры сводная'!$EP$46","v":{"$error":"#DIV/0!"}},{"$f":"'[11]Целевые ориентиры сводная'!$EP$47","v":{"$error":"#DIV/0!"}}]
[11,"Средняя_1",{"$f":"IF(#REF!=\"\",\"\",IF(#REF!=2,\"сформирован\",IF(#REF!=0,\"не сформирован\", \"в стадии формирования\")))","v":{"$error":"#REF!"}},{"$f":"IF(#REF!=\"\",\"\",IF(#REF!=2,\"сформирован\",IF(#REF!=0,\"не сформирован\", \"в стадии формирования\")))","v":{"$error":"#REF!"}},{"$f":"IF(#REF!=\"\",\"\",IF(#REF!=2,\"сформирован\",IF(#REF!=0,\"не сформирован\", \"в стадии формирования\")))","v":{"$error":"#REF!"}},{"$f":"IF(#REF!=\"\",\"\",IF(#REF!=2,\"сформирован\",IF(#REF!=0,\"не сформирован\", \"в стадии формирования\")))","v":{"$error":"#REF!"}},{"$f":"IF(#REF!=\"\",\"\",IF(#REF!=2,\"сформирован\",IF(#REF!=0,\"не сформирован\", \"в стадии формирования\")))","v":{"$error":"#REF!"}},{"$f":"IF(#REF!=\"\",\"\",IF(#REF!=2,\"сформирован\",IF(#REF!=0,\"не сформирован\", \"в стадии формирования\")))","v":{"$error":"#REF!"}},{"$f":"IF(#REF!=\"\",\"\",IF(#REF!=2,\"сформирован\",IF(#REF!=0,\"не сформирован\", \"в стадии формирования\")))","v":{"$error":"#REF!"}},{"$f":"IF(#REF!=\"\",\"\",IF(#REF!=2,\"сформирован\",IF(#REF!=0,\"не сформирован\", \"в стадии формирования\")))","v":{"$error":"#REF!"}},{"$f":"IF(#REF!=\"\",\"\",IF(#REF!=2,\"сформирован\",IF(#REF!=0,\"не сформирован\", \"в стадии формирования\")))","v":{"$error":"#REF!"}},{"$f":"IF(#REF!=\"\",\"\",IF(#REF!=2,\"сформирован\",IF(#REF!=0,\"не сформирован\", \"в стадии формирования\")))","v":{"$error":"#REF!"}},{"$f":"IF(#REF!=\"\",\"\",IF(#REF!=2,\"сформирован\",IF(#REF!=0,\"не сформирован\", \"в стадии формирования\")))","v":{"$error":"#REF!"}},{"$f":"IF(#REF!=\"\",\"\",IF(#REF!=2,\"сформирован\",IF(#REF!=0,\"не сформирован\", \"в стадии формирования\")))","v":{"$error":"#REF!"}},{"$f":"IF(#REF!=\"\",\"\",IF(#REF!=2,\"сформирован\",IF(#REF!=0,\"не сформирован\", \"в стадии формирования\")))","v":{"$error":"#REF!"}},{"$f":"IF(#REF!=\"\",\"\",IF(#REF!=2,\"сформирован\",IF(#REF!=0,\"не сформирован\", \"в стадии формирования\")))","v":{"$error":"#REF!"}},{"$f":"IF(#REF!=\"\",\"\",IF(#REF!=2,\"сформирован\",IF(#REF!=0,\"не сформирован\", \"в стадии формирования\")))","v":{"$error":"#REF!"}},{"$f":"IF(#REF!=\"\",\"\",IF(#REF!=2,\"сформирован\",IF(#REF!=0,\"не сформирован\", \"в стадии формирования\")))","v":{"$error":"#REF!"}},{"$f":"IF(#REF!=\"\",\"\",IF(#REF!=2,\"сформирован\",IF(#REF!=0,\"не сформирован\", \"в стадии формирования\")))","v":{"$error":"#REF!"}},{"$f":"IF(#REF!=\"\",\"\",IF(#REF!=2,\"сформирован\",IF(#REF!=0,\"не сформирован\", \"в стадии формирования\")))","v":{"$error":"#REF!"}},{"$f":"IF(#REF!=\"\",\"\",IF(#REF!=2,\"сформирован\",IF(#REF!=0,\"не сформирован\", \"в стадии формирования\")))","v":{"$error":"#REF!"}},{"$f":"IF(#REF!=\"\",\"\",IF(#REF!=2,\"сформирован\",IF(#REF!=0,\"не сформирован\", \"в стадии формирования\")))","v":{"$error":"#REF!"}},{"$f":"IF(#REF!=\"\",\"\",IF(#REF!=2,\"сформирован\",IF(#REF!=0,\"не сформирован\", \"в стадии формирования\")))","v":{"$error":"#REF!"}},{"$f":"IF(#REF!=\"\",\"\",IF(#REF!=2,\"сформирован\",IF(#REF!=0,\"не сформирован\", \"в стадии формирования\")))","v":{"$error":"#REF!"}},{"$f":"IF(#REF!=\"\",\"\",IF(#REF!=\"\",\"\",IF(#REF!=\"\",\"\",IF(#REF!=\"\",\"\",IF(#REF!=\"\",\"\",IF(#REF!=\"\",\"\",IF(#REF!=\"\",\"\",IF(#REF!=\"\",\"\",IF(#REF!=\"\",\"\",IF(#REF!=\"\",\"\",IF(#REF!=\"\",\"\",IF(#REF!=\"\",\"\",IF(#REF!=\"\",\"\",IF(#REF!=\"\",\"\",IF(#REF!=\"\",\"\",IF(#REF!=\"\",\"\",IF(#REF!=\"\",\"\",IF(#REF!=\"\",\"\",IF(#REF!=\"\",\"\",IF(#REF!=\"\",\"\",IF(#REF!=\"\",\"\",IF(#REF!=\"\",\"\",(#REF!+#REF!+#REF!+#REF!+#REF!+#REF!+#REF!+#REF!+#REF!+#REF!+#REF!+#REF!+#REF!+#REF!+#REF!+#REF!+#REF!+#REF!+#REF!+#REF!+#REF!)/22))))))))))))))))))))))","v":{"$error":"#REF!"}},{"$f":"'[12]целевые ориентиры_сводная'!$S$57","v":{"$error":"#DIV/0!"}},{"$f":"'[12]целевые ориентиры_сводная'!$S$58","v":{"$error":"#DIV/0!"}},{"$f":"'[12]целевые ориентиры_сводная'!$S$59","v":{"$error":"#DIV/0!"}},{"$nulls":13},{"$f":"'[12]целевые ориентиры_сводная'!$AE$57","v":{"$error":"#DIV/0!"}},{"$f":"'[12]целевые ориентиры_сводная'!$AE$58","v":{"$error":"#DIV/0!"}},{"$f":"'[12]целевые ориентиры_сводная'!$AE$59","v":{"$error":"#DIV/0!"}},{"$nulls":13},{"$f":"'[12]целевые ориентиры_сводная'!$AQ$57","v":{"$error":"#DIV/0!"}},{"$f":"'[12]целевые ориентиры_сводная'!$AQ$58","v":{"$error":"#DIV/0!"}},{"$f":"'[12]целевые ориентиры_сводная'!$AQ$59","v":{"$error":"#DIV/0!"}},{"$nulls":20},{"$f":"'[12]целевые ориентиры_сводная'!$BA$57","v":{"$error":"#DIV/0!"}},{"$f":"'[12]целевые ориентиры_сводная'!$BA$58","v":{"$error":"#DIV/0!"}},{"$f":"'[12]целевые ориентиры_сводная'!$BA$59","v":{"$error":"#DIV/0!"}},{"$nulls":16},{"$f":"'[12]целевые ориентиры_сводная'!$BP$57","v":{"$error":"#DIV/0!"}},{"$f":"'[12]целевые ориентиры_сводная'!$BP$58","v":{"$error":"#DIV/0!"}},{"$f":"'[12]целевые ориентиры_сводная'!$BP$59","v":{"$error":"#DIV/0!"}},{"$nulls":15},{"$f":"'[12]целевые ориентиры_сводная'!$CF$57","v":{"$error":"#DIV/0!"}},{"$f":"'[12]целевые ориентиры_сводная'!$CF$58","v":{"$error":"#DIV/0!"}},{"$f":"'[12]целевые ориентиры_сводная'!$CF$59","v":{"$error":"#DIV/0!"}},{"$nulls":36},{"$f":"'[12]целевые ориентиры_сводная'!$DI$57","v":{"$error":"#DIV/0!"}},{"$f":"'[12]целевые ориентиры_сводная'!$DI$58","v":{"$error":"#DIV/0!"}},{"$f":"'[12]целевые ориентиры_сводная'!$DI$59","v":{"$error":"#DIV/0!"}}]
[12,"Средняя_2",{"$f":"IF(#REF!=\"\",\"\",IF(#REF!=2,\"сформирован\",IF(#REF!=0,\"не сформирован\", \"в стадии формирования\")))","v":{"$error":"#REF!"}},{"$f":"IF(#REF!=\"\",\"\",IF(#REF!=2,\"сформирован\",IF(#REF!=0,\"не сформирован\", \"в стадии формирования\")))","v":{"$error":"#REF!"}},{"$f":"IF(#REF!=\"\",\"\",IF(#REF!=2,\"сформирован\",IF(#REF!=0,\"не сформирован\", \"в стадии формирования\")))","v":{"$error":"#REF!"}},{"$f":"IF(#REF!=\"\",\"\",IF(#REF!=2,\"сформирован\",IF(#REF!=0,\"не сформирован\", \"в стадии формирования\")))","v":{"$error":"#REF!"}},{"$f":"IF(#REF!=\"\",\"\",IF(#REF!=2,\"сформирован\",IF(#REF!=0,\"не сформирован\", \"в стадии формирования\")))","v":{"$error":"#REF!"}},{"$f":"IF(#REF!=\"\",\"\",IF(#REF!=2,\"сформирован\",IF(#REF!=0,\"не сформирован\", \"в стадии формирования\")))","v":{"$error":"#REF!"}},{"$f":"IF(#REF!=\"\",\"\",IF(#REF!=2,\"сформирован\",IF(#REF!=0,\"не сформирован\", \"в стадии формирования\")))","v":{"$error":"#REF!"}},{"$f":"IF(#REF!=\"\",\"\",IF(#REF!=2,\"сформирован\",IF(#REF!=0,\"не сформирован\", \"в стадии формирования\")))","v":{"$error":"#REF!"}},{"$f":"IF(#REF!=\"\",\"\",IF(#REF!=2,\"сформирован\",IF(#REF!=0,\"не сформирован\", \"в стадии формирования\")))","v":{"$error":"#REF!"}},{"$f":"IF(#REF!=\"\",\"\",IF(#REF!=2,\"сформирован\",IF(#REF!=0,\"не сформирован\", \"в стадии формирования\")))","v":{"$error":"#REF!"}},{"$f":"IF(#REF!=\"\",\"\",IF(#REF!=2,\"сформирован\",IF(#REF!=0,\"не сформирован\", \"в стадии формирования\")))","v":{"$error":"#REF!"}},{"$f":"IF(#REF!=\"\",\"\",IF(#REF!=2,\"сформирован\",IF(#REF!=0,\"не сформирован\", \"в стадии формирования\")))","v":{"$error":"#REF!"}},{"$f":"IF(#REF!=\"\",\"\",IF(#REF!=2,\"сформирован\",IF(#REF!=0,\"не сформирован\", \"в стадии формирования\")))","v":{"$error":"#REF!"}},{"$f":"IF(#REF!=\"\",\"\",IF(#REF!=2,\"сформирован\",IF(#REF!=0,\"не сформирован\", \"в стадии формирования\")))","v":{"$error":"#REF!"}},{"$f":"IF(#REF!=\"\",\"\",IF(#REF!=2,\"сформирован\",IF(#REF!=0,\"не сформирован\", \"в стадии формирования\")))","v":{"$error":"#REF!"}},{"$f":"IF(#REF!=\"\",\"\",IF(#REF!=2,\"сформирован\",IF(#REF!=0,\"не сформирован\", \"в стадии формирования\")))","v":{"$error":"#REF!"}},{"$f":"IF(#REF!=\"\",\"\",IF(#REF!=2,\"сформирован\",IF(#REF!=0,\"не сформирован\", \"в стадии формирования\")))","v":{"$error":"#REF!"}},{"$f":"IF(#REF!=\"\",\"\",IF(#REF!=2,\"сформирован\",IF(#REF!=0,\"не сформирован\", \"в стадии формирования\")))","v":{"$error":"#REF!"}},{"$f":"IF(#REF!=\"\",\"\",IF(#REF!=2,\"сформирован\",IF(#REF!=0,\"не сформирован\", \"в стадии формирования\")))","v":{"$error":"#REF!"}},{"$f":"IF(#REF!=\"\",\"\",IF(#REF!=2,\"сформирован\",IF(#REF!=0,\"не сформирован\", \"в стадии формирования\")))","v":{"$error":"#REF!"}},{"$f":"IF(#REF!=\"\",\"\",IF(#REF!=2,\"сформирован\",IF(#REF!=0,\"не сформирован\", \"в стадии формирования\")))","v":{"$error":"#REF!"}},{"$f":"IF(#REF!=\"\",\"\",IF(#REF!=2,\"сформирован\",IF(#REF!=0,\"не сформирован\", \"в стадии формирования\")))","v":{"$error":"#REF!"}},{"$f":"IF(#REF!=\"\",\"\",IF(#REF!=\"\",\"\",IF(#REF!=\"\",\"\",IF(#REF!=\"\",\"\",IF(#REF!=\"\",\"\",IF(#REF!=\"\",\"\",IF(#REF!=\"\",\"\",IF(#REF!=\"\",\"\",IF(#REF!=\"\",\"\",IF(#REF!=\"\",\"\",IF(#REF!=\"\",\"\",IF(#REF!=\"\",\"\",IF(#REF!=\"\",\"\",IF(#REF!=\"\",\"\",IF(#REF!=\"\",\"\",IF(#REF!=\"\",\"\",IF(#REF!=\"\",\"\",IF(#REF!=\"\",\"\",IF(#REF!=\"\",\"\",IF(#REF!=\"\",\"\",IF(#REF!=\"\",\"\",IF(#REF!=\"\",\"\",(#REF!+#REF!+#REF!+#REF!+#REF!+#REF!+#REF!+#REF!+#REF!+#REF!+#REF!+#REF!+#REF!+#REF!+#REF!+#REF!+#REF!+#REF!+#REF!+#REF!+#REF!)/22))))))))))))))))))))))","v":{"$error":"#REF!"}},{"$f":"'[13]целевые ориентиры_сводная'!$S$57","v":{"$error":"#DIV/0!"}},{"$f":"'[13]целевые ориентиры_сводная'!$S$58","v":{"$error":"#DIV/0!"}},{"$f":"'[13]целевые ориентиры_сводная'!$S$59","v":{"$error":"#DIV/0!"}},{"$nulls":13},{"$f":"'[13]целевые ориентиры_сводная'!$AE$57","v":{"$error":"#DIV/0!"}},{"$f":"'[13]целевые ориентиры_сводная'!$AE$58","v":{"$error":"#DIV/0!"}},{"$f":"'[13]целевые ориентиры_сводная'!$AE$59","v":{"$error":"#DIV/0!"}},{"$nulls":13},{"$f":"'[13]целевые ориентиры_сводная'!$AQ$57","v":{"$error":"#DIV/0!"}},{"$f":"'[13]целевые ориентиры_сводная'!$AQ$58","v":{"$error":"#DIV/0!"}},{"$f":"'[13]целевые ориентиры_сводная'!$AQ$59","v":{"$error":"#DIV/0!"}},{"$nulls":20},{"$f":"'[13]целевые ориентиры_сводная'!$BA$57","v":{"$error":"#DIV/0!"}},{"$f":"'[13]целевые ориентиры_сводная'!$BA$58","v":{"$error":"#DIV/0!"}},{"$f":"'[13]целевые ориентиры_сводная'!$BA$59","v":{"$error":"#DIV/0!"}},{"$nulls":16},{"$f":"'[13]целевые ориентиры_сводная'!$BP$57","v":{"$error":"#DIV/0!"}},{"$f":"'[13]целевые ориентиры_сводная'!$BP$58","v":{"$error":"#DIV/0!"}},{"$f":"'[13]целевые ориентиры_сводная'!$BP$59","v":{"$error":"#DIV/0!"}},{"$nulls":15},{"$f":"'[13]целевые ориентиры_сводная'!$CF$57","v":{"$error":"#DIV/0!"}},{"$f":"'[13]целевые ориентиры_сводная'!$CF$58","v":{"$error":"#DIV/0!"}},{"$f":"'[13]целевые ориентиры_сводная'!$CF$59","v":{"$error":"#DIV/0!"}},{"$nulls":36},{"$f":"'[13]целевые ориентиры_сводная'!$DI$57","v":{"$error":"#DIV/0!"}},{"$f":"'[13]целевые ориентиры_сводная'!$DI$58","v":{"$error":"#DIV/0!"}},{"$f":"'[13]целевые ориентиры_сводная'!$DI$59","v":{"$error":"#DIV/0!"}}]
[13,"Средняя_3",{"$f":"IF(#REF!=\"\",\"\",IF(#REF!=2,\"сформирован\",IF(#REF!=0,\"не сформирован\", \"в стадии формирования\")))","v":{"$error":"#REF!"}},{"$f":"IF(#REF!=\"\",\"\",IF(#REF!=2,\"сформирован\",IF(#REF!=0,\"не сформирован\", \"в стадии формирования\")))","v":{"$error":"#REF!"}},{"$f":"IF(#REF!=\"\",\"\",IF(#REF!=2,\"сформирован\",IF(#REF!=0,\"не сформирован\", \"в стадии формирования\")))","v":{"$error":"#REF!"}},{"$f":"IF(#REF!=\"\",\"\",IF(#REF!=2,\"сформирован\",IF(#REF!=0,\"не сформирован\", \"в стадии формирования\")))","v":{"$error":"#REF!"}},{"$f":"IF(#REF!=\"\",\"\",IF(#REF!=2,\"сформирован\",IF(#REF!=0,\"не сформирован\", \"в стадии формирования\")))","v":{"$error":"#REF!"}},{"$f":"IF(#REF!=\"\",\"\",IF(#REF!=2,\"сформирован\",IF(#REF!=0,\"не сформирован\", \"в стадии формирования\")))","v":{"$error":"#REF!"}},{"$f":"IF(#REF!=\"\",\"\",IF(#REF!=2,\"сформирован\",IF(#REF!=0,\"не сформирован\", \"в стадии формирования\")))","v":{"$error":"#REF!"}},{"$f":"IF(#REF!=\"\",\"\",IF(#REF!=2,\"сформирован\",IF(#REF!=0,\"не сформирован\", \"в стадии формирования\")))","v":{"$error":"#REF!"}},{"$f":"IF(#REF!=\"\",\"\",IF(#REF!=2,\"сформирован\",IF(#REF!=0,\"не сформирован\", \"в стадии формирования\")))","v":{"$error":"#REF!"}},{"$f":"IF(#REF!=\"\",\"\",IF(#REF!=2,\"сформирован\",IF(#REF!=0,\"не сформирован\", \"в стадии формирования\")))","v":{"$error":"#REF!"}},{"$f":"IF(#REF!=\"\",\"\",IF(#REF!=2,\"сформирован\",IF(#REF!=0,\"не сформирован\", \"в стадии формирования\")))","v":{"$error":"#REF!"}},{"$f":"IF(#REF!=\"\",\"\",IF(#REF!=2,\"сформирован\",IF(#REF!=0,\"не сформирован\", \"в стадии формирования\")))","v":{"$error":"#REF!"}},{"$f":"IF(#REF!=\"\",\"\",IF(#REF!=2,\"сформирован\",IF(#REF!=0,\"не сформирован\", \"в стадии формирования\")))","v":{"$error":"#REF!"}},{"$f":"IF(#REF!=\"\",\"\",IF(#REF!=2,\"сформирован\",IF(#REF!=0,\"не сформирован\", \"в стадии формирования\")))","v":{"$error":"#REF!"}},{"$f":"IF(#REF!=\"\",\"\",IF(#REF!=2,\"сформирован\",IF(#REF!=0,\"не сформирован\", \"в стадии формирования\")))","v":{"$error":"#REF!"}},{"$f":"IF(#REF!=\"\",\"\",IF(#REF!=2,\"сформирован\",IF(#REF!=0,\"не сформирован\", \"в стадии формирования\")))","v":{"$error":"#REF!"}},{"$f":"IF(#REF!=\"\",\"\",IF(#REF!=2,\"сформирован\",IF(#REF!=0,\"не сформирован\", \"в стадии формирования\")))","v":{"$error":"#REF!"}},{"$f":"IF(#REF!=\"\",\"\",IF(#REF!=2,\"сформирован\",IF(#REF!=0,\"не сформирован\", \"в стадии формирования\")))","v":{"$error":"#REF!"}},{"$f":"IF(#REF!=\"\",\"\",IF(#REF!=2,\"сформирован\",IF(#REF!=0,\"не сформирован\", \"в стадии формирования\")))","v":{"$error":"#REF!"}},{"$f":"IF(#REF!=\"\",\"\",IF(#REF!=2,\"сформирован\",IF(#REF!=0,\"не сформирован\", \"в стадии формирования\")))","v":{"$error":"#REF!"}},{"$f":"IF(#REF!=\"\",\"\",IF(#REF!=2,\"сформирован\",IF(#REF!=0,\"не сформирован\", \"в стадии формирования\")))","v":{"$error":"#REF!"}},{"$f":"IF(#REF!=\"\",\"\",IF(#REF!=2,\"сформирован\",IF(#REF!=0,\"не сформирован\", \"в стадии формирования\")))","v":{"$error":"#REF!"}},{"$f":"IF(#REF!=\"\",\"\",IF(#REF!=\"\",\"\",IF(#REF!=\"\",\"\",IF(#REF!=\"\",\"\",IF(#REF!=\"\",\"\",IF(#REF!=\"\",\"\",IF(#REF!=\"\",\"\",IF(#REF!=\"\",\"\",IF(#REF!=\"\",\"\",IF(#REF!=\"\",\"\",IF(#REF!=\"\",\"\",IF(#REF!=\"\",\"\",IF(#REF!=\"\",\"\",IF(#REF!=\"\",\"\",IF(#REF!=\"\",\"\",IF(#REF!=\"\",\"\",IF(#REF!=\"\",\"\",IF(#REF!=\"\",\"\",IF(#REF!=\"\",\"\",IF(#REF!=\"\",\"\",IF(#REF!=\"\",\"\",IF(#REF!=\"\",\"\",(#REF!+#REF!+#REF!+#REF!+#REF!+#REF!+#REF!+#REF!+#REF!+#REF!+#REF!+#REF!+#REF!+#REF!+#REF!+#REF!+#REF!+#REF!+#REF!+#REF!+#REF!)/22))))))))))))))))))))))","v":{"$error":"#REF!"}},{"$f":"'[14]целевые ориентиры_сводная'!$S$57","v":{"$error":"#DIV/0!"}},{"$f":"'[14]целевые ориентиры_сводная'!$S$58","v":{"$error":"#DIV/0!"}},{"$f":"'[14]целевые ориентиры_сводная'!$S$59","v":{"$error":"#DIV/0!"}},{"$nulls":13},{"$f":"'[14]целевые ориентиры_сводная'!$AE$57","v":{"$error":"#DIV/0!"}},{"$f":"'[14]целевые ориентиры_сводная'!$AE$58","v":{"$error":"#DIV/0!"}},{"$f":"'[14]целевые ориентиры_сводная'!$AE$59","v":{"$error":"#DIV/0!"}},{"$nulls":13},{"$f":"'[14]целевые ориентиры_сводная'!$AQ$57","v":{"$error":"#DIV/0!"}},{"$f":"'[14]целевые ориентиры_сводная'!$AQ$58","v":{"$error":"#DIV/0!"}},{"$f":"'[14]целевые ориентиры_сводная'!$AQ$59","v":{"$error":"#DIV/0!"}},{"$nulls":20},{"$f":"'[14]целевые ориентиры_сводная'!$BA$57","v":{"$error":"#DIV/0!"}},{"$f":"'[14]целевые ориентиры_сводная'!$BA$58","v":{"$error":"#DIV/0!"}},{"$f":"'[14]целевые ориентиры_сводная'!$BA$59","v":{"$error":"#DIV/0!"}},{"$nulls":16},{"$f":"'[14]целевые ориентиры_сводная'!$BP$57","v":{"$error":"#DIV/0!"}},{"$f":"'[14]целевые ориентиры_сводная'!$BP$58","v":{"$error":"#DIV/0!"}},{"$f":"'[14]целевые ориентиры_сводная'!$BP$59","v":{"$error":"#DIV/0!"}},{"$nulls":15},{"$f":"'[14]целевые ориентиры_сводная'!$CF$57","v":{"$error":"#DIV/0!"}},{"$f":"'[14]целевые ориентиры_сводная'!$CF$58","v":{"$error":"#DIV/0!"}},{"$f":"'[14]целевые ориентиры_сводная'!$CF$59","v":{"$error":"#DIV/0!"}},{"$nulls":36},{"$f":"'[14]целевые ориентиры_сводная'!$DI$57","v":{"$error":"#DIV/0!"}},{"$f":"'[14]целевые ориентиры_сводная'!$DI$58","v":{"$error":"#DIV/0!"}},{"$f":"'[14]целевые ориентиры_сводная'!$DI$59","v":{"$error":"#DIV/0!"}}]
[14,"Средняя_4",{"$nulls":23},{"$f":"'[15]целевые ориентиры_сводная'!$S$57","v":{"$error":"#DIV/0!"}},{"$f":"'[15]целевые ориентиры_сводная'!$S$58","v":{"$error":"#DIV/0!"}},{"$f":"'[15]целевые ориентиры_сводная'!$S$59","v":{"$error":"#DIV/0!"}},{"$nulls":13},{"$f":"'[15]целевые ориентиры_сводная'!$AE$57","v":{"$error":"#DIV/0!"}},{"$f":"'[15]целевые ориентиры_сводная'!$AE$58","v":{"$error":"#DIV/0!"}},{"$f":"'[15]целевые ориентиры_сводная'!$AE$59","v":{"$error":"#DIV/0!"}},{"$nulls":13},{"$f":"'[15]целевые ориентиры_сводная'!$AQ$57","v":{"$error":"#DIV/0!"}},{"$f":"'[15]целевые ориентиры_сводная'!$AQ$58","v":{"$error":"#DIV/0!"}},{"$f":"'[15]целевые ориентиры_сводная'!$AQ$59","v":{"$error":"#DIV/0!"}},{"$nulls":20},{"$f":"'[15]целевые ориентиры_сводная'!$BA$57","v":{"$error":"#DIV/0!"}},{"$f":"'[15]целевые ориентиры_сводная'!$BA$58","v":{"$error":"#DIV/0!"}},{"$f":"'[15]целевые ориентиры_сводная'!$BA$59","v":{"$error":"#DIV/0!"}},{"$nulls":16},{"$f":"'[15]целевые ориентиры_сводная'!$BP$57","v":{"$error":"#DIV/0!"}},{"$f":"'[15]целевые ориентиры_сводная'!$BP$58","v":{"$error":"#DIV/0!"}},{"$f":"'[15]целевые ориентиры_сводная'!$BP$59","v":{"$error":"#DIV/0!"}},{"$nulls":15},{"$f":"'[15]целевые ориентиры_сводная'!$CF$57","v":{"$error":"#DIV/0!"}},{"$f":"'[15]целевые ориентиры_сводная'!$CF$58","v":{"$error":"#DIV/0!"}},{"$f":"'[15]целевые ориентиры_сводная'!$CF$59","v":{"$error":"#DIV/0!"}},{"$nulls":36},{"$f":"'[15]целевые ориентиры_сводная'!$DI$57","v":{"$error":"#DIV/0!"}},{"$f":"'[15]целевые ориентиры_сводная'!$DI$58","v":{"$error":"#DIV/0!"}},{"$f":"'[15]целевые ориентиры_сводная'!$DI$59","v":{"$error":"#DIV/0!"}}]
[15,"Средняя_5",{"$nulls":23},{"$f":"'[16]целевые ориентиры_сводная'!$S$57","v":{"$error":"#DIV/0!"}},{"$f":"'[16]целевые ориентиры_сводная'!$S$58","v":{"$error":"#DIV/0!"}},{"$f":"'[16]целевые ориентиры_сводная'!$S$59","v":{"$error":"#DIV/0!"}},{"$nulls":13},{"$f":"'[16]целевые ориентиры_сводная'!$AE$57","v":{"$error":"#DIV/0!"}},{"$f":"'[16]целевые ориентиры_сводная'!$AE$58","v":{"$error":"#DIV/0!"}},{"$f":"'[16]целевые ориентиры_сводная'!$AE$59","v":{"$error":"#DIV/0!"}},{"$nulls":13},{"$f":"'[16]целевые ориентиры_сводная'!$AQ$57","v":{"$error":"#DIV/0!"}},{"$f":"'[16]целевые ориентиры_сводная'!$AQ$58","v":{"$error":"#DIV/0!"}},{"$f":"'[16]целевые ориентиры_сводная'!$AQ$59","v":{"$error":"#DIV/0!"}},{"$nulls":20},{"$f":"'[16]целевые ориентиры_сводная'!$BA$57","v":{"$error":"#DIV/0!"}},{"$f":"'[16]целевые ориентиры_сводная'!$BA$58","v":{"$error":"#DIV/0!"}},{"$f":"'[16]целевые ориентиры_сводная'!$BA$59","v":{"$error":"#DIV/0!"}},{"$nulls":16},{"$f":"'[16]целевые ориентиры_сводная'!$BP$57","v":{"$error":"#DIV/0!"}},{"$f":"'[16]целевые ориентиры_сводная'!$BP$58","v":{"$error":"#DIV/0!"}},{"$f":"'[16]целевые ориентиры_сводная'!$BP$59","v":{"$error":"#DIV/0!"}},{"$nulls":15},{"$f":"'[16]целевые ориентиры_сводная'!$CF$57","v":{"$error":"#DIV/0!"}},{"$f":"'[16]целевые ориентиры_сводная'!$CF$58","v":{"$error":"#DIV/0!"}},{"$f":"'[16]целевые ориентиры_сводная'!$CF$59","v":{"$error":"#DIV/0!"}},{"$nulls":36},{"$f":"'[16]целевые ориентиры_сводная'!$DI$57","v":{"$error":"#DIV/0!"}},{"$f":"'[16]целевые ориентиры_сводная'!$DI$58","v":{"$error":"#DIV/0!"}},{"$f":"'[16]целевые ориентиры_сводная'!$DI$59","v":{"$error":"#DIV/0!"}}]
[16,"Старшая_1",{"$f":"IF(#REF!=\"\",\"\",IF(#REF!=2,\"сформирован\",IF(#REF!=0,\"не сформирован\", \"в стадии формирования\")))","v":{"$error":"#REF!"}},{"$f":"IF(#REF!=\"\",\"\",IF(#REF!=2,\"сформирован\",IF(#REF!=0,\"не сформирован\", \"в стадии формирования\")))","v":{"$error":"#REF!"}},{"$f":"IF(#REF!=\"\",\"\",IF(#REF!=2,\"сформирован\",IF(#REF!=0,\"не сформирован\", \"в стадии формирования\")))","v":{"$error":"#REF!"}},{"$f":"IF(#REF!=\"\",\"\",IF(#REF!=2,\"сформирован\",IF(#REF!=0,\"не сформирован\", \"в стадии формирования\")))","v":{"$error":"#REF!"}},{"$f":"IF(#REF!=\"\",\"\",IF(#REF!=2,\"сформирован\",IF(#REF!=0,\"не сформирован\", \"в стадии формирования\")))","v":{"$error":"#REF!"}},{"$f":"IF(#REF!=\"\",\"\",IF(#REF!=2,\"сформирован\",IF(#REF!=0,\"не сформирован\", \"в стадии формирования\")))","v":{"$error":"#REF!"}},{"$f":"IF(#REF!=\"\",\"\",IF(#REF!=2,\"сформирован\",IF(#REF!=0,\"не сформирован\", \"в стадии формирования\")))","v":{"$error":"#REF!"}},{"$f":"IF(#REF!=\"\",\"\",IF(#REF!=2,\"сформирован\",IF(#REF!=0,\"не сформирован\", \"в стадии формирования\")))","v":{"$error":"#REF!"}},{"$f":"IF(#REF!=\"\",\"\",IF(#REF!=2,\"сформирован\",IF(#REF!=0,\"не сформирован\", \"в стадии формирования\")))","v":{"$error":"#REF!"}},{"$f":"IF(#REF!=\"\",\"\",IF(#REF!=2,\"сформирован\",IF(#REF!=0,\"не сформирован\", \"в стадии формирования\")))","v":{"$error":"#REF!"}},{"$f":"IF(#REF!=\"\",\"\",IF(#REF!=2,\"сформирован\",IF(#REF!=0,\"не сформирован\", \"в стадии формирования\")))","v":{"$error":"#REF!"}},{"$f":"IF(#REF!=\"\",\"\",IF(#REF!=2,\"сформирован\",IF(#REF!=0,\"не сформирован\", \"в стадии формирования\")))","v":{"$error":"#REF!"}},{"$f":"IF(#REF!=\"\",\"\",IF(#REF!=2,\"сформирован\",IF(#REF!=0,\"не сформирован\", \"в стадии формирования\")))","v":{"$error":"#REF!"}},{"$f":"IF(#REF!=\"\",\"\",IF(#REF!=2,\"сформирован\",IF(#REF!=0,\"не сформирован\", \"в стадии формирования\")))","v":{"$error":"#REF!"}},{"$f":"IF(#REF!=\"\",\"\",IF(#REF!=2,\"сформирован\",IF(#REF!=0,\"не сформирован\", \"в стадии формирования\")))","v":{"$error":"#REF!"}},{"$f":"IF(#REF!=\"\",\"\",IF(#REF!=2,\"сформирован\",IF(#REF!=0,\"не сформирован\", \"в стадии формирования\")))","v":{"$error":"#REF!"}},{"$f":"IF(#REF!=\"\",\"\",IF(#REF!=2,\"сформирован\",IF(#REF!=0,\"не сформирован\", \"в стадии формирования\")))","v":{"$error":"#REF!"}},{"$f":"IF(#REF!=\"\",\"\",IF(#REF!=2,\"сформирован\",IF(#REF!=0,\"не сформирован\", \"в стадии формирования\")))","v":{"$error":"#REF!"}},{"$f":"IF(#REF!=\"\",\"\",IF(#REF!=2,\"сформирован\",IF(#REF!=0,\"не сформирован\", \"в стадии формирования\")))","v":{"$error":"#REF!"}},{"$f":"IF(#REF!=\"\",\"\",IF(#REF!=2,\"сформирован\",IF(#REF!=0,\"не сформирован\", \"в стадии формирования\")))","v":{"$error":"#REF!"}},{"$f":"IF(#REF!=\"\",\"\",IF(#REF!=2,\"сформирован\",IF(#REF!=0,\"не сформирован\", \"в стадии формирования\")))","v":{"$error":"#REF!"}},{"$f":"IF(#REF!=\"\",\"\",IF(#REF!=2,\"сформирован\",IF(#REF!=0,\"не сформирован\", \"в стадии формирования\")))","v":{"$error":"#REF!"}},{"$f":"IF(#REF!=\"\",\"\",IF(#REF!=\"\",\"\",IF(#REF!=\"\",\"\",IF(#REF!=\"\",\"\",IF(#REF!=\"\",\"\",IF(#REF!=\"\",\"\",IF(#REF!=\"\",\"\",IF(#REF!=\"\",\"\",IF(#REF!=\"\",\"\",IF(#REF!=\"\",\"\",IF(#REF!=\"\",\"\",IF(#REF!=\"\",\"\",IF(#REF!=\"\",\"\",IF(#REF!=\"\",\"\",IF(#REF!=\"\",\"\",IF(#REF!=\"\",\"\",IF(#REF!=\"\",\"\",IF(#REF!=\"\",\"\",IF(#REF!=\"\",\"\",IF(#REF!=\"\",\"\",IF(#REF!=\"\",\"\",IF(#REF!=\"\",\"\",(#REF!+#REF!+#REF!+#REF!+#REF!+#REF!+#REF!+#REF!+#REF!+#REF!+#REF!+#REF!+#REF!+#REF!+#REF!+#REF!+#REF!+#REF!+#REF!+#REF!+#REF!)/22))))))))))))))))))))))","v":{"$error":"#REF!"}},{"$f":"'[17]целевые ориентиры_сводная'!$P$55","v":{"$error":"#DIV/0!"}},{"$f":"'[17]целевые ориентиры_сводная'!$P$56","v":{"$error":"#DIV/0!"}},{"$f":"'[17]целевые ориентиры_сводная'!$P$57","v":{"$error":"#DIV/0!"}},{"$nulls":13},{"$f":"'[17]целевые ориентиры_сводная'!$AA$55","v":{"$error":"#DIV/0!"}},{"$f":"'[17]целевые ориентиры_сводная'!$AA$56","v":{"$error":"#DIV/0!"}},{"$f":"'[17]целевые ориентиры_сводная'!$AA$57","v":{"$error":"#DIV/0!"}},{"$nulls":13},{"$f":"'[17]целевые ориентиры_сводная'!$AJ$55","v":{"$error":"#DIV/0!"}},{"$f":"'[17]целевые ориентиры_сводная'!$AJ$56","v":{"$error":"#DIV/0!"}},{"$f":"'[17]целевые ориентиры_сводная'!$AJ$57","v":{"$error":"#DIV/0!"}},{"$nulls":20},{"$f":"'[17]целевые ориентиры_сводная'!$AU$55","v":{"$error":"#DIV/0!"}},{"$f":"'[17]целевые ориентиры_сводная'!$AU$56","v":{"$error":"#DIV/0!"}},{"$f":"'[17]целевые ориентиры_сводная'!$AU$57","v":{"$error":"#DIV/0!"}},{"$nulls":16},{"$f":"'[17]целевые ориентиры_сводная'!$BG$55","v":{"$error":"#DIV/0!"}},{"$f":"'[17]целевые ориентиры_сводная'!$BG$56","v":{"$error":"#DIV/0!"}},{"$f":"'[17]целевые ориентиры_сводная'!$BG$57","v":{"$error":"#DIV/0!"}},{"$nulls":15},{"$f":"'[17]целевые ориентиры_сводная'!$CB$55","v":{"$error":"#DIV/0!"}},{"$f":"'[17]целевые ориентиры_сводная'!$CB$56","v":{"$error":"#DIV/0!"}},{"$f":"'[17]целевые ориентиры_сводная'!$CB$57","v":{"$error":"#DIV/0!"}},{"$nulls":36},{"$f":"'[17]целевые ориентиры_сводная'!$DI$55","v":{"$error":"#DIV/0!"}},{"$f":"'[17]целевые ориентиры_сводная'!$DI$56","v":{"$error":"#DIV/0!"}},{"$f":"'[17]целевые ориентиры_сводная'!$DI$57","v":{"$error":"#DIV/0!"}}]
[17,"Старшая_2",{"$f":"IF(#REF!=\"\",\"\",IF(#REF!=2,\"сформирован\",IF(#REF!=0,\"не сформирован\", \"в стадии формирования\")))","v":{"$error":"#REF!"}},{"$f":"IF(#REF!=\"\",\"\",IF(#REF!=2,\"сформирован\",IF(#REF!=0,\"не сформирован\", \"в стадии формирования\")))","v":{"$error":"#REF!"}},{"$f":"IF(#REF!=\"\",\"\",IF(#REF!=2,\"сформирован\",IF(#REF!=0,\"не сформирован\", \"в стадии формирования\")))","v":{"$error":"#REF!"}},{"$f":"IF(#REF!=\"\",\"\",IF(#REF!=2,\"сформирован\",IF(#REF!=0,\"не сформирован\", \"в стадии формирования\")))","v":{"$error":"#REF!"}},{"$f":"IF(#REF!=\"\",\"\",IF(#REF!=2,\"сформирован\",IF(#REF!=0,\"не сформирован\", \"в стадии формирования\")))","v":{"$error":"#REF!"}},{"$f":"IF(#REF!=\"\",\"\",IF(#REF!=2,\"сформирован\",IF(#REF!=0,\"не сформирован\", \"в стадии формирования\")))","v":{"$error":"#REF!"}},{"$f":"IF(#REF!=\"\",\"\",IF(#REF!=2,\"сформирован\",IF(#REF!=0,\"не сформирован\", \"в стадии формирования\")))","v":{"$error":"#REF!"}},{"$f":"IF(#REF!=\"\",\"\",IF(#REF!=2,\"сформирован\",IF(#REF!=0,\"не сформирован\", \"в стадии формирования\")))","v":{"$error":"#REF!"}},{"$f":"IF(#REF!=\"\",\"\",IF(#REF!=2,\"сформирован\",IF(#REF!=0,\"не сформирован\", \"в стадии формирования\")))","v":{"$error":"#REF!"}},{"$f":"IF(#REF!=\"\",\"\",IF(#REF!=2,\"сформирован\",IF(#REF!=0,\"не сформирован\", \"в стадии формирования\")))","v":{"$error":"#REF!"}},{"$f":"IF(#REF!=\"\",\"\",IF(#REF!=2,\"сформирован\",IF(#REF!=0,\"не сформирован\", \"в стадии формирования\")))","v":{"$error":"#REF!"}},{"$f":"IF(#REF!=\"\",\"\",IF(#REF!=2,\"сформирован\",IF(#REF!=0,\"не сформирован\", \"в стадии формирования\")))","v":{"$error":"#REF!"}},{"$f":"IF(#REF!=\"\",\"\",IF(#REF!=2,\"сформирован\",IF(#REF!=0,\"не сформирован\", \"в стадии формирования\")))","v":{"$error":"#REF!"}},{"$f":"IF(#REF!=\"\",\"\",IF(#REF!=2,\"сформирован\",IF(#REF!=0,\"не сформирован\", \"в стадии формирования\")))","v":{"$error":"#REF!"}},{"$f":"IF(#REF!=\"\",\"\",IF(#REF!=2,\"сформирован\",IF(#REF!=0,\"не сформирован\", \"в стадии формирования\")))","v":{"$error":"#REF!"}},{"$f":"IF(#REF!=\"\",\"\",IF(#REF!=2,\"сформирован\",IF(#REF!=0,\"не сформирован\", \"в стадии формирования\")))","v":{"$error":"#REF!"}},{"$f":"IF(#REF!=\"\",\"\",IF(#REF!=2,\"сформирован\",IF(#REF!=0,\"не сформирован\", \"в стадии формирования\")))","v":{"$error":"#REF!"}},{"$f":"IF(#REF!=\"\",\"\",IF(#REF!=2,\"сформирован\",IF(#REF!=0,\"не сформирован\", \"в стадии формирования\")))","v":{"$error":"#REF!"}},{"$f":"IF(#REF!=\"\",\"\",IF(#REF!=2,\"сформирован\",IF(#REF!=0,\"не сформирован\", \"в стадии формирования\")))","v":{"$error":"#REF!"}},{"$f":"IF(#REF!=\"\",\"\",IF(#REF!=2,\"сформирован\",IF(#REF!=0,\"не сформирован\", \"в стадии формирования\")))","v":{"$error":"#REF!"}},{"$f":"IF(#REF!=\"\",\"\",IF(#REF!=2,\"сформирован\",IF(#REF!=0,\"не сформирован\", \"в стадии формирования\")))","v":{"$error":"#REF!"}},{"$f":"IF(#REF!=\"\",\"\",IF(#REF!=2,\"сформирован\",IF(#REF!=0,\"не сформирован\", \"в стадии формирования\")))","v":{"$error":"#REF!"}},{"$f":"IF(#REF!=\"\",\"\",IF(#REF!=\"\",\"\",IF(#REF!=\"\",\"\",IF(#REF!=\"\",\"\",IF(#REF!=\"\",\"\",IF(#REF!=\"\",\"\",IF(#REF!=\"\",\"\",IF(#REF!=\"\",\"\",IF(#REF!=\"\",\"\",IF(#REF!=\"\",\"\",IF(#REF!=\"\",\"\",IF(#REF!=\"\",\"\",IF(#REF!=\"\",\"\",IF(#REF!=\"\",\"\",IF(#REF!=\"\",\"\",IF(#REF!=\"\",\"\",IF(#REF!=\"\",\"\",IF(#REF!=\"\",\"\",IF(#REF!=\"\",\"\",IF(#REF!=\"\",\"\",IF(#REF!=\"\",\"\",IF(#REF!=\"\",\"\",(#REF!+#REF!+#REF!+#REF!+#REF!+#REF!+#REF!+#REF!+#REF!+#REF!+#REF!+#REF!+#REF!+#REF!+#REF!+#REF!+#REF!+#REF!+#REF!+#REF!+#REF!)/22))))))))))))))))))))))","v":{"$error":"#REF!"}},{"$f":"'[18]целевые ориентиры_сводная'!$P$55","v":{"$error":"#DIV/0!"}},{"$f":"'[18]целевые ориентиры_сводная'!$P$56","v":{"$error":"#DIV/0!"}},{"$f":"'[18]целевые ориентиры_сводная'!$P$57","v":{"$error":"#DIV/0!"}},{"$nulls":13},{"$f":"'[18]целевые ориентиры_сводная'!$AA$55","v":{"$error":"#DIV/0!"}},{"$f":"'[18]целевые ориентиры_сводная'!$AA$56","v":{"$error":"#DIV/0!"}},{"$f":"'[18]целевые ориентиры_сводная'!$AA$57","v":{"$error":"#DIV/0!"}},{"$nulls":13},{"$f":"'[18]целевые ориентиры_сводная'!$AJ$55","v":{"$error":"#DIV/0!"}},{"$f":"'[18]целевые ориентиры_сводная'!$AJ$56","v":{"$error":"#DIV/0!"}},{"$f":"'[18]целевые ориентиры_сводная'!$AJ$57","v":{"$error":"#DIV/0!"}},{"$nulls":20},{"$f":"'[18]целевые ориентиры_сводная'!$AU$55","v":{"$error":"#DIV/0!"}},{"$f":"'[18]целевые ориентиры_сводная'!$AU$56","v":{"$error":"#DIV/0!"}},{"$f":"'[18]целевые ориентиры_сводная'!$AU$57","v":{"$error":"#DIV/0!"}},{"$nulls":16},{"$f":"'[18]целевые ориентиры_сводная'!$BG$55","v":{"$error":"#DIV/0!"}},{"$f":"'[18]целевые ориентиры_сводная'!$BG$56","v":{"$error":"#DIV/0!"}},{"$f":"'[18]целевые ориентиры_сводная'!$BG$57","v":{"$error":"#DIV/0!"}},{"$nulls":15},{"$f":"'[18]целевые ориентиры_сводная'!$CB$55","v":{"$error":"#DIV/0!"}},{"$f":"'[18]целевые ориентиры_сводная'!$CB$56","v":{"$error":"#DIV/0!"}},{"$f":"'[18]целевые ориентиры_сводная'!$CB$57","v":{"$error":"#DIV/0!"}},{"$nulls":36},{"$f":"'[18]целевые ориентиры_сводная'!$DI$55","v":{"$error":"#DIV/0!"}},{"$f":"'[18]целевые ориентиры_сводная'!$DI$56","v":{"$error":"#DIV/0!"}},{"$f":"'[18]целевые ориентиры_сводная'!$DI$57","v":{"$error":"#DIV/0!"}}]
[18,"Старшая_3",{"$nulls":23},{"$f":"'[19]целевые ориентиры_сводная'!$P$55","v":{"$error":"#DIV/0!"}},{"$f":"'[19]целевые ориентиры_сводная'!$P$56","v":{"$error":"#DIV/0!"}},{"$f":"'[19]целевые ориентиры_сводная'!$P$57","v":{"$error":"#DIV/0!"}},{"$nulls":13},{"$f":"'[19]целевые ориентиры_сводная'!$AA$55","v":{"$error":"#DIV/0!"}},{"$f":"'[19]целевые ориентиры_сводная'!$AA$56","v":{"$error":"#DIV/0!"}},{"$f":"'[19]целевые ориентиры_сводная'!$AA$57","v":{"$error":"#DIV/0!"}},{"$nulls":13},{"$f":"'[19]целевые ориентиры_сводная'!$AJ$55","v":{"$error":"#DIV/0!"}},{"$f":"'[19]целевые ориентиры_сводная'!$AJ$56","v":{"$error":"#DIV/0!"}},{"$f":"'[19]целевые ориентиры_сводная'!$AJ$57","v":{"$error":"#DIV/0!"}},{"$nulls":20},{"$f":"'[19]целевые ориентиры_сводная'!$AU$55","v":{"$error":"#DIV/0!"}},{"$f":"'[19]целевые ориентиры_сводная'!$AU$56","v":{"$error":"#DIV/0!"}},{"$f":"'[19]целевые ориентиры_сводная'!$AU$57","v":{"$error":"#DIV/0!"}},{"$nulls":16},{"$f":"'[19]целевые ориентиры_сводная'!$BG$55","v":{"$error":"#DIV/0!"}},{"$f":"'[19]целевые ориентиры_сводная'!$BG$56","v":{"$error":"#DIV/0!"}},{"$f":"'[19]целевые ориентиры_сводная'!$BG$57","v":{"$error":"#DIV/0!"}},{"$nulls":15},{"$f":"'[19]целевые ориентиры_сводная'!$CB$55","v":{"$error":"#DIV/0!"}},{"$f":"'[19]целевые ориентиры_сводная'!$CB$56","v":{"$error":"#DIV/0!"}},{"$f":"'[19]целевые ориентиры_сводная'!$CB$57","v":{"$error":"#DIV/0!"}},{"$nulls":36},{"$f":"'[19]целевые ориентиры_сводная'!$DI$55","v":{"$error":"#DIV/0!"}},{"$f":"'[19]целевые ориентиры_сводная'!$DI$56","v":{"$error":"#DIV/0!"}},{"$f":"'[19]целевые ориентиры_сводная'!$DI$57","v":{"$error":"#DIV/0!"}}]
[19,"Старшая_4",{"$nulls":23},{"$f":"'[20]целевые ориентиры_сводная'!$P$55","v":{"$error":"#DIV/0!"}},{"$f":"'[20]целевые ориентиры_сводная'!$P$56","v":{"$error":"#DIV/0!"}},{"$f":"'[20]целевые ориентиры_сводная'!$P$57","v":{"$error":"#DIV/0!"}},{"$nulls":13},{"$f":"'[20]целевые ориентиры_сводная'!$AA$55","v":{"$error":"#DIV/0!"}},{"$f":"'[20]целевые ориентиры_сводная'!$AA$56","v":{"$error":"#DIV/0!"}},{"$f":"'[20]целевые ориентиры_сводная'!$AA$57","v":{"$error":"#DIV/0!"}},{"$nulls":13},{"$f":"'[20]целевые ориентиры_сводная'!$AJ$55","v":{"$error":"#DIV/0!"}},{"$f":"'[20]целевые ориентиры_сводная'!$AJ$56","v":{"$error":"#DIV/0!"}},{"$f":"'[20]целевые ориентиры_сводная'!$AJ$57","v":{"$error":"#DIV/0!"}},{"$nulls":20},{"$f":"'[20]целевые ориентиры_сводная'!$AU$55","v":{"$error":"#DIV/0!"}},{"$f":"'[20]целевые ориентиры_сводная'!$AU$56","v":{"$error":"#DIV/0!"}},{"$f":"'[20]целевые ориентиры_сводная'!$AU$57","v":{"$error":"#DIV/0!"}},{"$nulls":16},{"$f":"'[20]целевые ориентиры_сводная'!$BG$55","v":{"$error":"#DIV/0!"}},{"$f":"'[20]целевые ориентиры_сводная'!$BG$56","v":{"$error":"#DIV/0!"}},{"$f":"'[20]целевые ориентиры_сводная'!$BG$57","v":{"$error":"#DIV/0!"}},{"$nulls":15},{"$f":"'[20]целевые ориентиры_сводная'!$CB$55","v":{"$error":"#DIV/0!"}},{"$f":"'[20]целевые ориентиры_сводная'!$CB$56","v":{"$error":"#DIV/0!"}},{"$f":"'[20]целевые ориентиры_сводная'!$CB$57","v":{"$error":"#DIV/0!"}},{"$nulls":36},{"$f":"'[20]целевые ориентиры_сводная'!$DI$55","v":{"$error":"#DIV/0!"}},{"$f":"'[20]целевые ориентиры_сводная'!$DI$56","v":{"$error":"#DIV/0!"}},{"$f":"'[20]целевые ориентиры_сводная'!$DI$57","v":{"$error":"#DIV/0!"}}]
[20,"Старшая_5",{"$nulls":23},{"$f":"'[21]целевые ориентиры_сводная'!$P$55","v":{"$error":"#DIV/0!"}},{"$f":"'[21]целевые ориентиры_сводная'!$P$56","v":{"$error":"#DIV/0!"}},{"$f":"'[21]целевые ориентиры_сводная'!$P$57","v":{"$error":"#DIV/0!"}},{"$nulls":13},{"$f":"'[21]целевые ориентиры_сводная'!$AA$55","v":{"$error":"#DIV/0!"}},{"$f":"'[21]целевые ориентиры_сводная'!$AA$56","v":{"$error":"#DIV/0!"}},{"$f":"'[21]целевые ориентиры_сводная'!$AA$57","v":{"$error":"#DIV/0!"}},{"$nulls":13},{"$f":"'[21]целевые ориентиры_сводная'!$AJ$55","v":{"$error":"#DIV/0!"}},{"$f":"'[21]целевые ориентиры_сводная'!$AJ$56","v":{"$error":"#DIV/0!"}},{"$f":"'[21]целевые ориентиры_сводная'!$AJ$57","v":{"$error":"#DIV/0!"}},{"$nulls":20},{"$f":"'[21]целевые ориентиры_сводная'!$AU$55","v":{"$error":"#DIV/0!"}},{"$f":"'[21]целевые ориентиры_сводная'!$AU$56","v":{"$error":"#DIV/0!"}},{"$f":"'[21]целевые ориентиры_сводная'!$AU$57","v":{"$error":"#DIV/0!"}},{"$nulls":16},{"$f":"'[21]целевые ориентиры_сводная'!$BG$55","v":{"$error":"#DIV/0!"}},{"$f":"'[21]целевые ориентиры_сводная'!$BG$56","v":{"$error":"#DIV/0!"}},{"$f":"'[21]целевые ориентиры_сводная'!$BG$57","v":{"$error":"#DIV/0!"}},{"$nulls":15},{"$f":"'[21]целевые ориентиры_сводная'!$CB$55","v":{"$error":"#DIV/0!"}},{"$f":"'[21]целевые ориентиры_сводная'!$CB$56","v":{"$error":"#DIV/0!"}},{"$f":"'[21]целевые ориентиры_сводная'!$CB$57","v":{"$error":"#DIV/0!"}},{"$nulls":36},{"$f":"'[21]целевые ориентиры_сводная'!$DI$55","v":{"$error":"#DIV/0!"}},{"$f":"'[21]целевые ориентиры_сводная'!$DI$56","v":{"$error":"#DIV/0!"}},{"$f":"'[21]целевые ориентиры_сводная'!$DI$57","v":{"$error":"#DIV/0!"}}]
[21,"Подготовительная_1",{"$f":"IF(#REF!=\"\",\"\",IF(#REF!=2,\"сформирован\",IF(#REF!=0,\"не сформирован\", \"в стадии формирования\")))","v":{"$error":"#REF!"}},{"$f":"IF(#REF!=\"\",\"\",IF(#REF!=2,\"сформирован\",IF(#REF!=0,\"не сформирован\", \"в стадии формирования\")))","v":{"$error":"#REF!"}},{"$f":"IF(#REF!=\"\",\"\",IF(#REF!=2,\"сформирован\",IF(#REF!=0,\"не сформирован\", \"в стадии формирования\")))","v":{"$error":"#REF!"}},{"$f":"IF(#REF!=\"\",\"\",IF(#REF!=2,\"сформирован\",IF(#REF!=0,\"не сформирован\", \"в стадии формирования\")))","v":{"$error":"#REF!"}},{"$f":"IF(#REF!=\"\",\"\",IF(#REF!=2,\"сформирован\",IF(#REF!=0,\"не сформирован\", \"в стадии формирования\")))","v":{"$error":"#REF!"}},{"$f":"IF(#REF!=\"\",\"\",IF(#REF!=2,\"сформирован\",IF(#REF!=0,\"не сформирован\", \"в стадии формирования\")))","v":{"$error":"#REF!"}},{"$f":"IF(#REF!=\"\",\"\",IF(#REF!=2,\"сформирован\",IF(#REF!=0,\"не сформирован\", \"в стадии формирования\")))","v":{"$error":"#REF!"}},{"$f":"IF(#REF!=\"\",\"\",IF(#REF!=2,\"сформирован\",IF(#REF!=0,\"не сформирован\", \"в стадии формирования\")))","v":{"$error":"#REF!"}},{"$f":"IF(#REF!=\"\",\"\",IF(#REF!=2,\"сформирован\",IF(#REF!=0,\"не сформирован\", \"в стадии формирования\")))","v":{"$error":"#REF!"}},{"$f":"IF(#REF!=\"\",\"\",IF(#REF!=2,\"сформирован\",IF(#REF!=0,\"не сформирован\", \"в стадии формирования\")))","v":{"$error":"#REF!"}},{"$f":"IF(#REF!=\"\",\"\",IF(#REF!=2,\"сформирован\",IF(#REF!=0,\"не сформирован\", \"в стадии формирования\")))","v":{"$error":"#REF!"}},{"$f":"IF(#REF!=\"\",\"\",IF(#REF!=2,\"сформирован\",IF(#REF!=0,\"не сформирован\", \"в стадии формирования\")))","v":{"$error":"#REF!"}},{"$f":"IF(#REF!=\"\",\"\",IF(#REF!=2,\"сформирован\",IF(#REF!=0,\"не сформирован\", \"в стадии формирования\")))","v":{"$error":"#REF!"}},{"$f":"IF(#REF!=\"\",\"\",IF(#REF!=2,\"сформирован\",IF(#REF!=0,\"не сформирован\", \"в стадии формирования\")))","v":{"$error":"#REF!"}},{"$f":"IF(#REF!=\"\",\"\",IF(#REF!=2,\"сформирован\",IF(#REF!=0,\"не сформирован\", \"в стадии формирования\")))","v":{"$error":"#REF!"}},{"$f":"IF(#REF!=\"\",\"\",IF(#REF!=2,\"сформирован\",IF(#REF!=0,\"не сформирован\", \"в стадии формирования\")))","v":{"$error":"#REF!"}},{"$f":"IF(#REF!=\"\",\"\",IF(#REF!=2,\"сформирован\",IF(#REF!=0,\"не сформирован\", \"в стадии формирования\")))","v":{"$error":"#REF!"}},{"$f":"IF(#REF!=\"\",\"\",IF(#REF!=2,\"сформирован\",IF(#REF!=0,\"не сформирован\", \"в стадии формирования\")))","v":{"$error":"#REF!"}},{"$f":"IF(#REF!=\"\",\"\",IF(#REF!=2,\"сформирован\",IF(#REF!=0,\"не сформирован\", \"в стадии формирования\")))","v":{"$error":"#REF!"}},{"$f":"IF(#REF!=\"\",\"\",IF(#REF!=2,\"сформирован\",IF(#REF!=0,\"не сформирован\", \"в стадии формирования\")))","v":{"$error":"#REF!"}},{"$f":"IF(#REF!=\"\",\"\",IF(#REF!=2,\"сформирован\",IF(#REF!=0,\"не сформирован\", \"в стадии формирования\")))","v":{"$error":"#REF!"}},{"$f":"IF(#REF!=\"\",\"\",IF(#REF!=2,\"сформирован\",IF(#REF!=0,\"не сформирован\", \"в стадии формирования\")))","v":{"$error":"#REF!"}},{"$f":"IF(#REF!=\"\",\"\",IF(#REF!=\"\",\"\",IF(#REF!=\"\",\"\",IF(#REF!=\"\",\"\",IF(#REF!=\"\",\"\",IF(#REF!=\"\",\"\",IF(#REF!=\"\",\"\",IF(#REF!=\"\",\"\",IF(#REF!=\"\",\"\",IF(#REF!=\"\",\"\",IF(#REF!=\"\",\"\",IF(#REF!=\"\",\"\",IF(#REF!=\"\",\"\",IF(#REF!=\"\",\"\",IF(#REF!=\"\",\"\",IF(#REF!=\"\",\"\",IF(#REF!=\"\",\"\",IF(#REF!=\"\",\"\",IF(#REF!=\"\",\"\",IF(#REF!=\"\",\"\",IF(#REF!=\"\",\"\",IF(#REF!=\"\",\"\",(#REF!+#REF!+#REF!+#REF!+#REF!+#REF!+#REF!+#REF!+#REF!+#REF!+#REF!+#REF!+#REF!+#REF!+#REF!+#REF!+#REF!+#REF!+#REF!+#REF!+#REF!)/22))))))))))))))))))))))","v":{"$error":"#REF!"}},{"$f":"'[22]Целевые ориентиры_сводная'!$AI$43","v":{"$error":"#DIV/0!"}},{"$f":"'[22]Целевые ориентиры_сводная'!$AI$44","v":{"$error":"#DIV/0!"}},{"$f":"'[22]Целевые ориентиры_сводная'!$AI$45","v":{"$error":"#DIV/0!"}},{"$nulls":13},{"$f":"'[22]Целевые ориентиры_сводная'!$AZ$43","v":{"$error":"#DIV/0!"}},{"$f":"'[22]Целевые ориентиры_сводная'!$AZ$44","v":{"$error":"#DIV/0!"}},{"$f":"'[22]Целевые ориентиры_сводная'!$AZ$45","v":{"$error":"#DIV/0!"}},{"$nulls":13},{"$f":"'[22]Целевые ориентиры_сводная'!$BJ$43","v":{"$error":"#DIV/0!"}},{"$f":"'[22]Целевые ориентиры_сводная'!$BJ$44","v":{"$error":"#DIV/0!"}},{"$f":"'[22]Целевые ориентиры_сводная'!$BJ$45","v":{"$error":"#DIV/0!"}},{"$nulls":20},{"$f":"'[22]Целевые ориентиры_сводная'!$BY$43","v":{"$error":"#DIV/0!"}},{"$f":"'[22]Целевые ориентиры_сводная'!$BY$44","v":{"$error":"#DIV/0!"}},{"$f":"'[22]Целевые ориентиры_сводная'!$BY$45","v":{"$error":"#DIV/0!"}},{"$nulls":16},{"$f":"'[22]Целевые ориентиры_сводная'!$CS$43","v":{"$error":"#DIV/0!"}},{"$f":"'[22]Целевые ориентиры_сводная'!$CS$44","v":{"$error":"#DIV/0!"}},{"$f":"'[22]Целевые ориентиры_сводная'!$CS$45","v":{"$error":"#DIV/0!"}},{"$nulls":15},{"$f":"'[22]Целевые ориентиры_сводная'!$DP$43","v":{"$error":"#DIV/0!"}},{"$f":"'[22]Целевые ориентиры_сводная'!$DP$44","v":{"$error":"#DIV/0!"}},{"$f":"'[22]Целевые ориентиры_сводная'!$DP$45","v":{"$error":"#DIV/0!"}},{"$nulls":36},{"$f":"'[22]Целевые ориентиры_сводная'!$FS$43","v":{"$error":"#DIV/0!"}},{"$f":"'[22]Целевые ориентиры_сводная'!$FS$44","v":{"$error":"#DIV/0!"}},{"$f":"'[22]Целевые ориентиры_сводная'!$FS$45","v":{"$error":"#DIV/0!"}}]
[22,"Подготовительная_2",{"$f":"IF(#REF!=\"\",\"\",IF(#REF!=2,\"сформирован\",IF(#REF!=0,\"не сформирован\", \"в стадии формирования\")))","v":{"$error":"#REF!"}},{"$f":"IF(#REF!=\"\",\"\",IF(#REF!=2,\"сформирован\",IF(#REF!=0,\"не сформирован\", \"в стадии формирования\")))","v":{"$error":"#REF!"}},{"$f":"IF(#REF!=\"\",\"\",IF(#REF!=2,\"сформирован\",IF(#REF!=0,\"не сформирован\", \"в стадии формирования\")))","v":{"$error":"#REF!"}},{"$f":"IF(#REF!=\"\",\"\",IF(#REF!=2,\"сформирован\",IF(#REF!=0,\"не сформирован\", \"в стадии формирования\")))","v":{"$error":"#REF!"}},{"$f":"IF(#REF!=\"\",\"\",IF(#REF!=2,\"сформирован\",IF(#REF!=0,\"не сформирован\", \"в стадии формирования\")))","v":{"$error":"#REF!"}},{"$f":"IF(#REF!=\"\",\"\",IF(#REF!=2,\"сформирован\",IF(#REF!=0,\"не сформирован\", \"в стадии формирования\")))","v":{"$error":"#REF!"}},{"$f":"IF(#REF!=\"\",\"\",IF(#REF!=2,\"сформирован\",IF(#REF!=0,\"не сформирован\", \"в стадии формирования\")))","v":{"$error":"#REF!"}},{"$f":"IF(#REF!=\"\",\"\",IF(#REF!=2,\"сформирован\",IF(#REF!=0,\"не сформирован\", \"в стадии формирования\")))","v":{"$error":"#REF!"}},{"$f":"IF(#REF!=\"\",\"\",IF(#REF!=2,\"сформирован\",IF(#REF!=0,\"не сформирован\", \"в стадии формирования\")))","v":{"$error":"#REF!"}},{"$f":"IF(#REF!=\"\",\"\",IF(#REF!=2,\"сформирован\",IF(#REF!=0,\"не сформирован\", \"в стадии формирования\")))","v":{"$error":"#REF!"}},{"$f":"IF(#REF!=\"\",\"\",IF(#REF!=2,\"сформирован\",IF(#REF!=0,\"не сформирован\", \"в стадии формирования\")))","v":{"$error":"#REF!"}},{"$f":"IF(#REF!=\"\",\"\",IF(#REF!=2,\"сформирован\",IF(#REF!=0,\"не сформирован\", \"в стадии формирования\")))","v":{"$error":"#REF!"}},{"$f":"IF(#REF!=\"\",\"\",IF(#REF!=2,\"сформирован\",IF(#REF!=0,\"не сформирован\", \"в стадии формирования\")))","v":{"$error":"#REF!"}},{"$f":"IF(#REF!=\"\",\"\",IF(#REF!=2,\"сформирован\",IF(#REF!=0,\"не сформирован\", \"в стадии формирования\")))","v":{"$error":"#REF!"}},{"$f":"IF(#REF!=\"\",\"\",IF(#REF!=2,\"сформирован\",IF(#REF!=0,\"не сформирован\", \"в стадии формирования\")))","v":{"$error":"#REF!"}},{"$f":"IF(#REF!=\"\",\"\",IF(#REF!=2,\"сформирован\",IF(#REF!=0,\"не сформирован\", \"в стадии формирования\")))","v":{"$error":"#REF!"}},{"$f":"IF(#REF!=\"\",\"\",IF(#REF!=2,\"сформирован\",IF(#REF!=0,\"не сформирован\", \"в стадии формирования\")))","v":{"$error":"#REF!"}},{"$f":"IF(#REF!=\"\",\"\",IF(#REF!=2,\"сформирован\",IF(#REF!=0,\"не сформирован\", \"в стадии формирования\")))","v":{"$error":"#REF!"}},{"$f":"IF(#REF!=\"\",\"\",IF(#REF!=2,\"сформирован\",IF(#REF!=0,\"не сформирован\", \"в стадии формирования\")))","v":{"$error":"#REF!"}},{"$f":"IF(#REF!=\"\",\"\",IF(#REF!=2,\"сформирован\",IF(#REF!=0,\"не сформирован\", \"в стадии формирования\")))","v":{"$error":"#REF!"}},{"$f":"IF(#REF!=\"\",\"\",IF(#REF!=2,\"сформирован\",IF(#REF!=0,\"не сформирован\", \"в стадии формирования\")))","v":{"$error":"#REF!"}},{"$f":"IF(#REF!=\"\",\"\",IF(#REF!=2,\"сформирован\",IF(#REF!=0,\"не сформирован\", \"в стадии формирования\")))","v":{"$error":"#REF!"}},{"$f":"IF(#REF!=\"\",\"\",IF(#REF!=\"\",\"\",IF(#REF!=\"\",\"\",IF(#REF!=\"\",\"\",IF(#REF!=\"\",\"\",IF(#REF!=\"\",\"\",IF(#REF!=\"\",\"\",IF(#REF!=\"\",\"\",IF(#REF!=\"\",\"\",IF(#REF!=\"\",\"\",IF(#REF!=\"\",\"\",IF(#REF!=\"\",\"\",IF(#REF!=\"\",\"\",IF(#REF!=\"\",\"\",IF(#REF!=\"\",\"\",IF(#REF!=\"\",\"\",IF(#REF!=\"\",\"\",IF(#REF!=\"\",\"\",IF(#REF!=\"\",\"\",IF(#REF!=\"\",\"\",IF(#REF!=\"\",\"\",IF(#REF!=\"\",\"\",(#REF!+#REF!+#REF!+#REF!+#REF!+#REF!+#REF!+#REF!+#REF!+#REF!+#REF!+#REF!+#REF!+#REF!+#REF!+#REF!+#REF!+#REF!+#REF!+#REF!+#REF!)/22))))))))))))))))))))))","v":{"$error":"#REF!"}},{"$f":"'[23]Целевые ориентиры_сводная'!$AI$43","v":{"$error":"#DIV/0!"}},{"$f":"'[23]Целевые ориентиры_сводная'!$AI$44","v":{"$error":"#DIV/0!"}},{"$f":"'[23]Целевые ориентиры_сводная'!$AI$45","v":{"$error":"#DIV/0!"}},{"$nulls":13},{"$f":"'[23]Целевые ориентиры_сводная'!$AZ$43","v":{"$error":"#DIV/0!"}},{"$f":"'[23]Целевые ориентиры_сводная'!$AZ$44","v":{"$error":"#DIV/0!"}},{"$f":"'[23]Целевые ориентиры_сводная'!$AZ$45","v":{"$error":"#DIV/0!"}},{"$nulls":13},{"$f":"'[23]Целевые ориентиры_сводная'!$BJ$43","v":{"$error":"#DIV/0!"}},{"$f":"'[23]Целевые ориентиры_сводная'!$BJ$44","v":{"$error":"#DIV/0!"}},{"$f":"'[23]Целевые ориентиры_сводная'!$BJ$45","v":{"$error":"#DIV/0!"}},{"$nulls":20},{"$f":"'[23]Целевые ориентиры_сводная'!$BY$43","v":{"$error":"#DIV/0!"}},{"$f":"'[23]Целевые ориентиры_сводная'!$BY$44","v":{"$error":"#DIV/0!"}},{"$f":"'[23]Целевые ориентиры_сводная'!$BY$45","v":{"$error":"#DIV/0!"}},{"$nulls":16},{"$f":"'[23]Целевые ориентиры_сводная'!$CS$43","v":{"$error":"#DIV/0!"}},{"$f":"'[23]Целевые ориентиры_сводная'!$CS$44","v":{"$error":"#DIV/0!"}},{"$f":"'[23]Целевые ориентиры_сводная'!$CS$45","v":{"$error":"#DIV/0!"}},{"$nulls":15},{"$f":"'[23]Целевые ориентиры_сводная'!$DP$43","v":{"$error":"#DIV/0!"}},{"$f":"'[23]Целевые ориентиры_сводная'!$DP$44","v":{"$error":"#DIV/0!"}},{"$f":"'[23]Целевые ориентиры_сводная'!$DP$45","v":{"$error":"#DIV/0!"}},{"$nulls":36},{"$f":"'[23]Целевые ориентиры_сводная'!$FS$43","v":{"$error":"#DIV/0!"}},{"$f":"'[23]Целевые ориентиры_сводная'!$FS$44","v":{"$error":"#DIV/0!"}},{"$f":"'[23]Целевые ориентиры_сводная'!$FS$45","v":{"$error":"#DIV/0!"}}]
[23,"Подготовительная_3",{"$f":"IF(#REF!=\"\",\"\",IF(#REF!=2,\"сформирован\",IF(#REF!=0,\"не сформирован\", \"в стадии формирования\")))","v":{"$error":"#REF!"}},{"$f":"IF(#REF!=\"\",\"\",IF(#REF!=2,\"сформирован\",IF(#REF!=0,\"не сформирован\", \"в стадии формирования\")))","v":{"$error":"#REF!"}},{"$f":"IF(#REF!=\"\",\"\",IF(#REF!=2,\"сформирован\",IF(#REF!=0,\"не сформирован\", \"в стадии формирования\")))","v":{"$error":"#REF!"}},{"$f":"IF(#REF!=\"\",\"\",IF(#REF!=2,\"сформирован\",IF(#REF!=0,\"не сформирован\", \"в стадии формирования\")))","v":{"$error":"#REF!"}},{"$f":"IF(#REF!=\"\",\"\",IF(#REF!=2,\"сформирован\",IF(#REF!=0,\"не сформирован\", \"в стадии формирования\")))","v":{"$error":"#REF!"}},{"$f":"IF(#REF!=\"\",\"\",IF(#REF!=2,\"сформирован\",IF(#REF!=0,\"не сформирован\", \"в стадии формирования\")))","v":{"$error":"#REF!"}},{"$f":"IF(#REF!=\"\",\"\",IF(#REF!=2,\"сформирован\",IF(#REF!=0,\"не сформирован\", \"в стадии формирования\")))","v":{"$error":"#REF!"}},{"$f":"IF(#REF!=\"\",\"\",IF(#REF!=2,\"сформирован\",IF(#REF!=0,\"не сформирован\", \"в стадии формирования\")))","v":{"$error":"#REF!"}},{"$f":"IF(#REF!=\"\",\"\",IF(#REF!=2,\"сформирован\",IF(#REF!=0,\"не сформирован\", \"в стадии формирования\")))","v":{"$error":"#REF!"}},{"$f":"IF(#REF!=\"\",\"\",IF(#REF!=2,\"сформирован\",IF(#REF!=0,\"не сформирован\", \"в стадии формирования\")))","v":{"$error":"#REF!"}},{"$f":"IF(#REF!=\"\",\"\",IF(#REF!=2,\"сформирован\",IF(#REF!=0,\"не сформирован\", \"в стадии формирования\")))","v":{"$error":"#REF!"}},{"$f":"IF(#REF!=\"\",\"\",IF(#REF!=2,\"сформирован\",IF(#REF!=0,\"не сформирован\", \"в стадии формирования\")))","v":{"$error":"#REF!"}},{"$f":"IF(#REF!=\"\",\"\",IF(#REF!=2,\"сформирован\",IF(#REF!=0,\"не сформирован\", \"в стадии формирования\")))","v":{"$error":"#REF!"}},{"$f":"IF(#REF!=\"\",\"\",IF(#REF!=2,\"сформирован\",IF(#REF!=0,\"не сформирован\", \"в стадии формирования\")))","v":{"$error":"#REF!"}},{"$f":"IF(#REF!=\"\",\"\",IF(#REF!=2,\"сформирован\",IF(#REF!=0,\"не сформирован\", \"в стадии формирования\")))","v":{"$error":"#REF!"}},{"$f":"IF(#REF!=\"\",\"\",IF(#REF!=2,\"сформирован\",IF(#REF!=0,\"не сформирован\", \"в стадии формирования\")))","v":{"$error":"#REF!"}},{"$f":"IF(#REF!=\"\",\"\",IF(#REF!=2,\"сформирован\",IF(#REF!=0,\"не сформирован\", \"в стадии формирования\")))","v":{"$error":"#REF!"}},{"$f":"IF(#REF!=\"\",\"\",IF(#REF!=2,\"сформирован\",IF(#REF!=0,\"не сформирован\", \"в стадии формирования\")))","v":{"$error":"#REF!"}},{"$f":"IF(#REF!=\"\",\"\",IF(#REF!=2,\"сформирован\",IF(#REF!=0,\"не сформирован\", \"в стадии формирования\")))","v":{"$error":"#REF!"}},{"$f":"IF(#REF!=\"\",\"\",IF(#REF!=2,\"сформирован\",IF(#REF!=0,\"не сформирован\", \"в стадии формирования\")))","v":{"$error":"#REF!"}},{"$f":"IF(#REF!=\"\",\"\",IF(#REF!=2,\"сформирован\",IF(#REF!=0,\"не сформирован\", \"в стадии формирования\")))","v":{"$error":"#REF!"}},{"$f":"IF(#REF!=\"\",\"\",IF(#REF!=2,\"сформирован\",IF(#REF!=0,\"не сформирован\", \"в стадии формирования\")))","v":{"$error":"#REF!"}},{"$f":"IF(#REF!=\"\",\"\",IF(#REF!=\"\",\"\",IF(#REF!=\"\",\"\",IF(#REF!=\"\",\"\",IF(#REF!=\"\",\"\",IF(#REF!=\"\",\"\",IF(#REF!=\"\",\"\",IF(#REF!=\"\",\"\",IF(#REF!=\"\",\"\",IF(#REF!=\"\",\"\",IF(#REF!=\"\",\"\",IF(#REF!=\"\",\"\",IF(#REF!=\"\",\"\",IF(#REF!=\"\",\"\",IF(#REF!=\"\",\"\",IF(#REF!=\"\",\"\",IF(#REF!=\"\",\"\",IF(#REF!=\"\",\"\",IF(#REF!=\"\",\"\",IF(#REF!=\"\",\"\",IF(#REF!=\"\",\"\",IF(#REF!=\"\",\"\",(#REF!+#REF!+#REF!+#REF!+#REF!+#REF!+#REF!+#REF!+#REF!+#REF!+#REF!+#REF!+#REF!+#REF!+#REF!+#REF!+#REF!+#REF!+#REF!+#REF!+#REF!)/22))))))))))))))))))))))","v":{"$error":"#REF!"}},{"$f":"'[24]Целевые ориентиры_сводная'!$AI$43","v":{"$error":"#DIV/0!"}},{"$f":"'[24]Целевые ориентиры_сводная'!$AI$44","v":{"$error":"#DIV/0!"}},{"$f":"'[24]Целевые ориентиры_сводная'!$AI$45","v":{"$error":"#DIV/0!"}},{"$nulls":13},{"$f":"'[24]Целевые ориентиры_сводная'!$AZ$43","v":{"$error":"#DIV/0!"}},{"$f":"'[24]Целевые ориентиры_сводная'!$AZ$44","v":{"$error":"#DIV/0!"}},{"$f":"'[24]Целевые ориентиры_сводная'!$AZ$45","v":{"$error":"#DIV/0!"}},{"$nulls":13},{"$f":"'[24]Целевые ориентиры_сводная'!$BJ$43","v":{"$error":"#DIV/0!"}},{"$f":"'[24]Целевые ориентиры_сводная'!$BJ$44","v":{"$error":"#DIV/0!"}},{"$f":"'[24]Целевые ориентиры_сводная'!$BJ$45","v":{"$error":"#DIV/0!"}},{"$nulls":20},{"$f":"'[24]Целевые ориентиры_сводная'!$BY$43","v":{"$error":"#DIV/0!"}},{"$f":"'[24]Целевые ориентиры_сводная'!$BY$44","v":{"$error":"#DIV/0!"}},{"$f":"'[24]Целевые ориентиры_сводная'!$BY$45","v":{"$error":"#DIV/0!"}},{"$nulls":16},{"$f":"'[24]Целевые ориентиры_сводная'!$CS$43","v":{"$error":"#DIV/0!"}},{"$f":"'[24]Целевые ориентиры_сводная'!$CS$44","v":{"$error":"#DIV/0!"}},{"$f":"'[24]Целевые ориентиры_сводная'!$CS$45","v":{"$error":"#DIV/0!"}},{"$nulls":15},{"$f":"'[24]Целевые ориентиры_сводная'!$DP$43","v":{"$error":"#DIV/0!"}},{"$f":"'[24]Целевые ориентиры_сводная'!$DP$44","v":{"$error":"#DIV/0!"}},{"$f":"'[24]Целевые ориентиры_сводная'!$DP$45","v":{"$error":"#DIV/0!"}},{"$nulls":36},{"$f":"'[24]Целевые ориентиры_сводная'!$FS$43","v":{"$error":"#DIV/0!"}},{"$f":"'[24]Целевые ориентиры_сводная'!$FS$44","v":{"$error":"#DIV/0!"}},{"$f":"'[24]Целевые ориентиры_сводная'!$FS$45","v":{"$error":"#DIV/0!"}}]
[24,"Подготовительная_4",{"$nulls":23},{"$f":"'[25]Целевые ориентиры_сводная'!$AI$43","v":{"$error":"#DIV/0!"}},{"$f":"'[25]Целевые ориентиры_сводная'!$AI$44","v":{"$error":"#DIV/0!"}},{"$f":"'[25]Целевые ориентиры_сводная'!$AI$45","v":{"$error":"#DIV/0!"}},{"$nulls":13},{"$f":"'[25]Целевые ориентиры_сводная'!$AZ$43","v":{"$error":"#DIV/0!"}},{"$f":"'[25]Целевые ориентиры_сводная'!$AZ$44","v":{"$error":"#DIV/0!"}},{"$f":"'[25]Целевые ориентиры_сводная'!$AZ$45","v":{"$error":"#DIV/0!"}},{"$nulls":13},{"$f":"'[25]Целевые ориентиры_сводная'!$BJ$43","v":{"$error":"#DIV/0!"}},{"$f":"'[25]Целевые ориентиры_сводная'!$BJ$44","v":{"$error":"#DIV/0!"}},{"$f":"'[25]Целевые ориентиры_сводная'!$BJ$45","v":{"$error":"#DIV/0!"}},{"$nulls":20},{"$f":"'[25]Целевые ориентиры_сводная'!$BY$43","v":{"$error":"#DIV/0!"}},{"$f":"'[25]Целевые ориентиры_сводная'!$BY$44","v":{"$error":"#DIV/0!"}},{"$f":"'[25]Целевые ориентиры_сводная'!$BY$45","v":{"$error":"#DIV/0!"}},{"$nulls":16},{"$f":"'[25]Целевые ориентиры_сводная'!$CS$43","v":{"$error":"#DIV/0!"}},{"$f":"'[25]Целевые ориентиры_сводная'!$DP$44","v":{"$error":"#DIV/0!"}},{"$f":"'[25]Целевые ориентиры_сводная'!$DP$45","v":{"$error":"#DIV/0!"}},{"$nulls":15},{"$f":"'[25]Целевые ориентиры_сводная'!$DP$43","v":{"$error":"#DIV/0!"}},{"$f":"'[25]Целевые ориентиры_сводная'!$DP$44","v":{"$error":"#DIV/0!"}},{"$f":"'[25]Целевые ориентиры_сводная'!$DP$45","v":{"$error":"#DIV/0!"}},{"$nulls":36},{"$f":"'[25]Целевые ориентиры_сводная'!$FS$43","v":{"$error":"#DIV/0!"}},{"$f":"'[25]Целевые ориентиры_сводная'!$FS$44","v":{"$error":"#DIV/0!"}},{"$f":"'[25]Целевые ориентиры_сводная'!$FS$45","v":{"$error":"#DIV/0!"}}]
[25,"Подготовительная_5",{"$nulls":23},{"$f":"'[26]Целевые ориентиры_сводная'!$AI$43","v":{"$error":"#DIV/0!"}},{"$f":"'[26]Целевые ориентиры_сводная'!$AI$44","v":{"$error":"#DIV/0!"}},{"$f":"'[26]Целевые ориентиры_сводная'!$AI$45","v":{"$error":"#DIV/0!"}},{"$nulls":13},{"$f":"'[26]Целевые ориентиры_сводная'!$AZ$43","v":{"$error":"#DIV/0!"}},{"$f":"'[26]Целевые ориентиры_сводная'!$AZ$44","v":{"$error":"#DIV/0!"}},{"$f":"'[26]Целевые ориентиры_сводная'!$AZ$45","v":{"$error":"#DIV/0!"}},{"$nulls":13},{"$f":"'[26]Целевые ориентиры_сводная'!$BJ$43","v":{"$error":"#DIV/0!"}},{"$f":"'[26]Целевые ориентиры_сводная'!$BJ$44","v":{"$error":"#DIV/0!"}},{"$f":"'[26]Целевые ориентиры_сводная'!$BJ$45","v":{"$error":"#DIV/0!"}},{"$nulls":20},{"$f":"'[26]Целевые ориентиры_сводная'!$BY$43","v":{"$error":"#DIV/0!"}},{"$f":"'[26]Целевые ориентиры_сводная'!$BY$44","v":{"$error":"#DIV/0!"}},{"$f":"'[26]Целевые ориентиры_сводная'!$BY$45","v":{"$error":"#DIV/0!"}},{"$nulls":16},{"$f":"'[26]Целевые ориентиры_сводная'!$CS$43","v":{"$error":"#DIV/0!"}},{"$f":"'[26]Целевые ориентиры_сводная'!$CS$44","v":{"$error":"#DIV/0!"}},{"$f":"'[26]Целевые ориентиры_сводная'!$CS$45","v":{"$error":"#DIV/0!"}},{"$nulls":15},{"$f":"'[26]Целевые ориентиры_сводная'!$DP$43","v":{"$error":"#DIV/0!"}},{"$f":"'[26]Целевые ориентиры_сводная'!$DP$44","v":{"$error":"#DIV/0!"}},{"$f":"'[26]Целевые ориентиры_сводная'!$DP$45","v":{"$error":"#DIV/0!"}},{"$nulls":36},{"$f":"'[26]Целевые ориентиры_сводная'!$FS$43","v":{"$error":"#DIV/0!"}},{"$f":"'[26]Целевые ориентиры_сводная'!$FS$44","v":{"$error":"#DIV/0!"}},{"$f":"'[26]Целевые ориентиры_сводная'!$FS$45","v":{"$error":"#DIV/0!"}}]
[]
[]
[{"$nulls":25},{"$f":"AVERAGE(Z5:Z29)","v":{"$error":"#DIV/0!"}},{"$f":"AVERAGE(AA5:AA29)","v":{"$error":"#DIV/0!"}},{"$error":"#DIV/0!"},{"$error":"#DIV/0!"},{"$error":"#DIV/0!"},{"$error":"#DIV/0!"},{"$error":"#DIV/0!"},{"$error":"#DIV/0!"},{"$error":"#DIV/0!"},{"$error":"#DIV/0!"},{"$error":"#DIV/0!"},{"$error":"#DIV/0!"},{"$error":"#DIV/0!"},{"$error":"#DIV/0!"},{"$error":"#DIV/0!"},{"$error":"#DIV/0!"},{"$error":"#DIV/0!"},{"$error":"#DIV/0!"},{"$error":"#DIV/0!"},{"$error":"#DIV/0!"},{"$error":"#DIV/0!"},{"$error":"#DIV/0!"},{"$error":"#DIV/0!"},{"$error":"#DIV/0!"},{"$error":"#DIV/0!"},{"$error":"#DIV/0!"},{"$error":"#DIV/0!"},{"$error":"#DIV/0!"},{"$error":"#DIV/0!"},{"$error":"#DIV/0!"},{"$error":"#DIV/0!"},{"$error":"#DIV/0!"},{"$error":"#DIV/0!"},{"$error":"#DIV/0!"},{"$error":"#DIV/0!"},{"$error":"#DIV/0!"},{"$error":"#DIV/0!"},{"$error":"#DIV/0!"},{"$error":"#DIV/0!"},{"$error":"#DIV/0!"},{"$error":"#DIV/0!"},{"$error":"#DIV/0!"},{"$error":"#DIV/0!"},{"$error":"#DIV/0!"},{"$error":"#DIV/0!"},{"$error":"#DIV/0!"},{"$error":"#DIV/0!"},{"$error":"#DIV/0!"},{"$error":"#DIV/0!"},{"$error":"#DIV/0!"},{"$error":"#DIV/0!"},{"$error":"#DIV/0!"},{"$error":"#DIV/0!"},{"$error":"#DIV/0!"},{"$error":"#DIV/0!"},{"$error":"#DIV/0!"},{"$error":"#DIV/0!"},{"$error":"#DIV/0!"},{"$error":"#DIV/0!"},{"$error":"#DIV/0!"},{"$error":"#DIV/0!"},{"$error":"#DIV/0!"},{"$error":"#DIV/0!"},{"$error":"#DIV/0!"},{"$error":"#DIV/0!"},{"$f":"AVERAGE(CM5:CM29)","v":{"$error":"#DIV/0!"}},{"$error":"#DIV/0!"},{"$error":"#DIV/0!"},{"$error":"#DIV/0!"},{"$error":"#DIV/0!"},{"$error":"#DIV/0!"},{"$error":"#DIV/0!"},{"$error":"#DIV/0!"},{"$error":"#DIV/0!"},{"$error":"#DIV/0!"},{"$error":"#DIV/0!"},{"$error":"#DIV/0!"},{"$error":"#DIV/0!"},{"$error":"#DIV/0!"},{"$error":"#DIV/0!"},{"$error":"#DIV/0!"},{"$error":"#DIV/0!"},{"$error":"#DIV/0!"},{"$error":"#DIV/0!"},{"$error":"#DIV/0!"},{"$error":"#DIV/0!"},{"$error":"#DIV/0!"},{"$error":"#DIV/0!"},{"$error":"#DIV/0!"},{"$error":"#DIV/0!"},{"$error":"#DIV/0!"},{"$error":"#DIV/0!"},{"$error":"#DIV/0!"},{"$error":"#DIV/0!"},{"$error":"#DIV/0!"},{"$error":"#DIV/0!"},{"$error":"#DIV/0!"},{"$error":"#DIV/0!"},{"$error":"#DIV/0!"},{"$error":"#DIV/0!"},{"$error":"#DIV/0!"},{"$error":"#DIV/0!"},{"$error":"#DIV/0!"},{"$error":"#DIV/0!"},{"$error":"#DIV/0!"},{"$error":"#DIV/0!"},{"$error":"#DIV/0!"},{"$error":"#DIV/0!"},{"$error":"#DIV/0!"},{"$error":"#DIV/0!"},{"$error":"#DIV/0!"},{"$error":"#DIV/0!"},{"$error":"#DIV/0!"},{"$error":"#DIV/0!"},{"$error":"#DIV/0!"},{"$error":"#DIV/0!"},{"$error":"#DIV/0!"},{"$error":"#DIV/0!"},{"$error":"#DIV/0!"},{"$error":"#DIV/0!"},{"$error":"#DIV/0!"},{"$error":"#DIV/0!"},{"$error":"#DIV/0!"},{"$error":"#DIV/0!"},{"$error":"#DIV/0!"},{"$error":"#DIV/0!"},{"$error":"#DIV/0!"},{"$error":"#DIV/0!"},{"$error":"#DIV/0!"},{"$f":"AVERAGE(EY5:EY29)","v":{"$error":"#DIV/0!"}},{"$error":"#DIV/0!"},{"$error":"#DIV/0!"},{"$error":"#DIV/0!"},{"$error":"#DIV/0!"}]
{"$rows_empty":15}
[{"$nulls":23},{"$f":"IF(#REF!=\"\",\"\",IF(#REF!=2,\"сформирован\",IF(#REF!=0,\"не сформирован\", \"в стадии формирования\")))","v":{"$error":"#REF!"}},{"$nulls":69},{"$f":"IF(#REF!=\"\",\"\",IF(#REF!=2,\"сформирован\",IF(#REF!=0,\"не сформирован\", \"в стадии формирования\")))","v":{"$error":"#REF!"}},{"$nulls":64},{"$f":"IF(EZ48=\"\",\"\",IF(EZ48=2,\"сформирован\",IF(EZ48=0,\"не сформирован\",\"в стадии формирования\")))","v":""}]
{"$rows_empty":779}
[{"$nulls":9},"Конструирует несложные постройки из                  2—3 деталей.","Создаёт постройки «по сюжету» (дом, машина и т.д.)."]
[{"$nulls":9},"Конструирует несложные постройки из                  2—3 деталей.","Создаёт постройки «по сюжету» (дом, машина и т.д.)."]
[{"$nulls":9},"Конструирует несложные постройки из                  2—3 деталей.","Создаёт постройки «по сюжету» (дом, машина и т.д.)."]
[{"$nulls":9},"Конструирует несложные постройки из                  2—3 деталей.","Создаёт постройки «по сюжету» (дом, машина и т.д.)."]
[{"$nulls":9},"Конструирует несложные постройки из                  2—3 деталей.","Создаёт постройки «по сюжету» (дом, машина и т.д.)."]
[]
[]
[]
[{"$nulls":9},"Конструирует несложные постройки из                  2—3 деталей.","Создаёт постройки «по сюжету» (дом, машина и т.д.)."]
[{"$nulls":9},"Конструирует несложные постройки из                  2—3 деталей.","Создаёт постройки «по сюжету» (дом, машина и т.д.)."]
[{"$nulls":9},"Конструирует несложные постройки из                  2—3 деталей.","Создаёт постройки «по сюжету» (дом, машина и т.д.)."]
[{"$nulls":9},"Конструирует несложные постройки из                  2—3 деталей.","Создаёт постройки «по сюжету» (дом, машина и т.д.)."]
[{"$nulls":9},"Конструирует несложные постройки из                  2—3 деталей.","Создаёт постройки «по сюжету» (дом, машина и т.д.)."]
[{"$nulls":9},"Конструирует несложные постройки из                  2—3 деталей.","Создаёт постройки «по сюжету» (дом, машина и т.д.)."]
[{"$nulls":9},"Конструирует несложные постройки из                  2—3 деталей.","Создаёт постройки «по сюжету» (дом, машина и т.д.)."]
[{"$nulls":9},"Конструирует несложные постройки из                  2—3 деталей.","Создаёт постройки «по сюжету» (дом, машина и т.д.)."]
{"$rows_empty":25}
[{"$nulls":9},"Конструирует несложные постройки из                  2—3 деталей.","Создаёт постройки «по сюжету» (дом, машина и т.д.)."]
[{"$nulls":9},"Конструирует несложные постройки из                  2—3 деталей.","Создаёт постройки «по сюжету» (дом, машина и т.д.)."]
[{"$nulls":9},"Конструирует несложные постройки из                  2—3 деталей.","Создаёт постройки «по сюжету» (дом, машина и т.д.)."]
{"$rows_empty":11}
[{"$nulls":9},"Конструирует несложные постройки из                  2—3 деталей.","Создаёт постройки «по сюжету» (дом, машина и т.д.)."]
[{"$nulls":9},"Конструирует несложные постройки из                  2—3 деталей.","Создаёт постройки «по сюжету» (дом, машина и т.д.)."]
[{"$nulls":9},"Конструирует несложные постройки из                  2—3 деталей.","Создаёт постройки «по сюжету» (дом, машина и т.д.)."]
[{"$nulls":9},"Конструирует несложные постройки из                  2—3 деталей.","Создаёт постройки «по сюжету» (дом, машина и т.д.)."]
{"$rows_empty":13}
[{"$nulls":9},"Конструирует несложные постройки из                  2—3 деталей.","Создаёт постройки «по сюжету» (дом, машина и т.д.)."]
[{"$nulls":9},"Конструирует несложные постройки из                  2—3 деталей.","Создаёт постройки «по сюжету» (дом, машина и т.д.)."]
{"$rows_empty":11}
[{"$nulls":9},"Конструирует несложные постройки из                  2—3 деталей.","Создаёт постройки «по сюжету» (дом, машина и т.д.)."]
[{"$nulls":9},"Конструирует несложные постройки из                  2—3 деталей.","Создаёт постройки «по сюжету» (дом, машина и т.д.)."]
[{"$nulls":9},"Конструирует несложные постройки из                  2—3 деталей.","Создаёт постройки «по сюжету» (дом, машина и т.д.)."]
[{"$nulls":9},"Конструирует несложные постройки из                  2—3 деталей.","Создаёт постройки «по сюжету» (дом, машина и т.д.)."]
{"$rows_empty":11}
[{"$nulls":9},"Конструирует несложные постройки из                  2—3 деталей.","Создаёт постройки «по сюжету» (дом, машина и т.д.)."]
[{"$nulls":9},"Конструирует несложные постройки из                  2—3 деталей.","Создаёт постройки «по сюжету» (дом, машина и т.д.)."]
[{"$nulls":9},"Конструирует несложные постройки из                  2—3 деталей.","Создаёт постройки «по сюжету» (дом, машина и т.д.)."]
[{"$nulls":9},"Конструирует несложные постройки из                  2—3 деталей.","Создаёт постройки «по сюжету» (дом, машина и т.д.)."]
{"$rows_empty":11}
[{"$nulls":9},"Конструирует несложные постройки из                  2—3 деталей.","Создаёт постройки «по сюжету» (дом, машина и т.д.)."]
[{"$nulls":9},"Конструирует несложные постройки из                  2—3 деталей.","Создаёт постройки «по сюжету» (дом, машина и т.д.)."]
[{"$nulls":9},"Конструирует несложные постройки из                  2—3 деталей.","Создаёт постройки «по сюжету» (дом, машина и т.д.)."]
[{"$nulls":9},"Конструирует несложные постройки из                  2—3 деталей.","Создаёт постройки «по сюжету» (дом, машина и т.д.)."]
[{"$nulls":9},"Конструирует несложные постройки из                  2—3 деталей.","Создаёт постройки «по сюжету» (дом, машина и т.д.)."]
[{"$nulls":9},"Конструирует несложные постройки из                  2—3 деталей.","Создаёт постройки «по сюжету» (дом, машина и т.д.)."]
[{"$nulls":9},"Конструирует несложные постройки из                  2—3 деталей.","Создаёт постройки «по сюжету» (дом, машина и т.д.)."]
{"$rows_empty":33}
[{"$nulls":9},"Конструирует несложные постройки из                  2—3 деталей.","Создаёт постройки «по сюжету» (дом, машина и т.д.)."]
[{"$nulls":9},"Конструирует несложные постройки из                  2—3 деталей.","Создаёт постройки «по сюжету» (дом, машина и т.д.)."]
[{"$nulls":9},"Конструирует несложные постройки из                  2—3 деталей.","Создаёт постройки «по сюжету» (дом, машина и т.д.)."]
[{"$nulls":9},"Конструирует несложные постройки из                  2—3 деталей.","Создаёт постройки «по сюжету» (дом, машина и т.д.)."]
{"$rows_empty":18}
[{"$nulls":9},"Конструирует несложные постройки из                  2—3 деталей.","Создаёт постройки «по сюжету» (дом, машина и т.д.)."]
[{"$nulls":9},"Конструирует несложные постройки из                  2—3 деталей.","Создаёт постройки «по сюжету» (дом, машина и т.д.)."]
[{"$nulls":9},"Конструирует несложные постройки из                  2—3 деталей.","Создаёт постройки «по сюжету» (дом, машина и т.д.)."]
{"$rows_empty":29}
[{"$nulls":9},"Конструирует несложные постройки из                  2—3 деталей.","Создаёт постройки «по сюжету» (дом, машина и т.д.)."]
[{"$nulls":9},"Конструирует несложные постройки из                  2—3 деталей.","Создаёт постройки «по сюжету» (дом, машина и т.д.)."]
[{"$nulls":9},"Конструирует несложные постройки из                  2—3 деталей.","Создаёт постройки «по сюжету» (дом, машина и т.д.)."]
[{"$nulls":9},"Конструирует несложные постройки из                  2—3 деталей.","Создаёт постройки «по сюжету» (дом, машина и т.д.)."]
{"$rows_empty":11}
[{"$nulls":9},"Конструирует несложные постройки из                  2—3 деталей.","Создаёт постройки «по сюжету» (дом, машина и т.д.)."]
[{"$nulls":9},"Конструирует несложные постройки из                  2—3 деталей.","Создаёт постройки «по сюжету» (дом, машина и т.д.)."]
[{"$nulls":9},"Конструирует несложные постройки из                  2—3 деталей.","Создаёт постройки «по сюжету» (дом, машина и т.д.)."]
[{"$nulls":9},"Конструирует несложные постройки из                  2—3 деталей.","Создаёт постройки «по сюжету» (дом, машина и т.д.)."]
[{"$nulls":9},"Конструирует несложные постройки из                  2—3 деталей.","Создаёт постройки «по сюжету» (дом, машина и т.д.)."]
[{"$nulls":9},"Конструирует несложные постройки из                  2—3 деталей.","Создаёт постройки «по сюжету» (дом, машина и т.д.)."]
[{"$nulls":9},"Конструирует несложные постройки из                  2—3 деталей.","Создаёт постройки «по сюжету» (дом, машина и т.д.)."]
{"$rows_empty":14}
[{"$nulls":9},"Конструирует несложные постройки из                  2—3 деталей.","Создаёт постройки «по сюжету» (дом, машина и т.д.)."]
[{"$nulls":9},"Конструирует несложные постройки из                  2—3 деталей.","Создаёт постройки «по сюжету» (дом, машина и т.д.)."]
[{"$nulls":9},"Конструирует несложные постройки из                  2—3 деталей.","Создаёт постройки «по сюжету» (дом, машина и т.д.)."]
[{"$nulls":9},"Конструирует несложные постройки из                  2—3 деталей.","Создаёт постройки «по сюжету» (дом, машина и т.д.)."]
{"$rows_empty":14}
[{"$nulls":9},"Конструирует несложные постройки из                  2—3 деталей.","Создаёт постройки «по сюжету» (дом, машина и т.д.)."]
[{"$nulls":9},"Конструирует несложные постройки из                  2—3 деталей.","Создаёт постройки «по сюжету» (дом, машина и т.д.)."]
[{"$nulls":9},"Конструирует несложные постройки из                  2—3 деталей.","Создаёт постройки «по сюжету» (дом, машина и т.д.)."]
[{"$nulls":9},"Конструирует несложные постройки из                  2—3 деталей.","Создаёт постройки «по сюжету» (дом, машина и т.д.)."]
[{"$nulls":9},"Конструирует несложные постройки из                  2—3 деталей.","Создаёт постройки «по сюжету» (дом, машина и т.д.)."]
[{"$nulls":9},"Конструирует несложные постройки из                  2—3 деталей.","Создаёт постройки «по сюжету» (дом, машина и т.д.)."]
{"$rows_empty":31}
[{"$nulls":9},"Конструирует несложные постройки из                  2—3 деталей.","Создаёт постройки «по сюжету» (дом, машина и т.д.)."]
[{"$nulls":9},"Конструирует несложные постройки из                  2—3 деталей.","Создаёт постройки «по сюжету» (дом, машина и т.д.)."]
[{"$nulls":9},"Конструирует несложные постройки из                  2—3 деталей.","Создаёт постройки «по сюжету» (дом, машина и т.д.)."]
[{"$nulls":9},"Конструирует несложные постройки из                  2—3 деталей.","Создаёт постройки «по сюжету» (дом, машина и т.д.)."]
[{"$nulls":9},"Конструирует несложные постройки из                  2—3 деталей.","Создаёт постройки «по сюжету» (дом, машина и т.д.)."]
{"$rows_empty":14}
[{"$nulls":9},"Конструирует несложные постройки из                  2—3 деталей.","Создаёт постройки «по сюжету» (дом, машина и т.д.)."]
[{"$nulls":9},"Конструирует несложные постройки из                  2—3 деталей.","Создаёт постройки «по сюжету» (дом, машина и т.д.)."]
[{"$nulls":9},"Конструирует несложные постройки из                  2—3 деталей.","Создаёт постройки «по сюжету» (дом, машина и т.д.)."]
[{"$nulls":9},"Конструирует несложные постройки из                  2—3 деталей.","Создаёт постройки «по сюжету» (дом, машина и т.д.)."]
{"$rows_empty":23}
[{"$nulls":9},"Конструирует несложные постройки из                  2—3 деталей.","Создаёт постройки «по сюжету» (дом, машина и т.д.)."]
[]
[]
[]
[{"$nulls":9},"Конструирует несложные постройки из                  2—3 деталей.","Создаёт постройки «по сюжету» (дом, машина и т.д.)."]
[{"$nulls":9},"Конструирует несложные постройки из                  2—3 деталей.","Создаёт постройки «по сюжету» (дом, машина и т.д.)."]
[{"$nulls":9},"Конструирует несложные постройки из                  2—3 деталей.","Создаёт постройки «по сюжету» (дом, машина и т.д.)."]
[{"$nulls":9},"Конструирует несложные постройки из                  2—3 деталей.","Создаёт постройки «по сюжету» (дом, машина и т.д.)."]
[{"$nulls":9},"Конструирует несложные постройки из                  2—3 деталей.","Создаёт постройки «по сюжету» (дом, машина и т.д.)."]
[{"$nulls":9},"Конструирует несложные постройки из                  2—3 деталей.","Создаёт постройки «по сюжету» (дом, машина и т.д.)."]
{"$rows_empty":26}
[{"$nulls":9},"Конструирует несложные постройки из                  2—3 деталей.","Создаёт постройки «по сюжету» (дом, машина и т.д.)."]
[{"$nulls":9},"Конструирует несложные постройки из                  2—3 деталей.","Создаёт постройки «по сюжету» (дом, машина и т.д.)."]
[{"$nulls":9},"Конструирует несложные постройки из                  2—3 деталей.","Создаёт постройки «по сюжету» (дом, машина и т.д.)."]
[{"$nulls":9},"Конструирует несложные постройки из                  2—3 деталей.","Создаёт постройки «по сюжету» (дом, машина и т.д.)."]
[{"$nulls":9},"Конструирует несложные постройки из                  2—3 деталей.","Создаёт постройки «по сюжету» (дом, машина и т.д.)."]
[{"$nulls":9},"Конструирует несложные постройки из                  2—3 деталей.","Создаёт постройки «по сюжету» (дом, машина и т.д.)."]
[{"$nulls":9},"Конструирует несложные постройки из                  2—3 деталей.","Создаёт постройки «по сюжету» (дом, машина и т.д.)."]
{"$rows_empty":9}
[{"$nulls":9},"Конструирует несложные постройки из                  2—3 деталей.","Создаёт постройки «по сюжету» (дом, машина и т.д.)."]
[{"$nulls":9},"Конструирует несложные постройки из                  2—3 деталей.","Создаёт постройки «по сюжету» (дом, машина и т.д.)."]
[{"$nulls":9},"Конструирует несложные постройки из                  2—3 деталей.","Создаёт постройки «по сюжету» (дом, машина и т.д.)."]
{"$rows_empty":13}
[{"$nulls":9},"Конструирует несложные постройки из                  2—3 деталей.","Создаёт постройки «по сюжету» (дом, машина и т.д.)."]
[{"$nulls":9},"Конструирует несложные постройки из                  2—3 деталей.","Создаёт постройки «по сюжету» (дом, машина и т.д.)."]
[{"$nulls":9},"Конструирует несложные постройки из                  2—3 деталей.","Создаёт постройки «по сюжету» (дом, машина и т.д.)."]
[{"$nulls":9},"Конструирует несложные постройки из                  2—3 деталей.","Создаёт постройки «по сюжету» (дом, машина и т.д.)."]
[{"$nulls":9},"Конструирует несложные постройки из                  2—3 деталей.","Создаёт постройки «по сюжету» (дом, машина и т.д.)."]
{"$rows_empty":27}
[{"$nulls":9},"Конструирует несложные постройки из                  2—3 деталей.","Создаёт постройки «по сюжету» (дом, машина и т.д.)."]
[{"$nulls":9},"Конструирует несложные постройки из                  2—3 деталей.","Создаёт постройки «по сюжету» (дом, машина и т.д.)."]
[{"$nulls":9},"Конструирует несложные постройки из                  2—3 деталей.","Создаёт постройки «по сюжету» (дом, машина и т.д.)."]
[{"$nulls":9},"Конструирует несложные постройки из                  2—3 деталей.","Создаёт постройки «по сюжету» (дом, машина и т.д.)."]
[{"$nulls":9},"Конструирует несложные постройки из                  2—3 деталей.","Создаёт постройки «по сюжету» (дом, машина и т.д.)."]
[{"$nulls":9},"Конструирует несложные постройки из                  2—3 деталей.","Создаёт постройки «по сюжету» (дом, машина и т.д.)."]
{"$rows_empty":9}
[{"$nulls":9},"Конструирует несложные постройки из                  2—3 деталей.","Создаёт постройки «по сюжету» (дом, машина и т.д.)."]
[{"$nulls":9},"Конструирует несложные постройки из                  2—3 деталей.","Создаёт постройки «по сюжету» (дом, машина и т.д.)."]
{"$rows_empty":9}
[{"$nulls":9},"Конструирует несложные постройки из                  2—3 деталей.","Создаёт постройки «по сюжету» (дом, машина и т.д.)."]
[{"$nulls":9},"Конструирует несложные постройки из                  2—3 деталей.","Создаёт постройки «по сюжету» (дом, машина и т.д.)."]
[{"$nulls":9},"Конструирует несложные постройки из                  2—3 деталей.","Создаёт постройки «по сюжету» (дом, машина и т.д.)."]
{"$rows_empty":26}
[{"$nulls":9},"Конструирует несложные постройки из                  2—3 деталей.","Создаёт постройки «по сюжету» (дом, машина и т.д.)."]
[{"$nulls":9},"Конструирует несложные постройки из                  2—3 деталей.","Создаёт постройки «по сюжету» (дом, машина и т.д.)."]
{"$rows_empty":11}
[{"$nulls":9},"Конструирует несложные постройки из                  2—3 деталей.","Создаёт постройки «по сюжету» (дом, машина и т.д.)."]
[{"$nulls":9},"Конструирует несложные постройки из                  2—3 деталей.","Создаёт постройки «по сюжету» (дом, машина и т.д.)."]
[{"$nulls":9},"Конструирует несложные постройки из                  2—3 деталей.","Создаёт постройки «по сюжету» (дом, машина и т.д.)."]
{"$rows_empty":12}
[{"$nulls":9},"Конструирует несложные постройки из                  2—3 деталей.","Создаёт постройки «по сюжету» (дом, машина и т.д.)."]
[{"$nulls":9},"Конструирует несложные постройки из                  2—3 деталей.","Создаёт постройки «по сюжету» (дом, машина и т.д.)."]
[{"$nulls":9},"Конструирует несложные постройки из                  2—3 деталей.","Создаёт постройки «по сюжету» (дом, машина и т.д.)."]
[]
[]
[]
[]
[]
[]
[{"$nulls":9},"Конструирует несложные постройки из                  2—3 деталей.","Создаёт постройки «по сюжету» (дом, машина и т.д.)."]
[{"$nulls":9},"Конструирует несложные постройки из                  2—3 деталей.","Создаёт постройки «по сюжету» (дом, машина и т.д.)."]
[{"$nulls":9},"Конструирует несложные постройки из                  2—3 деталей.","Создаёт постройки «по сюжету» (дом, машина и т.д.)."]
[{"$nulls":9},"Конструирует несложные постройки из                  2—3 деталей.","Создаёт постройки «по сюжету» (дом, машина и т.д.)."]
[{"$nulls":9},"Конструирует несложные постройки из                  2—3 деталей.","Создаёт постройки «по сюжету» (дом, машина и т.д.)."]
{"$rows_empty":13}
[{"$nulls":9},"Конструирует несложные постройки из                  2—3 деталей.","Создаёт постройки «по сюжету» (дом, машина и т.д.)."]
[{"$nulls":9},"Конструирует несложные постройки из                  2—3 деталей.","Создаёт постройки «по сюжету» (дом, машина и т.д.)."]
[]
[]
[]
[{"$nulls":9},"Конструирует несложные постройки из                  2—3 деталей.","Создаёт постройки «по сюжету» (дом, машина и т.д.)."]
[{"$nulls":9},"Конструирует несложные постройки из                  2—3 деталей.","Создаёт постройки «по сюжету» (дом, машина и т.д.)."]
[{"$nulls":9},"Конструирует несложные постройки из                  2—3 деталей.","Создаёт постройки «по сюжету» (дом, машина и т.д.)."]
{"$rows_empty":11}
[{"$nulls":9},"Конструирует несложные постройки из                  2—3 деталей.","Создаёт постройки «по сюжету» (дом, машина и т.д.)."]
[]
[]
[]
[{"$nulls":9},"Конструирует несложные постройки из                  2—3 деталей.","Создаёт постройки «по сюжету» (дом, машина и т.д.)."]
[{"$nulls":9},"Конструирует несложные постройки из                  2—3 деталей.","Создаёт постройки «по сюжету» (дом, машина и т.д.)."]
[{"$nulls":9},"Конструирует несложные постройки из                  2—3 деталей.","Создаёт постройки «по сюжету» (дом, машина и т.д.)."]
[{"$nulls":9},"Конструирует несложные постройки из                  2—3 деталей.","Создаёт постройки «по сюжету» (дом, машина и т.д.)."]
[{"$nulls":9},"Конструирует несложные постройки из                  2—3 деталей.","Создаёт постройки «по сюжету» (дом, машина и т.д.)."]
[{"$nulls":9},"Конструирует несложные постройки из                  2—3 деталей.","Создаёт постройки «по сюжету» (дом, машина и т.д.)."]
{"$rows_empty":20}
[{"$nulls":9},"Конструирует несложные постройки из                  2—3 деталей.","Создаёт постройки «по сюжету» (дом, машина и т.д.)."]
[{"$nulls":9},"Конструирует несложные постройки из                  2—3 деталей.","Создаёт постройки «по сюжету» (дом, машина и т.д.)."]
[{"$nulls":9},"Конструирует несложные постройки из                  2—3 деталей.","Создаёт постройки «по сюжету» (дом, машина и т.д.)."]
{"$rows_empty":10}
[{"$nulls":9},"Конструирует несложные постройки из                  2—3 деталей.","Создаёт постройки «по сюжету» (дом, машина и т.д.)."]
[{"$nulls":9},"Конструирует несложные постройки из                  2—3 деталей.","Создаёт постройки «по сюжету» (дом, машина и т.д.)."]
[{"$nulls":9},"Конструирует несложные постройки из                  2—3 деталей.","Создаёт постройки «по сюжету» (дом, машина и т.д.)."]
[{"$nulls":9},"Конструирует несложные постройки из                  2—3 деталей.","Создаёт постройки «по сюжету» (дом, машина и т.д.)."]
[{"$nulls":9},"Конструирует несложные постройки из                  2—3 деталей.","Создаёт постройки «по сюжету» (дом, машина и т.д.)."]
{"$rows_empty":10}
[{"$nulls":9},"Конструирует несложные постройки из                  2—3 деталей.","Создаёт постройки «по сюжету» (дом, машина и т.д.)."]
[{"$nulls":9},"Конструирует несложные постройки из                  2—3 деталей.","Создаёт постройки «по сюжету» (дом, машина и т.д.)."]
[{"$nulls":9},"Конструирует несложные постройки из                  2—3 деталей.","Создаёт постройки «по сюжету» (дом, машина и т.д.)."]
[{"$nulls":9},"Конструирует несложные постройки из                  2—3 деталей.","Создаёт постройки «по сюжету» (дом, машина и т.д.)."]
[{"$nulls":9},"Конструирует несложные постройки из                  2—3 деталей.","Создаёт постройки «по сюжету» (дом, машина и т.д.)."]
[{"$nulls":9},"Конструирует несложные постройки из                  2—3 деталей.","Создаёт постройки «по сюжету» (дом, машина и т.д.)."]
[{"$nulls":9},"Конструирует несложные постройки из                  2—3 деталей.","Создаёт постройки «по сюжету» (дом, машина и т.д.)."]
[{"$nulls":9},"Конструирует несложные постройки из                  2—3 деталей.","Создаёт постройки «по сюжету» (дом, машина и т.д.)."]
[{"$nulls":9},"Конструирует несложные постройки из                  2—3 деталей.","Создаёт постройки «по сюжету» (дом, машина и т.д.)."]
[{"$nulls":9},"Конструирует несложные постройки из                  2—3 деталей.","Создаёт постройки «по сюжету» (дом, машина и т.д.)."]
[{"$nulls":9},"Конструирует несложные постройки из                  2—3 деталей.","Создаёт постройки «по сюжету» (дом, машина и т.д.)."]
[{"$nulls":9},"Конструирует несложные постройки из                  2—3 деталей.","Создаёт постройки «по сюжету» (дом, машина и т.д.)."]
[{"$nulls":9},"Конструирует несложные постройки из                  2—3 деталей.","Создаёт постройки «по сюжету» (дом, машина и т.д.)."]
[{"$nulls":9},"Конструирует несложные постройки из                  2—3 деталей.","Создаёт постройки «по сюжету» (дом, машина и т.д.)."]
[{"$nulls":9},"Конструирует несложные постройки из                  2—3 деталей.","Создаёт постройки «по сюжету» (дом, машина и т.д.)."]
[{"$nulls":9},"Конструирует несложные постройки из                  2—3 деталей.","Создаёт постройки «по сюжету» (дом, машина и т.д.)."]
[{"$nulls":9},"Конструирует несложные постройки из                  2—3 деталей.","Создаёт постройки «по сюжету» (дом, машина и т.д.)."]
[{"$nulls":9},"Конструирует несложные постройки из                  2—3 деталей.","Создаёт постройки «по сюжету» (дом, машина и т.д.)."]
[{"$nulls":9},"Конструирует несложные постройки из                  2—3 деталей.","Создаёт постройки «по сюжету» (дом, машина и т.д.)."]
[{"$nulls":9},"Конструирует несложные постройки из                  2—3 деталей.","Создаёт постройки «по сюжету» (дом, машина и т.д.)."]
[{"$nulls":9},"Конструирует несложные постройки из                  2—3 деталей.","Создаёт постройки «по сюжету» (дом, машина и т.д.)."]
[{"$nulls":9},"Конструирует несложные постройки из                  2—3 деталей.","Создаёт постройки «по сюжету» (дом, машина и т.д.)."]
[{"$nulls":9},"Конструирует несложные постройки из                  2—3 деталей.","Создаёт постройки «по сюжету» (дом, машина и т.д.)."]
[{"$nulls":9},"Конструирует несложные постройки из                  2—3 деталей.","Создаёт постройки «по сюжету» (дом, машина и т.д.)."]
[{"$nulls":9},"Конструирует несложные постройки из                  2—3 деталей.","Создаёт постройки «по сюжету» (дом, машина и т.д.)."]
[{"$nulls":9},"Конструирует несложные постройки из                  2—3 деталей.","Создаёт постройки «по сюжету» (дом, машина и т.д.)."]
[{"$nulls":9},"Конструирует несложные постройки из                  2—3 деталей.","Создаёт постройки «по сюжету» (дом, машина и т.д.)."]
[{"$nulls":9},"Конструирует несложные постройки из                  2—3 деталей.","Создаёт постройки «по сюжету» (дом, машина и т.д.)."]
[{"$nulls":9},"Конструирует несложные постройки из                  2—3 деталей.","Создаёт постройки «по сюжету» (дом, машина и т.д.)."]
[{"$nulls":9},"Конструирует несложные постройки из                  2—3 деталей.","Создаёт постройки «по сюжету» (дом, машина и т.д.)."]
[{"$nulls":9},"Конструирует несложные постройки из                  2—3 деталей.","Создаёт постройки «по сюжету» (дом, машина и т.д.)."]
[{"$nulls":9},"Конструирует несложные постройки из                  2—3 деталей.","Создаёт постройки «по сюжету» (дом, машина и т.д.)."]
[{"$nulls":9},"Конструирует несложные постройки из                  2—3 деталей.","Создаёт постройки «по сюжету» (дом, машина и т.д.)."]
[{"$nulls":9},"Конструирует несложные постройки из                  2—3 деталей.","Создаёт постройки «по сюжету» (дом, машина и т.д.)."]
[{"$nulls":9},"Конструирует несложные постройки из                  2—3 деталей.","Создаёт постройки «по сюжету» (дом, машина и т.д.)."]
[{"$nulls":9},"Конструирует несложные постройки из                  2—3 деталей.","Создаёт постройки «по сюжету» (дом, машина и т.д.)."]
[{"$nulls":9},"Конструирует несложные постройки из                  2—3 деталей.","Создаёт постройки «по сюжету» (дом, машина и т.д.)."]
[{"$nulls":9},"Конструирует несложные постройки из                  2—3 деталей.","Создаёт постройки «по сюжету» (дом, машина и т.д.)."]
[{"$nulls":9},"Конструирует несложные постройки из                  2—3 деталей.","Создаёт постройки «по сюжету» (дом, машина и т.д.)."]
[{"$nulls":9},"Конструирует несложные постройки из                  2—3 деталей.","Создаёт постройки «по сюжету» (дом, машина и т.д.)."]
[{"$nulls":9},"Конструирует несложные постройки из                  2—3 деталей.","Создаёт постройки «по сюжету» (дом, машина и т.д.)."]
[{"$nulls":9},"Конструирует несложные постройки из                  2—3 деталей.","Создаёт постройки «по сюжету» (дом, машина и т.д.)."]
[{"$nulls":9},"Конструирует несложные постройки из                  2—3 деталей.","Создаёт постройки «по сюжету» (дом, машина и т.д.)."]
[{"$nulls":9},"Конструирует несложные постройки из                  2—3 деталей.","Создаёт постройки «по сюжету» (дом, машина и т.д.)."]
[{"$nulls":9},"Конструирует несложные постройки из                  2—3 деталей.","Создаёт постройки «по сюжету» (дом, машина и т.д.)."]
[{"$nulls":9},"Конструирует несложные постройки из                  2—3 деталей.","Создаёт постройки «по сюжету» (дом, машина и т.д.)."]
[{"$nulls":9},"Конструирует несложные постройки из                  2—3 деталей.","Создаёт постройки «по сюжету» (дом, машина и т.д.)."]
[{"$nulls":9},"Конструирует несложные постройки из                  2—3 деталей.","Создаёт постройки «по сюжету» (дом, машина и т.д.)."]
[{"$nulls":9},"Конструирует несложные постройки из                  2—3 деталей.","Создаёт постройки «по сюжету» (дом, машина и т.д.)."]
[{"$nulls":9},"Конструирует несложные постройки из                  2—3 деталей.","Создаёт постройки «по сюжету» (дом, машина и т.д.)."]
[{"$nulls":9},"Конструирует несложные постройки из                  2—3 деталей.","Создаёт постройки «по сюжету» (дом, машина и т.д.)."]
[{"$nulls":9},"Конструирует несложные постройки из                  2—3 деталей.","Создаёт постройки «по сюжету» (дом, машина и т.д.)."]
[{"$nulls":9},"Конструирует несложные постройки из                  2—3 деталей.","Создаёт постройки «по сюжету» (дом, машина и т.д.)."]
[{"$nulls":9},"Конструирует несложные постройки из                  2—3 деталей.","Создаёт постройки «по сюжету» (дом, машина и т.д.)."]
[{"$nulls":9},"Конструирует несложные постройки из                  2—3 деталей.","Создаёт постройки «по сюжету» (дом, машина и т.д.)."]
[{"$nulls":9},"Конструирует несложные постройки из                  2—3 деталей.","Создаёт постройки «по сюжету» (дом, машина и т.д.)."]
[{"$nulls":9},"Конструирует несложные постройки из                  2—3 деталей.","Создаёт постройки «по сюжету» (дом, машина и т.д.)."]
[{"$nulls":9},"Конструирует несложные постройки из                  2—3 деталей.","Создаёт постройки «по сюжету» (дом, машина и т.д.)."]
[{"$nulls":9},"Конструирует несложные постройки из                  2—3 деталей.","Создаёт постройки «по сюжету» (дом, машина и т.д.)."]
[{"$nulls":9},"Конструирует несложные постройки из                  2—3 деталей.","Создаёт постройки «по сюжету» (дом, машина и т.д.)."]
[{"$nulls":9},"Конструирует несложные постройки из                  2—3 деталей.","Создаёт постройки «по сюжету» (дом, машина и т.д.)."]
[{"$nulls":9},"Конструирует несложные постройки из                  2—3 деталей.","Создаёт постройки «по сюжету» (дом, машина и т.д.)."]
[{"$nulls":9},"Конструирует несложные постройки из                  2—3 деталей.","Создаёт постройки «по сюжету» (дом, машина и т.д.)."]
[{"$nulls":9},"Конструирует несложные постройки из                  2—3 деталей.","Создаёт постройки «по сюжету» (дом, машина и т.д.)."]
[{"$nulls":9},"Конструирует несложные постройки из                  2—3 деталей.","Создаёт постройки «по сюжету» (дом, машина и т.д.)."]
[{"$nulls":9},"Конструирует несложные постройки из                  2—3 деталей.","Создаёт постройки «по сюжету» (дом, машина и т.д.)."]
[{"$nulls":9},"Конструирует несложные постройки из                  2—3 деталей.","Создаёт постройки «по сюжету» (дом, машина и т.д.)."]
[{"$nulls":9},"Конструирует несложные постройки из                  2—3 деталей.","Создаёт постройки «по сюжету» (дом, машина и т.д.)."]
[{"$nulls":9},"Конструирует несложные постройки из                  2—3 деталей.","Создаёт постройки «по сюжету» (дом, машина и т.д.)."]
[{"$nulls":9},"Конструирует несложные постройки из                  2—3 деталей.","Создаёт постройки «по сюжету» (дом, машина и т.д.)."]
[{"$nulls":9},"Конструирует несложные постройки из                  2—3 деталей.","Создаёт постройки «по сюжету» (дом, машина и т.д.)."]
[{"$nulls":9},"Конструирует несложные постройки из                  2—3 деталей.","Создаёт постройки «по сюжету» (дом, машина и т.д.)."]
[{"$nulls":9},"Конструирует несложные постройки из                  2—3 деталей.","Создаёт постройки «по сюжету» (дом, машина и т.д.)."]
[{"$nulls":9},"Конструирует несложные постройки из                  2—3 деталей.","Создаёт постройки «по сюжету» (дом, машина и т.д.)."]
[{"$nulls":9},"Конструирует несложные постройки из                  2—3 деталей.","Создаёт постройки «по сюжету» (дом, машина и т.д.)."]
[{"$nulls":9},"Конструирует несложные постройки из                  2—3 деталей.","Создаёт постройки «по сюжету» (дом, машина и т.д.)."]
[{"$nulls":9},"Конструирует несложные постройки из                  2—3 деталей.","Создаёт постройки «по сюжету» (дом, машина и т.д.)."]
[{"$nulls":9},"Конструирует несложные постройки из                  2—3 деталей.","Создаёт постройки «по сюжету» (дом, машина и т.д.)."]
[{"$nulls":9},"Конструирует несложные постройки из                  2—3 деталей.","Создаёт постройки «по сюжету» (дом, машина и т.д.)."]
[{"$nulls":9},"Конструирует несложные постройки из                  2—3 деталей.","Создаёт постройки «по сюжету» (дом, машина и т.д.)."]
[{"$nulls":9},"Конструирует несложные постройки из                  2—3 деталей.","Создаёт постройки «по сюжету» (дом, машина и т.д.)."]
[{"$nulls":9},"Конструирует несложные постройки из                  2—3 деталей.","Создаёт постройки «по сюжету» (дом, машина и т.д.)."]
[{"$nulls":9},"Конструирует несложные постройки из                  2—3 деталей.","Создаёт постройки «по сюжету» (дом, машина и т.д.)."]
[{"$nulls":9},"Конструирует несложные постройки из                  2—3 деталей.","Создаёт постройки «по сюжету» (дом, машина и т.д.)."]
[{"$nulls":9},"Конструирует несложные постройки из                  2—3 деталей.","Создаёт постройки «по сюжету» (дом, машина и т.д.)."]
[{"$nulls":9},"Конструирует несложные постройки из                  2—3 деталей.","Создаёт постройки «по сюжету» (дом, машина и т.д.)."]
[{"$nulls":9},"Конструирует несложные постройки из                  2—3 деталей.","Создаёт постройки «по сюжету» (дом, машина и т.д.)."]
[{"$nulls":9},"Конструирует несложные постройки из                  2—3 деталей.","Создаёт постройки «по сюжету» (дом, машина и т.д.)."]
[{"$nulls":9},"Конструирует несложные постройки из                  2—3 деталей.","Создаёт постройки «по сюжету» (дом, машина и т.д.)."]
[{"$nulls":9},"Конструирует несложные постройки из                  2—3 деталей.","Создаёт постройки «по сюжету» (дом, машина и т.д.)."]
[{"$nulls":9},"Конструирует несложные постройки из                  2—3 деталей.","Создаёт постройки «по сюжету» (дом, машина и т.д.)."]
[{"$nulls":9},"Конструирует несложные постройки из                  2—3 деталей.","Создаёт постройки «по сюжету» (дом, машина и т.д.)."]
[{"$nulls":9},"Конструирует несложные постройки из                  2—3 деталей.","Создаёт постройки «по сюжету» (дом, машина и т.д.)."]
[{"$nulls":9},"Конструирует несложные постройки из                  2—3 деталей.","Создаёт постройки «по сюжету» (дом, машина и т.д.)."]
[{"$nulls":9},"Конструирует несложные постройки из                  2—3 деталей.","Создаёт постройки «по сюжету» (дом, машина и т.д.)."]
[{"$nulls":9},"Конструирует несложные постройки из                  2—3 деталей.","Создаёт постройки «по сюжету» (дом, машина и т.д.)."]
[{"$nulls":9},"Конструирует несложные постройки из                  2—3 деталей.","Создаёт постройки «по сюжету» (дом, машина и т.д.)."]
[{"$nulls":9},"Конструирует несложные постройки из                  2—3 деталей.","Создаёт постройки «по сюжету» (дом, машина и т.д.)."]
[{"$nulls":9},"Конструирует несложные постройки из                  2—3 деталей.","Создаёт постройки «по сюжету» (дом, машина и т.д.)."]
[{"$nulls":9},"Конструирует несложные постройки из                  2—3 деталей.","Создаёт постройки «по сюжету» (дом, машина и т.д.)."]
[{"$nulls":9},"Конструирует несложные постройки из                  2—3 деталей.","Создаёт постройки «по сюжету» (дом, машина и т.д.)."]
[{"$nulls":9},"Конструирует несложные постройки из                  2—3 деталей.","Создаёт постройки «по сюжету» (дом, машина и т.д.)."]
[{"$nulls":9},"Конструирует несложные постройки из                  2—3 деталей.","Создаёт постройки «по сюжету» (дом, машина и т.д.)."]
[{"$nulls":9},"Конструирует несложные постройки из                  2—3 деталей.","Создаёт постройки «по сюжету» (дом, машина и т.д.)."]
[{"$nulls":9},"Конструирует несложные постройки из                  2—3 деталей.","Создаёт постройки «по сюжету» (дом, машина и т.д.)."]
[{"$nulls":9},"Конструирует несложные постройки из                  2—3 деталей.","Создаёт постройки «по сюжету» (дом, машина и т.д.)."]
[{"$nulls":9},"Конструирует несложные постройки из                  2—3 деталей.","Создаёт постройки «по сюжету» (дом, машина и т.д.)."]
[{"$nulls":9},"Конструирует несложные постройки из                  2—3 деталей.","Создаёт постройки «по сюжету» (дом, машина и т.д.)."]
[{"$nulls":9},"Конструирует несложные постройки из                  2—3 деталей.","Создаёт постройки «по сюжету» (дом, машина и т.д.)."]
[{"$nulls":9},"Конструирует несложные постройки из                  2—3 деталей.","Создаёт постройки «по сюжету» (дом, машина и т.д.)."]
[{"$nulls":9},"Конструирует несложные постройки из                  2—3 деталей.","Создаёт постройки «по сюжету» (дом, машина и т.д.)."]
[{"$nulls":9},"Конструирует несложные постройки из                  2—3 деталей.","Создаёт постройки «по сюжету» (дом, машина и т.д.)."]
[{"$nulls":9},"Конструирует несложные постройки из                  2—3 деталей.","Создаёт постройки «по сюжету» (дом, машина и т.д.)."]
[{"$nulls":9},"Конструирует несложные постройки из                  2—3 деталей.","Создаёт постройки «по сюжету» (дом, машина и т.д.)."]
[{"$nulls":9},"Конструирует несложные постройки из                  2—3 деталей.","Создаёт постройки «по сюжету» (дом, машина и т.д.)."]
[{"$nulls":9},"Конструирует несложные постройки из                  2—3 деталей.","Создаёт постройки «по сюжету» (дом, машина и т.д.)."]
[{"$nulls":9},"Конструирует несложные постройки из                  2—3 деталей.","Создаёт постройки «по сюжету» (дом, машина и т.д.)."]
[{"$nulls":9},"Конструирует несложные постройки из                  2—3 деталей.","Создаёт постройки «по сюжету» (дом, машина и т.д.)."]
[{"$nulls":9},"Конструирует несложные постройки из                  2—3 деталей.","Создаёт постройки «по сюжету» (дом, машина и т.д.)."]
[{"$nulls":9},"Конструирует несложные постройки из                  2—3 деталей.","Создаёт постройки «по сюжету» (дом, машина и т.д.)."]
[{"$nulls":9},"Конструирует несложные постройки из                  2—3 деталей.","Создаёт постройки «по сюжету» (дом, машина и т.д.)."]
[{"$nulls":9},"Конструирует несложные постройки из                  2—3 деталей.","Создаёт постройки «по сюжету» (дом, машина и т.д.)."]
[{"$nulls":9},"Конструирует несложные постройки из                  2—3 деталей.","Создаёт постройки «по сюжету» (дом, машина и т.д.)."]
[{"$nulls":9},"Конструирует несложные постройки из                  2—3 деталей.","Создаёт постройки «по сюжету» (дом, машина и т.д.)."]
[{"$nulls":9},"Конструирует несложные постройки из                  2—3 деталей.","Создаёт постройки «по сюжету» (дом, машина и т.д.)."]
[{"$nulls":9},"Конструирует несложные постройки из                  2—3 деталей.","Создаёт постройки «по сюжету» (дом, машина и т.д.)."]
[{"$nulls":9},"Конструирует несложные постройки из                  2—3 деталей.","Создаёт постройки «по сюжету» (дом, машина и т.д.)."]
[{"$nulls":9},"Конструирует несложные постройки из                  2—3 деталей.","Создаёт постройки «по сюжету» (дом, машина и т.д.)."]
[{"$nulls":9},"Конструирует несложные постройки из                  2—3 деталей.","Создаёт постройки «по сюжету» (дом, машина и т.д.)."]
[{"$nulls":9},"Конструирует несложные постройки из                  2—3 деталей.","Создаёт постройки «по сюжету» (дом, машина и т.д.)."]
[{"$nulls":9},"Конструирует несложные постройки из                  2—3 деталей.","Создаёт постройки «по сюжету» (дом, машина и т.д.)."]
[{"$nulls":9},"Конструирует несложные постройки из                  2—3 деталей.","Создаёт постройки «по сюжету» (дом, машина и т.д.)."]
[{"$nulls":9},"Конструирует несложные постройки из                  2—3 деталей.","Создаёт постройки «по сюжету» (дом, машина и т.д.)."]
[{"$nulls":9},"Конструирует несложные постройки из                  2—3 деталей.","Создаёт постройки «по сюжету» (дом, машина и т.д.)."]
[{"$nulls":9},"Конструирует несложные постройки из                  2—3 деталей.","Создаёт постройки «по сюжету» (дом, машина и т.д.)."]
[{"$nulls":9},"Конструирует несложные постройки из                  2—3 деталей.","Создаёт постройки «по сюжету» (дом, машина и т.д.)."]
[{"$nulls":9},"Конструирует несложные постройки из                  2—3 деталей.","Создаёт постройки «по сюжету» (дом, машина и т.д.)."]
[{"$nulls":9},"Конструирует несложные постройки из                  2—3 деталей.","Создаёт постройки «по сюжету» (дом, машина и т.д.)."]
[{"$nulls":9},"Конструирует несложные постройки из                  2—3 деталей.","Создаёт постройки «по сюжету» (дом, машина и т.д.)."]
[{"$nulls":9},"Конструирует несложные постройки из                  2—3 деталей.","Создаёт постройки «по сюжету» (дом, машина и т.д.)."]
[{"$nulls":9},"Конструирует несложные постройки из                  2—3 деталей.","Создаёт постройки «по сюжету» (дом, машина и т.д.)."]
[{"$nulls":9},"Конструирует несложные постройки из                  2—3 деталей.","Создаёт постройки «по сюжету» (дом, машина и т.д.)."]
[{"$nulls":9},"Конструирует несложные постройки из                  2—3 деталей.","Создаёт постройки «по сюжету» (дом, машина и т.д.)."]
[{"$nulls":9},"Конструирует несложные постройки из                  2—3 деталей.","Создаёт постройки «по сюжету» (дом, машина и т.д.)."]
[{"$nulls":9},"Конструирует несложные постройки из                  2—3 деталей.","Создаёт постройки «по сюжету» (дом, машина и т.д.)."]
[{"$nulls":9},"Конструирует несложные постройки из                  2—3 деталей.","Создаёт постройки «по сюжету» (дом, машина и т.д.)."]
[{"$nulls":9},"Конструирует несложные постройки из                  2—3 деталей.","Создаёт постройки «по сюжету» (дом, машина и т.д.)."]
[{"$nulls":9},"Конструирует несложные постройки из                  2—3 деталей.","Создаёт постройки «по сюжету» (дом, машина и т.д.)."]
[{"$nulls":9},"Конструирует несложные постройки из                  2—3 деталей.","Создаёт постройки «по сюжету» (дом, машина и т.д.)."]
[{"$nulls":9},"Конструирует несложные постройки из                  2—3 деталей.","Создаёт постройки «по сюжету» (дом, машина и т.д.)."]
[{"$nulls":9},"Конструирует несложные постройки из                  2—3 деталей.","Создаёт постройки «по сюжету» (дом, машина и т.д.)."]
[{"$nulls":9},"Конструирует несложные постройки из                  2—3 деталей.","Создаёт постройки «по сюжету» (дом, машина и т.д.)."]
[{"$nulls":9},"Конструирует несложные постройки из                  2—3 деталей.","Создаёт постройки «по сюжету» (дом, машина и т.д.)."]
[{"$nulls":9},"Конструирует несложные постройки из                  2—3 деталей.","Создаёт постройки «по сюжету» (дом, машина и т.д.)."]
[{"$nulls":9},"Конструирует несложные постройки из                  2—3 деталей.","Создаёт постройки «по сюжету» (дом, машина и т.д.)."]
[{"$nulls":9},"Конструирует несложные постройки из                  2—3 деталей.","Создаёт постройки «по сюжету» (дом, машина и т.д.)."]
[{"$nulls":9},"Конструирует несложные постройки из                  2—3 деталей.","Создаёт постройки «по сюжету» (дом, машина и т.д.)."]
[{"$nulls":9},"Конструирует несложные постройки из                  2—3 деталей.","Создаёт постройки «по сюжету» (дом, машина и т.д.)."]
[{"$nulls":9},"Конструирует несложные постройки из                  2—3 деталей.","Создаёт постройки «по сюжету» (дом, машина и т.д.)."]
[{"$nulls":9},"Конструирует несложные постройки из                  2—3 деталей.","Создаёт постройки «по сюжету» (дом, машина и т.д.)."]
[{"$nulls":9},"Конструирует несложные постройки из                  2—3 деталей.","Создаёт постройки «по сюжету» (дом, машина и т.д.)."]
[{"$nulls":9},"Конструирует несложные постройки из                  2—3 деталей.","Создаёт постройки «по сюжету» (дом, машина и т.д.)."]
[{"$nulls":9},"Конструирует несложные постройки из                  2—3 деталей.","Создаёт постройки «по сюжету» (дом, машина и т.д.)."]
[{"$nulls":9},"Конструирует несложные постройки из                  2—3 деталей.","Создаёт постройки «по сюжету» (дом, машина и т.д.)."]
[{"$nulls":9},"Конструирует несложные постройки из                  2—3 деталей.","Создаёт постройки «по сюжету» (дом, машина и т.д.)."]
[{"$nulls":9},"Конструирует несложные постройки из                  2—3 деталей.","Создаёт постройки «по сюжету» (дом, машина и т.д.)."]
[{"$nulls":9},"Конструирует несложные постройки из                  2—3 деталей.","Создаёт постройки «по сюжету» (дом, машина и т.д.)."]
[{"$nulls":9},"Конструирует несложные постройки из                  2—3 деталей.","Создаёт постройки «по сюжету» (дом, машина и т.д.)."]
[{"$nulls":9},"Конструирует несложные постройки из                  2—3 деталей.","Создаёт постройки «по сюжету» (дом, машина и т.д.)."]
[{"$nulls":9},"Конструирует несложные постройки из                  2—3 деталей.","Создаёт постройки «по сюжету» (дом, машина и т.д.)."]
[{"$nulls":9},"Конструирует несложные постройки из                  2—3 деталей.","Создаёт постройки «по сюжету» (дом, машина и т.д.)."]
[{"$nulls":9},"Конструирует несложные постройки из                  2—3 деталей.","Создаёт постройки «по сюжету» (дом, машина и т.д.)."]
[{"$nulls":9},"Конструирует несложные постройки из                  2—3 деталей.","Создаёт постройки «по сюжету» (дом, машина и т.д.)."]
[{"$nulls":9},"Конструирует несложные постройки из                  2—3 деталей.","Создаёт постройки «по сюжету» (дом, машина и т.д.)."]
[{"$nulls":9},"Конструирует несложные постройки из                  2—3 деталей.","Создаёт постройки «по сюжету» (дом, машина и т.д.)."]
[{"$nulls":9},"Конструирует несложные постройки из                  2—3 деталей.","Создаёт постройки «по сюжету» (дом, машина и т.д.)."]
[{"$nulls":9},"Конструирует несложные постройки из                  2—3 деталей.","Создаёт постройки «по сюжету» (дом, машина и т.д.)."]
[{"$nulls":9},"Конструирует несложные постройки из                  2—3 деталей.","Создаёт постройки «по сюжету» (дом, машина и т.д.)."]
[{"$nulls":9},"Конструирует несложные постройки из                  2—3 деталей.","Создаёт постройки «по сюжету» (дом, машина и т.д.)."]
[{"$nulls":9},"Конструирует несложные постройки из                  2—3 деталей.","Создаёт постройки «по сюжету» (дом, машина и т.д.)."]
[{"$nulls":9},"Конструирует несложные постройки из                  2—3 деталей.","Создаёт постройки «по сюжету» (дом, машина и т.д.)."]
[{"$nulls":9},"Конструирует несложные постройки из                  2—3 деталей.","Создаёт постройки «по сюжету» (дом, машина и т.д.)."]
[{"$nulls":9},"Конструирует несложные постройки из                  2—3 деталей.","Создаёт постройки «по сюжету» (дом, машина и т.д.)."]
[{"$nulls":9},"Конструирует несложные постройки из                  2—3 деталей.","Создаёт постройки «по сюжету» (дом, машина и т.д.)."]
[{"$nulls":9},"Конструирует несложные постройки из                  2—3 деталей.","Создаёт постройки «по сюжету» (дом, машина и т.д.)."]
[{"$nulls":9},"Конструирует несложные постройки из                  2—3 деталей.","Создаёт постройки «по сюжету» (дом, машина и т.д.)."]
[{"$nulls":9},"Конструирует несложные постройки из                  2—3 деталей.","Создаёт постройки «по сюжету» (дом, машина и т.д.)."]
[{"$nulls":9},"Конструирует несложные постройки из                  2—3 деталей.","Создаёт постройки «по сюжету» (дом, машина и т.д.)."]
[{"$nulls":9},"Конструирует несложные постройки из                  2—3 деталей.","Создаёт постройки «по сюжету» (дом, машина и т.д.)."]
[{"$nulls":9},"Конструирует несложные постройки из                  2—3 деталей.","Создаёт постройки «по сюжету» (дом, машина и т.д.)."]
[{"$nulls":9},"Конструирует несложные постройки из                  2—3 деталей.","Создаёт постройки «по сюжету» (дом, машина и т.д.)."]
[{"$nulls":9},"Конструирует несложные постройки из                  2—3 деталей.","Создаёт постройки «по сюжету» (дом, машина и т.д.)."]
[{"$nulls":9},"Конструирует несложные постройки из                  2—3 деталей.","Создаёт постройки «по сюжету» (дом, машина и т.д.)."]
[{"$nulls":9},"Конструирует несложные постройки из                  2—3 деталей.","Создаёт постройки «по сюжету» (дом, машина и т.д.)."]
[{"$nulls":9},"Конструирует несложные постройки из                  2—3 деталей.","Создаёт постройки «по сюжету» (дом, машина и т.д.)."]
[{"$nulls":9},"Конструирует несложные постройки из                  2—3 деталей.","Создаёт постройки «по сюжету» (дом, машина и т.д.)."]
[{"$nulls":9},"Конструирует несложные постройки из                  2—3 деталей.","Создаёт постройки «по сюжету» (дом, машина и т.д.)."]
[{"$nulls":9},"Конструирует несложные постройки из                  2—3 деталей.","Создаёт постройки «по сюжету» (дом, машина и т.д.)."]
[{"$nulls":9},"Конструирует несложные постройки из                  2—3 деталей.","Создаёт постройки «по сюжету» (дом, машина и т.д.)."]
[{"$nulls":9},"Конструирует несложные постройки из                  2—3 деталей.","Создаёт постройки «по сюжету» (дом, машина и т.д.)."]
[{"$nulls":9},"Конструирует несложные постройки из                  2—3 деталей.","Создаёт постройки «по сюжету» (дом, машина и т.д.)."]
[{"$nulls":9},"Конструирует несложные постройки из                  2—3 деталей.","Создаёт постройки «по сюжету» (дом, машина и т.д.)."]
[{"$nulls":9},"Конструирует несложные постройки из                  2—3 деталей.","Создаёт постройки «по сюжету» (дом, машина и т.д.)."]
[{"$nulls":9},"Конструирует несложные постройки из                  2—3 деталей.","Создаёт постройки «по сюжету» (дом, машина и т.д.)."]
[{"$nulls":9},"Конструирует несложные постройки из                  2—3 деталей.","Создаёт постройки «по сюжету» (дом, машина и т.д.)."]
[{"$nulls":9},"Конструирует несложные постройки из                  2—3 деталей.","Создаёт постройки «по сюжету» (дом, машина и т.д.)."]
[{"$nulls":9},"Конструирует несложные постройки из                  2—3 деталей.","Создаёт постройки «по сюжету» (дом, машина и т.д.)."]
[{"$nulls":9},"Конструирует несложные постройки из                  2—3 деталей.","Создаёт постройки «по сюжету» (дом, машина и т.д.)."]
[{"$nulls":9},"Конструирует несложные постройки из                  2—3 деталей.","Создаёт постройки «по сюжету» (дом, машина и т.д.)."]
[{"$nulls":9},"Конструирует несложные постройки из                  2—3 деталей.","Создаёт постройки «по сюжету» (дом, машина и т.д.)."]
[{"$nulls":9},"Конструирует несложные постройки из                  2—3 деталей.","Создаёт постройки «по сюжету» (дом, машина и т.д.)."]
[{"$nulls":9},"Конструирует несложные постройки из                  2—3 деталей.","Создаёт постройки «по сюжету» (дом, машина и т.д.)."]
[{"$nulls":9},"Конструирует несложные постройки из                  2—3 деталей.","Создаёт постройки «по сюжету» (дом, машина и т.д.)."]
[{"$nulls":9},"Конструирует несложные постройки из                  2—3 деталей.","Создаёт постройки «по сюжету» (дом, машина и т.д.)."]
[{"$nulls":9},"Конструирует несложные постройки из                  2—3 деталей.","Создаёт постройки «по сюжету» (дом, машина и т.д.)."]
[{"$nulls":9},"Конструирует несложные постройки из                  2—3 деталей.","Создаёт постройки «по сюжету» (дом, машина и т.д.)."]
[{"$nulls":9},"Конструирует несложные постройки из                  2—3 деталей.","Создаёт постройки «по сюжету» (дом, машина и т.д.)."]
[{"$nulls":9},"Конструирует несложные постройки из                  2—3 деталей.","Создаёт постройки «по сюжету» (дом, машина и т.д.)."]
[{"$nulls":9},"Конструирует несложные постройки из                  2—3 деталей.","Создаёт постройки «по сюжету» (дом, машина и т.д.)."]
[{"$nulls":9},"Конструирует несложные постройки из                  2—3 деталей.","Создаёт постройки «по сюжету» (дом, машина и т.д.)."]
[{"$nulls":9},"Конструирует несложные постройки из                  2—3 деталей.","Создаёт постройки «по сюжету» (дом, машина и т.д.)."]
[{"$nulls":9},"Конструирует несложные постройки из                  2—3 деталей.","Создаёт постройки «по сюжету» (дом, машина и т.д.)."]
[{"$nulls":9},"Конструирует несложные постройки из                  2—3 деталей.","Создаёт постройки «по сюжету» (дом, машина и т.д.)."]
[{"$nulls":9},"Конструирует несложные постройки из                  2—3 деталей.","Создаёт постройки «по сюжету» (дом, машина и т.д.)."]
[{"$nulls":9},"Конструирует несложные постройки из                  2—3 деталей.","Создаёт постройки «по сюжету» (дом, машина и т.д.)."]
[{"$nulls":9},"Конструирует несложные постройки из                  2—3 деталей.","Создаёт постройки «по сюжету» (дом, машина и т.д.)."]
[{"$nulls":9},"Конструирует несложные постройки из                  2—3 деталей.","Создаёт постройки «по сюжету» (дом, машина и т.д.)."]
[{"$nulls":9},"Конструирует несложные постройки из                  2—3 деталей.","Создаёт постройки «по сюжету» (дом, машина и т.д.)."]
[{"$nulls":9},"Конструирует несложные постройки из                  2—3 деталей.","Создаёт постройки «по сюжету» (дом, машина и т.д.)."]
[{"$nulls":9},"Конструирует несложные постройки из                  2—3 деталей.","Создаёт постройки «по сюжету» (дом, машина и т.д.)."]
[{"$nulls":9},"Конструирует несложные постройки из                  2—3 деталей.","Создаёт постройки «по сюжету» (дом, машина и т.д.)."]
[{"$nulls":9},"Конструирует несложные постройки из                  2—3 деталей.","Создаёт постройки «по сюжету» (дом, машина и т.д.)."]
[{"$nulls":9},"Конструирует несложные постройки из                  2—3 деталей.","Создаёт постройки «по сюжету» (дом, машина и т.д.)."]
[{"$nulls":9},"Конструирует несложные постройки из                  2—3 деталей.","Создаёт постройки «по сюжету» (дом, машина и т.д.)."]
[{"$nulls":9},"Конструирует несложные постройки из                  2—3 деталей.","Создаёт постройки «по сюжету» (дом, машина и т.д.)."]
[{"$nulls":9},"Конструирует несложные постройки из                  2—3 деталей.","Создаёт постройки «по сюжету» (дом, машина и т.д.)."]
[{"$nulls":9},"Конструирует несложные постройки из                  2—3 деталей.","Создаёт постройки «по сюжету» (дом, машина и т.д.)."]
[{"$nulls":9},"Конструирует несложные постройки из                  2—3 деталей.","Создаёт постройки «по сюжету» (дом, машина и т.д.)."]
[{"$nulls":9},"Конструирует несложные постройки из                  2—3 деталей.","Создаёт постройки «по сюжету» (дом, машина и т.д.)."]
[{"$nulls":9},"Конструирует несложные постройки из                  2—3 деталей.","Создаёт постройки «по сюжету» (дом, машина и т.д.)."]
[{"$nulls":9},"Конструирует несложные постройки из                  2—3 деталей.","Создаёт постройки «по сюжету» (дом, машина и т.д.)."]
[{"$nulls":9},"Конструирует несложные постройки из                  2—3 деталей.","Создаёт постройки «по сюжету» (дом, машина и т.д.)."]
[{"$nulls":9},"Конструирует несложные постройки из                  2—3 деталей.","Создаёт постройки «по сюжету» (дом, машина и т.д.)."]
[{"$nulls":9},"Конструирует несложные постройки из                  2—3 деталей.","Создаёт постройки «по сюжету» (дом, машина и т.д.)."]
[{"$nulls":9},"Конструирует несложные постройки из                  2—3 деталей.","Создаёт постройки «по сюжету» (дом, машина и т.д.)."]
[{"$nulls":9},"Конструирует несложные постройки из                  2—3 деталей.","Создаёт постройки «по сюжету» (дом, машина и т.д.)."]
[{"$nulls":9},"Конструирует несложные постройки из                  2—3 деталей.","Создаёт постройки «по сюжету» (дом, машина и т.д.)."]
[{"$nulls":9},"Конструирует несложные постройки из                  2—3 деталей.","Создаёт постройки «по сюжету» (дом, машина и т.д.)."]
[{"$nulls":9},"Конструирует несложные постройки из                  2—3 деталей.","Создаёт постройки «по сюжету» (дом, машина и т.д.)."]
[{"$nulls":9},"Конструирует несложные постройки из                  2—3 деталей.","Создаёт постройки «по сюжету» (дом, машина и т.д.)."]
[{"$nulls":9},"Конструирует несложные постройки из                  2—3 деталей.","Создаёт постройки «по сюжету» (дом, машина и т.д.)."]
[{"$nulls":9},"Конструирует несложные постройки из                  2—3 деталей.","Создаёт постройки «по сюжету» (дом, машина и т.д.)."]
[{"$nulls":9},"Конструирует несложные постройки из                  2—3 деталей.","Создаёт постройки «по сюжету» (дом, машина и т.д.)."]
[{"$nulls":9},"Конструирует несложные постройки из                  2—3 деталей.","Создаёт постройки «по сюжету» (дом, машина и т.д.)."]
[{"$nulls":9},"Конструирует несложные постройки из                  2—3 деталей.","Создаёт постройки «по сюжету» (дом, машина и т.д.)."]
[{"$nulls":9},"Конструирует несложные постройки из                  2—3 деталей.","Создаёт постройки «по сюжету» (дом, машина и т.д.)."]
[{"$nulls":9},"Конструирует несложные постройки из                  2—3 деталей.","Создаёт постройки «по сюжету» (дом, машина и т.д.)."]
[{"$nulls":9},"Конструирует несложные постройки из                  2—3 деталей.","Создаёт постройки «по сюжету» (дом, машина и т.д.)."]
[{"$nulls":9},"Конструирует несложные постройки из                  2—3 деталей.","Создаёт постройки «по сюжету» (дом, машина и т.д.)."]
[{"$nulls":9},"Конструирует несложные постройки из                  2—3 деталей.","Создаёт постройки «по сюжету» (дом, машина и т.д.)."]
[{"$nulls":9},"Конструирует несложные постройки из                  2—3 деталей.","Создаёт постройки «по сюжету» (дом, машина и т.д.)."]
[{"$nulls":9},"Конструирует несложные постройки из                  2—3 деталей.","Создаёт постройки «по сюжету» (дом, машина и т.д.)."]
[{"$nulls":9},"Конструирует несложные постройки из                  2—3 деталей.","Создаёт постройки «по сюжету» (дом, машина и т.д.)."]
[{"$nulls":9},"Конструирует несложные постройки из                  2—3 деталей.","Создаёт постройки «по сюжету» (дом, машина и т.д.)."]
[{"$nulls":9},"Конструирует несложные постройки из                  2—3 деталей.","Создаёт постройки «по сюжету» (дом, машина и т.д.)."]
[{"$nulls":9},"Конструирует несложные постройки из                  2—3 деталей.","Создаёт постройки «по сюжету» (дом, машина и т.д.)."]
[{"$nulls":9},"Конструирует несложные постройки из                  2—3 деталей.","Создаёт постройки «по сюжету» (дом, машина и т.д.)."]
[{"$nulls":9},"Конструирует несложные постройки из                  2—3 деталей.","Создаёт постройки «по сюжету» (дом, машина и т.д.)."]
[{"$nulls":9},"Конструирует несложные постройки из                  2—3 деталей.","Создаёт постройки «по сюжету» (дом, машина и т.д.)."]
[{"$nulls":9},"Конструирует несложные постройки из                  2—3 деталей.","Создаёт постройки «по сюжету» (дом, машина и т.д.)."]
[{"$nulls":9},"Конструирует несложные постройки из                  2—3 деталей.","Создаёт постройки «по сюжету» (дом, машина и т.д.)."]
[{"$nulls":9},"Конструирует несложные постройки из                  2—3 деталей.","Создаёт постройки «по сюжету» (дом, машина и т.д.)."]
[{"$nulls":9},"Конструирует несложные постройки из                  2—3 деталей.","Создаёт постройки «по сюжету» (дом, машина и т.д.)."]
[{"$nulls":9},"Конструирует несложные постройки из                  2—3 деталей.","Создаёт постройки «по сюжету» (дом, машина и т.д.)."]
[{"$nulls":9},"Конструирует несложные постройки из                  2—3 деталей.","Создаёт постройки «по сюжету» (дом, машина и т.д.)."]
[{"$nulls":9},"Конструирует несложные постройки из                  2—3 деталей.","Создаёт постройки «по сюжету» (дом, машина и т.д.)."]
[{"$nulls":9},"Конструирует несложные постройки из                  2—3 деталей.","Создаёт постройки «по сюжету» (дом, машина и т.д.)."]
[{"$nulls":9},"Конструирует несложные постройки из                  2—3 деталей.","Создаёт постройки «по сюжету» (дом, машина и т.д.)."]
[{"$nulls":9},"Конструирует несложные постройки из                  2—3 деталей.","Создаёт постройки «по сюжету» (дом, машина и т.д.)."]
[{"$nulls":9},"Конструирует несложные постройки из                  2—3 деталей.","Создаёт постройки «по сюжету» (дом, машина и т.д.)."]
[{"$nulls":9},"Конструирует несложные постройки из                  2—3 деталей.","Создаёт постройки «по сюжету» (дом, машина и т.д.)."]
[{"$nulls":9},"Конструирует несложные постройки из                  2—3 деталей.","Создаёт постройки «по сюжету» (дом, машина и т.д.)."]
[{"$nulls":9},"Конструирует несложные постройки из                  2—3 деталей.","Создаёт постройки «по сюжету» (дом, машина и т.д.)."]
[{"$nulls":9},"Конструирует несложные постройки из                  2—3 деталей.","Создаёт постройки «по сюжету» (дом, машина и т.д.)."]
[{"$nulls":9},"Конструирует несложные постройки из                  2—3 деталей.","Создаёт постройки «по сюжету» (дом, машина и т.д.)."]
[{"$nulls":9},"Конструирует несложные постройки из                  2—3 деталей.","Создаёт постройки «по сюжету» (дом, машина и т.д.)."]
[{"$nulls":9},"Конструирует несложные постройки из                  2—3 деталей.","Создаёт постройки «по сюжету» (дом, машина и т.д.)."]
[{"$nulls":9},"Конструирует несложные постройки из                  2—3 деталей.","Создаёт постройки «по сюжету» (дом, машина и т.д.)."]
[{"$nulls":9},"Конструирует несложные постройки из                  2—3 деталей.","Создаёт постройки «по сюжету» (дом, машина и т.д.)."]
[{"$nulls":9},"Конструирует несложные постройки из                  2—3 деталей.","Создаёт постройки «по сюжету» (дом, машина и т.д.)."]
[{"$nulls":9},"Конструирует несложные постройки из                  2—3 деталей.","Создаёт постройки «по сюжету» (дом, машина и т.д.)."]
[{"$nulls":9},"Конструирует несложные постройки из                  2—3 деталей.","Создаёт постройки «по сюжету» (дом, машина и т.д.)."]
[{"$nulls":9},"Конструирует несложные постройки из                  2—3 деталей.","Создаёт постройки «по сюжету» (дом, машина и т.д.)."]
[{"$nulls":9},"Конструирует несложные постройки из                  2—3 деталей.","Создаёт постройки «по сюжету» (дом, машина и т.д.)."]
[{"$nulls":9},"Конструирует несложные постройки из                  2—3 деталей.","Создаёт постройки «по сюжету» (дом, машина и т.д.)."]
[{"$nulls":9},"Конструирует несложные постройки из                  2—3 деталей.","Создаёт постройки «по сюжету» (дом, машина и т.д.)."]
[{"$nulls":9},"Конструирует несложные постройки из                  2—3 деталей.","Создаёт постройки «по сюжету» (дом, машина и т.д.)."]
[{"$nulls":9},"Конструирует несложные постройки из                  2—3 деталей.","Создаёт постройки «по сюжету» (дом, машина и т.д.)."]
[{"$nulls":9},"Конструирует несложные постройки из                  2—3 деталей.","Создаёт постройки «по сюжету» (дом, машина и т.д.)."]
[{"$nulls":9},"Конструирует несложные постройки из                  2—3 деталей.","Создаёт постройки «по сюжету» (дом, машина и т.д.)."]
[{"$nulls":9},"Конструирует несложные постройки из                  2—3 деталей.","Создаёт постройки «по сюжету» (дом, машина и т.д.)."]
[{"$nulls":9},"Конструирует несложные постройки из                  2—3 деталей.","Создаёт постройки «по сюжету» (дом, машина и т.д.)."]
[{"$nulls":9},"Конструирует несложные постройки из                  2—3 деталей.","Создаёт постройки «по сюжету» (дом, машина и т.д.)."]
[{"$nulls":9},"Конструирует несложные постройки из                  2—3 деталей.","Создаёт постройки «по сюжету» (дом, машина и т.д.)."]
[{"$nulls":9},"Конструирует несложные постройки из                  2—3 деталей.","Создаёт постройки «по сюжету» (дом, машина и т.д.)."]
[{"$nulls":9},"Конструирует несложные постройки из                  2—3 деталей.","Создаёт постройки «по сюжету» (дом, машина и т.д.)."]
[{"$nulls":9},"Конструирует несложные постройки из                  2—3 деталей.","Создаёт постройки «по сюжету» (дом, машина и т.д.)."]
[{"$nulls":9},"Конструирует несложные постройки из                  2—3 деталей.","Создаёт постройки «по сюжету» (дом, машина и т.д.)."]
[{"$nulls":9},"Конструирует несложные постройки из                  2—3 деталей.","Создаёт постройки «по сюжету» (дом, машина и т.д.)."]
[{"$nulls":9},"Конструирует несложные постройки из                  2—3 деталей.","Создаёт постройки «по сюжету» (дом, машина и т.д.)."]
[{"$nulls":9},"Конструирует несложные постройки из                  2—3 деталей.","Создаёт постройки «по сюжету» (дом, машина и т.д.)."]
[{"$nulls":9},"Конструирует несложные постройки из                  2—3 деталей.","Создаёт постройки «по сюжету» (дом, машина и т.д.)."]
[{"$nulls":9},"Конструирует несложные постройки из                  2—3 деталей.","Создаёт постройки «по сюжету» (дом, машина и т.д.)."]
[{"$nulls":9},"Конструирует несложные постройки из                  2—3 деталей.","Создаёт постройки «по сюжету» (дом, машина и т.д.)."]
[{"$nulls":9},"Конструирует несложные постройки из                  2—3 деталей.","Создаёт постройки «по сюжету» (дом, машина и т.д.)."]
[{"$nulls":9},"Конструирует несложные постройки из                  2—3 деталей.","Создаёт постройки «по сюжету» (дом, машина и т.д.)."]
[{"$nulls":9},"Конструирует несложные постройки из                  2—3 деталей.","Создаёт постройки «по сюжету» (дом, машина и т.д.)."]
[{"$nulls":9},"Конструирует несложные постройки из                  2—3 деталей.","Создаёт постройки «по сюжету» (дом, машина и т.д.)."]
[{"$nulls":9},"Конструирует несложные постройки из                  2—3 деталей.","Создаёт постройки «по сюжету» (дом, машина и т.д.)."]
[{"$nulls":9},"Конструирует несложные постройки из                  2—3 деталей.","Создаёт постройки «по сюжету» (дом, машина и т.д.)."]
[{"$nulls":9},"Конструирует несложные постройки из                  2—3 деталей.","Создаёт постройки «по сюжету» (дом, машина и т.д.)."]
[{"$nulls":9},"Конструирует несложные постройки из                  2—3 деталей.","Создаёт постройки «по сюжету» (дом, машина и т.д.)."]
[{"$nulls":9},"Конструирует несложные постройки из                  2—3 деталей.","Создаёт постройки «по сюжету» (дом, машина и т.д.)."]
[{"$nulls":9},"Конструирует несложные постройки из                  2—3 деталей.","Создаёт постройки «по сюжету» (дом, машина и т.д.)."]
[{"$nulls":9},"Конструирует несложные постройки из                  2—3 деталей.","Создаёт постройки «по сюжету» (дом, машина и т.д.)."]
[{"$nulls":9},"Конструирует несложные постройки из                  2—3 деталей.","Создаёт постройки «по сюжету» (дом, машина и т.д.)."]
[{"$nulls":9},"Конструирует несложные постройки из                  2—3 деталей.","Создаёт постройки «по сюжету» (дом, машина и т.д.)."]
[{"$nulls":9},"Конструирует несложные постройки из                  2—3 деталей.","Создаёт постройки «по сюжету» (дом, машина и т.д.)."]
[{"$nulls":9},"Конструирует несложные постройки из                  2—3 деталей.","Создаёт постройки «по сюжету» (дом, машина и т.д.)."]
[{"$nulls":9},"Конструирует несложные постройки из                  2—3 деталей.","Создаёт постройки «по сюжету» (дом, машина и т.д.)."]
[{"$nulls":9},"Конструирует несложные постройки из                  2—3 деталей.","Создаёт постройки «по сюжету» (дом, машина и т.д.)."]
[{"$nulls":9},"Конструирует несложные постройки из                  2—3 деталей.","Создаёт постройки «по сюжету» (дом, машина и т.д.)."]
[{"$nulls":9},"Конструирует несложные постройки из                  2—3 деталей.","Создаёт постройки «по сюжету» (дом, машина и т.д.)."]
[{"$nulls":9},"Конструирует несложные постройки из                  2—3 деталей.","Создаёт постройки «по сюжету» (дом, машина и т.д.)."]
[{"$nulls":9},"Конструирует несложные постройки из                  2—3 деталей.","Создаёт постройки «по сюжету» (дом, машина и т.д.)."]
[{"$nulls":9},"Конструирует несложные постройки из                  2—3 деталей.","Создаёт постройки «по сюжету» (дом, машина и т.д.)."]
[{"$nulls":9},"Конструирует несложные постройки из                  2—3 деталей.","Создаёт постройки «по сюжету» (дом, машина и т.д.)."]
[{"$nulls":9},"Конструирует несложные постройки из                  2—3 деталей.","Создаёт постройки «по сюжету» (дом, машина и т.д.)."]
[{"$nulls":9},"Конструирует несложные постройки из                  2—3 деталей.","Создаёт постройки «по сюжету» (дом, машина и т.д.)."]
[{"$nulls":9},"Конструирует несложные постройки из                  2—3 деталей.","Создаёт постройки «по сюжету» (дом, машина и т.д.)."]
[{"$nulls":9},"Конструирует несложные постройки из                  2—3 деталей.","Создаёт постройки «по сюжету» (дом, машина и т.д.)."]
[{"$nulls":9},"Конструирует несложные постройки из                  2—3 деталей.","Создаёт постройки «по сюжету» (дом, машина и т.д.)."]
[{"$nulls":9},"Конструирует несложные постройки из                  2—3 деталей.","Создаёт постройки «по сюжету» (дом, машина и т.д.)."]
[{"$nulls":9},"Конструирует несложные постройки из                  2—3 деталей.","Создаёт постройки «по сюжету» (дом, машина и т.д.)."]
[{"$nulls":9},"Конструирует несложные постройки из                  2—3 деталей.","Создаёт постройки «по сюжету» (дом, машина и т.д.)."]
[{"$nulls":9},"Конструирует несложные постройки из                  2—3 деталей.","Создаёт постройки «по сюжету» (дом, машина и т.д.)."]
[{"$nulls":9},"Конструирует несложные постройки из                  2—3 деталей.","Создаёт постройки «по сюжету» (дом, машина и т.д.)."]
[{"$nulls":9},"Конструирует несложные постройки из                  2—3 деталей.","Создаёт постройки «по сюжету» (дом, машина и т.д.)."]
[{"$nulls":9},"Конструирует несложные постройки из                  2—3 деталей.","Создаёт постройки «по сюжету» (дом, машина и т.д.)."]
[{"$nulls":9},"Конструирует несложные постройки из                  2—3 деталей.","Создаёт постройки «по сюжету» (дом, машина и т.д.)."]
[{"$nulls":9},"Конструирует несложные постройки из                  2—3 деталей.","Создаёт постройки «по сюжету» (дом, машина и т.д.)."]
[{"$nulls":9},"Конструирует несложные постройки из                  2—3 деталей.","Создаёт постройки «по сюжету» (дом, машина и т.д.)."]
[{"$nulls":9},"Конструирует несложные постройки из                  2—3 деталей.","Создаёт постройки «по сюжету» (дом, машина и т.д.)."]
[{"$nulls":9},"Конструирует несложные постройки из                  2—3 деталей.","Создаёт постройки «по сюжету» (дом, машина и т.д.)."]
[{"$nulls":9},"Конструирует несложные постройки из                  2—3 деталей.","Создаёт постройки «по сюжету» (дом, машина и т.д.)."]
[{"$nulls":9},"Конструирует несложные постройки из                  2—3 деталей.","Создаёт постройки «по сюжету» (дом, машина и т.д.)."]
[{"$nulls":9},"Конструирует несложные постройки из                  2—3 деталей.","Создаёт постройки «по сюжету» (дом, машина и т.д.)."]
[{"$nulls":9},"Конструирует несложные постройки из                  2—3 деталей.","Создаёт постройки «по сюжету» (дом, машина и т.д.)."]
[{"$nulls":9},"Конструирует несложные постройки из                  2—3 деталей.","Создаёт постройки «по сюжету» (дом, машина и т.д.)."]
[{"$nulls":9},"Конструирует несложные постройки из                  2—3 деталей.","Создаёт постройки «по сюжету» (дом, машина и т.д.)."]
[{"$nulls":9},"Конструирует несложные постройки из                  2—3 деталей.","Создаёт постройки «по сюжету» (дом, машина и т.д.)."]
[{"$nulls":9},"Конструирует несложные постройки из                  2—3 деталей.","Создаёт постройки «по сюжету» (дом, машина и т.д.)."]
[{"$nulls":9},"Конструирует несложные постройки из                  2—3 деталей.","Создаёт постройки «по сюжету» (дом, машина и т.д.)."]
[{"$nulls":9},"Конструирует несложные постройки из                  2—3 деталей.","Создаёт постройки «по сюжету» (дом, машина и т.д.)."]
[{"$nulls":9},"Конструирует несложные постройки из                  2—3 деталей.","Создаёт постройки «по сюжету» (дом, машина и т.д.)."]
[{"$nulls":9},"Конструирует несложные постройки из                  2—3 деталей.","Создаёт постройки «по сюжету» (дом, машина и т.д.)."]
[{"$nulls":9},"Конструирует несложные постройки из                  2—3 деталей.","Создаёт постройки «по сюжету» (дом, машина и т.д.)."]
[{"$nulls":9},"Конструирует несложные постройки из                  2—3 деталей.","Создаёт постройки «по сюжету» (дом, машина и т.д.)."]
[{"$nulls":9},"Конструирует несложные постройки из                  2—3 деталей.","Создаёт постройки «по сюжету» (дом, машина и т.д.)."]
[{"$nulls":9},"Конструирует несложные постройки из                  2—3 деталей.","Создаёт постройки «по сюжету» (дом, машина и т.д.)."]
[{"$nulls":9},"Конструирует несложные постройки из                  2—3 деталей.","Создаёт постройки «по сюжету» (дом, машина и т.д.)."]
[{"$nulls":9},"Конструирует несложные постройки из                  2—3 деталей.","Создаёт постройки «по сюжету» (дом, машина и т.д.)."]
[{"$nulls":9},"Конструирует несложные постройки из                  2—3 деталей.","Создаёт постройки «по сюжету» (дом, машина и т.д.)."]
[{"$nulls":9},"Конструирует несложные постройки из                  2—3 деталей.","Создаёт постройки «по сюжету» (дом, машина и т.д.)."]
[{"$nulls":9},"Конструирует несложные постройки из                  2—3 деталей.","Создаёт постройки «по сюжету» (дом, машина и т.д.)."]
[{"$nulls":9},"Конструирует несложные постройки из                  2—3 деталей.","Создаёт постройки «по сюжету» (дом, машина и т.д.)."]
[{"$nulls":9},"Конструирует несложные постройки из                  2—3 деталей.","Создаёт постройки «по сюжету» (дом, машина и т.д.)."]
[{"$nulls":9},"Конструирует несложные постройки из                  2—3 деталей.","Создаёт постройки «по сюжету» (дом, машина и т.д.)."]
[{"$nulls":9},"Конструирует несложные постройки из                  2—3 деталей.","Создаёт постройки «по сюжету» (дом, машина и т.д.)."]
[{"$nulls":9},"Конструирует несложные постройки из                  2—3 деталей.","Создаёт постройки «по сюжету» (дом, машина и т.д.)."]
[{"$nulls":9},"Конструирует несложные постройки из                  2—3 деталей.","Создаёт постройки «по сюжету» (дом, машина и т.д.)."]
[{"$nulls":9},"Конструирует несложные постройки из                  2—3 деталей.","Создаёт постройки «по сюжету» (дом, машина и т.д.)."]
[{"$nulls":9},"Конструирует несложные постройки из                  2—3 деталей.","Создаёт постройки «по сюжету» (дом, машина и т.д.)."]
[{"$nulls":9},"Конструирует несложные постройки из                  2—3 деталей.","Создаёт постройки «по сюжету» (дом, машина и т.д.)."]
[{"$nulls":9},"Конструирует несложные постройки из                  2—3 деталей.","Создаёт постройки «по сюжету» (дом, машина и т.д.)."]
[{"$nulls":9},"Конструирует несложные постройки из                  2—3 деталей.","Создаёт постройки «по сюжету» (дом, машина и т.д.)."]
[{"$nulls":9},"Конструирует несложные постройки из                  2—3 деталей.","Создаёт постройки «по сюжету» (дом, машина и т.д.)."]
[{"$nulls":9},"Конструирует несложные постройки из                  2—3 деталей.","Создаёт постройки «по сюжету» (дом, машина и т.д.)."]
[{"$nulls":9},"Конструирует несложные постройки из                  2—3 деталей.","Создаёт постройки «по сюжету» (дом, машина и т.д.)."]
[{"$nulls":9},"Конструирует несложные постройки из                  2—3 деталей.","Создаёт постройки «по сюжету» (дом, машина и т.д.)."]
[{"$nulls":9},"Конструирует несложные постройки из                  2—3 деталей.","Создаёт постройки «по сюжету» (дом, машина и т.д.)."]
[{"$nulls":9},"Конструирует несложные постройки из                  2—3 деталей.","Создаёт постройки «по сюжету» (дом, машина и т.д.)."]
[{"$nulls":9},"Конструирует несложные постройки из                  2—3 деталей.","Создаёт постройки «по сюжету» (дом, машина и т.д.)."]
[{"$nulls":9},"Конструирует несложные постройки из                  2—3 деталей.","Создаёт постройки «по сюжету» (дом, машина и т.д.)."]
[{"$nulls":9},"Конструирует несложные постройки из                  2—3 деталей.","Создаёт постройки «по сюжету» (дом, машина и т.д.)."]
[{"$nulls":9},"Конструирует несложные постройки из                  2—3 деталей.","Создаёт постройки «по сюжету» (дом, машина и т.д.)."]
[{"$nulls":9},"Конструирует несложные постройки из                  2—3 деталей.","Создаёт постройки «по сюжету» (дом, машина и т.д.)."]
[{"$nulls":9},"Конструирует несложные постройки из                  2—3 деталей.","Создаёт постройки «по сюжету» (дом, машина и т.д.)."]
[{"$nulls":9},"Конструирует несложные постройки из                  2—3 деталей.","Создаёт постройки «по сюжету» (дом, машина и т.д.)."]
[{"$nulls":9},"Конструирует несложные постройки из                  2—3 деталей.","Создаёт постройки «по сюжету» (дом, машина и т.д.)."]
[{"$nulls":9},"Конструирует несложные постройки из                  2—3 деталей.","Создаёт постройки «по сюжету» (дом, машина и т.д.)."]
[{"$nulls":9},"Конструирует несложные постройки из                  2—3 деталей.","Создаёт постройки «по сюжету» (дом, машина и т.д.)."]
[{"$nulls":9},"Конструирует несложные постройки из                  2—3 деталей.","Создаёт постройки «по сюжету» (дом, машина и т.д.)."]
[{"$nulls":9},"Конструирует несложные постройки из                  2—3 деталей.","Создаёт постройки «по сюжету» (дом, машина и т.д.)."]
[{"$nulls":9},"Конструирует несложные постройки из                  2—3 деталей.","Создаёт постройки «по сюжету» (дом, машина и т.д.)."]
[{"$nulls":9},"Конструирует несложные постройки из                  2—3 деталей.","Создаёт постройки «по сюжету» (дом, машина и т.д.)."]
[{"$nulls":9},"Конструирует несложные постройки из                  2—3 деталей.","Создаёт постройки «по сюжету» (дом, машина и т.д.)."]
[{"$nulls":9},"Конструирует несложные постройки из                  2—3 деталей.","Создаёт постройки «по сюжету» (дом, машина и т.д.)."]
[{"$nulls":9},"Конструирует несложные постройки из                  2—3 деталей.","Создаёт постройки «по сюжету» (дом, машина и т.д.)."]
[{"$nulls":9},"Конструирует несложные постройки из                  2—3 деталей.","Создаёт постройки «по сюжету» (дом, машина и т.д.)."]
[{"$nulls":9},"Конструирует несложные постройки из                  2—3 деталей.","Создаёт постройки «по сюжету» (дом, машина и т.д.)."]
[{"$nulls":9},"Конструирует несложные постройки из                  2—3 деталей.","Создаёт постройки «по сюжету» (дом, машина и т.д.)."]
[{"$nulls":9},"Конструирует несложные постройки из                  2—3 деталей.","Создаёт постройки «по сюжету» (дом, машина и т.д.)."]
[{"$nulls":9},"Конструирует несложные постройки из                  2—3 деталей.","Создаёт постройки «по сюжету» (дом, машина и т.д.)."]
[{"$nulls":9},"Конструирует несложные постройки из                  2—3 деталей.","Создаёт постройки «по сюжету» (дом, машина и т.д.)."]
[{"$nulls":9},"Конструирует несложные постройки из                  2—3 деталей.","Создаёт постройки «по сюжету» (дом, машина и т.д.)."]
[{"$nulls":9},"Конструирует несложные постройки из                  2—3 деталей.","Создаёт постройки «по сюжету» (дом, машина и т.д.)."]
[{"$nulls":9},"Конструирует несложные постройки из                  2—3 деталей.","Создаёт постройки «по сюжету» (дом, машина и т.д.)."]
[{"$nulls":9},"Конструирует несложные постройки из                  2—3 деталей.","Создаёт постройки «по сюжету» (дом, машина и т.д.)."]
[{"$nulls":9},"Конструирует несложные постройки из                  2—3 деталей.","Создаёт постройки «по сюжету» (дом, машина и т.д.)."]
[{"$nulls":9},"Конструирует несложные постройки из                  2—3 деталей.","Создаёт постройки «по сюжету» (дом, машина и т.д.)."]
[{"$nulls":9},"Конструирует несложные постройки из                  2—3 деталей.","Создаёт постройки «по сюжету» (дом, машина и т.д.)."]
[{"$nulls":9},"Конструирует несложные постройки из                  2—3 деталей.","Создаёт постройки «по сюжету» (дом, машина и т.д.)."]
[{"$nulls":9},"Конструирует несложные постройки из                  2—3 деталей.","Создаёт постройки «по сюжету» (дом, машина и т.д.)."]
[{"$nulls":9},"Конструирует несложные постройки из                  2—3 деталей.","Создаёт постройки «по сюжету» (дом, машина и т.д.)."]
[{"$nulls":9},"Конструирует несложные постройки из                  2—3 деталей.","Создаёт постройки «по сюжету» (дом, машина и т.д.)."]
[{"$nulls":9},"Конструирует несложные постройки из                  2—3 деталей.","Создаёт постройки «по сюжету» (дом, машина и т.д.)."]
[{"$nulls":9},"Конструирует несложные постройки из                  2—3 деталей.","Создаёт постройки «по сюжету» (дом, машина и т.д.)."]
[{"$nulls":9},"Конструирует несложные постройки из                  2—3 деталей.","Создаёт постройки «по сюжету» (дом, машина и т.д.)."]
[{"$nulls":9},"Конструирует несложные постройки из                  2—3 деталей.","Создаёт постройки «по сюжету» (дом, машина и т.д.)."]
[{"$nulls":9},"Конструирует несложные постройки из                  2—3 деталей.","Создаёт постройки «по сюжету» (дом, машина и т.д.)."]
[{"$nulls":9},"Конструирует несложные постройки из                  2—3 деталей.","Создаёт постройки «по сюжету» (дом, машина и т.д.)."]
[{"$nulls":9},"Конструирует несложные постройки из                  2—3 деталей.","Создаёт постройки «по сюжету» (дом, машина и т.д.)."]
[{"$nulls":9},"Конструирует несложные постройки из                  2—3 деталей.","Создаёт постройки «по сюжету» (дом, машина и т.д.)."]
[{"$nulls":9},"Конструирует несложные постройки из                  2—3 деталей.","Создаёт постройки «по сюжету» (дом, машина и т.д.)."]
[{"$nulls":9},"Конструирует несложные постройки из                  2—3 деталей.","Создаёт постройки «по сюжету» (дом, машина и т.д.)."]
[{"$nulls":9},"Конструирует несложные постройки из                  2—3 деталей.","Создаёт постройки «по сюжету» (дом, машина и т.д.)."]
[{"$nulls":9},"Конструирует несложные постройки из                  2—3 деталей.","Создаёт постройки «по сюжету» (дом, машина и т.д.)."]
[{"$nulls":9},"Конструирует несложные постройки из                  2—3 деталей.","Создаёт постройки «по сюжету» (дом, машина и т.д.)."]
[{"$nulls":9},"Конструирует несложные постройки из                  2—3 деталей.","Создаёт постройки «по сюжету» (дом, машина и т.д.)."]
[{"$nulls":9},"Конструирует несложные постройки из                  2—3 деталей.","Создаёт постройки «по сюжету» (дом, машина и т.д.)."]
[{"$nulls":9},"Конструирует несложные постройки из                  2—3 деталей.","Создаёт постройки «по сюжету» (дом, машина и т.д.)."]
[{"$nulls":9},"Конструирует несложные постройки из                  2—3 деталей.","Создаёт постройки «по сюжету» (дом, машина и т.д.)."]
[{"$nulls":9},"Конструирует несложные постройки из                  2—3 деталей.","Создаёт постройки «по сюжету» (дом, машина и т.д.)."]
[{"$nulls":9},"Конструирует несложные постройки из                  2—3 деталей.","Создаёт постройки «по сюжету» (дом, машина и т.д.)."]
[{"$nulls":9},"Конструирует несложные постройки из                  2—3 деталей.","Создаёт постройки «по сюжету» (дом, машина и т.д.)."]
[{"$nulls":9},"Конструирует несложные постройки из                  2—3 деталей.","Создаёт постройки «по сюжету» (дом, машина и т.д.)."]
[{"$nulls":9},"Конструирует несложные постройки из                  2—3 деталей.","Создаёт постройки «по сюжету» (дом, машина и т.д.)."]
[{"$nulls":9},"Конструирует несложные постройки из                  2—3 деталей.","Создаёт постройки «по сюжету» (дом, машина и т.д.)."]
[{"$nulls":9},"Конструирует несложные постройки из                  2—3 деталей.","Создаёт постройки «по сюжету» (дом, машина и т.д.)."]
[{"$nulls":9},"Конструирует несложные постройки из                  2—3 деталей.","Создаёт постройки «по сюжету» (дом, машина и т.д.)."]
[{"$nulls":9},"Конструирует несложные постройки из                  2—3 деталей.","Создаёт постройки «по сюжету» (дом, машина и т.д.)."]
[{"$nulls":9},"Конструирует несложные постройки из                  2—3 деталей.","Создаёт постройки «по сюжету» (дом, машина и т.д.)."]
[{"$nulls":9},"Конструирует несложные постройки из                  2—3 деталей.","Создаёт постройки «по сюжету» (дом, машина и т.д.)."]
[{"$nulls":9},"Конструирует несложные постройки из                  2—3 деталей.","Создаёт постройки «по сюжету» (дом, машина и т.д.)."]
[{"$nulls":9},"Конструирует несложные постройки из                  2—3 деталей.","Создаёт постройки «по сюжету» (дом, машина и т.д.)."]
[{"$nulls":9},"Конструирует несложные постройки из                  2—3 деталей.","Создаёт постройки «по сюжету» (дом, машина и т.д.)."]
[{"$nulls":9},"Конструирует несложные постройки из                  2—3 деталей.","Создаёт постройки «по сюжету» (дом, машина и т.д.)."]
[{"$nulls":9},"Конструирует несложные постройки из                  2—3 деталей.","Создаёт постройки «по сюжету» (дом, машина и т.д.)."]
[{"$nulls":9},"Конструирует несложные постройки из                  2—3 деталей.","Создаёт постройки «по сюжету» (дом, машина и т.д.)."]
[{"$nulls":9},"Конструирует несложные постройки из                  2—3 деталей.","Создаёт постройки «по сюжету» (дом, машина и т.д.)."]
[{"$nulls":9},"Конструирует несложные постройки из                  2—3 деталей.","Создаёт постройки «по сюжету» (дом, машина и т.д.)."]
[{"$nulls":9},"Конструирует несложные постройки из                  2—3 деталей.","Создаёт постройки «по сюжету» (дом, машина и т.д.)."]
[{"$nulls":9},"Конструирует несложные постройки из                  2—3 деталей.","Создаёт постройки «по сюжету» (дом, машина и т.д.)."]
[{"$nulls":9},"Конструирует несложные постройки из                  2—3 деталей.","Создаёт постройки «по сюжету» (дом, машина и т.д.)."]
[{"$nulls":9},"Конструирует несложные постройки из                  2—3 деталей.","Создаёт постройки «по сюжету» (дом, машина и т.д.)."]
[{"$nulls":9},"Конструирует несложные постройки из                  2—3 деталей.","Создаёт постройки «по сюжету» (дом, машина и т.д.)."]
[{"$nulls":9},"Конструирует несложные постройки из                  2—3 деталей.","Создаёт постройки «по сюжету» (дом, машина и т.д.)."]
[{"$nulls":9},"Конструирует несложные постройки из                  2—3 деталей.","Создаёт постройки «по сюжету» (дом, машина и т.д.)."]
[{"$nulls":9},"Конструирует несложные постройки из                  2—3 деталей.","Создаёт постройки «по сюжету» (дом, машина и т.д.)."]
[{"$nulls":9},"Конструирует несложные постройки из                  2—3 деталей.","Создаёт постройки «по сюжету» (дом, машина и т.д.)."]
[{"$nulls":9},"Конструирует несложные постройки из                  2—3 деталей.","Создаёт постройки «по сюжету» (дом, машина и т.д.)."]
[{"$nulls":9},"Конструирует несложные постройки из                  2—3 деталей.","Создаёт постройки «по сюжету» (дом, машина и т.д.)."]
[{"$nulls":9},"Конструирует несложные постройки из                  2—3 деталей.","Создаёт постройки «по сюжету» (дом, машина и т.д.)."]
[{"$nulls":9},"Конструирует несложные постройки из                  2—3 деталей.","Создаёт постройки «по сюжету» (дом, машина и т.д.)."]
[{"$nulls":9},"Конструирует несложные постройки из                  2—3 деталей.","Создаёт постройки «по сюжету» (дом, машина и т.д.)."]
[{"$nulls":9},"Конструирует несложные постройки из                  2—3 деталей.","Создаёт постройки «по сюжету» (дом, машина и т.д.)."]
[{"$nulls":9},"Конструирует несложные постройки из                  2—3 деталей.","Создаёт постройки «по сюжету» (дом, машина и т.д.)."]
[{"$nulls":9},"Конструирует несложные постройки из                  2—3 деталей.","Создаёт постройки «по сюжету» (дом, машина и т.д.)."]
[{"$nulls":9},"Конструирует несложные постройки из                  2—3 деталей.","Создаёт постройки «по сюжету» (дом, машина и т.д.)."]
[{"$nulls":9},"Конструирует несложные постройки из                  2—3 деталей.","Создаёт постройки «по сюжету» (дом, машина и т.д.)."]
[{"$nulls":9},"Конструирует несложные постройки из                  2—3 деталей.","Создаёт постройки «по сюжету» (дом, машина и т.д.)."]
[{"$nulls":9},"Конструирует несложные постройки из                  2—3 деталей.","Создаёт постройки «по сюжету» (дом, машина и т.д.)."]
[{"$nulls":9},"Конструирует несложные постройки из                  2—3 деталей.","Создаёт постройки «по сюжету» (дом, машина и т.д.)."]
[{"$nulls":9},"Конструирует несложные постройки из                  2—3 деталей.","Создаёт постройки «по сюжету» (дом, машина и т.д.)."]
[{"$nulls":9},"Конструирует несложные постройки из                  2—3 деталей.","Создаёт постройки «по сюжету» (дом, машина и т.д.)."]
[{"$nulls":9},"Конструирует несложные постройки из                  2—3 деталей.","Создаёт постройки «по сюжету» (дом, машина и т.д.)."]
[{"$nulls":9},"Конструирует несложные постройки из                  2—3 деталей.","Создаёт постройки «по сюжету» (дом, машина и т.д.)."]
[{"$nulls":9},"Конструирует несложные постройки из                  2—3 деталей.","Создаёт постройки «по сюжету» (дом, машина и т.д.)."]
[{"$nulls":9},"Конструирует несложные постройки из                  2—3 деталей.","Создаёт постройки «по сюжету» (дом, машина и т.д.)."]
[{"$nulls":9},"Конструирует несложные постройки из                  2—3 деталей.","Создаёт постройки «по сюжету» (дом, машина и т.д.)."]
[{"$nulls":9},"Конструирует несложные постройки из                  2—3 деталей.","Создаёт постройки «по сюжету» (дом, машина и т.д.)."]
[{"$nulls":9},"Конструирует несложные постройки из                  2—3 деталей.","Создаёт постройки «по сюжету» (дом, машина и т.д.)."]
[{"$nulls":9},"Конструирует несложные постройки из                  2—3 деталей.","Создаёт постройки «по сюжету» (дом, машина и т.д.)."]
[{"$nulls":9},"Конструирует несложные постройки из                  2—3 деталей.","Создаёт постройки «по сюжету» (дом, машина и т.д.)."]
[{"$nulls":9},"Конструирует несложные постройки из                  2—3 деталей.","Создаёт постройки «по сюжету» (дом, машина и т.д.)."]
[{"$nulls":9},"Конструирует несложные постройки из                  2—3 деталей.","Создаёт постройки «по сюжету» (дом, машина и т.д.)."]
[{"$nulls":9},"Конструирует несложные постройки из                  2—3 деталей.","Создаёт постройки «по сюжету» (дом, машина и т.д.)."]
[{"$nulls":9},"Конструирует несложные постройки из                  2—3 деталей.","Создаёт постройки «по сюжету» (дом, машина и т.д.)."]
[{"$nulls":9},"Конструирует несложные постройки из                  2—3 деталей.","Создаёт постройки «по сюжету» (дом, машина и т.д.)."]
[{"$nulls":9},"Конструирует несложные постройки из                  2—3 деталей.","Создаёт постройки «по сюжету» (дом, машина и т.д.)."]
[{"$nulls":9},"Конструирует несложные постройки из                  2—3 деталей.","Создаёт постройки «по сюжету» (дом, машина и т.д.)."]
[{"$nulls":9},"Конструирует несложные постройки из                  2—3 деталей.","Создаёт постройки «по сюжету» (дом, машина и т.д.)."]
[{"$nulls":9},"Конструирует несложные постройки из                  2—3 деталей.","Создаёт постройки «по сюжету» (дом, машина и т.д.)."]
[{"$nulls":9},"Конструирует несложные постройки из                  2—3 деталей.","Создаёт постройки «по сюжету» (дом, машина и т.д.)."]
[{"$nulls":9},"Конструирует несложные постройки из                  2—3 деталей.","Создаёт постройки «по сюжету» (дом, машина и т.д.)."]
[{"$nulls":9},"Конструирует несложные постройки из                  2—3 деталей.","Создаёт постройки «по сюжету» (дом, машина и т.д.)."]
[{"$nulls":9},"Конструирует несложные постройки из                  2—3 деталей.","Создаёт постройки «по сюжету» (дом, машина и т.д.)."]
[{"$nulls":9},"Конструирует несложные постройки из                  2—3 деталей.","Создаёт постройки «по сюжету» (дом, машина и т.д.)."]
[{"$nulls":9},"Конструирует несложные постройки из                  2—3 деталей.","Создаёт постройки «по сюжету» (дом, машина и т.д.)."]
[{"$nulls":9},"Конструирует несложные постройки из                  2—3 деталей.","Создаёт постройки «по сюжету» (дом, машина и т.д.)."]
[{"$nulls":9},"Конструирует несложные постройки из                  2—3 деталей.","Создаёт постройки «по сюжету» (дом, машина и т.д.)."]
[{"$nulls":9},"Конструирует несложные постройки из                  2—3 деталей.","Создаёт постройки «по сюжету» (дом, машина и т.д.)."]
[{"$nulls":9},"Конструирует несложные постройки из                  2—3 деталей.","Создаёт постройки «по сюжету» (дом, машина и т.д.)."]
[{"$nulls":9},"Конструирует несложные постройки из                  2—3 деталей.","Создаёт постройки «по сюжету» (дом, машина и т.д.)."]
[{"$nulls":9},"Конструирует несложные постройки из                  2—3 деталей.","Создаёт постройки «по сюжету» (дом, машина и т.д.)."]
[{"$nulls":9},"Конструирует несложные постройки из                  2—3 деталей.","Создаёт постройки «по сюжету» (дом, машина и т.д.)."]
[{"$nulls":9},"Конструирует несложные постройки из                  2—3 деталей.","Создаёт постройки «по сюжету» (дом, машина и т.д.)."]
[{"$nulls":9},"Конструирует несложные постройки из                  2—3 деталей.","Создаёт постройки «по сюжету» (дом, машина и т.д.)."]
[{"$nulls":9},"Конструирует несложные постройки из                  2—3 деталей.","Создаёт постройки «по сюжету» (дом, машина и т.д.)."]
[{"$nulls":9},"Конструирует несложные постройки из                  2—3 деталей.","Создаёт постройки «по сюжету» (дом, машина и т.д.)."]
[{"$nulls":9},"Конструирует несложные постройки из                  2—3 деталей.","Создаёт постройки «по сюжету» (дом, машина и т.д.)."]
[{"$nulls":9},"Конструирует несложные постройки из                  2—3 деталей.","Создаёт постройки «по сюжету» (дом, машина и т.д.)."]
[{"$nulls":9},"Конструирует несложные постройки из                  2—3 деталей.","Создаёт постройки «по сюжету» (дом, машина и т.д.)."]
[{"$nulls":9},"Конструирует несложные постройки из                  2—3 деталей.","Создаёт постройки «по сюжету» (дом, машина и т.д.)."]
[{"$nulls":9},"Конструирует несложные постройки из                  2—3 деталей.","Создаёт постройки «по сюжету» (дом, машина и т.д.)."]
[{"$nulls":9},"Конструирует несложные постройки из                  2—3 деталей.","Создаёт постройки «по сюжету» (дом, машина и т.д.)."]
[{"$nulls":9},"Конструирует несложные постройки из                  2—3 деталей.","Создаёт постройки «по сюжету» (дом, машина и т.д.)."]
[{"$nulls":9},"Конструирует несложные постройки из                  2—3 деталей.","Создаёт постройки «по сюжету» (дом, машина и т.д.)."]
[{"$nulls":9},"Конструирует несложные постройки из                  2—3 деталей.","Создаёт постройки «по сюжету» (дом, машина и т.д.)."]
[{"$nulls":9},"Конструирует несложные постройки из                  2—3 деталей.","Создаёт постройки «по сюжету» (дом, машина и т.д.)."]
[{"$nulls":9},"Конструирует несложные постройки из                  2—3 деталей.","Создаёт постройки «по сюжету» (дом, машина и т.д.)."]
[{"$nulls":9},"Конструирует несложные постройки из                  2—3 деталей.","Создаёт постройки «по сюжету» (дом, машина и т.д.)."]
[{"$nulls":9},"Конструирует несложные постройки из                  2—3 деталей.","Создаёт постройки «по сюжету» (дом, машина и т.д.)."]
[{"$nulls":9},"Конструирует несложные постройки из                  2—3 деталей.","Создаёт постройки «по сюжету» (дом, машина и т.д.)."]
[{"$nulls":9},"Конструирует несложные постройки из                  2—3 деталей.","Создаёт постройки «по сюжету» (дом, машина и т.д.)."]
[{"$nulls":9},"Конструирует несложные постройки из                  2—3 деталей.","Создаёт постройки «по сюжету» (дом, машина и т.д.)."]
[{"$nulls":9},"Конструирует несложные постройки из                  2—3 деталей.","Создаёт постройки «по сюжету» (дом, машина и т.д.)."]
[{"$nulls":9},"Конструирует несложные постройки из                  2—3 деталей.","Создаёт постройки «по сюжету» (дом, машина и т.д.)."]
[{"$nulls":9},"Конструирует несложные постройки из                  2—3 деталей.","Создаёт постройки «по сюжету» (дом, машина и т.д.)."]
[{"$nulls":9},"Конструирует несложные постройки из                  2—3 деталей.","Создаёт постройки «по сюжету» (дом, машина и т.д.)."]
[{"$nulls":9},"Конструирует несложные постройки из                  2—3 деталей.","Создаёт постройки «по сюжету» (дом, машина и т.д.)."]
[{"$nulls":9},"Конструирует несложные постройки из                  2—3 деталей.","Создаёт постройки «по сюжету» (дом, машина и т.д.)."]
[{"$nulls":9},"Конструирует несложные постройки из                  2—3 деталей.","Создаёт постройки «по сюжету» (дом, машина и т.д.)."]
[{"$nulls":9},"Конструирует несложные постройки из                  2—3 деталей.","Создаёт постройки «по сюжету» (дом, машина и т.д.)."]
[{"$nulls":9},"Конструирует несложные постройки из                  2—3 деталей.","Создаёт постройки «по сюжету» (дом, машина и т.д.)."]
[{"$nulls":9},"Конструирует несложные постройки из                  2—3 деталей.","Создаёт постройки «по сюжету» (дом, машина и т.д.)."]
[{"$nulls":9},"Конструирует несложные постройки из                  2—3 деталей.","Создаёт постройки «по сюжету» (дом, машина и т.д.)."]
[{"$nulls":9},"Конструирует несложные постройки из                  2—3 деталей.","Создаёт постройки «по сюжету» (дом, машина и т.д.)."]
[{"$nulls":9},"Конструирует несложные постройки из                  2—3 деталей.","Создаёт постройки «по сюжету» (дом, машина и т.д.)."]
[{"$nulls":9},"Конструирует несложные постройки из                  2—3 деталей.","Создаёт постройки «по сюжету» (дом, машина и т.д.)."]
[{"$nulls":9},"Конструирует несложные постройки из                  2—3 деталей.","Создаёт постройки «по сюжету» (дом, машина и т.д.)."]
[{"$nulls":9},"Конструирует несложные постройки из                  2—3 деталей.","Создаёт постройки «по сюжету» (дом, машина и т.д.)."]
[{"$nulls":9},"Конструирует несложные постройки из                  2—3 деталей.","Создаёт постройки «по сюжету» (дом, машина и т.д.)."]
[{"$nulls":9},"Конструирует несложные постройки из                  2—3 деталей.","Создаёт постройки «по сюжету» (дом, машина и т.д.)."]
[{"$nulls":9},"Конструирует несложные постройки из                  2—3 деталей.","Создаёт постройки «по сюжету» (дом, машина и т.д.)."]
[{"$nulls":9},"Конструирует несложные постройки из                  2—3 деталей.","Создаёт постройки «по сюжету» (дом, машина и т.д.)."]
[{"$nulls":9},"Конструирует несложные постройки из                  2—3 деталей.","Создаёт постройки «по сюжету» (дом, машина и т.д.)."]
[{"$nulls":9},"Конструирует несложные постройки из                  2—3 деталей.","Создаёт постройки «по сюжету» (дом, машина и т.д.)."]
[{"$nulls":9},"Конструирует несложные постройки из                  2—3 деталей.","Создаёт постройки «по сюжету» (дом, машина и т.д.)."]
[{"$nulls":9},"Конструирует несложные постройки из                  2—3 деталей.","Создаёт постройки «по сюжету» (дом, машина и т.д.)."]
[{"$nulls":9},"Конструирует несложные постройки из                  2—3 деталей.","Создаёт постройки «по сюжету» (дом, машина и т.д.)."]
[{"$nulls":9},"Конструирует несложные постройки из                  2—3 деталей.","Создаёт постройки «по сюжету» (дом, машина и т.д.)."]
[{"$nulls":9},"Конструирует несложные постройки из                  2—3 деталей.","Создаёт постройки «по сюжету» (дом, машина и т.д.)."]
[{"$nulls":9},"Конструирует несложные постройки из                  2—3 деталей.","Создаёт постройки «по сюжету» (дом, машина и т.д.)."]
[{"$nulls":9},"Конструирует несложные постройки из                  2—3 деталей.","Создаёт постройки «по сюжету» (дом, машина и т.д.)."]
[{"$nulls":9},"Конструирует несложные постройки из                  2—3 деталей.","Создаёт постройки «по сюжету» (дом, машина и т.д.)."]
[{"$nulls":9},"Конструирует несложные постройки из                  2—3 деталей.","Создаёт постройки «по сюжету» (дом, машина и т.д.)."]
[{"$nulls":9},"Конструирует несложные постройки из                  2—3 деталей.","Создаёт постройки «по сюжету» (дом, машина и т.д.)."]
[{"$nulls":9},"Конструирует несложные постройки из                  2—3 деталей.","Создаёт постройки «по сюжету» (дом, машина и т.д.)."]
[{"$nulls":9},"Конструирует несложные постройки из                  2—3 деталей.","Создаёт постройки «по сюжету» (дом, машина и т.д.)."]
[{"$nulls":9},"Конструирует несложные постройки из                  2—3 деталей.","Создаёт постройки «по сюжету» (дом, машина и т.д.)."]
[{"$nulls":9},"Конструирует несложные постройки из                  2—3 деталей.","Создаёт постройки «по сюжету» (дом, машина и т.д.)."]
[{"$nulls":9},"Конструирует несложные постройки из                  2—3 деталей.","Создаёт постройки «по сюжету» (дом, машина и т.д.)."]
[{"$nulls":9},"Конструирует несложные постройки из                  2—3 деталей.","Создаёт постройки «по сюжету» (дом, машина и т.д.)."]
[{"$nulls":9},"Конструирует несложные постройки из                  2—3 деталей.","Создаёт постройки «по сюжету» (дом, машина и т.д.)."]
[{"$nulls":9},"Конструирует несложные постройки из                  2—3 деталей.","Создаёт постройки «по сюжету» (дом, машина и т.д.)."]
[{"$nulls":9},"Конструирует несложные постройки из                  2—3 деталей.","Создаёт постройки «по сюжету» (дом, машина и т.д.)."]
[{"$nulls":9},"Конструирует несложные постройки из                  2—3 деталей.","Создаёт постройки «по сюжету» (дом, машина и т.д.)."]
[{"$nulls":9},"Конструирует несложные постройки из                  2—3 деталей.","Создаёт постройки «по сюжету» (дом, машина и т.д.)."]
[{"$nulls":9},"Конструирует несложные постройки из                  2—3 деталей.","Создаёт постройки «по сюжету» (дом, машина и т.д.)."]
[{"$nulls":9},"Конструирует несложные постройки из                  2—3 деталей.","Создаёт постройки «по сюжету» (дом, машина и т.д.)."]
[{"$nulls":9},"Конструирует несложные постройки из                  2—3 деталей.","Создаёт постройки «по сюжету» (дом, машина и т.д.)."]
[{"$nulls":9},"Конструирует несложные постройки из                  2—3 деталей.","Создаёт постройки «по сюжету» (дом, машина и т.д.)."]
[{"$nulls":9},"Конструирует несложные постройки из                  2—3 деталей.","Создаёт постройки «по сюжету» (дом, машина и т.д.)."]
[{"$nulls":9},"Конструирует несложные постройки из                  2—3 деталей.","Создаёт постройки «по сюжету» (дом, машина и т.д.)."]
[{"$nulls":9},"Конструирует несложные постройки из                  2—3 деталей.","Создаёт постройки «по сюжету» (дом, машина и т.д.)."]
[{"$nulls":9},"Конструирует несложные постройки из                  2—3 деталей.","Создаёт постройки «по сюжету» (дом, машина и т.д.)."]
[{"$nulls":9},"Конструирует несложные постройки из                  2—3 деталей.","Создаёт постройки «по сюжету» (дом, машина и т.д.)."]
[{"$nulls":9},"Конструирует несложные постройки из                  2—3 деталей.","Создаёт постройки «по сюжету» (дом, машина и т.д.)."]
[{"$nulls":9},"Конструирует несложные постройки из                  2—3 деталей.","Создаёт постройки «по сюжету» (дом, машина и т.д.)."]
[{"$nulls":9},"Конструирует несложные постройки из                  2—3 деталей.","Создаёт постройки «по сюжету» (дом, машина и т.д.)."]
[{"$nulls":9},"Конструирует несложные постройки из                  2—3 деталей.","Создаёт постройки «по сюжету» (дом, машина и т.д.)."]
[{"$nulls":9},"Конструирует несложные постройки из                  2—3 деталей.","Создаёт постройки «по сюжету» (дом, машина и т.д.)."]
[{"$nulls":9},"Конструирует несложные постройки из                  2—3 деталей.","Создаёт постройки «по сюжету» (дом, машина и т.д.)."]
[{"$nulls":9},"Конструирует несложные постройки из                  2—3 деталей.","Создаёт постройки «по сюжету» (дом, машина и т.д.)."]
[{"$nulls":9},"Конструирует несложные постройки из                  2—3 деталей.","Создаёт постройки «по сюжету» (дом, машина и т.д.)."]
[{"$nulls":9},"Конструирует несложные постройки из                  2—3 деталей.","Создаёт постройки «по сюжету» (дом, машина и т.д.)."]
[{"$nulls":9},"Конструирует несложные постройки из                  2—3 деталей.","Создаёт постройки «по сюжету» (дом, машина и т.д.)."]
[{"$nulls":9},"Конструирует несложные постройки из                  2—3 деталей.","Создаёт постройки «по сюжету» (дом, машина и т.д.)."]
[{"$nulls":9},"Конструирует несложные постройки из                  2—3 деталей.","Создаёт постройки «по сюжету» (дом, машина и т.д.)."]
[{"$nulls":9},"Конструирует несложные постройки из                  2—3 деталей.","Создаёт постройки «по сюжету» (дом, машина и т.д.)."]
[{"$nulls":9},"Конструирует несложные постройки из                  2—3 деталей.","Создаёт постройки «по сюжету» (дом, машина и т.д.)."]
[{"$nulls":9},"Конструирует несложные постройки из                  2—3 деталей.","Создаёт постройки «по сюжету» (дом, машина и т.д.)."]
[{"$nulls":9},"Конструирует несложные постройки из                  2—3 деталей.","Создаёт постройки «по сюжету» (дом, машина и т.д.)."]
[{"$nulls":9},"Конструирует несложные постройки из                  2—3 деталей.","Создаёт постройки «по сюжету» (дом, машина и т.д.)."]
[{"$nulls":9},"Конструирует несложные постройки из                  2—3 деталей.","Создаёт постройки «по сюжету» (дом, машина и т.д.)."]
[{"$nulls":9},"Конструирует несложные постройки из                  2—3 деталей.","Создаёт постройки «по сюжету» (дом, машина и т.д.)."]
[{"$nulls":9},"Конструирует несложные постройки из                  2—3 деталей.","Создаёт постройки «по сюжету» (дом, машина и т.д.)."]
[{"$nulls":9},"Конструирует несложные постройки из                  2—3 деталей.","Создаёт постройки «по сюжету» (дом, машина и т.д.)."]
[{"$nulls":9},"Конструирует несложные постройки из                  2—3 деталей.","Создаёт постройки «по сюжету» (дом, машина и т.д.)."]
[{"$nulls":9},"Конструирует несложные постройки из                  2—3 деталей.","Создаёт постройки «по сюжету» (дом, машина и т.д.)."]
[{"$nulls":9},"Конструирует несложные постройки из                  2—3 деталей.","Создаёт постройки «по сюжету» (дом, машина и т.д.)."]
[{"$nulls":9},"Конструирует несложные постройки из                  2—3 деталей.","Создаёт постройки «по сюжету» (дом, машина и т.д.)."]
[{"$nulls":9},"Конструирует несложные постройки из                  2—3 деталей.","Создаёт постройки «по сюжету» (дом, машина и т.д.)."]
[{"$nulls":9},"Конструирует несложные постройки из                  2—3 деталей.","Создаёт постройки «по сюжету» (дом, машина и т.д.)."]
[{"$nulls":9},"Конструирует несложные постройки из                  2—3 деталей.","Создаёт постройки «по сюжету» (дом, машина и т.д.)."]
[{"$nulls":9},"Конструирует несложные постройки из                  2—3 деталей.","Создаёт постройки «по сюжету» (дом, машина и т.д.)."]
[{"$nulls":9},"Конструирует несложные постройки из                  2—3 деталей.","Создаёт постройки «по сюжету» (дом, машина и т.д.)."]
[{"$nulls":9},"Конструирует несложные постройки из                  2—3 деталей.","Создаёт постройки «по сюжету» (дом, машина и т.д.)."]
[{"$nulls":9},"Конструирует несложные постройки из                  2—3 деталей.","Создаёт постройки «по сюжету» (дом, машина и т.д.)."]
[{"$nulls":9},"Конструирует несложные постройки из                  2—3 деталей.","Создаёт постройки «по сюжету» (дом, машина и т.д.)."]
[{"$nulls":9},"Конструирует несложные постройки из                  2—3 деталей.","Создаёт постройки «по сюжету» (дом, машина и т.д.)."]
[{"$nulls":9},"Конструирует несложные постройки из                  2—3 деталей.","Создаёт постройки «по сюжету» (дом, машина и т.д.)."]
[{"$nulls":9},"Конструирует несложные постройки из                  2—3 деталей.","Создаёт постройки «по сюжету» (дом, машина и т.д.)."]
[{"$nulls":9},"Конструирует несложные постройки из                  2—3 деталей.","Создаёт постройки «по сюжету» (дом, машина и т.д.)."]
[{"$nulls":9},"Конструирует несложные постройки из                  2—3 деталей.","Создаёт постройки «по сюжету» (дом, машина и т.д.)."]
[{"$nulls":9},"Конструирует несложные постройки из                  2—3 деталей.","Создаёт постройки «по сюжету» (дом, машина и т.д.)."]
[{"$nulls":9},"Конструирует несложные постройки из                  2—3 деталей.","Создаёт постройки «по сюжету» (дом, машина и т.д.)."]
[{"$nulls":9},"Конструирует несложные постройки из                  2—3 деталей.","Создаёт постройки «по сюжету» (дом, машина и т.д.)."]
[{"$nulls":9},"Конструирует несложные постройки из                  2—3 деталей.","Создаёт постройки «по сюжету» (дом, машина и т.д.)."]
[{"$nulls":9},"Конструирует несложные постройки из                  2—3 деталей.","Создаёт постройки «по сюжету» (дом, машина и т.д.)."]
[{"$nulls":9},"Конструирует несложные постройки из                  2—3 деталей.","Создаёт постройки «по сюжету» (дом, машина и т.д.)."]
[{"$nulls":9},"Конструирует несложные постройки из                  2—3 деталей.","Создаёт постройки «по сюжету» (дом, машина и т.д.)."]
[{"$nulls":9},"Конструирует несложные постройки из                  2—3 деталей.","Создаёт постройки «по сюжету» (дом, машина и т.д.)."]
[{"$nulls":9},"Конструирует несложные постройки из                  2—3 деталей.","Создаёт постройки «по сюжету» (дом, машина и т.д.)."]
[{"$nulls":9},"Конструирует несложные постройки из                  2—3 деталей.","Создаёт постройки «по сюжету» (дом, машина и т.д.)."]
[{"$nulls":9},"Конструирует несложные постройки из                  2—3 деталей.","Создаёт постройки «по сюжету» (дом, машина и т.д.)."]
[{"$nulls":9},"Конструирует несложные постройки из                  2—3 деталей.","Создаёт постройки «по сюжету» (дом, машина и т.д.)."]
[{"$nulls":9},"Конструирует несложные постройки из                  2—3 деталей.","Создаёт постройки «по сюжету» (дом, машина и т.д.)."]
[{"$nulls":9},"Конструирует несложные постройки из                  2—3 деталей.","Создаёт постройки «по сюжету» (дом, машина и т.д.)."]
[{"$nulls":9},"Конструирует несложные постройки из                  2—3 деталей.","Создаёт постройки «по сюжету» (дом, машина и т.д.)."]
[{"$nulls":9},"Конструирует несложные постройки из                  2—3 деталей.","Создаёт постройки «по сюжету» (дом, машина и т.д.)."]
[{"$nulls":9},"Конструирует несложные постройки из                  2—3 деталей.","Создаёт постройки «по сюжету» (дом, машина и т.д.)."]
[{"$nulls":9},"Конструирует несложные постройки из                  2—3 деталей.","Создаёт постройки «по сюжету» (дом, машина и т.д.)."]
[{"$nulls":9},"Конструирует несложные постройки из                  2—3 деталей.","Создаёт постройки «по сюжету» (дом, машина и т.д.)."]
[{"$nulls":9},"Конструирует несложные постройки из                  2—3 деталей.","Создаёт постройки «по сюжету» (дом, машина и т.д.)."]
[{"$nulls":9},"Конструирует несложные постройки из                  2—3 деталей.","Создаёт постройки «по сюжету» (дом, машина и т.д.)."]
[{"$nulls":9},"Конструирует несложные постройки из                  2—3 деталей.","Создаёт постройки «по сюжету» (дом, машина и т.д.)."]
[{"$nulls":9},"Конструирует несложные постройки из                  2—3 деталей.","Создаёт постройки «по сюжету» (дом, машина и т.д.)."]
[{"$nulls":9},"Конструирует несложные постройки из                  2—3 деталей.","Создаёт постройки «по сюжету» (дом, машина и т.д.)."]
[{"$nulls":9},"Конструирует несложные постройки из                  2—3 деталей.","Создаёт постройки «по сюжету» (дом, машина и т.д.)."]
[{"$nulls":9},"Конструирует несложные постройки из                  2—3 деталей.","Создаёт постройки «по сюжету» (дом, машина и т.д.)."]
[{"$nulls":9},"Конструирует несложные постройки из                  2—3 деталей.","Создаёт постройки «по сюжету» (дом, машина и т.д.)."]
[{"$nulls":9},"Конструирует несложные постройки из                  2—3 деталей.","Создаёт постройки «по сюжету» (дом, машина и т.д.)."]
[{"$nulls":9},"Конструирует несложные постройки из                  2—3 деталей.","Создаёт постройки «по сюжету» (дом, машина и т.д.)."]
[{"$nulls":9},"Конструирует несложные постройки из                  2—3 деталей.","Создаёт постройки «по сюжету» (дом, машина и т.д.)."]
[{"$nulls":9},"Конструирует несложные постройки из                  2—3 деталей.","Создаёт постройки «по сюжету» (дом, машина и т.д.)."]
[{"$nulls":9},"Конструирует несложные постройки из                  2—3 деталей.","Создаёт постройки «по сюжету» (дом, машина и т.д.)."]
[{"$nulls":9},"Конструирует несложные постройки из                  2—3 деталей.","Создаёт постройки «по сюжету» (дом, машина и т.д.)."]
[{"$nulls":9},"Конструирует несложные постройки из                  2—3 деталей.","Создаёт постройки «по сюжету» (дом, машина и т.д.)."]
[{"$nulls":9},"Конструирует несложные постройки из                  2—3 деталей.","Создаёт постройки «по сюжету» (дом, машина и т.д.)."]
[{"$nulls":9},"Конструирует несложные постройки из                  2—3 деталей.","Создаёт постройки «по сюжету» (дом, машина и т.д.)."]
[{"$nulls":9},"Конструирует несложные постройки из                  2—3 деталей.","Создаёт постройки «по сюжету» (дом, машина и т.д.)."]
[{"$nulls":9},"Конструирует несложные постройки из                  2—3 деталей.","Создаёт постройки «по сюжету» (дом, машина и т.д.)."]
[{"$nulls":9},"Конструирует несложные постройки из                  2—3 деталей.","Создаёт постройки «по сюжету» (дом, машина и т.д.)."]
[{"$nulls":9},"Конструирует несложные постройки из                  2—3 деталей.","Создаёт постройки «по сюжету» (дом, машина и т.д.)."]
[{"$nulls":9},"Конструирует несложные постройки из                  2—3 деталей.","Создаёт постройки «по сюжету» (дом, машина и т.д.)."]
[{"$nulls":9},"Конструирует несложные постройки из                  2—3 деталей.","Создаёт постройки «по сюжету» (дом, машина и т.д.)."]
[{"$nulls":9},"Конструирует несложные постройки из                  2—3 деталей.","Создаёт постройки «по сюжету» (дом, машина и т.д.)."]
[{"$nulls":9},"Конструирует несложные постройки из                  2—3 деталей.","Создаёт постройки «по сюжету» (дом, машина и т.д.)."]
[{"$nulls":9},"Конструирует несложные постройки из                  2—3 деталей.","Создаёт постройки «по сюжету» (дом, машина и т.д.)."]
[{"$nulls":9},"Конструирует несложные постройки из                  2—3 деталей.","Создаёт постройки «по сюжету» (дом, машина и т.д.)."]
[{"$nulls":9},"Конструирует несложные постройки из                  2—3 деталей.","Создаёт постройки «по сюжету» (дом, машина и т.д.)."]
[{"$nulls":9},"Конструирует несложные постройки из                  2—3 деталей.","Создаёт постройки «по сюжету» (дом, машина и т.д.)."]
[{"$nulls":9},"Конструирует несложные постройки из                  2—3 деталей.","Создаёт постройки «по сюжету» (дом, машина и т.д.)."]
[{"$nulls":9},"Конструирует несложные постройки из                  2—3 деталей.","Создаёт постройки «по сюжету» (дом, машина и т.д.)."]
[{"$nulls":9},"Конструирует несложные постройки из                  2—3 деталей.","Создаёт постройки «по сюжету» (дом, машина и т.д.)."]
[{"$nulls":9},"Конструирует несложные постройки из                  2—3 деталей.","Создаёт постройки «по сюжету» (дом, машина и т.д.)."]
[{"$nulls":9},"Конструирует несложные постройки из                  2—3 деталей.","Создаёт постройки «по сюжету» (дом, машина и т.д.)."]
[{"$nulls":9},"Конструирует несложные постройки из                  2—3 деталей.","Создаёт постройки «по сюжету» (дом, машина и т.д.)."]
[{"$nulls":9},"Конструирует несложные постройки из                  2—3 деталей.","Создаёт постройки «по сюжету» (дом, машина и т.д.)."]
[{"$nulls":9},"Конструирует несложные постройки из                  2—3 деталей.","Создаёт постройки «по сюжету» (дом, машина и т.д.)."]
[{"$nulls":9},"Конструирует несложные постройки из                  2—3 деталей.","Создаёт постройки «по сюжету» (дом, машина и т.д.)."]
[{"$nulls":9},"Конструирует несложные постройки из                  2—3 деталей.","Создаёт постройки «по сюжету» (дом, машина и т.д.)."]
[{"$nulls":9},"Конструирует несложные постройки из                  2—3 деталей.","Создаёт постройки «по сюжету» (дом, машина и т.д.)."]
[{"$nulls":9},"Конструирует несложные постройки из                  2—3 деталей.","Создаёт постройки «по сюжету» (дом, машина и т.д.)."]
[{"$nulls":9},"Конструирует несложные постройки из                  2—3 деталей.","Создаёт постройки «по сюжету» (дом, машина и т.д.)."]
[{"$nulls":9},"Конструирует несложные постройки из                  2—3 деталей.","Создаёт постройки «по сюжету» (дом, машина и т.д.)."]
[{"$nulls":9},"Конструирует несложные постройки из                  2—3 деталей.","Создаёт постройки «по сюжету» (дом, машина и т.д.)."]
[{"$nulls":9},"Конструирует несложные постройки из                  2—3 деталей.","Создаёт постройки «по сюжету» (дом, машина и т.д.)."]
[{"$nulls":9},"Конструирует несложные постройки из                  2—3 деталей.","Создаёт постройки «по сюжету» (дом, машина и т.д.)."]
[{"$nulls":9},"Конструирует несложные постройки из                  2—3 деталей.","Создаёт постройки «по сюжету» (дом, машина и т.д.)."]
[{"$nulls":9},"Конструирует несложные постройки из                  2—3 деталей.","Создаёт постройки «по сюжету» (дом, машина и т.д.)."]
[{"$nulls":9},"Конструирует несложные постройки из                  2—3 деталей.","Создаёт постройки «по сюжету» (дом, машина и т.д.)."]
[{"$nulls":9},"Конструирует несложные постройки из                  2—3 деталей.","Создаёт постройки «по сюжету» (дом, машина и т.д.)."]
[{"$nulls":9},"Конструирует несложные постройки из                  2—3 деталей.","Создаёт постройки «по сюжету» (дом, машина и т.д.)."]
[{"$nulls":9},"Конструирует несложные постройки из                  2—3 деталей.","Создаёт постройки «по сюжету» (дом, машина и т.д.)."]
[{"$nulls":9},"Конструирует несложные постройки из                  2—3 деталей.","Создаёт постройки «по сюжету» (дом, машина и т.д.)."]
[{"$nulls":9},"Конструирует несложные постройки из                  2—3 деталей.","Создаёт постройки «по сюжету» (дом, машина и т.д.)."]
[{"$nulls":9},"Конструирует несложные постройки из                  2—3 деталей.","Создаёт постройки «по сюжету» (дом, машина и т.д.)."]
[{"$nulls":9},"Конструирует несложные постройки из                  2—3 деталей.","Создаёт постройки «по сюжету» (дом, машина и т.д.)."]
[{"$nulls":9},"Конструирует несложные постройки из                  2—3 деталей.","Создаёт постройки «по сюжету» (дом, машина и т.д.)."]
[{"$nulls":9},"Конструирует несложные постройки из                  2—3 деталей.","Создаёт постройки «по сюжету» (дом, машина и т.д.)."]
[{"$nulls":9},"Конструирует несложные постройки из                  2—3 деталей.","Создаёт постройки «по сюжету» (дом, машина и т.д.)."]
[{"$nulls":9},"Конструирует несложные постройки из                  2—3 деталей.","Создаёт постройки «по сюжету» (дом, машина и т.д.)."]
[{"$nulls":9},"Конструирует несложные постройки из                  2—3 деталей.","Создаёт постройки «по сюжету» (дом, машина и т.д.)."]
[{"$nulls":9},"Конструирует несложные постройки из                  2—3 деталей.","Создаёт постройки «по сюжету» (дом, машина и т.д.)."]
[{"$nulls":9},"Конструирует несложные постройки из                  2—3 деталей.","Создаёт постройки «по сюжету» (дом, машина и т.д.)."]
[{"$nulls":9},"Конструирует несложные постройки из                  2—3 деталей.","Создаёт постройки «по сюжету» (дом, машина и т.д.)."]
[{"$nulls":9},"Конструирует несложные постройки из                  2—3 деталей.","Создаёт постройки «по сюжету» (дом, машина и т.д.)."]
[{"$nulls":9},"Конструирует несложные постройки из                  2—3 деталей.","Создаёт постройки «по сюжету» (дом, машина и т.д.)."]
[{"$nulls":9},"Конструирует несложные постройки из                  2—3 деталей.","Создаёт постройки «по сюжету» (дом, машина и т.д.)."]
[{"$nulls":9},"Конструирует несложные постройки из                  2—3 деталей.","Создаёт постройки «по сюжету» (дом, машина и т.д.)."]
[{"$nulls":9},"Конструирует несложные постройки из                  2—3 деталей.","Создаёт постройки «по сюжету» (дом, машина и т.д.)."]
[{"$nulls":9},"Конструирует несложные постройки из                  2—3 деталей.","Создаёт постройки «по сюжету» (дом, машина и т.д.)."]
[{"$nulls":9},"Конструирует несложные постройки из                  2—3 деталей.","Создаёт постройки «по сюжету» (дом, машина и т.д.)."]
[{"$nulls":9},"Конструирует несложные постройки из                  2—3 деталей.","Создаёт постройки «по сюжету» (дом, машина и т.д.)."]
[{"$nulls":9},"Конструирует несложные постройки из                  2—3 деталей.","Создаёт постройки «по сюжету» (дом, машина и т.д.)."]
[{"$nulls":9},"Конструирует несложные постройки из                  2—3 деталей.","Создаёт постройки «по сюжету» (дом, машина и т.д.)."]
[{"$nulls":9},"Конструирует несложные постройки из                  2—3 деталей.","Создаёт постройки «по сюжету» (дом, машина и т.д.)."]
[{"$nulls":9},"Конструирует несложные постройки из                  2—3 деталей.","Создаёт постройки «по сюжету» (дом, машина и т.д.)."]
[{"$nulls":9},"Конструирует несложные постройки из                  2—3 деталей.","Создаёт постройки «по сюжету» (дом, машина и т.д.)."]
[{"$nulls":9},"Конструирует несложные постройки из                  2—3 деталей.","Создаёт постройки «по сюжету» (дом, машина и т.д.)."]
[{"$nulls":9},"Конструирует несложные постройки из                  2—3 деталей.","Создаёт постройки «по сюжету» (дом, машина и т.д.)."]
[{"$nulls":9},"Конструирует несложные постройки из                  2—3 деталей.","Создаёт постройки «по сюжету» (дом, машина и т.д.)."]
[{"$nulls":9},"Конструирует несложные постройки из                  2—3 деталей.","Создаёт постройки «по сюжету» (дом, машина и т.д.)."]
[{"$nulls":9},"Конструирует несложные постройки из                  2—3 деталей.","Создаёт постройки «по сюжету» (дом, машина и т.д.)."]
[{"$nulls":9},"Конструирует несложные постройки из                  2—3 деталей.","Создаёт постройки «по сюжету» (дом, машина и т.д.)."]
[{"$nulls":9},"Конструирует несложные постройки из                  2—3 деталей.","Создаёт постройки «по сюжету» (дом, машина и т.д.)."]
[{"$nulls":9},"Конструирует несложные постройки из                  2—3 деталей.","Создаёт постройки «по сюжету» (дом, машина и т.д.)."]
[{"$nulls":9},"Конструирует несложные постройки из                  2—3 деталей.","Создаёт постройки «по сюжету» (дом, машина и т.д.)."]
[{"$nulls":9},"Конструирует несложные постройки из                  2—3 деталей.","Создаёт постройки «по сюжету» (дом, машина и т.д.)."]
[{"$nulls":9},"Конструирует несложные постройки из                  2—3 деталей.","Создаёт постройки «по сюжету» (дом, машина и т.д.)."]
[{"$nulls":9},"Конструирует несложные постройки из                  2—3 деталей.","Создаёт постройки «по сюжету» (дом, машина и т.д.)."]
[{"$nulls":9},"Конструирует несложные постройки из                  2—3 деталей.","Создаёт постройки «по сюжету» (дом, машина и т.д.)."]
[{"$nulls":9},"Конструирует несложные постройки из                  2—3 деталей.","Создаёт постройки «по сюжету» (дом, машина и т.д.)."]
[{"$nulls":9},"Конструирует несложные постройки из                  2—3 деталей.","Создаёт постройки «по сюжету» (дом, машина и т.д.)."]
[{"$nulls":9},"Конструирует несложные постройки из                  2—3 деталей.","Создаёт постройки «по сюжету» (дом, машина и т.д.)."]
[{"$nulls":9},"Конструирует несложные постройки из                  2—3 деталей.","Создаёт постройки «по сюжету» (дом, машина и т.д.)."]
[{"$nulls":9},"Конструирует несложные постройки из                  2—3 деталей.","Создаёт постройки «по сюжету» (дом, машина и т.д.)."]
[{"$nulls":9},"Конструирует несложные постройки из                  2—3 деталей.","Создаёт постройки «по сюжету» (дом, машина и т.д.)."]
[{"$nulls":9},"Конструирует несложные постройки из                  2—3 деталей.","Создаёт постройки «по сюжету» (дом, машина и т.д.)."]
[{"$nulls":9},"Конструирует несложные постройки из                  2—3 деталей.","Создаёт постройки «по сюжету» (дом, машина и т.д.)."]
[{"$nulls":9},"Конструирует несложные постройки из                  2—3 деталей.","Создаёт постройки «по сюжету» (дом, машина и т.д.)."]
[{"$nulls":9},"Конструирует несложные постройки из                  2—3 деталей.","Создаёт постройки «по сюжету» (дом, машина и т.д.)."]
[{"$nulls":9},"Конструирует несложные постройки из                  2—3 деталей.","Создаёт постройки «по сюжету» (дом, машина и т.д.)."]
[{"$nulls":9},"Конструирует несложные постройки из                  2—3 деталей.","Создаёт постройки «по сюжету» (дом, машина и т.д.)."]
[{"$nulls":9},"Конструирует несложные постройки из                  2—3 деталей.","Создаёт постройки «по сюжету» (дом, машина и т.д.)."]
[{"$nulls":9},"Конструирует несложные постройки из                  2—3 деталей.","Создаёт постройки «по сюжету» (дом, машина и т.д.)."]
[{"$nulls":9},"Конструирует несложные постройки из                  2—3 деталей.","Создаёт постройки «по сюжету» (дом, машина и т.д.)."]
[{"$nulls":9},"Конструирует несложные постройки из                  2—3 деталей.","Создаёт постройки «по сюжету» (дом, машина и т.д.)."]
[{"$nulls":9},"Конструирует несложные постройки из                  2—3 деталей.","Создаёт постройки «по сюжету» (дом, машина и т.д.)."]
[{"$nulls":9},"Конструирует несложные постройки из                  2—3 деталей.","Создаёт постройки «по сюжету» (дом, машина и т.д.)."]
[{"$nulls":9},"Конструирует несложные постройки из                  2—3 деталей.","Создаёт постройки «по сюжету» (дом, машина и т.д.)."]
[{"$nulls":9},"Конструирует несложные постройки из                  2—3 деталей.","Создаёт постройки «по сюжету» (дом, машина и т.д.)."]
[{"$nulls":9},"Конструирует несложные постройки из                  2—3 деталей.","Создаёт постройки «по сюжету» (дом, машина и т.д.)."]
[{"$nulls":9},"Конструирует несложные постройки из                  2—3 деталей.","Создаёт постройки «по сюжету» (дом, машина и т.д.)."]
[{"$nulls":9},"Конструирует несложные постройки из                  2—3 деталей.","Создаёт постройки «по сюжету» (дом, машина и т.д.)."]
[{"$nulls":9},"Конструирует несложные постройки из                  2—3 деталей.","Создаёт постройки «по сюжету» (дом, машина и т.д.)."]
[{"$nulls":9},"Конструирует несложные постройки из                  2—3 деталей.","Создаёт постройки «по сюжету» (дом, машина и т.д.)."]
[{"$nulls":9},"Конструирует несложные постройки из                  2—3 деталей.","Создаёт постройки «по сюжету» (дом, машина и т.д.)."]
[{"$nulls":9},"Конструирует несложные постройки из                  2—3 деталей.","Создаёт постройки «по сюжету» (дом, машина и т.д.)."]
[{"$nulls":9},"Конструирует несложные постройки из                  2—3 деталей.","Создаёт постройки «по сюжету» (дом, машина и т.д.)."]
[{"$nulls":9},"Конструирует несложные постройки из                  2—3 деталей.","Создаёт постройки «по сюжету» (дом, машина и т.д.)."]
[{"$nulls":9},"Конструирует несложные постройки из                  2—3 деталей.","Создаёт постройки «по сюжету» (дом, машина и т.д.)."]
[{"$nulls":9},"Конструирует несложные постройки из                  2—3 деталей.","Создаёт постройки «по сюжету» (дом, машина и т.д.)."]
[{"$nulls":9},"Конструирует несложные постройки из                  2—3 деталей.","Создаёт постройки «по сюжету» (дом, машина и т.д.)."]
[{"$nulls":9},"Конструирует несложные постройки из                  2—3 деталей.","Создаёт постройки «по сюжету» (дом, машина и т.д.)."]
[{"$nulls":9},"Конструирует несложные постройки из                  2—3 деталей.","Создаёт постройки «по сюжету» (дом, машина и т.д.)."]
[{"$nulls":9},"Конструирует несложные постройки из                  2—3 деталей.","Создаёт постройки «по сюжету» (дом, машина и т.д.)."]
[{"$nulls":9},"Конструирует несложные постройки из                  2—3 деталей.","Создаёт постройки «по сюжету» (дом, машина и т.д.)."]
[{"$nulls":9},"Конструирует несложные постройки из                  2—3 деталей.","Создаёт постройки «по сюжету» (дом, машина и т.д.)."]
[{"$nulls":9},"Конструирует несложные постройки из                  2—3 деталей.","Создаёт постройки «по сюжету» (дом, машина и т.д.)."]
[{"$nulls":9},"Конструирует несложные постройки из                  2—3 деталей.","Создаёт постройки «по сюжету» (дом, машина и т.д.)."]
[{"$nulls":9},"Конструирует несложные постройки из                  2—3 деталей.","Создаёт постройки «по сюжету» (дом, машина и т.д.)."]
[{"$nulls":9},"Конструирует несложные постройки из                  2—3 деталей.","Создаёт постройки «по сюжету» (дом, машина и т.д.)."]
[{"$nulls":9},"Конструирует несложные постройки из                  2—3 деталей.","Создаёт постройки «по сюжету» (дом, машина и т.д.)."]
[{"$nulls":9},"Конструирует несложные постройки из                  2—3 деталей.","Создаёт постройки «по сюжету» (дом, машина и т.д.)."]
[{"$nulls":9},"Конструирует несложные постройки из                  2—3 деталей.","Создаёт постройки «по сюжету» (дом, машина и т.д.)."]
[{"$nulls":9},"Конструирует несложные постройки из                  2—3 деталей.","Создаёт постройки «по сюжету» (дом, машина и т.д.)."]
[{"$nulls":9},"Конструирует несложные постройки из                  2—3 деталей.","Создаёт постройки «по сюжету» (дом, машина и т.д.)."]
[{"$nulls":9},"Конструирует несложные постройки из                  2—3 деталей.","Создаёт постройки «по сюжету» (дом, машина и т.д.)."]
[{"$nulls":9},"Конструирует несложные постройки из                  2—3 деталей.","Создаёт постройки «по сюжету» (дом, машина и т.д.)."]
[{"$nulls":9},"Конструирует несложные постройки из                  2—3 деталей.","Создаёт постройки «по сюжету» (дом, машина и т.д.)."]
[{"$nulls":9},"Конструирует несложные постройки из                  2—3 деталей.","Создаёт постройки «по сюжету» (дом, машина и т.д.)."]
[{"$nulls":9},"Конструирует несложные постройки из                  2—3 деталей.","Создаёт постройки «по сюжету» (дом, машина и т.д.)."]
[{"$nulls":9},"Конструирует несложные постройки из                  2—3 деталей.","Создаёт постройки «по сюжету» (дом, машина и т.д.)."]
[{"$nulls":9},"Конструирует несложные постройки из                  2—3 деталей.","Создаёт постройки «по сюжету» (дом, машина и т.д.)."]
[{"$nulls":9},"Конструирует несложные постройки из                  2—3 деталей.","Создаёт постройки «по сюжету» (дом, машина и т.д.)."]
[{"$nulls":9},"Конструирует несложные постройки из                  2—3 деталей.","Создаёт постройки «по сюжету» (дом, машина и т.д.)."]
[{"$nulls":9},"Конструирует несложные постройки из                  2—3 деталей.","Создаёт постройки «по сюжету» (дом, машина и т.д.)."]
[{"$nulls":9},"Конструирует несложные постройки из                  2—3 деталей.","Создаёт постройки «по сюжету» (дом, машина и т.д.)."]
[{"$nulls":9},"Конструирует несложные постройки из                  2—3 деталей.","Создаёт постройки «по сюжету» (дом, машина и т.д.)."]
[{"$nulls":9},"Конструирует несложные постройки из                  2—3 деталей.","Создаёт постройки «по сюжету» (дом, машина и т.д.)."]
[{"$nulls":9},"Конструирует несложные постройки из                  2—3 деталей.","Создаёт постройки «по сюжету» (дом, машина и т.д.)."]
[{"$nulls":9},"Конструирует несложные постройки из                  2—3 деталей.","Создаёт постройки «по сюжету» (дом, машина и т.д.)."]
[{"$nulls":9},"Конструирует несложные постройки из                  2—3 деталей.","Создаёт постройки «по сюжету» (дом, машина и т.д.)."]
[{"$nulls":9},"Конструирует несложные постройки из                  2—3 деталей.","Создаёт постройки «по сюжету» (дом, машина и т.д.)."]
[{"$nulls":9},"Конструирует несложные постройки из                  2—3 деталей.","Создаёт постройки «по сюжету» (дом, машина и т.д.)."]
[{"$nulls":9},"Конструирует несложные постройки из                  2—3 деталей.","Создаёт постройки «по сюжету» (дом, машина и т.д.)."]
[{"$nulls":9},"Конструирует несложные постройки из                  2—3 деталей.","Создаёт постройки «по сюжету» (дом, машина и т.д.)."]
[{"$nulls":9},"Конструирует несложные постройки из                  2—3 деталей.","Создаёт постройки «по сюжету» (дом, машина и т.д.)."]
[{"$nulls":9},"Конструирует несложные постройки из                  2—3 деталей.","Создаёт постройки «по сюжету» (дом, машина и т.д.)."]
[{"$nulls":9},"Конструирует несложные постройки из                  2—3 деталей.","Создаёт постройки «по сюжету» (дом, машина и т.д.)."]
[{"$nulls":9},"Конструирует несложные постройки из                  2—3 деталей.","Создаёт постройки «по сюжету» (дом, машина и т.д.)."]
[{"$nulls":9},"Конструирует несложные постройки из                  2—3 деталей.","Создаёт постройки «по сюжету» (дом, машина и т.д.)."]
[{"$nulls":9},"Конструирует несложные постройки из                  2—3 деталей.","Создаёт постройки «по сюжету» (дом, машина и т.д.)."]
[{"$nulls":9},"Конструирует несложные постройки из                  2—3 деталей.","Создаёт постройки «по сюжету» (дом, машина и т.д.)."]
[{"$nulls":9},"Конструирует несложные постройки из                  2—3 деталей.","Создаёт постройки «по сюжету» (дом, машина и т.д.)."]
[{"$nulls":9},"Конструирует несложные постройки из                  2—3 деталей.","Создаёт постройки «по сюжету» (дом, машина и т.д.)."]
[{"$nulls":9},"Конструирует несложные постройки из                  2—3 деталей.","Создаёт постройки «по сюжету» (дом, машина и т.д.)."]
[{"$nulls":9},"Конструирует несложные постройки из                  2—3 деталей.","Создаёт постройки «по сюжету» (дом, машина и т.д.)."]
[{"$nulls":9},"Конструирует несложные постройки из                  2—3 деталей.","Создаёт постройки «по сюжету» (дом, машина и т.д.)."]
[{"$nulls":9},"Конструирует несложные постройки из                  2—3 деталей.","Создаёт постройки «по сюжету» (дом, машина и т.д.)."]
[{"$nulls":9},"Конструирует несложные постройки из                  2—3 деталей.","Создаёт постройки «по сюжету» (дом, машина и т.д.)."]
[{"$nulls":9},"Конструирует несложные постройки из                  2—3 деталей.","Создаёт постройки «по сюжету» (дом, машина и т.д.)."]
[{"$nulls":9},"Конструирует несложные постройки из                  2—3 деталей.","Создаёт постройки «по сюжету» (дом, машина и т.д.)."]
[{"$nulls":9},"Конструирует несложные постройки из                  2—3 деталей.","Создаёт постройки «по сюжету» (дом, машина и т.д.)."]
[{"$nulls":9},"Конструирует несложные постройки из                  2—3 деталей.","Создаёт постройки «по сюжету» (дом, машина и т.д.)."]
[{"$nulls":9},"Конструирует несложные постройки из                  2—3 деталей.","Создаёт постройки «по сюжету» (дом, машина и т.д.)."]
[{"$nulls":9},"Конструирует несложные постройки из                  2—3 деталей.","Создаёт постройки «по сюжету» (дом, машина и т.д.)."]
[{"$nulls":9},"Конструирует несложные постройки из                  2—3 деталей.","Создаёт постройки «по сюжету» (дом, машина и т.д.)."]
[{"$nulls":9},"Конструирует несложные постройки из                  2—3 деталей.","Создаёт постройки «по сюжету» (дом, машина и т.д.)."]
[{"$nulls":9},"Конструирует несложные постройки из                  2—3 деталей.","Создаёт постройки «по сюжету» (дом, машина и т.д.)."]
[{"$nulls":9},"Конструирует несложные постройки из                  2—3 деталей.","Создаёт постройки «по сюжету» (дом, машина и т.д.)."]
[{"$nulls":9},"Конструирует несложные постройки из                  2—3 деталей.","Создаёт постройки «по сюжету» (дом, машина и т.д.)."]
[{"$nulls":9},"Конструирует несложные постройки из                  2—3 деталей.","Создаёт постройки «по сюжету» (дом, машина и т.д.)."]
[{"$nulls":9},"Конструирует несложные постройки из                  2—3 деталей.","Создаёт постройки «по сюжету» (дом, машина и т.д.)."]
[{"$nulls":9},"Конструирует несложные постройки из                  2—3 деталей.","Создаёт постройки «по сюжету» (дом, машина и т.д.)."]
[{"$nulls":9},"Конструирует несложные постройки из                  2—3 деталей.","Создаёт постройки «по сюжету» (дом, машина и т.д.)."]
[{"$nulls":9},"Конструирует несложные постройки из                  2—3 деталей.","Создаёт постройки «по сюжету» (дом, машина и т.д.)."]
[{"$nulls":9},"Конструирует несложные постройки из                  2—3 деталей.","Создаёт постройки «по сюжету» (дом, машина и т.д.)."]
[{"$nulls":9},"Конструирует несложные постройки из                  2—3 деталей.","Создаёт постройки «по сюжету» (дом, машина и т.д.)."]
[{"$nulls":9},"Конструирует несложные постройки из                  2—3 деталей.","Создаёт постройки «по сюжету» (дом, машина и т.д.)."]
[{"$nulls":9},"Конструирует несложные постройки из                  2—3 деталей.","Создаёт постройки «по сюжету» (дом, машина и т.д.)."]
[{"$nulls":9},"Конструирует несложные постройки из                  2—3 деталей.","Создаёт постройки «по сюжету» (дом, машина и т.д.)."]
[{"$nulls":9},"Конструирует несложные постройки из                  2—3 деталей.","Создаёт постройки «по сюжету» (дом, машина и т.д.)."]
[{"$nulls":9},"Конструирует несложные постройки из                  2—3 деталей.","Создаёт постройки «по сюжету» (дом, машина и т.д.)."]
[{"$nulls":9},"Конструирует несложные постройки из                  2—3 деталей.","Создаёт постройки «по сюжету» (дом, машина и т.д.)."]
[{"$nulls":9},"Конструирует несложные постройки из                  2—3 деталей.","Создаёт постройки «по сюжету» (дом, машина и т.д.)."]
[{"$nulls":9},"Конструирует несложные постройки из                  2—3 деталей.","Создаёт постройки «по сюжету» (дом, машина и т.д.)."]
[{"$nulls":9},"Конструирует несложные постройки из                  2—3 деталей.","Создаёт постройки «по сюжету» (дом, машина и т.д.)."]
[{"$nulls":9},"Конструирует несложные постройки из                  2—3 деталей.","Создаёт постройки «по сюжету» (дом, машина и т.д.)."]
[{"$nulls":9},"Конструирует несложные постройки из                  2—3 деталей.","Создаёт постройки «по сюжету» (дом, машина и т.д.)."]
[{"$nulls":9},"Конструирует несложные постройки из                  2—3 деталей.","Создаёт постройки «по сюжету» (дом, машина и т.д.)."]
[{"$nulls":9},"Конструирует несложные постройки из                  2—3 деталей.","Создаёт постройки «по сюжету» (дом, машина и т.д.)."]
[{"$nulls":9},"Конструирует несложные постройки из                  2—3 деталей.","Создаёт постройки «по сюжету» (дом, машина и т.д.)."]
[{"$nulls":9},"Конструирует несложные постройки из                  2—3 деталей.","Создаёт постройки «по сюжету» (дом, машина и т.д.)."]
[{"$nulls":9},"Конструирует несложные постройки из                  2—3 деталей.","Создаёт постройки «по сюжету» (дом, машина и т.д.)."]
[{"$nulls":9},"Конструирует несложные постройки из                  2—3 деталей.","Создаёт постройки «по сюжету» (дом, машина и т.д.)."]
[{"$nulls":9},"Конструирует несложные постройки из                  2—3 деталей.","Создаёт постройки «по сюжету» (дом, машина и т.д.)."]
[{"$nulls":9},"Конструирует несложные постройки из                  2—3 деталей.","Создаёт постройки «по сюжету» (дом, машина и т.д.)."]
[{"$nulls":9},"Конструирует несложные постройки из                  2—3 деталей.","Создаёт постройки «по сюжету» (дом, машина и т.д.)."]
[{"$nulls":9},"Конструирует несложные постройки из                  2—3 деталей.","Создаёт постройки «по сюжету» (дом, машина и т.д.)."]
[{"$nulls":9},"Конструирует несложные постройки из                  2—3 деталей.","Создаёт постройки «по сюжету» (дом, машина и т.д.)."]
[{"$nulls":9},"Конструирует несложные постройки из                  2—3 деталей.","Создаёт постройки «по сюжету» (дом, машина и т.д.)."]
[{"$nulls":9},"Конструирует несложные постройки из                  2—3 деталей.","Создаёт постройки «по сюжету» (дом, машина и т.д.)."]
[{"$nulls":9},"Конструирует несложные постройки из                  2—3 деталей.","Создаёт постройки «по сюжету» (дом, машина и т.д.)."]
[{"$nulls":9},"Конструирует несложные постройки из                  2—3 деталей.","Создаёт постройки «по сюжету» (дом, машина и т.д.)."]
[{"$nulls":9},"Конструирует несложные постройки из                  2—3 деталей.","Создаёт постройки «по сюжету» (дом, машина и т.д.)."]
[{"$nulls":9},"Конструирует несложные постройки из                  2—3 деталей.","Создаёт постройки «по сюжету» (дом, машина и т.д.)."]
[{"$nulls":9},"Конструирует несложные постройки из                  2—3 деталей.","Создаёт постройки «по сюжету» (дом, машина и т.д.)."]
[{"$nulls":9},"Конструирует несложные постройки из                  2—3 деталей.","Создаёт постройки «по сюжету» (дом, машина и т.д.)."]
[{"$nulls":9},"Конструирует несложные постройки из                  2—3 деталей.","Создаёт постройки «по сюжету» (дом, машина и т.д.)."]
[{"$nulls":9},"Конструирует несложные постройки из                  2—3 деталей.","Создаёт постройки «по сюжету» (дом, машина и т.д.)."]
[{"$nulls":9},"Конструирует несложные постройки из                  2—3 деталей.","Создаёт постройки «по сюжету» (дом, машина и т.д.)."]
[{"$nulls":9},"Конструирует несложные постройки из                  2—3 деталей.","Создаёт постройки «по сюжету» (дом, машина и т.д.)."]
[{"$nulls":9},"Конструирует несложные постройки из                  2—3 деталей.","Создаёт постройки «по сюжету» (дом, машина и т.д.)."]
[{"$nulls":9},"Конструирует несложные постройки из                  2—3 деталей.","Создаёт постройки «по сюжету» (дом, машина и т.д.)."]
[{"$nulls":9},"Конструирует несложные постройки из                  2—3 деталей.","Создаёт постройки «по сюжету» (дом, машина и т.д.)."]
[{"$nulls":9},"Конструирует несложные постройки из                  2—3 деталей.","Создаёт постройки «по сюжету» (дом, машина и т.д.)."]
[{"$nulls":9},"Конструирует несложные постройки из                  2—3 деталей.","Создаёт постройки «по сюжету» (дом, машина и т.д.)."]
[{"$nulls":9},"Конструирует несложные постройки из                  2—3 деталей.","Создаёт постройки «по сюжету» (дом, машина и т.д.)."]
[{"$nulls":9},"Конструирует несложные постройки из                  2—3 деталей.","Создаёт постройки «по сюжету» (дом, машина и т.д.)."]
[{"$nulls":9},"Конструирует несложные постройки из                  2—3 деталей.","Создаёт постройки «по сюжету» (дом, машина и т.д.)."]
[{"$nulls":9},"Конструирует несложные постройки из                  2—3 деталей.","Создаёт постройки «по сюжету» (дом, машина и т.д.)."]
[{"$nulls":9},"Конструирует несложные постройки из                  2—3 деталей.","Создаёт постройки «по сюжету» (дом, машина и т.д.)."]
[{"$nulls":9},"Конструирует несложные постройки из                  2—3 деталей.","Создаёт постройки «по сюжету» (дом, машина и т.д.)."]
[{"$nulls":9},"Конструирует несложные постройки из                  2—3 деталей.","Создаёт постройки «по сюжету» (дом, машина и т.д.)."]
[{"$nulls":9},"Конструирует несложные постройки из                  2—3 деталей.","Создаёт постройки «по сюжету» (дом, машина и т.д.)."]
[{"$nulls":9},"Конструирует несложные постройки из                  2—3 деталей.","Создаёт постройки «по сюжету» (дом, машина и т.д.)."]
[{"$nulls":9},"Конструирует несложные постройки из                  2—3 деталей.","Создаёт постройки «по сюжету» (дом, машина и т.д.)."]
[{"$nulls":9},"Конструирует несложные постройки из                  2—3 деталей.","Создаёт постройки «по сюжету» (дом, машина и т.д.)."]
[{"$nulls":9},"Конструирует несложные постройки из                  2—3 деталей.","Создаёт постройки «по сюжету» (дом, машина и т.д.)."]
[{"$nulls":9},"Конструирует несложные постройки из                  2—3 деталей.","Создаёт постройки «по сюжету» (дом, машина и т.д.)."]
[{"$nulls":9},"Конструирует несложные постройки из                  2—3 деталей.","Создаёт постройки «по сюжету» (дом, машина и т.д.)."]
[{"$nulls":9},"Конструирует несложные постройки из                  2—3 деталей.","Создаёт постройки «по сюжету» (дом, машина и т.д.)."]
[{"$nulls":9},"Конструирует несложные постройки из                  2—3 деталей.","Создаёт постройки «по сюжету» (дом, машина и т.д.)."]
[{"$nulls":9},"Конструирует несложные постройки из                  2—3 деталей.","Создаёт постройки «по сюжету» (дом, машина и т.д.)."]
[{"$nulls":9},"Конструирует несложные постройки из                  2—3 деталей.","Создаёт постройки «по сюжету» (дом, машина и т.д.)."]
[{"$nulls":9},"Конструирует несложные постройки из                  2—3 деталей.","Создаёт постройки «по сюжету» (дом, машина и т.д.)."]
[{"$nulls":9},"Конструирует несложные постройки из                  2—3 деталей.","Создаёт постройки «по сюжету» (дом, машина и т.д.)."]
[{"$nulls":9},"Конструирует несложные постройки из                  2—3 деталей.","Создаёт постройки «по сюжету» (дом, машина и т.д.)."]
[{"$nulls":9},"Конструирует несложные постройки из                  2—3 деталей.","Создаёт постройки «по сюжету» (дом, машина и т.д.)."]
[{"$nulls":9},"Конструирует несложные постройки из                  2—3 деталей.","Создаёт постройки «по сюжету» (дом, машина и т.д.)."]
[{"$nulls":9},"Конструирует несложные постройки из                  2—3 деталей.","Создаёт постройки «по сюжету» (дом, машина и т.д.)."]
[{"$nulls":9},"Конструирует несложные постройки из                  2—3 деталей.","Создаёт постройки «по сюжету» (дом, машина и т.д.)."]
[{"$nulls":9},"Конструирует несложные постройки из                  2—3 деталей.","Создаёт постройки «по сюжету» (дом, машина и т.д.)."]
[{"$nulls":9},"Конструирует несложные постройки из                  2—3 деталей.","Создаёт постройки «по сюжету» (дом, машина и т.д.)."]
[{"$nulls":9},"Конструирует несложные постройки из                  2—3 деталей.","Создаёт постройки «по сюжету» (дом, машина и т.д.)."]
[{"$nulls":9},"Конструирует несложные постройки из                  2—3 деталей.","Создаёт постройки «по сюжету» (дом, машина и т.д.)."]
[{"$nulls":9},"Конструирует несложные постройки из                  2—3 деталей.","Создаёт постройки «по сюжету» (дом, машина и т.д.)."]
[{"$nulls":9},"Конструирует несложные постройки из                  2—3 деталей.","Создаёт постройки «по сюжету» (дом, машина и т.д.)."]
[{"$nulls":9},"Конструирует несложные постройки из                  2—3 деталей.","Создаёт постройки «по сюжету» (дом, машина и т.д.)."]
[{"$nulls":9},"Конструирует несложные постройки из                  2—3 деталей.","Создаёт постройки «по сюжету» (дом, машина и т.д.)."]
[{"$nulls":9},"Конструирует несложные постройки из                  2—3 деталей.","Создаёт постройки «по сюжету» (дом, машина и т.д.)."]
[{"$nulls":9},"Конструирует несложные постройки из                  2—3 деталей.","Создаёт постройки «по сюжету» (дом, машина и т.д.)."]
[{"$nulls":9},"Конструирует несложные постройки из                  2—3 деталей.","Создаёт постройки «по сюжету» (дом, машина и т.д.)."]
[{"$nulls":9},"Конструирует несложные постройки из                  2—3 деталей.","Создаёт постройки «по сюжету» (дом, машина и т.д.)."]
[{"$nulls":9},"Конструирует несложные постройки из                  2—3 деталей.","Создаёт постройки «по сюжету» (дом, машина и т.д.)."]
[{"$nulls":9},"Конструирует несложные постройки из                  2—3 деталей.","Создаёт постройки «по сюжету» (дом, машина и т.д.)."]
[{"$nulls":9},"Конструирует несложные постройки из                  2—3 деталей.","Создаёт постройки «по сюжету» (дом, машина и т.д.)."]
[{"$nulls":9},"Конструирует несложные постройки из                  2—3 деталей.","Создаёт постройки «по сюжету» (дом, машина и т.д.)."]
[{"$nulls":9},"Конструирует несложные постройки из                  2—3 деталей.","Создаёт постройки «по сюжету» (дом, машина и т.д.)."]
[{"$nulls":9},"Конструирует несложные постройки из                  2—3 деталей.","Создаёт постройки «по сюжету» (дом, машина и т.д.)."]
[{"$nulls":9},"Конструирует несложные постройки из                  2—3 деталей.","Создаёт постройки «по сюжету» (дом, машина и т.д.)."]
[{"$nulls":9},"Конструирует несложные постройки из                  2—3 деталей.","Создаёт постройки «по сюжету» (дом, машина и т.д.)."]
[{"$nulls":9},"Конструирует несложные постройки из                  2—3 деталей.","Создаёт постройки «по сюжету» (дом, машина и т.д.)."]
[{"$nulls":9},"Конструирует несложные постройки из                  2—3 деталей.","Создаёт постройки «по сюжету» (дом, машина и т.д.)."]
[{"$nulls":9},"Конструирует несложные постройки из                  2—3 деталей.","Создаёт постройки «по сюжету» (дом, машина и т.д.)."]
[{"$nulls":9},"Конструирует несложные постройки из                  2—3 деталей.","Создаёт постройки «по сюжету» (дом, машина и т.д.)."]
[{"$nulls":9},"Конструирует несложные постройки из                  2—3 деталей.","Создаёт постройки «по сюжету» (дом, машина и т.д.)."]
[{"$nulls":9},"Конструирует несложные постройки из                  2—3 деталей.","Создаёт постройки «по сюжету» (дом, машина и т.д.)."]
[{"$nulls":9},"Конструирует несложные постройки из                  2—3 деталей.","Создаёт постройки «по сюжету» (дом, машина и т.д.)."]
[{"$nulls":9},"Конструирует несложные постройки из                  2—3 деталей.","Создаёт постройки «по сюжету» (дом, машина и т.д.)."]
[{"$nulls":9},"Конструирует несложные постройки из                  2—3 деталей.","Создаёт постройки «по сюжету» (дом, машина и т.д.)."]
[{"$nulls":9},"Конструирует несложные постройки из                  2—3 деталей.","Создаёт постройки «по сюжету» (дом, машина и т.д.)."]
[{"$nulls":9},"Конструирует несложные постройки из                  2—3 деталей.","Создаёт постройки «по сюжету» (дом, машина и т.д.)."]
[{"$nulls":9},"Конструирует несложные постройки из                  2—3 деталей.","Создаёт постройки «по сюжету» (дом, машина и т.д.)."]
[{"$nulls":9},"Конструирует несложные постройки из                  2—3 деталей.","Создаёт постройки «по сюжету» (дом, машина и т.д.)."]
[{"$nulls":9},"Конструирует несложные постройки из                  2—3 деталей.","Создаёт постройки «по сюжету» (дом, машина и т.д.)."]
[{"$nulls":9},"Конструирует несложные постройки из                  2—3 деталей.","Создаёт постройки «по сюжету» (дом, машина и т.д.)."]
[{"$nulls":9},"Конструирует несложные постройки из                  2—3 деталей.","Создаёт постройки «по сюжету» (дом, машина и т.д.)."]
[{"$nulls":9},"Конструирует несложные постройки из                  2—3 деталей.","Создаёт постройки «по сюжету» (дом, машина и т.д.)."]
[{"$nulls":9},"Конструирует несложные постройки из                  2—3 деталей.","Создаёт постройки «по сюжету» (дом, машина и т.д.)."]
[{"$nulls":9},"Конструирует несложные постройки из                  2—3 деталей.","Создаёт постройки «по сюжету» (дом, машина и т.д.)."]
[{"$nulls":9},"Конструирует несложные постройки из                  2—3 деталей.","Создаёт постройки «по сюжету» (дом, машина и т.д.)."]
[{"$nulls":9},"Конструирует несложные постройки из                  2—3 деталей.","Создаёт постройки «по сюжету» (дом, машина и т.д.)."]
[{"$nulls":9},"Конструирует несложные постройки из                  2—3 деталей.","Создаёт постройки «по сюжету» (дом, машина и т.д.)."]
[{"$nulls":9},"Конструирует несложные постройки из                  2—3 деталей.","Создаёт постройки «по сюжету» (дом, машина и т.д.)."]
[{"$nulls":9},"Конструирует несложные постройки из                  2—3 деталей.","Создаёт постройки «по сюжету» (дом, машина и т.д.)."]
[{"$nulls":9},"Конструирует несложные постройки из                  2—3 деталей.","Создаёт постройки «по сюжету» (дом, машина и т.д.)."]
[{"$nulls":9},"Конструирует несложные постройки из                  2—3 деталей.","Создаёт постройки «по сюжету» (дом, машина и т.д.)."]
[{"$nulls":9},"Конструирует несложные постройки из                  2—3 деталей.","Создаёт постройки «по сюжету» (дом, машина и т.д.)."]
[{"$nulls":9},"Конструирует несложные постройки из                  2—3 деталей.","Создаёт постройки «по сюжету» (дом, машина и т.д.)."]
[{"$nulls":9},"Конструирует несложные постройки из                  2—3 деталей.","Создаёт постройки «по сюжету» (дом, машина и т.д.)."]
[{"$nulls":9},"Конструирует несложные постройки из                  2—3 деталей.","Создаёт постройки «по сюжету» (дом, машина и т.д.)."]
[{"$nulls":9},"Конструирует несложные постройки из                  2—3 деталей.","Создаёт постройки «по сюжету» (дом, машина и т.д.)."]
[{"$nulls":9},"Конструирует несложные постройки из                  2—3 деталей.","Создаёт постройки «по сюжету» (дом, машина и т.д.)."]
[{"$nulls":9},"Конструирует несложные постройки из                  2—3 деталей.","Создаёт постройки «по сюжету» (дом, машина и т.д.)."]
[{"$nulls":9},"Конструирует несложные постройки из                  2—3 деталей.","Создаёт постройки «по сюжету» (дом, машина и т.д.)."]
[{"$nulls":9},"Конструирует несложные постройки из                  2—3 деталей.","Создаёт постройки «по сюжету» (дом, машина и т.д.)."]
[{"$nulls":9},"Конструирует несложные постройки из                  2—3 деталей.","Создаёт постройки «по сюжету» (дом, машина и т.д.)."]
[{"$nulls":9},"Конструирует несложные постройки из                  2—3 деталей.","Создаёт постройки «по сюжету» (дом, машина и т.д.)."]
[{"$nulls":9},"Конструирует несложные постройки из                  2—3 деталей.","Создаёт постройки «по сюжету» (дом, машина и т.д.)."]
[{"$nulls":9},"Конструирует несложные постройки из                  2—3 деталей.","Создаёт постройки «по сюжету» (дом, машина и т.д.)."]
[{"$nulls":9},"Конструирует несложные постройки из                  2—3 деталей.","Создаёт постройки «по сюжету» (дом, машина и т.д.)."]
[{"$nulls":9},"Конструирует несложные постройки из                  2—3 деталей.","Создаёт постройки «по сюжету» (дом, машина и т.д.)."]
[{"$nulls":9},"Конструирует несложные постройки из                  2—3 деталей.","Создаёт постройки «по сюжету» (дом, машина и т.д.)."]
[{"$nulls":9},"Конструирует несложные постройки из                  2—3 деталей.","Создаёт постройки «по сюжету» (дом, машина и т.д.)."]
[{"$nulls":9},"Конструирует несложные постройки из                  2—3 деталей.","Создаёт постройки «по сюжету» (дом, машина и т.д.)."]
[{"$nulls":9},"Конструирует несложные постройки из                  2—3 деталей.","Создаёт постройки «по сюжету» (дом, машина и т.д.)."]
[{"$nulls":9},"Конструирует несложные постройки из                  2—3 деталей.","Создаёт постройки «по сюжету» (дом, машина и т.д.)."]
[{"$nulls":9},"Конструирует несложные постройки из                  2—3 деталей.","Создаёт постройки «по сюжету» (дом, машина и т.д.)."]
[{"$nulls":9},"Конструирует несложные постройки из                  2—3 деталей.","Создаёт постройки «по сюжету» (дом, машина и т.д.)."]
[{"$nulls":9},"Конструирует несложные постройки из                  2—3 деталей.","Создаёт постройки «по сюжету» (дом, машина и т.д.)."]
[{"$nulls":9},"Конструирует несложные постройки из                  2—3 деталей.","Создаёт постройки «по сюжету» (дом, машина и т.д.)."]
[{"$nulls":9},"Конструирует несложные постройки из                  2—3 деталей.","Создаёт постройки «по сюжету» (дом, машина и т.д.)."]
[{"$nulls":9},"Конструирует несложные постройки из                  2—3 деталей.","Создаёт постройки «по сюжету» (дом, машина и т.д.)."]
[{"$nulls":9},"Конструирует несложные постройки из                  2—3 деталей.","Создаёт постройки «по сюжету» (дом, машина и т.д.)."]
[{"$nulls":9},"Конструирует несложные постройки из                  2—3 деталей.","Создаёт постройки «по сюжету» (дом, машина и т.д.)."]
[{"$nulls":9},"Конструирует несложные постройки из                  2—3 деталей.","Создаёт постройки «по сюжету» (дом, машина и т.д.)."]
[{"$nulls":9},"Конструирует несложные постройки из                  2—3 деталей.","Создаёт постройки «по сюжету» (дом, машина и т.д.)."]
[{"$nulls":9},"Конструирует несложные постройки из                  2—3 деталей.","Создаёт постройки «по сюжету» (дом, машина и т.д.)."]
[{"$nulls":9},"Конструирует несложные постройки из                  2—3 деталей.","Создаёт постройки «по сюжету» (дом, машина и т.д.)."]
[{"$nulls":9},"Конструирует несложные постройки из                  2—3 деталей.","Создаёт постройки «по сюжету» (дом, машина и т.д.)."]
[{"$nulls":9},"Конструирует несложные постройки из                  2—3 деталей.","Создаёт постройки «по сюжету» (дом, машина и т.д.)."]
[{"$nulls":9},"Конструирует несложные постройки из                  2—3 деталей.","Создаёт постройки «по сюжету» (дом, машина и т.д.)."]
[{"$nulls":9},"Конструирует несложные постройки из                  2—3 деталей.","Создаёт постройки «по сюжету» (дом, машина и т.д.)."]
[{"$nulls":9},"Конструирует несложные постройки из                  2—3 деталей.","Создаёт постройки «по сюжету» (дом, машина и т.д.)."]
[{"$nulls":9},"Конструирует несложные постройки из                  2—3 деталей.","Создаёт постройки «по сюжету» (дом, машина и т.д.)."]
[{"$nulls":9},"Конструирует несложные постройки из                  2—3 деталей.","Создаёт постройки «по сюжету» (дом, машина и т.д.)."]
[{"$nulls":9},"Конструирует несложные постройки из                  2—3 деталей.","Создаёт постройки «по сюжету» (дом, машина и т.д.)."]
[{"$nulls":9},"Конструирует несложные постройки из                  2—3 деталей.","Создаёт постройки «по сюжету» (дом, машина и т.д.)."]
[{"$nulls":9},"Конструирует несложные постройки из                  2—3 деталей.","Создаёт постройки «по сюжету» (дом, машина и т.д.)."]
[{"$nulls":9},"Конструирует несложные постройки из                  2—3 деталей.","Создаёт постройки «по сюжету» (дом, машина и т.д.)."]
[{"$nulls":9},"Конструирует несложные постройки из                  2—3 деталей.","Создаёт постройки «по сюжету» (дом, машина и т.д.)."]
[{"$nulls":9},"Конструирует несложные постройки из                  2—3 деталей.","Создаёт постройки «по сюжету» (дом, машина и т.д.)."]
[{"$nulls":9},"Конструирует несложные постройки из                  2—3 деталей.","Создаёт постройки «по сюжету» (дом, машина и т.д.)."]
[{"$nulls":9},"Конструирует несложные постройки из                  2—3 деталей.","Создаёт постройки «по сюжету» (дом, машина и т.д.)."]
[{"$nulls":9},"Конструирует несложные постройки из                  2—3 деталей.","Создаёт постройки «по сюжету» (дом, машина и т.д.)."]
[{"$nulls":9},"Конструирует несложные постройки из                  2—3 деталей.","Создаёт постройки «по сюжету» (дом, машина и т.д.)."]
[{"$nulls":9},"Конструирует несложные постройки из                  2—3 деталей.","Создаёт постройки «по сюжету» (дом, машина и т.д.)."]
[{"$nulls":9},"Конструирует несложные постройки из                  2—3 деталей.","Создаёт постройки «по сюжету» (дом, машина и т.д.)."]
[{"$nulls":9},"Конструирует несложные постройки из                  2—3 деталей.","Создаёт постройки «по сюжету» (дом, машина и т.д.)."]
[{"$nulls":9},"Конструирует несложные постройки из                  2—3 деталей.","Создаёт постройки «по сюжету» (дом, машина и т.д.)."]
[{"$nulls":9},"Конструирует несложные постройки из                  2—3 деталей.","Создаёт постройки «по сюжету» (дом, машина и т.д.)."]
[{"$nulls":9},"Конструирует несложные постройки из                  2—3 деталей.","Создаёт постройки «по сюжету» (дом, машина и т.д.)."]
[{"$nulls":9},"Конструирует несложные постройки из                  2—3 деталей.","Создаёт постройки «по сюжету» (дом, машина и т.д.)."]
[{"$nulls":9},"Конструирует несложные постройки из                  2—3 деталей.","Создаёт постройки «по сюжету» (дом, машина и т.д.)."]
[{"$nulls":9},"Конструирует несложные постройки из                  2—3 деталей.","Создаёт постройки «по сюжету» (дом, машина и т.д.)."]
[{"$nulls":9},"Конструирует несложные постройки из                  2—3 деталей.","Создаёт постройки «по сюжету» (дом, машина и т.д.)."]
[{"$nulls":9},"Конструирует несложные постройки из                  2—3 деталей.","Создаёт постройки «по сюжету» (дом, машина и т.д.)."]
[{"$nulls":9},"Конструирует несложные постройки из                  2—3 деталей.","Создаёт постройки «по сюжету» (дом, машина и т.д.)."]
[{"$nulls":9},"Конструирует несложные постройки из                  2—3 деталей.","Создаёт постройки «по сюжету» (дом, машина и т.д.)."]
[{"$nulls":9},"Конструирует несложные постройки из                  2—3 деталей.","Создаёт постройки «по сюжету» (дом, машина и т.д.)."]
[{"$nulls":9},"Конструирует несложные постройки из                  2—3 деталей.","Создаёт постройки «по сюжету» (дом, машина и т.д.)."]
[{"$nulls":9},"Конструирует несложные постройки из                  2—3 деталей.","Создаёт постройки «по сюжету» (дом, машина и т.д.)."]
[{"$nulls":9},"Конструирует несложные постройки из                  2—3 деталей.","Создаёт постройки «по сюжету» (дом, машина и т.д.)."]
[{"$nulls":9},"Конструирует несложные постройки из                  2—3 деталей.","Создаёт постройки «по сюжету» (дом, машина и т.д.)."]
[{"$nulls":9},"Конструирует несложные постройки из                  2—3 деталей.","Создаёт постройки «по сюжету» (дом, машина и т.д.)."]
[{"$nulls":9},"Конструирует несложные постройки из                  2—3 деталей.","Создаёт постройки «по сюжету» (дом, машина и т.д.)."]
[{"$nulls":9},"Конструирует несложные постройки из                  2—3 деталей.","Создаёт постройки «по сюжету» (дом, машина и т.д.)."]
[{"$nulls":9},"Конструирует несложные постройки из                  2—3 деталей.","Создаёт постройки «по сюжету» (дом, машина и т.д.)."]
[{"$nulls":9},"Конструирует несложные постройки из                  2—3 деталей.","Создаёт постройки «по сюжету» (дом, машина и т.д.)."]
[{"$nulls":9},"Конструирует несложные постройки из                  2—3 деталей.","Создаёт постройки «по сюжету» (дом, машина и т.д.)."]
[{"$nulls":9},"Конструирует несложные постройки из                  2—3 деталей.","Создаёт постройки «по сюжету» (дом, машина и т.д.)."]
[{"$nulls":9},"Конструирует несложные постройки из                  2—3 деталей.","Создаёт постройки «по сюжету» (дом, машина и т.д.)."]
[{"$nulls":9},"Конструирует несложные постройки из                  2—3 деталей.","Создаёт постройки «по сюжету» (дом, машина и т.д.)."]
[{"$nulls":9},"Конструирует несложные постройки из                  2—3 деталей.","Создаёт постройки «по сюжету» (дом, машина и т.д.)."]
[{"$nulls":9},"Конструирует несложные постройки из                  2—3 деталей.","Создаёт постройки «по сюжету» (дом, машина и т.д.)."]
[{"$nulls":9},"Конструирует несложные постройки из                  2—3 деталей.","Создаёт постройки «по сюжету» (дом, машина и т.д.)."]
[{"$nulls":9},"Конструирует несложные постройки из                  2—3 деталей.","Создаёт постройки «по сюжету» (дом, машина и т.д.)."]
[{"$nulls":9},"Конструирует несложные постройки из                  2—3 деталей.","Создаёт постройки «по сюжету» (дом, машина и т.д.)."]
[{"$nulls":9},"Конструирует несложные постройки из                  2—3 деталей.","Создаёт постройки «по сюжету» (дом, машина и т.д.)."]
[{"$nulls":9},"Конструирует несложные постройки из                  2—3 деталей.","Создаёт постройки «по сюжету» (дом, машина и т.д.)."]
[{"$nulls":9},"Конструирует несложные постройки из                  2—3 деталей.","Создаёт постройки «по сюжету» (дом, машина и т.д.)."]
[{"$nulls":9},"Конструирует несложные постройки из                  2—3 деталей.","Создаёт постройки «по сюжету» (дом, машина и т.д.)."]
[{"$nulls":9},"Конструирует несложные постройки из                  2—3 деталей.","Создаёт постройки «по сюжету» (дом, машина и т.д.)."]
[{"$nulls":9},"Конструирует несложные постройки из                  2—3 деталей.","Создаёт постройки «по сюжету» (дом, машина и т.д.)."]
[{"$nulls":9},"Конструирует несложные постройки из                  2—3 деталей.","Создаёт постройки «по сюжету» (дом, машина и т.д.)."]
[{"$nulls":9},"Конструирует несложные постройки из                  2—3 деталей.","Создаёт постройки «по сюжету» (дом, машина и т.д.)."]
[{"$nulls":9},"Конструирует несложные постройки из                  2—3 деталей.","Создаёт постройки «по сюжету» (дом, машина и т.д.)."]
[{"$nulls":9},"Конструирует несложные постройки из                  2—3 деталей.","Создаёт постройки «по сюжету» (дом, машина и т.д.)."]
[{"$nulls":9},"Конструирует несложные постройки из                  2—3 деталей.","Создаёт постройки «по сюжету» (дом, машина и т.д.)."]
[{"$nulls":9},"Конструирует несложные постройки из                  2—3 деталей.","Создаёт постройки «по сюжету» (дом, машина и т.д.)."]
[{"$nulls":9},"Конструирует несложные постройки из                  2—3 деталей.","Создаёт постройки «по сюжету» (дом, машина и т.д.)."]
[{"$nulls":9},"Конструирует несложные постройки из                  2—3 деталей.","Создаёт постройки «по сюжету» (дом, машина и т.д.)."]
[{"$nulls":9},"Конструирует несложные постройки из                  2—3 деталей.","Создаёт постройки «по сюжету» (дом, машина и т.д.)."]
[{"$nulls":9},"Конструирует несложные постройки из                  2—3 деталей.","Создаёт постройки «по сюжету» (дом, машина и т.д.)."]
[{"$nulls":9},"Конструирует несложные постройки из                  2—3 деталей.","Создаёт постройки «по сюжету» (дом, машина и т.д.)."]
[{"$nulls":9},"Конструирует несложные постройки из                  2—3 деталей.","Создаёт постройки «по сюжету» (дом, машина и т.д.)."]
[{"$nulls":9},"Конструирует несложные постройки из                  2—3 деталей.","Создаёт постройки «по сюжету» (дом, машина и т.д.)."]
[{"$nulls":9},"Конструирует несложные постройки из                  2—3 деталей.","Создаёт постройки «по сюжету» (дом, машина и т.д.)."]
[{"$nulls":9},"Конструирует несложные постройки из                  2—3 деталей.","Создаёт постройки «по сюжету» (дом, машина и т.д.)."]
[{"$nulls":9},"Конструирует несложные постройки из                  2—3 деталей.","Создаёт постройки «по сюжету» (дом, машина и т.д.)."]
[{"$nulls":9},"Конструирует несложные постройки из                  2—3 деталей.","Создаёт постройки «по сюжету» (дом, машина и т.д.)."]
[{"$nulls":9},"Конструирует несложные постройки из                  2—3 деталей.","Создаёт постройки «по сюжету» (дом, машина и т.д.)."]
[{"$nulls":9},"Конструирует несложные постройки из                  2—3 деталей.","Создаёт постройки «по сюжету» (дом, машина и т.д.)."]
[{"$nulls":9},"Конструирует несложные постройки из                  2—3 деталей.","Создаёт постройки «по сюжету» (дом, машина и т.д.)."]
[{"$nulls":9},"Конструирует несложные постройки из                  2—3 деталей.","Создаёт постройки «по сюжету» (дом, машина и т.д.)."]
[{"$nulls":9},"Конструирует несложные постройки из                  2—3 деталей.","Создаёт постройки «по сюжету» (дом, машина и т.д.)."]
[{"$nulls":9},"Конструирует несложные постройки из                  2—3 деталей.","Создаёт постройки «по сюжету» (дом, машина и т.д.)."]
[{"$nulls":9},"Конструирует несложные постройки из                  2—3 деталей.","Создаёт постройки «по сюжету» (дом, машина и т.д.)."]
[{"$nulls":9},"Конструирует несложные постройки из                  2—3 деталей.","Создаёт постройки «по сюжету» (дом, машина и т.д.)."]
[{"$nulls":9},"Конструирует несложные постройки из                  2—3 деталей.","Создаёт постройки «по сюжету» (дом, машина и т.д.)."]
[{"$nulls":9},"Конструирует несложные постройки из                  2—3 деталей.","Создаёт постройки «по сюжету» (дом, машина и т.д.)."]
[{"$nulls":9},"Конструирует несложные постройки из                  2—3 деталей.","Создаёт постройки «по сюжету» (дом, машина и т.д.)."]
[{"$nulls":9},"Конструирует несложные постройки из                  2—3 деталей.","Создаёт постройки «по сюжету» (дом, машина и т.д.)."]
[{"$nulls":9},"Конструирует несложные постройки из                  2—3 деталей.","Создаёт постройки «по сюжету» (дом, машина и т.д.)."]
[{"$nulls":9},"Конструирует несложные постройки из                  2—3 деталей.","Создаёт постройки «по сюжету» (дом, машина и т.д.)."]
[{"$nulls":9},"Конструирует несложные постройки из                  2—3 деталей.","Создаёт постройки «по сюжету» (дом, машина и т.д.)."]
[{"$nulls":9},"Конструирует несложные постройки из                  2—3 деталей.","Создаёт постройки «по сюжету» (дом, машина и т.д.)."]
[{"$nulls":9},"Конструирует несложные постройки из                  2—3 деталей.","Создаёт постройки «по сюжету» (дом, машина и т.д.)."]
[{"$nulls":9},"Конструирует несложные постройки из                  2—3 деталей.","Создаёт постройки «по сюжету» (дом, машина и т.д.)."]
[{"$nulls":9},"Конструирует несложные постройки из                  2—3 деталей.","Создаёт постройки «по сюжету» (дом, машина и т.д.)."]
[{"$nulls":9},"Конструирует несложные постройки из                  2—3 деталей.","Создаёт постройки «по сюжету» (дом, машина и т.д.)."]
[{"$nulls":9},"Конструирует несложные постройки из                  2—3 деталей.","Создаёт постройки «по сюжету» (дом, машина и т.д.)."]
[{"$nulls":9},"Конструирует несложные постройки из                  2—3 деталей.","Создаёт постройки «по сюжету» (дом, машина и т.д.)."]
[{"$nulls":9},"Конструирует несложные постройки из                  2—3 деталей.","Создаёт постройки «по сюжету» (дом, машина и т.д.)."]
[{"$nulls":9},"Конструирует несложные постройки из                  2—3 деталей.","Создаёт постройки «по сюжету» (дом, машина и т.д.)."]
[{"$nulls":9},"Конструирует несложные постройки из                  2—3 деталей.","Создаёт постройки «по сюжету» (дом, машина и т.д.)."]
[{"$nulls":9},"Конструирует несложные постройки из                  2—3 деталей.","Создаёт постройки «по сюжету» (дом, машина и т.д.)."]
[{"$nulls":9},"Конструирует несложные постройки из                  2—3 деталей.","Создаёт постройки «по сюжету» (дом, машина и т.д.)."]
[{"$nulls":9},"Конструирует несложные постройки из                  2—3 деталей.","Создаёт постройки «по сюжету» (дом, машина и т.д.)."]
[{"$nulls":9},"Конструирует несложные постройки из                  2—3 деталей.","Создаёт постройки «по сюжету» (дом, машина и т.д.)."]
[{"$nulls":9},"Конструирует несложные постройки из                  2—3 деталей.","Создаёт постройки «по сюжету» (дом, машина и т.д.)."]
[{"$nulls":9},"Конструирует несложные постройки из                  2—3 деталей.","Создаёт постройки «по сюжету» (дом, машина и т.д.)."]
[{"$nulls":9},"Конструирует несложные постройки из                  2—3 деталей.","Создаёт постройки «по сюжету» (дом, машина и т.д.)."]
[{"$nulls":9},"Конструирует несложные постройки из                  2—3 деталей.","Создаёт постройки «по сюжету» (дом, машина и т.д.)."]
[{"$nulls":9},"Конструирует несложные постройки из                  2—3 деталей.","Создаёт постройки «по сюжету» (дом, машина и т.д.)."]
[{"$nulls":9},"Конструирует несложные постройки из                  2—3 деталей.","Создаёт постройки «по сюжету» (дом, машина и т.д.)."]
[{"$nulls":9},"Конструирует несложные постройки из                  2—3 деталей.","Создаёт постройки «по сюжету» (дом, машина и т.д.)."]
[{"$nulls":9},"Конструирует несложные постройки из                  2—3 деталей.","Создаёт постройки «по сюжету» (дом, машина и т.д.)."]
[{"$nulls":9},"Конструирует несложные постройки из                  2—3 деталей.","Создаёт постройки «по сюжету» (дом, машина и т.д.)."]
[{"$nulls":9},"Конструирует несложные постройки из                  2—3 деталей.","Создаёт постройки «по сюжету» (дом, машина и т.д.)."]
[{"$nulls":9},"Конструирует несложные постройки из                  2—3 деталей.","Создаёт постройки «по сюжету» (дом, машина и т.д.)."]
[{"$nulls":9},"Конструирует несложные постройки из                  2—3 деталей.","Создаёт постройки «по сюжету» (дом, машина и т.д.)."]
[{"$nulls":9},"Конструирует несложные постройки из                  2—3 деталей.","Создаёт постройки «по сюжету» (дом, машина и т.д.)."]
[{"$nulls":9},"Конструирует несложные постройки из                  2—3 деталей.","Создаёт постройки «по сюжету» (дом, машина и т.д.)."]
[{"$nulls":9},"Конструирует несложные постройки из                  2—3 деталей.","Создаёт постройки «по сюжету» (дом, машина и т.д.)."]
[{"$nulls":9},"Конструирует несложные постройки из                  2—3 деталей.","Создаёт постройки «по сюжету» (дом, машина и т.д.)."]
[{"$nulls":9},"Конструирует несложные постройки из                  2—3 деталей.","Создаёт постройки «по сюжету» (дом, машина и т.д.)."]
[{"$nulls":9},"Конструирует несложные постройки из                  2—3 деталей.","Создаёт постройки «по сюжету» (дом, машина и т.д.)."]
[{"$nulls":9},"Конструирует несложные постройки из                  2—3 деталей.","Создаёт постройки «по сюжету» (дом, машина и т.д.)."]
[{"$nulls":9},"Конструирует несложные постройки из                  2—3 деталей.","Создаёт постройки «по сюжету» (дом, машина и т.д.)."]
[{"$nulls":9},"Конструирует несложные постройки из                  2—3 деталей.","Создаёт постройки «по сюжету» (дом, машина и т.д.)."]
[{"$nulls":9},"Конструирует несложные постройки из                  2—3 деталей.","Создаёт постройки «по сюжету» (дом, машина и т.д.)."]
[{"$nulls":9},"Конструирует несложные постройки из                  2—3 деталей.","Создаёт постройки «по сюжету» (дом, машина и т.д.)."]
[{"$nulls":9},"Конструирует несложные постройки из                  2—3 деталей.","Создаёт постройки «по сюжету» (дом, машина и т.д.)."]
[{"$nulls":9},"Конструирует несложные постройки из                  2—3 деталей.","Создаёт постройки «по сюжету» (дом, машина и т.д.)."]
[{"$nulls":9},"Конструирует несложные постройки из                  2—3 деталей.","Создаёт постройки «по сюжету» (дом, машина и т.д.)."]
[{"$nulls":9},"Конструирует несложные постройки из                  2—3 деталей.","Создаёт постройки «по сюжету» (дом, машина и т.д.)."]
[{"$nulls":9},"Конструирует несложные постройки из                  2—3 деталей.","Создаёт постройки «по сюжету» (дом, машина и т.д.)."]
[{"$nulls":9},"Конструирует несложные постройки из                  2—3 деталей.","Создаёт постройки «по сюжету» (дом, машина и т.д.)."]
[{"$nulls":9},"Конструирует несложные постройки из                  2—3 деталей.","Создаёт постройки «по сюжету» (дом, машина и т.д.)."]
[{"$nulls":9},"Конструирует несложные постройки из                  2—3 деталей.","Создаёт постройки «по сюжету» (дом, машина и т.д.)."]
[{"$nulls":9},"Конструирует несложные постройки из                  2—3 деталей.","Создаёт постройки «по сюжету» (дом, машина и т.д.)."]
[{"$nulls":9},"Конструирует несложные постройки из                  2—3 деталей.","Создаёт постройки «по сюжету» (дом, машина и т.д.)."]
[{"$nulls":9},"Конструирует несложные постройки из                  2—3 деталей.","Создаёт постройки «по сюжету» (дом, машина и т.д.)."]
[{"$nulls":9},"Конструирует несложные постройки из                  2—3 деталей.","Создаёт постройки «по сюжету» (дом, машина и т.д.)."]
[{"$nulls":9},"Конструирует несложные постройки из                  2—3 деталей.","Создаёт постройки «по сюжету» (дом, машина и т.д.)."]
[{"$nulls":9},"Конструирует несложные постройки из                  2—3 деталей.","Создаёт постройки «по сюжету» (дом, машина и т.д.)."]
[{"$nulls":9},"Конструирует несложные постройки из                  2—3 деталей.","Создаёт постройки «по сюжету» (дом, машина и т.д.)."]
[{"$nulls":9},"Конструирует несложные постройки из                  2—3 деталей.","Создаёт постройки «по сюжету» (дом, машина и т.д.)."]
[{"$nulls":9},"Конструирует несложные постройки из                  2—3 деталей.","Создаёт постройки «по сюжету» (дом, машина и т.д.)."]
[{"$nulls":9},"Конструирует несложные постройки из                  2—3 деталей.","Создаёт постройки «по сюжету» (дом, машина и т.д.)."]
[{"$nulls":9},"Конструирует несложные постройки из                  2—3 деталей.","Создаёт постройки «по сюжету» (дом, машина и т.д.)."]
[{"$nulls":9},"Конструирует несложные постройки из                  2—3 деталей.","Создаёт постройки «по сюжету» (дом, машина и т.д.)."]
[{"$nulls":9},"Конструирует несложные постройки из                  2—3 деталей.","Создаёт постройки «по сюжету» (дом, машина и т.д.)."]
[{"$nulls":9},"Конструирует несложные постройки из                  2—3 деталей.","Создаёт постройки «по сюжету» (дом, машина и т.д.)."]
[{"$nulls":9},"Конструирует несложные постройки из                  2—3 деталей.","Создаёт постройки «по сюжету» (дом, машина и т.д.)."]
[{"$nulls":9},"Конструирует несложные постройки из                  2—3 деталей.","Создаёт постройки «по сюжету» (дом, машина и т.д.)."]
[{"$nulls":9},"Конструирует несложные постройки из                  2—3 деталей.","Создаёт постройки «по сюжету» (дом, машина и т.д.)."]
[{"$nulls":9},"Конструирует несложные постройки из                  2—3 деталей.","Создаёт постройки «по сюжету» (дом, машина и т.д.)."]
[{"$nulls":9},"Конструирует несложные постройки из                  2—3 деталей.","Создаёт постройки «по сюжету» (дом, машина и т.д.)."]
[{"$nulls":9},"Конструирует несложные постройки из                  2—3 деталей.","Создаёт постройки «по сюжету» (дом, машина и т.д.)."]
[{"$nulls":9},"Конструирует несложные постройки из                  2—3 деталей.","Создаёт постройки «по сюжету» (дом, машина и т.д.)."]
[{"$nulls":9},"Конструирует несложные постройки из                  2—3 деталей.","Создаёт постройки «по сюжету» (дом, машина и т.д.)."]
[{"$nulls":9},"Конструирует несложные постройки из                  2—3 деталей.","Создаёт постройки «по сюжету» (дом, машина и т.д.)."]
[{"$nulls":9},"Конструирует несложные постройки из                  2—3 деталей.","Создаёт постройки «по сюжету» (дом, машина и т.д.)."]
[{"$nulls":9},"Конструирует несложные постройки из                  2—3 деталей.","Создаёт постройки «по сюжету» (дом, машина и т.д.)."]
[{"$nulls":9},"Конструирует несложные постройки из                  2—3 деталей.","Создаёт постройки «по сюжету» (дом, машина и т.д.)."]
[{"$nulls":9},"Конструирует несложные постройки из                  2—3 деталей.","Создаёт постройки «по сюжету» (дом, машина и т.д.)."]
[{"$nulls":9},"Конструирует несложные постройки из                  2—3 деталей.","Создаёт постройки «по сюжету» (дом, машина и т.д.)."]
[{"$nulls":9},"Конструирует несложные постройки из                  2—3 деталей.","Создаёт постройки «по сюжету» (дом, машина и т.д.)."]
[{"$nulls":9},"Конструирует несложные постройки из                  2—3 деталей.","Создаёт постройки «по сюжету» (дом, машина и т.д.)."]
[{"$nulls":9},"Конструирует несложные постройки из                  2—3 деталей.","Создаёт постройки «по сюжету» (дом, машина и т.д.)."]
[{"$nulls":9},"Конструирует несложные постройки из                  2—3 деталей.","Создаёт постройки «по сюжету» (дом, машина и т.д.)."]
[{"$nulls":9},"Конструирует несложные постройки из                  2—3 деталей.","Создаёт постройки «по сюжету» (дом, машина и т.д.)."]
[{"$nulls":9},"Конструирует несложные постройки из                  2—3 деталей.","Создаёт постройки «по сюжету» (дом, машина и т.д.)."]
[{"$nulls":9},"Конструирует несложные постройки из                  2—3 деталей.","Создаёт постройки «по сюжету» (дом, машина и т.д.)."]
[{"$nulls":9},"Конструирует несложные постройки из                  2—3 деталей.","Создаёт постройки «по сюжету» (дом, машина и т.д.)."]
[{"$nulls":9},"Конструирует несложные постройки из                  2—3 деталей.","Создаёт постройки «по сюжету» (дом, машина и т.д.)."]
[{"$nulls":9},"Конструирует несложные постройки из                  2—3 деталей.","Создаёт постройки «по сюжету» (дом, машина и т.д.)."]
[{"$nulls":9},"Конструирует несложные постройки из                  2—3 деталей.","Создаёт постройки «по сюжету» (дом, машина и т.д.)."]
[{"$nulls":9},"Конструирует несложные постройки из                  2—3 деталей.","Создаёт постройки «по сюжету» (дом, машина и т.д.)."]
[{"$nulls":9},"Конструирует несложные постройки из                  2—3 деталей.","Создаёт постройки «по сюжету» (дом, машина и т.д.)."]
[{"$nulls":9},"Конструирует несложные постройки из                  2—3 деталей.","Создаёт постройки «по сюжету» (дом, машина и т.д.)."]
[{"$nulls":9},"Конструирует несложные постройки из                  2—3 деталей.","Создаёт постройки «по сюжету» (дом, машина и т.д.)."]
[{"$nulls":9},"Конструирует несложные постройки из                  2—3 деталей.","Создаёт постройки «по сюжету» (дом, машина и т.д.)."]
[{"$nulls":9},"Конструирует несложные постройки из                  2—3 деталей.","Создаёт постройки «по сюжету» (дом, машина и т.д.)."]
[{"$nulls":9},"Конструирует несложные постройки из                  2—3 деталей.","Создаёт постройки «по сюжету» (дом, машина и т.д.)."]
[{"$nulls":9},"Конструирует несложные постройки из                  2—3 деталей.","Создаёт постройки «по сюжету» (дом, машина и т.д.)."]
[{"$nulls":9},"Конструирует несложные постройки из                  2—3 деталей.","Создаёт постройки «по сюжету» (дом, машина и т.д.)."]
[{"$nulls":9},"Конструирует несложные постройки из                  2—3 деталей.","Создаёт постройки «по сюжету» (дом, машина и т.д.)."]
[{"$nulls":9},"Конструирует несложные постройки из                  2—3 деталей.","Создаёт постройки «по сюжету» (дом, машина и т.д.)."]
[{"$nulls":9},"Конструирует несложные постройки из                  2—3 деталей.","Создаёт постройки «по сюжету» (дом, машина и т.д.)."]
[{"$nulls":9},"Конструирует несложные постройки из                  2—3 деталей.","Создаёт постройки «по сюжету» (дом, машина и т.д.)."]
[{"$nulls":9},"Конструирует несложные постройки из                  2—3 деталей.","Создаёт постройки «по сюжету» (дом, машина и т.д.)."]
[{"$nulls":9},"Конструирует несложные постройки из                  2—3 деталей.","Создаёт постройки «по сюжету» (дом, машина и т.д.)."]
[{"$nulls":9},"Конструирует несложные постройки из                  2—3 деталей.","Создаёт постройки «по сюжету» (дом, машина и т.д.)."]
[{"$nulls":9},"Конструирует несложные постройки из                  2—3 деталей.","Создаёт постройки «по сюжету» (дом, машина и т.д.)."]
[{"$nulls":9},"Конструирует несложные постройки из                  2—3 деталей.","Создаёт постройки «по сюжету» (дом, машина и т.д.)."]
[{"$nulls":9},"Конструирует несложные постройки из                  2—3 деталей.","Создаёт постройки «по сюжету» (дом, машина и т.д.)."]
[{"$nulls":9},"Конструирует несложные постройки из                  2—3 деталей.","Создаёт постройки «по сюжету» (дом, машина и т.д.)."]
[{"$nulls":9},"Конструирует несложные постройки из                  2—3 деталей.","Создаёт постройки «по сюжету» (дом, машина и т.д.)."]
[{"$nulls":9},"Конструирует несложные постройки из                  2—3 деталей.","Создаёт постройки «по сюжету» (дом, машина и т.д.)."]
[{"$nulls":9},"Конструирует несложные постройки из                  2—3 деталей.","Создаёт постройки «по сюжету» (дом, машина и т.д.)."]
[{"$nulls":9},"Конструирует несложные постройки из                  2—3 деталей.","Создаёт постройки «по сюжету» (дом, машина и т.д.)."]
[{"$nulls":9},"Конструирует несложные постройки из                  2—3 деталей.","Создаёт постройки «по сюжету» (дом, машина и т.д.)."]
[{"$nulls":9},"Конструирует несложные постройки из                  2—3 деталей.","Создаёт постройки «по сюжету» (дом, машина и т.д.)."]
[{"$nulls":9},"Конструирует несложные постройки из                  2—3 деталей.","Создаёт постройки «по сюжету» (дом, машина и т.д.)."]
[{"$nulls":9},"Конструирует несложные постройки из                  2—3 деталей.","Создаёт постройки «по сюжету» (дом, машина и т.д.)."]
[{"$nulls":9},"Конструирует несложные постройки из                  2—3 деталей.","Создаёт постройки «по сюжету» (дом, машина и т.д.)."]
[{"$nulls":9},"Конструирует несложные постройки из                  2—3 деталей.","Создаёт постройки «по сюжету» (дом, машина и т.д.)."]
[{"$nulls":9},"Конструирует несложные постройки из                  2—3 деталей.","Создаёт постройки «по сюжету» (дом, машина и т.д.)."]
[{"$nulls":9},"Конструирует несложные постройки из                  2—3 деталей.","Создаёт постройки «по сюжету» (дом, машина и т.д.)."]
[{"$nulls":9},"Конструирует несложные постройки из                  2—3 деталей.","Создаёт постройки «по сюжету» (дом, машина и т.д.)."]
[{"$nulls":9},"Конструирует несложные постройки из                  2—3 деталей.","Создаёт постройки «по сюжету» (дом, машина и т.д.)."]
[{"$nulls":9},"Конструирует несложные постройки из                  2—3 деталей.","Создаёт постройки «по сюжету» (дом, машина и т.д.)."]
[{"$nulls":9},"Конструирует несложные постройки из                  2—3 деталей.","Создаёт постройки «по сюжету» (дом, машина и т.д.)."]
[{"$nulls":9},"Конструирует несложные постройки из                  2—3 деталей.","Создаёт постройки «по сюжету» (дом, машина и т.д.)."]
[{"$nulls":9},"Конструирует несложные постройки из                  2—3 деталей.","Создаёт постройки «по сюжету» (дом, машина и т.д.)."]
[{"$nulls":9},"Конструирует несложные постройки из                  2—3 деталей.","Создаёт постройки «по сюжету» (дом, машина и т.д.)."]
[{"$nulls":9},"Конструирует несложные постройки из                  2—3 деталей.","Создаёт постройки «по сюжету» (дом, машина и т.д.)."]
[{"$nulls":9},"Конструирует несложные постройки из                  2—3 деталей.","Создаёт постройки «по сюжету» (дом, машина и т.д.)."]
[{"$nulls":9},"Конструирует несложные постройки из                  2—3 деталей.","Создаёт постройки «по сюжету» (дом, машина и т.д.)."]
[{"$nulls":9},"Конструирует несложные постройки из                  2—3 деталей.","Создаёт постройки «по сюжету» (дом, машина и т.д.)."]
[{"$nulls":9},"Конструирует несложные постройки из                  2—3 деталей.","Создаёт постройки «по сюжету» (дом, машина и т.д.)."]
[{"$nulls":9},"Конструирует несложные постройки из                  2—3 деталей.","Создаёт постройки «по сюжету» (дом, машина и т.д.)."]
[{"$nulls":9},"Конструирует несложные постройки из                  2—3 деталей.","Создаёт постройки «по сюжету» (дом, машина и т.д.)."]
[{"$nulls":9},"Конструирует несложные постройки из                  2—3 деталей.","Создаёт постройки «по сюжету» (дом, машина и т.д.)."]
[{"$nulls":9},"Конструирует несложные постройки из                  2—3 деталей.","Создаёт постройки «по сюжету» (дом, машина и т.д.)."]
[{"$nulls":9},"Конструирует несложные постройки из                  2—3 деталей.","Создаёт постройки «по сюжету» (дом, машина и т.д.)."]
[{"$nulls":9},"Конструирует несложные постройки из                  2—3 деталей.","Создаёт постройки «по сюжету» (дом, машина и т.д.)."]
[{"$nulls":9},"Конструирует несложные постройки из                  2—3 деталей.","Создаёт постройки «по сюжету» (дом, машина и т.д.)."]
[{"$nulls":9},"Конструирует несложные постройки из                  2—3 деталей.","Создаёт постройки «по сюжету» (дом, машина и т.д.)."]
[{"$nulls":9},"Конструирует несложные постройки из                  2—3 деталей.","Создаёт постройки «по сюжету» (дом, машина и т.д.)."]
[{"$nulls":9},"Конструирует несложные постройки из                  2—3 деталей.","Создаёт постройки «по сюжету» (дом, машина и т.д.)."]
[{"$nulls":9},"Конструирует несложные постройки из                  2—3 деталей.","Создаёт постройки «по сюжету» (дом, машина и т.д.)."]
[{"$nulls":9},"Конструирует несложные постройки из                  2—3 деталей.","Создаёт постройки «по сюжету» (дом, машина и т.д.)."]
[{"$nulls":9},"Конструирует несложные постройки из                  2—3 деталей.","Создаёт постройки «по сюжету» (дом, машина и т.д.)."]
[{"$nulls":9},"Конструирует несложные постройки из                  2—3 деталей.","Создаёт постройки «по сюжету» (дом, машина и т.д.)."]
[{"$nulls":9},"Конструирует несложные постройки из                  2—3 деталей.","Создаёт постройки «по сюжету» (дом, машина и т.д.)."]
[{"$nulls":9},"Конструирует несложные постройки из                  2—3 деталей.","Создаёт постройки «по сюжету» (дом, машина и т.д.)."]
[{"$nulls":9},"Конструирует несложные постройки из                  2—3 деталей.","Создаёт постройки «по сюжету» (дом, машина и т.д.)."]
[{"$nulls":9},"Конструирует несложные постройки из                  2—3 деталей.","Создаёт постройки «по сюжету» (дом, машина и т.д.)."]
[{"$nulls":9},"Конструирует несложные постройки из                  2—3 деталей.","Создаёт постройки «по сюжету» (дом, машина и т.д.)."]
[{"$nulls":9},"Конструирует несложные постройки из                  2—3 деталей.","Создаёт постройки «по сюжету» (дом, машина и т.д.)."]
[{"$nulls":9},"Конструирует несложные постройки из                  2—3 деталей.","Создаёт постройки «по сюжету» (дом, машина и т.д.)."]
[{"$nulls":9},"Конструирует несложные постройки из                  2—3 деталей.","Создаёт постройки «по сюжету» (дом, машина и т.д.)."]
[{"$nulls":9},"Конструирует несложные постройки из                  2—3 деталей.","Создаёт постройки «по сюжету» (дом, машина и т.д.)."]
[{"$nulls":9},"Конструирует несложные постройки из                  2—3 деталей.","Создаёт постройки «по сюжету» (дом, машина и т.д.)."]
[{"$nulls":9},"Конструирует несложные постройки из                  2—3 деталей.","Создаёт постройки «по сюжету» (дом, машина и т.д.)."]
[{"$nulls":9},"Конструирует несложные постройки из                  2—3 деталей.","Создаёт постройки «по сюжету» (дом, машина и т.д.)."]
[{"$nulls":9},"Конструирует несложные постройки из                  2—3 деталей.","Создаёт постройки «по сюжету» (дом, машина и т.д.)."]
[{"$nulls":9},"Конструирует несложные постройки из                  2—3 деталей.","Создаёт постройки «по сюжету» (дом, машина и т.д.)."]
[{"$nulls":9},"Конструирует несложные постройки из                  2—3 деталей.","Создаёт постройки «по сюжету» (дом, машина и т.д.)."]
[{"$nulls":9},"Конструирует несложные постройки из                  2—3 деталей.","Создаёт постройки «по сюжету» (дом, машина и т.д.)."]
[{"$nulls":9},"Конструирует несложные постройки из                  2—3 деталей.","Создаёт постройки «по сюжету» (дом, машина и т.д.)."]
[{"$nulls":9},"Конструирует несложные постройки из                  2—3 деталей.","Создаёт постройки «по сюжету» (дом, машина и т.д.)."]
[{"$nulls":9},"Конструирует несложные постройки из                  2—3 деталей.","Создаёт постройки «по сюжету» (дом, машина и т.д.)."]
[{"$nulls":9},"Конструирует несложные постройки из                  2—3 деталей.","Создаёт постройки «по сюжету» (дом, машина и т.д.)."]
[{"$nulls":9},"Конструирует несложные постройки из                  2—3 деталей.","Создаёт постройки «по сюжету» (дом, машина и т.д.)."]
[{"$nulls":9},"Конструирует несложные постройки из                  2—3 деталей.","Создаёт постройки «по сюжету» (дом, машина и т.д.)."]
[{"$nulls":9},"Конструирует несложные постройки из                  2—3 деталей.","Создаёт постройки «по сюжету» (дом, машина и т.д.)."]
[{"$nulls":9},"Конструирует несложные постройки из                  2—3 деталей.","Создаёт постройки «по сюжету» (дом, машина и т.д.)."]
[{"$nulls":9},"Конструирует несложные постройки из                  2—3 деталей.","Создаёт постройки «по сюжету» (дом, машина и т.д.)."]
[{"$nulls":9},"Конструирует несложные постройки из                  2—3 деталей.","Создаёт постройки «по сюжету» (дом, машина и т.д.)."]
[{"$nulls":9},"Конструирует несложные постройки из                  2—3 деталей.","Создаёт постройки «по сюжету» (дом, машина и т.д.)."]
[{"$nulls":9},"Конструирует несложные постройки из                  2—3 деталей.","Создаёт постройки «по сюжету» (дом, машина и т.д.)."]
[{"$nulls":9},"Конструирует несложные постройки из                  2—3 деталей.","Создаёт постройки «по сюжету» (дом, машина и т.д.)."]
[{"$nulls":9},"Конструирует несложные постройки из                  2—3 деталей.","Создаёт постройки «по сюжету» (дом, машина и т.д.)."]
[{"$nulls":9},"Конструирует несложные постройки из                  2—3 деталей.","Создаёт постройки «по сюжету» (дом, машина и т.д.)."]
[{"$nulls":9},"Конструирует несложные постройки из                  2—3 деталей.","Создаёт постройки «по сюжету» (дом, машина и т.д.)."]
[{"$nulls":9},"Конструирует несложные постройки из                  2—3 деталей.","Создаёт постройки «по сюжету» (дом, машина и т.д.)."]
[{"$nulls":9},"Конструирует несложные постройки из                  2—3 деталей.","Создаёт постройки «по сюжету» (дом, машина и т.д.)."]
[{"$nulls":9},"Конструирует несложные постройки из                  2—3 деталей.","Создаёт постройки «по сюжету» (дом, машина и т.д.)."]
[{"$nulls":9},"Конструирует несложные постройки из                  2—3 деталей.","Создаёт постройки «по сюжету» (дом, машина и т.д.)."]
[{"$nulls":9},"Конструирует несложные постройки из                  2—3 деталей.","Создаёт постройки «по сюжету» (дом, машина и т.д.)."]
[{"$nulls":9},"Конструирует несложные постройки из                  2—3 деталей.","Создаёт постройки «по сюжету» (дом, машина и т.д.)."]
[{"$nulls":9},"Конструирует несложные постройки из                  2—3 деталей.","Создаёт постройки «по сюжету» (дом, машина и т.д.)."]
[{"$nulls":9},"Конструирует несложные постройки из                  2—3 деталей.","Создаёт постройки «по сюжету» (дом, машина и т.д.)."]
[{"$nulls":9},"Конструирует несложные постройки из                  2—3 деталей.","Создаёт постройки «по сюжету» (дом, машина и т.д.)."]
[{"$nulls":9},"Конструирует несложные постройки из                  2—3 деталей.","Создаёт постройки «по сюжету» (дом, машина и т.д.)."]
[{"$nulls":9},"Конструирует несложные постройки из                  2—3 деталей.","Создаёт постройки «по сюжету» (дом, машина и т.д.)."]
[{"$nulls":9},"Конструирует несложные постройки из                  2—3 деталей.","Создаёт постройки «по сюжету» (дом, машина и т.д.)."]
[{"$nulls":9},"Конструирует несложные постройки из                  2—3 деталей.","Создаёт постройки «по сюжету» (дом, машина и т.д.)."]
[{"$nulls":9},"Конструирует несложные постройки из                  2—3 деталей.","Создаёт постройки «по сюжету» (дом, машина и т.д.)."]
[{"$nulls":9},"Конструирует несложные постройки из                  2—3 деталей.","Создаёт постройки «по сюжету» (дом, машина и т.д.)."]
[{"$nulls":9},"Конструирует несложные постройки из                  2—3 деталей.","Создаёт постройки «по сюжету» (дом, машина и т.д.)."]
[{"$nulls":9},"Конструирует несложные постройки из                  2—3 деталей.","Создаёт постройки «по сюжету» (дом, машина и т.д.)."]
[{"$nulls":9},"Конструирует несложные постройки из                  2—3 деталей.","Создаёт постройки «по сюжету» (дом, машина и т.д.)."]
[{"$nulls":9},"Конструирует несложные постройки из                  2—3 деталей.","Создаёт постройки «по сюжету» (дом, машина и т.д.)."]
[{"$nulls":9},"Конструирует несложные постройки из                  2—3 деталей.","Создаёт постройки «по сюжету» (дом, машина и т.д.)."]
[{"$nulls":9},"Конструирует несложные постройки из                  2—3 деталей.","Создаёт постройки «по сюжету» (дом, машина и т.д.)."]
[{"$nulls":9},"Конструирует несложные постройки из                  2—3 деталей.","Создаёт постройки «по сюжету» (дом, машина и т.д.)."]
[{"$nulls":9},"Конструирует несложные постройки из                  2—3 деталей.","Создаёт постройки «по сюжету» (дом, машина и т.д.)."]
[{"$nulls":9},"Конструирует несложные постройки из                  2—3 деталей.","Создаёт постройки «по сюжету» (дом, машина и т.д.)."]
[{"$nulls":9},"Конструирует несложные постройки из                  2—3 деталей.","Создаёт постройки «по сюжету» (дом, машина и т.д.)."]
[{"$nulls":9},"Конструирует несложные постройки из                  2—3 деталей.","Создаёт постройки «по сюжету» (дом, машина и т.д.)."]
[{"$nulls":9},"Конструирует несложные постройки из                  2—3 деталей.","Создаёт постройки «по сюжету» (дом, машина и т.д.)."]
[{"$nulls":9},"Конструирует несложные постройки из                  2—3 деталей.","Создаёт постройки «по сюжету» (дом, машина и т.д.)."]
[{"$nulls":9},"Конструирует несложные постройки из                  2—3 деталей.","Создаёт постройки «по сюжету» (дом, машина и т.д.)."]
[{"$nulls":9},"Конструирует несложные постройки из                  2—3 деталей.","Создаёт постройки «по сюжету» (дом, машина и т.д.)."]
[{"$nulls":9},"Конструирует несложные постройки из                  2—3 деталей.","Создаёт постройки «по сюжету» (дом, машина и т.д.)."]
[{"$nulls":9},"Конструирует несложные постройки из                  2—3 деталей.","Создаёт постройки «по сюжету» (дом, машина и т.д.)."]
[{"$nulls":9},"Конструирует несложные постройки из                  2—3 деталей.","Создаёт постройки «по сюжету» (дом, машина и т.д.)."]
[{"$nulls":9},"Конструирует несложные постройки из                  2—3 деталей.","Создаёт постройки «по сюжету» (дом, машина и т.д.)."]
[{"$nulls":9},"Конструирует несложные постройки из                  2—3 деталей.","Создаёт постройки «по сюжету» (дом, машина и т.д.)."]
[{"$nulls":9},"Конструирует несложные постройки из                  2—3 деталей.","Создаёт постройки «по сюжету» (дом, машина и т.д.)."]
[{"$nulls":9},"Конструирует несложные постройки из                  2—3 деталей.","Создаёт постройки «по сюжету» (дом, машина и т.д.)."]
[{"$nulls":9},"Конструирует несложные постройки из                  2—3 деталей.","Создаёт постройки «по сюжету» (дом, машина и т.д.)."]
[{"$nulls":9},"Конструирует несложные постройки из                  2—3 деталей.","Создаёт постройки «по сюжету» (дом, машина и т.д.)."]
[{"$nulls":9},"Конструирует несложные постройки из                  2—3 деталей.","Создаёт постройки «по сюжету» (дом, машина и т.д.)."]
[{"$nulls":9},"Конструирует несложные постройки из                  2—3 деталей.","Создаёт постройки «по сюжету» (дом, машина и т.д.)."]
[{"$nulls":9},"Конструирует несложные постройки из                  2—3 деталей.","Создаёт постройки «по сюжету» (дом, машина и т.д.)."]
[{"$nulls":9},"Конструирует несложные постройки из                  2—3 деталей.","Создаёт постройки «по сюжету» (дом, машина и т.д.)."]
[{"$nulls":9},"Конструирует несложные постройки из                  2—3 деталей.","Создаёт постройки «по сюжету» (дом, машина и т.д.)."]
[{"$nulls":9},"Конструирует несложные постройки из                  2—3 деталей.","Создаёт постройки «по сюжету» (дом, машина и т.д.)."]
[{"$nulls":9},"Конструирует несложные постройки из                  2—3 деталей.","Создаёт постройки «по сюжету» (дом, машина и т.д.)."]
[{"$nulls":9},"Конструирует несложные постройки из                  2—3 деталей.","Создаёт постройки «по сюжету» (дом, машина и т.д.)."]
[{"$nulls":9},"Конструирует несложные постройки из                  2—3 деталей.","Создаёт постройки «по сюжету» (дом, машина и т.д.)."]
[{"$nulls":9},"Конструирует несложные постройки из                  2—3 деталей.","Создаёт постройки «по сюжету» (дом, машина и т.д.)."]
[{"$nulls":9},"Конструирует несложные постройки из                  2—3 деталей.","Создаёт постройки «по сюжету» (дом, машина и т.д.)."]
[{"$nulls":9},"Конструирует несложные постройки из                  2—3 деталей.","Создаёт постройки «по сюжету» (дом, машина и т.д.)."]
[{"$nulls":9},"Конструирует несложные постройки из                  2—3 деталей.","Создаёт постройки «по сюжету» (дом, машина и т.д.)."]
[{"$nulls":9},"Конструирует несложные постройки из                  2—3 деталей.","Создаёт постройки «по сюжету» (дом, машина и т.д.)."]
[{"$nulls":9},"Конструирует несложные постройки из                  2—3 деталей.","Создаёт постройки «по сюжету» (дом, машина и т.д.)."]
[{"$nulls":9},"Конструирует несложные постройки из                  2—3 деталей.","Создаёт постройки «по сюжету» (дом, машина и т.д.)."]
[{"$nulls":9},"Конструирует несложные постройки из                  2—3 деталей.","Создаёт постройки «по сюжету» (дом, машина и т.д.)."]
[{"$nulls":9},"Конструирует несложные постройки из                  2—3 деталей.","Создаёт постройки «по сюжету» (дом, машина и т.д.)."]
[{"$nulls":9},"Конструирует несложные постройки из                  2—3 деталей.","Создаёт постройки «по сюжету» (дом, машина и т.д.)."]
[{"$nulls":9},"Конструирует несложные постройки из                  2—3 деталей.","Создаёт постройки «по сюжету» (дом, машина и т.д.)."]
[{"$nulls":9},"Конструирует несложные постройки из                  2—3 деталей.","Создаёт постройки «по сюжету» (дом, машина и т.д.)."]
[{"$nulls":9},"Конструирует несложные постройки из                  2—3 деталей.","Создаёт постройки «по сюжету» (дом, машина и т.д.)."]
[{"$nulls":9},"Конструирует несложные постройки из                  2—3 деталей.","Создаёт постройки «по сюжету» (дом, машина и т.д.)."]
[{"$nulls":9},"Конструирует несложные постройки из                  2—3 деталей.","Создаёт постройки «по сюжету» (дом, машина и т.д.)."]
[{"$nulls":9},"Конструирует несложные постройки из                  2—3 деталей.","Создаёт постройки «по сюжету» (дом, машина и т.д.)."]
[{"$nulls":9},"Конструирует несложные постройки из                  2—3 деталей.","Создаёт постройки «по сюжету» (дом, машина и т.д.)."]
[{"$nulls":9},"Конструирует несложные постройки из                  2—3 деталей.","Создаёт постройки «по сюжету» (дом, машина и т.д.)."]
[{"$nulls":9},"Конструирует несложные постройки из                  2—3 деталей.","Создаёт постройки «по сюжету» (дом, машина и т.д.)."]
[{"$nulls":9},"Конструирует несложные постройки из                  2—3 деталей.","Создаёт постройки «по сюжету» (дом, машина и т.д.)."]
[{"$nulls":9},"Конструирует несложные постройки из                  2—3 деталей.","Создаёт постройки «по сюжету» (дом, машина и т.д.)."]
[{"$nulls":9},"Конструирует несложные постройки из                  2—3 деталей.","Создаёт постройки «по сюжету» (дом, машина и т.д.)."]
[{"$nulls":9},"Конструирует несложные постройки из                  2—3 деталей.","Создаёт постройки «по сюжету» (дом, машина и т.д.)."]
[{"$nulls":9},"Конструирует несложные постройки из                  2—3 деталей.","Создаёт постройки «по сюжету» (дом, машина и т.д.)."]
[{"$nulls":9},"Конструирует несложные постройки из                  2—3 деталей.","Создаёт постройки «по сюжету» (дом, машина и т.д.)."]
[{"$nulls":9},"Конструирует несложные постройки из                  2—3 деталей.","Создаёт постройки «по сюжету» (дом, машина и т.д.)."]
[{"$nulls":9},"Конструирует несложные постройки из                  2—3 деталей.","Создаёт постройки «по сюжету» (дом, машина и т.д.)."]
[{"$nulls":9},"Конструирует несложные постройки из                  2—3 деталей.","Создаёт постройки «по сюжету» (дом, машина и т.д.)."]
[{"$nulls":9},"Конструирует несложные постройки из                  2—3 деталей.","Создаёт постройки «по сюжету» (дом, машина и т.д.)."]
[{"$nulls":9},"Конструирует несложные постройки из                  2—3 деталей.","Создаёт постройки «по сюжету» (дом, машина и т.д.)."]
[{"$nulls":9},"Конструирует несложные постройки из                  2—3 деталей.","Создаёт постройки «по сюжету» (дом, машина и т.д.)."]
[{"$nulls":9},"Конструирует несложные постройки из                  2—3 деталей.","Создаёт постройки «по сюжету» (дом, машина и т.д.)."]
[{"$nulls":9},"Конструирует несложные постройки из                  2—3 деталей.","Создаёт постройки «по сюжету» (дом, машина и т.д.)."]
[{"$nulls":9},"Конструирует несложные постройки из                  2—3 деталей.","Создаёт постройки «по сюжету» (дом, машина и т.д.)."]
[{"$nulls":9},"Конструирует несложные постройки из                  2—3 деталей.","Создаёт постройки «по сюжету» (дом, машина и т.д.)."]
[{"$nulls":9},"Конструирует несложные постройки из                  2—3 деталей.","Создаёт постройки «по сюжету» (дом, машина и т.д.)."]
[{"$nulls":9},"Конструирует несложные постройки из                  2—3 деталей.","Создаёт постройки «по сюжету» (дом, машина и т.д.)."]
[{"$nulls":9},"Конструирует несложные постройки из                  2—3 деталей.","Создаёт постройки «по сюжету» (дом, машина и т.д.)."]
[{"$nulls":9},"Конструирует несложные постройки из                  2—3 деталей.","Создаёт постройки «по сюжету» (дом, машина и т.д.)."]
[{"$nulls":9},"Конструирует несложные постройки из                  2—3 деталей.","Создаёт постройки «по сюжету» (дом, машина и т.д.)."]
[{"$nulls":9},"Конструирует несложные постройки из                  2—3 деталей.","Создаёт постройки «по сюжету» (дом, машина и т.д.)."]
[{"$nulls":9},"Конструирует несложные постройки из                  2—3 деталей.","Создаёт постройки «по сюжету» (дом, машина и т.д.)."]
[{"$nulls":9},"Конструирует несложные постройки из                  2—3 деталей.","Создаёт постройки «по сюжету» (дом, машина и т.д.)."]
[{"$nulls":9},"Конструирует несложные постройки из                  2—3 деталей.","Создаёт постройки «по сюжету» (дом, машина и т.д.)."]
[{"$nulls":9},"Конструирует несложные постройки из                  2—3 деталей.","Создаёт постройки «по сюжету» (дом, машина и т.д.)."]
[{"$nulls":9},"Конструирует несложные постройки из                  2—3 деталей.","Создаёт постройки «по сюжету» (дом, машина и т.д.)."]
[{"$nulls":9},"Конструирует несложные постройки из                  2—3 деталей.","Создаёт постройки «по сюжету» (дом, машина и т.д.)."]
[{"$nulls":9},"Конструирует несложные постройки из                  2—3 деталей.","Создаёт постройки «по сюжету» (дом, машина и т.д.)."]
[{"$nulls":9},"Конструирует несложные постройки из                  2—3 деталей.","Создаёт постройки «по сюжету» (дом, машина и т.д.)."]
[{"$nulls":9},"Конструирует несложные постройки из                  2—3 деталей.","Создаёт постройки «по сюжету» (дом, машина и т.д.)."]
[{"$nulls":9},"Конструирует несложные постройки из                  2—3 деталей.","Создаёт постройки «по сюжету» (дом, машина и т.д.)."]
[{"$nulls":9},"Конструирует несложные постройки из                  2—3 деталей.","Создаёт постройки «по сюжету» (дом, машина и т.д.)."]
[{"$nulls":9},"Конструирует несложные постройки из                  2—3 деталей.","Создаёт постройки «по сюжету» (дом, машина и т.д.)."]
[{"$nulls":9},"Конструирует несложные постройки из                  2—3 деталей.","Создаёт постройки «по сюжету» (дом, машина и т.д.)."]
[{"$nulls":9},"Конструирует несложные постройки из                  2—3 деталей.","Создаёт постройки «по сюжету» (дом, машина и т.д.)."]
[{"$nulls":9},"Конструирует несложные постройки из                  2—3 деталей.","Создаёт постройки «по сюжету» (дом, машина и т.д.)."]
[{"$nulls":9},"Конструирует несложные постройки из                  2—3 деталей.","Создаёт постройки «по сюжету» (дом, машина и т.д.)."]
[{"$nulls":9},"Конструирует несложные постройки из                  2—3 деталей.","Создаёт постройки «по сюжету» (дом, машина и т.д.)."]
[{"$nulls":9},"Конструирует несложные постройки из                  2—3 деталей.","Создаёт постройки «по сюжету» (дом, машина и т.д.)."]
[{"$nulls":9},"Конструирует несложные постройки из                  2—3 деталей.","Создаёт постройки «по сюжету» (дом, машина и т.д.)."]
[{"$nulls":9},"Конструирует несложные постройки из                  2—3 деталей.","Создаёт постройки «по сюжету» (дом, машина и т.д.)."]
[{"$nulls":9},"Конструирует несложные постройки из                  2—3 деталей.","Создаёт постройки «по сюжету» (дом, машина и т.д.)."]
[{"$nulls":9},"Конструирует несложные постройки из                  2—3 деталей.","Создаёт постройки «по сюжету» (дом, машина и т.д.)."]
[{"$nulls":9},"Конструирует несложные постройки из                  2—3 деталей.","Создаёт постройки «по сюжету» (дом, машина и т.д.)."]
[{"$nulls":9},"Конструирует несложные постройки из                  2—3 деталей.","Создаёт постройки «по сюжету» (дом, машина и т.д.)."]
[{"$nulls":9},"Конструирует несложные постройки из                  2—3 деталей.","Создаёт постройки «по сюжету» (дом, машина и т.д.)."]
[{"$nulls":9},"Конструирует несложные постройки из                  2—3 деталей.","Создаёт постройки «по сюжету» (дом, машина и т.д.)."]
[{"$nulls":9},"Конструирует несложные постройки из                  2—3 деталей.","Создаёт постройки «по сюжету» (дом, машина и т.д.)."]
[{"$nulls":9},"Конструирует несложные постройки из                  2—3 деталей.","Создаёт постройки «по сюжету» (дом, машина и т.д.)."]
[{"$nulls":9},"Конструирует несложные постройки из                  2—3 деталей.","Создаёт постройки «по сюжету» (дом, машина и т.д.)."]
[{"$nulls":9},"Конструирует несложные постройки из                  2—3 деталей.","Создаёт постройки «по сюжету» (дом, машина и т.д.)."]
[{"$nulls":9},"Конструирует несложные постройки из                  2—3 деталей.","Создаёт постройки «по сюжету» (дом, машина и т.д.)."]
[{"$nulls":9},"Конструирует несложные постройки из                  2—3 деталей.","Создаёт постройки «по сюжету» (дом, машина и т.д.)."]
[{"$nulls":9},"Конструирует несложные постройки из                  2—3 деталей.","Создаёт постройки «по сюжету» (дом, машина и т.д.)."]
[{"$nulls":9},"Конструирует несложные постройки из                  2—3 деталей.","Создаёт постройки «по сюжету» (дом, машина и т.д.)."]
[{"$nulls":9},"Конструирует несложные постройки из                  2—3 деталей.","Создаёт постройки «по сюжету» (дом, машина и т.д.)."]
[{"$nulls":9},"Конструирует несложные постройки из                  2—3 деталей.","Создаёт постройки «по сюжету» (дом, машина и т.д.)."]
[{"$nulls":9},"Конструирует несложные постройки из                  2—3 деталей.","Создаёт постройки «по сюжету» (дом, машина и т.д.)."]
[{"$nulls":9},"Конструирует несложные постройки из                  2—3 деталей.","Создаёт постройки «по сюжету» (дом, машина и т.д.)."]
[{"$nulls":9},"Конструирует несложные постройки из                  2—3 деталей.","Создаёт постройки «по сюжету» (дом, машина и т.д.)."]
[{"$nulls":9},"Конструирует несложные постройки из                  2—3 деталей.","Создаёт постройки «по сюжету» (дом, машина и т.д.)."]
[{"$nulls":9},"Конструирует несложные постройки из                  2—3 деталей.","Создаёт постройки «по сюжету» (дом, машина и т.д.)."]
[{"$nulls":9},"Конструирует несложные постройки из                  2—3 деталей.","Создаёт постройки «по сюжету» (дом, машина и т.д.)."]
[{"$nulls":9},"Конструирует несложные постройки из                  2—3 деталей.","Создаёт постройки «по сюжету» (дом, машина и т.д.)."]
[{"$nulls":9},"Конструирует несложные постройки из                  2—3 деталей.","Создаёт постройки «по сюжету» (дом, машина и т.д.)."]
[{"$nulls":9},"Конструирует несложные постройки из                  2—3 деталей.","Создаёт постройки «по сюжету» (дом, машина и т.д.)."]
[{"$nulls":9},"Конструирует несложные постройки из                  2—3 деталей.","Создаёт постройки «по сюжету» (дом, машина и т.д.)."]
[{"$nulls":9},"Конструирует несложные постройки из                  2—3 деталей.","Создаёт постройки «по сюжету» (дом, машина и т.д.)."]
[{"$nulls":9},"Конструирует несложные постройки из                  2—3 деталей.","Создаёт постройки «по сюжету» (дом, машина и т.д.)."]
[{"$nulls":9},"Конструирует несложные постройки из                  2—3 деталей.","Создаёт постройки «по сюжету» (дом, машина и т.д.)."]
[{"$nulls":9},"Конструирует несложные постройки из                  2—3 деталей.","Создаёт постройки «по сюжету» (дом, машина и т.д.)."]
[{"$nulls":9},"Конструирует несложные постройки из                  2—3 деталей.","Создаёт постройки «по сюжету» (дом, машина и т.д.)."]
[{"$nulls":9},"Конструирует несложные постройки из                  2—3 деталей.","Создаёт постройки «по сюжету» (дом, машина и т.д.)."]
[{"$nulls":9},"Конструирует несложные постройки из                  2—3 деталей.","Создаёт постройки «по сюжету» (дом, машина и т.д.)."]
[{"$nulls":9},"Конструирует несложные постройки из                  2—3 деталей.","Создаёт постройки «по сюжету» (дом, машина и т.д.)."]
[{"$nulls":9},"Конструирует несложные постройки из                  2—3 деталей.","Создаёт постройки «по сюжету» (дом, машина и т.д.)."]
[{"$nulls":9},"Конструирует несложные постройки из                  2—3 деталей.","Создаёт постройки «по сюжету» (дом, машина и т.д.)."]
[{"$nulls":9},"Конструирует несложные постройки из                  2—3 деталей.","Создаёт постройки «по сюжету» (дом, машина и т.д.)."]
[{"$nulls":9},"Конструирует несложные постройки из                  2—3 деталей.","Создаёт постройки «по сюжету» (дом, машина и т.д.)."]
[{"$nulls":9},"Конструирует несложные постройки из                  2—3 деталей.","Создаёт постройки «по сюжету» (дом, машина и т.д.)."]
[{"$nulls":9},"Конструирует несложные постройки из                  2—3 деталей.","Создаёт постройки «по сюжету» (дом, машина и т.д.)."]
[{"$nulls":9},"Конструирует несложные постройки из                  2—3 деталей.","Создаёт постройки «по сюжету» (дом, машина и т.д.)."]
[{"$nulls":9},"Конструирует несложные постройки из                  2—3 деталей.","Создаёт постройки «по сюжету» (дом, машина и т.д.)."]
[{"$nulls":9},"Конструирует несложные постройки из                  2—3 деталей.","Создаёт постройки «по сюжету» (дом, машина и т.д.)."]
[{"$nulls":9},"Конструирует несложные постройки из                  2—3 деталей.","Создаёт постройки «по сюжету» (дом, машина и т.д.)."]
[{"$nulls":9},"Конструирует несложные постройки из                  2—3 деталей.","Создаёт постройки «по сюжету» (дом, машина и т.д.)."]
[{"$nulls":9},"Конструирует несложные постройки из                  2—3 деталей.","Создаёт постройки «по сюжету» (дом, машина и т.д.)."]
[{"$nulls":9},"Конструирует несложные постройки из                  2—3 деталей.","Создаёт постройки «по сюжету» (дом, машина и т.д.)."]
[{"$nulls":9},"Конструирует несложные постройки из                  2—3 деталей.","Создаёт постройки «по сюжету» (дом, машина и т.д.)."]
[{"$nulls":9},"Конструирует несложные постройки из                  2—3 деталей.","Создаёт постройки «по сюжету» (дом, машина и т.д.)."]
[{"$nulls":9},"Конструирует несложные постройки из                  2—3 деталей.","Создаёт постройки «по сюжету» (дом, машина и т.д.)."]
[{"$nulls":9},"Конструирует несложные постройки из                  2—3 деталей.","Создаёт постройки «по сюжету» (дом, машина и т.д.)."]
[{"$nulls":9},"Конструирует несложные постройки из                  2—3 деталей.","Создаёт постройки «по сюжету» (дом, машина и т.д.)."]
[{"$nulls":9},"Конструирует несложные постройки из                  2—3 деталей.","Создаёт постройки «по сюжету» (дом, машина и т.д.)."]
[{"$nulls":9},"Конструирует несложные постройки из                  2—3 деталей.","Создаёт постройки «по сюжету» (дом, машина и т.д.)."]
[{"$nulls":9},"Конструирует несложные постройки из                  2—3 деталей.","Создаёт постройки «по сюжету» (дом, машина и т.д.)."]
[{"$nulls":9},"Конструирует несложные постройки из                  2—3 деталей.","Создаёт постройки «по сюжету» (дом, машина и т.д.)."]
[{"$nulls":9},"Конструирует несложные постройки из                  2—3 деталей.","Создаёт постройки «по сюжету» (дом, машина и т.д.)."]
[{"$nulls":9},"Конструирует несложные постройки из                  2—3 деталей.","Создаёт постройки «по сюжету» (дом, машина и т.д.)."]
[{"$nulls":9},"Конструирует несложные постройки из                  2—3 деталей.","Создаёт постройки «по сюжету» (дом, машина и т.д.)."]
[{"$nulls":9},"Конструирует несложные постройки из                  2—3 деталей.","Создаёт постройки «по сюжету» (дом, машина и т.д.)."]
[{"$nulls":9},"Конструирует несложные постройки из                  2—3 деталей.","Создаёт постройки «по сюжету» (дом, машина и т.д.)."]
[{"$nulls":9},"Конструирует несложные постройки из                  2—3 деталей.","Создаёт постройки «по сюжету» (дом, машина и т.д.)."]
[{"$nulls":9},"Конструирует несложные постройки из                  2—3 деталей.","Создаёт постройки «по сюжету» (дом, машина и т.д.)."]
[{"$nulls":9},"Конструирует несложные постройки из                  2—3 деталей.","Создаёт постройки «по сюжету» (дом, машина и т.д.)."]
[{"$nulls":9},"Конструирует несложные постройки из                  2—3 деталей.","Создаёт постройки «по сюжету» (дом, машина и т.д.)."]
[{"$nulls":9},"Конструирует несложные постройки из                  2—3 деталей.","Создаёт постройки «по сюжету» (дом, машина и т.д.)."]
[{"$nulls":9},"Конструирует несложные постройки из                  2—3 деталей.","Создаёт постройки «по сюжету» (дом, машина и т.д.)."]
[{"$nulls":9},"Конструирует несложные постройки из                  2—3 деталей.","Создаёт постройки «по сюжету» (дом, машина и т.д.)."]
[{"$nulls":9},"Конструирует несложные постройки из                  2—3 деталей.","Создаёт постройки «по сюжету» (дом, машина и т.д.)."]
[{"$nulls":9},"Конструирует несложные постройки из                  2—3 деталей.","Создаёт постройки «по сюжету» (дом, машина и т.д.)."]
[{"$nulls":9},"Конструирует несложные постройки из                  2—3 деталей.","Создаёт постройки «по сюжету» (дом, машина и т.д.)."]
[{"$nulls":9},"Конструирует несложные постройки из                  2—3 деталей.","Создаёт постройки «по сюжету» (дом, машина и т.д.)."]
[{"$nulls":9},"Конструирует несложные постройки из                  2—3 деталей.","Создаёт постройки «по сюжету» (дом, машина и т.д.)."]
[{"$nulls":9},"Конструирует несложные постройки из                  2—3 деталей.","Создаёт постройки «по сюжету» (дом, машина и т.д.)."]
[{"$nulls":9},"Конструирует несложные постройки из                  2—3 деталей.","Создаёт постройки «по сюжету» (дом, машина и т.д.)."]
[{"$nulls":9},"Конструирует несложные постройки из                  2—3 деталей.","Создаёт постройки «по сюжету» (дом, машина и т.д.)."]
[{"$nulls":9},"Конструирует несложные постройки из                  2—3 деталей.","Создаёт постройки «по сюжету» (дом, машина и т.д.)."]
[{"$nulls":9},"Конструирует несложные постройки из                  2—3 деталей.","Создаёт постройки «по сюжету» (дом, машина и т.д.)."]
[{"$nulls":9},"Конструирует несложные постройки из                  2—3 деталей.","Создаёт постройки «по сюжету» (дом, машина и т.д.)."]
[{"$nulls":9},"Конструирует несложные постройки из                  2—3 деталей.","Создаёт постройки «по сюжету» (дом, машина и т.д.)."]
[{"$nulls":9},"Конструирует несложные постройки из                  2—3 деталей.","Создаёт постройки «по сюжету» (дом, машина и т.д.)."]
[{"$nulls":9},"Конструирует несложные постройки из                  2—3 деталей.","Создаёт постройки «по сюжету» (дом, машина и т.д.)."]
[{"$nulls":9},"Конструирует несложные постройки из                  2—3 деталей.","Создаёт постройки «по сюжету» (дом, машина и т.д.)."]
[{"$nulls":9},"Конструирует несложные постройки из                  2—3 деталей.","Создаёт постройки «по сюжету» (дом, машина и т.д.)."]
[{"$nulls":9},"Конструирует несложные постройки из                  2—3 деталей.","Создаёт постройки «по сюжету» (дом, машина и т.д.)."]
[{"$nulls":9},"Конструирует несложные постройки из                  2—3 деталей.","Создаёт постройки «по сюжету» (дом, машина и т.д.)."]
[{"$nulls":9},"Конструирует несложные постройки из                  2—3 деталей.","Создаёт постройки «по сюжету» (дом, машина и т.д.)."]
[{"$nulls":9},"Конструирует несложные постройки из                  2—3 деталей.","Создаёт постройки «по сюжету» (дом, машина и т.д.)."]
[{"$nulls":9},"Конструирует несложные постройки из                  2—3 деталей.","Создаёт постройки «по сюжету» (дом, машина и т.д.)."]
[{"$nulls":9},"Конструирует несложные постройки из                  2—3 деталей.","Создаёт постройки «по сюжету» (дом, машина и т.д.)."]
[{"$nulls":9},"Конструирует несложные постройки из                  2—3 деталей.","Создаёт постройки «по сюжету» (дом, машина и т.д.)."]
[{"$nulls":9},"Конструирует несложные постройки из                  2—3 деталей.","Создаёт постройки «по сюжету» (дом, машина и т.д.)."]
[{"$nulls":9},"Конструирует несложные постройки из                  2—3 деталей.","Создаёт постройки «по сюжету» (дом, машина и т.д.)."]
[{"$nulls":9},"Конструирует несложные постройки из                  2—3 деталей.","Создаёт постройки «по сюжету» (дом, машина и т.д.)."]
[{"$nulls":9},"Конструирует несложные постройки из                  2—3 деталей.","Создаёт постройки «по сюжету» (дом, машина и т.д.)."]
[{"$nulls":9},"Конструирует несложные постройки из                  2—3 деталей.","Создаёт постройки «по сюжету» (дом, машина и т.д.)."]
[{"$nulls":9},"Конструирует несложные постройки из                  2—3 деталей.","Создаёт постройки «по сюжету» (дом, машина и т.д.)."]
[{"$nulls":9},"Конструирует несложные постройки из                  2—3 деталей.","Создаёт постройки «по сюжету» (дом, машина и т.д.)."]
[{"$nulls":9},"Конструирует несложные постройки из                  2—3 деталей.","Создаёт постройки «по сюжету» (дом, машина и т.д.)."]
[{"$nulls":9},"Конструирует несложные постройки из                  2—3 деталей.","Создаёт постройки «по сюжету» (дом, машина и т.д.)."]
[{"$nulls":9},"Конструирует несложные постройки из                  2—3 деталей.","Создаёт постройки «по сюжету» (дом, машина и т.д.)."]
[{"$nulls":9},"Конструирует несложные постройки из                  2—3 деталей.","Создаёт постройки «по сюжету» (дом, машина и т.д.)."]
[{"$nulls":9},"Конструирует несложные постройки из                  2—3 деталей.","Создаёт постройки «по сюжету» (дом, машина и т.д.)."]
[{"$nulls":9},"Конструирует несложные постройки из                  2—3 деталей.","Создаёт постройки «по сюжету» (дом, машина и т.д.)."]
[{"$nulls":9},"Конструирует несложные постройки из                  2—3 деталей.","Создаёт постройки «по сюжету» (дом, машина и т.д.)."]
[{"$nulls":9},"Конструирует несложные постройки из                  2—3 деталей.","Создаёт постройки «по сюжету» (дом, машина и т.д.)."]
[{"$nulls":9},"Конструирует несложные постройки из                  2—3 деталей.","Создаёт постройки «по сюжету» (дом, машина и т.д.)."]
[{"$nulls":9},"Конструирует несложные постройки из                  2—3 деталей.","Создаёт постройки «по сюжету» (дом, машина и т.д.)."]
[{"$nulls":9},"Конструирует несложные постройки из                  2—3 деталей.","Создаёт постройки «по сюжету» (дом, машина и т.д.)."]
[{"$nulls":9},"Конструирует несложные постройки из                  2—3 деталей.","Создаёт постройки «по сюжету» (дом, машина и т.д.)."]
[{"$nulls":9},"Конструирует несложные постройки из                  2—3 деталей.","Создаёт постройки «по сюжету» (дом, машина и т.д.)."]
[{"$nulls":9},"Конструирует несложные постройки из                  2—3 деталей.","Создаёт постройки «по сюжету» (дом, машина и т.д.)."]
[{"$nulls":9},"Конструирует несложные постройки из                  2—3 деталей.","Создаёт постройки «по сюжету» (дом, машина и т.д.)."]
[{"$nulls":9},"Конструирует несложные постройки из                  2—3 деталей.","Создаёт постройки «по сюжету» (дом, машина и т.д.)."]
[{"$nulls":9},"Конструирует несложные постройки из                  2—3 деталей.","Создаёт постройки «по сюжету» (дом, машина и т.д.)."]
[{"$nulls":9},"Конструирует несложные постройки из                  2—3 деталей.","Создаёт постройки «по сюжету» (дом, машина и т.д.)."]
[{"$nulls":9},"Конструирует несложные постройки из                  2—3 деталей.","Создаёт постройки «по сюжету» (дом, машина и т.д.)."]
[{"$nulls":9},"Конструирует несложные постройки из                  2—3 деталей.","Создаёт постройки «по сюжету» (дом, машина и т.д.)."]
[{"$nulls":9},"Конструирует несложные постройки из                  2—3 деталей.","Создаёт постройки «по сюжету» (дом, машина и т.д.)."]
[{"$nulls":9},"Конструирует несложные постройки из                  2—3 деталей.","Создаёт постройки «по сюжету» (дом, машина и т.д.)."]
[{"$nulls":9},"Конструирует несложные постройки из                  2—3 деталей.","Создаёт постройки «по сюжету» (дом, машина и т.д.)."]
[{"$nulls":9},"Конструирует несложные постройки из                  2—3 деталей.","Создаёт постройки «по сюжету» (дом, машина и т.д.)."]
[{"$nulls":9},"Конструирует несложные постройки из                  2—3 деталей.","Создаёт постройки «по сюжету» (дом, машина и т.д.)."]
[{"$nulls":9},"Конструирует несложные постройки из                  2—3 деталей.","Создаёт постройки «по сюжету» (дом, машина и т.д.)."]
[{"$nulls":9},"Конструирует несложные постройки из                  2—3 деталей.","Создаёт постройки «по сюжету» (дом, машина и т.д.)."]
[{"$nulls":9},"Конструирует несложные постройки из                  2—3 деталей.","Создаёт постройки «по сюжету» (дом, машина и т.д.)."]
[{"$nulls":9},"Конструирует несложные постройки из                  2—3 деталей.","Создаёт постройки «по сюжету» (дом, машина и т.д.)."]
[{"$nulls":9},"Конструирует несложные постройки из                  2—3 деталей.","Создаёт постройки «по сюжету» (дом, машина и т.д.)."]
[{"$nulls":9},"Конструирует несложные постройки из                  2—3 деталей.","Создаёт постройки «по сюжету» (дом, машина и т.д.)."]
[{"$nulls":9},"Конструирует несложные постройки из                  2—3 деталей.","Создаёт постройки «по сюжету» (дом, машина и т.д.)."]
[{"$nulls":9},"Конструирует несложные постройки из                  2—3 деталей.","Создаёт постройки «по сюжету» (дом, машина и т.д.)."]
[{"$nulls":9},"Конструирует несложные постройки из                  2—3 деталей.","Создаёт постройки «по сюжету» (дом, машина и т.д.)."]
[{"$nulls":9},"Конструирует несложные постройки из                  2—3 деталей.","Создаёт постройки «по сюжету» (дом, машина и т.д.)."]
[{"$nulls":9},"Конструирует несложные постройки из                  2—3 деталей.","Создаёт постройки «по сюжету» (дом, машина и т.д.)."]
[{"$nulls":9},"Конструирует несложные постройки из                  2—3 деталей.","Создаёт постройки «по сюжету» (дом, машина и т.д.)."]
[{"$nulls":9},"Конструирует несложные постройки из                  2—3 деталей.","Создаёт постройки «по сюжету» (дом, машина и т.д.)."]
[{"$nulls":9},"Конструирует несложные постройки из                  2—3 деталей.","Создаёт постройки «по сюжету» (дом, машина и т.д.)."]
[{"$nulls":9},"Конструирует несложные постройки из                  2—3 деталей.","Создаёт постройки «по сюжету» (дом, машина и т.д.)."]
[{"$nulls":9},"Конструирует несложные постройки из                  2—3 деталей.","Создаёт постройки «по сюжету» (дом, машина и т.д.)."]
[{"$nulls":9},"Конструирует несложные постройки из                  2—3 деталей.","Создаёт постройки «по сюжету» (дом, машина и т.д.)."]
[{"$nulls":9},"Конструирует несложные постройки из                  2—3 деталей.","Создаёт постройки «по сюжету» (дом, машина и т.д.)."]
[{"$nulls":9},"Конструирует несложные постройки из                  2—3 деталей.","Создаёт постройки «по сюжету» (дом, машина и т.д.)."]
[{"$nulls":9},"Конструирует несложные постройки из                  2—3 деталей.","Создаёт постройки «по сюжету» (дом, машина и т.д.)."]
[{"$nulls":9},"Конструирует несложные постройки из                  2—3 деталей.","Создаёт постройки «по сюжету» (дом, машина и т.д.)."]
[{"$nulls":9},"Конструирует несложные постройки из                  2—3 деталей.","Создаёт постройки «по сюжету» (дом, машина и т.д.)."]
[{"$nulls":9},"Конструирует несложные постройки из                  2—3 деталей.","Создаёт постройки «по сюжету» (дом, машина и т.д.)."]
[{"$nulls":9},"Конструирует несложные постройки из                  2—3 деталей.","Создаёт постройки «по сюжету» (дом, машина и т.д.)."]
[{"$nulls":9},"Конструирует несложные постройки из                  2—3 деталей.","Создаёт постройки «по сюжету» (дом, машина и т.д.)."]
[{"$nulls":9},"Конструирует несложные постройки из                  2—3 деталей.","Создаёт постройки «по сюжету» (дом, машина и т.д.)."]
[{"$nulls":9},"Конструирует несложные постройки из                  2—3 деталей.","Создаёт постройки «по сюжету» (дом, машина и т.д.)."]
[{"$nulls":9},"Конструирует несложные постройки из                  2—3 деталей.","Создаёт постройки «по сюжету» (дом, машина и т.д.)."]
[{"$nulls":9},"Конструирует несложные постройки из                  2—3 деталей.","Создаёт постройки «по сюжету» (дом, машина и т.д.)."]
[{"$nulls":9},"Конструирует несложные постройки из                  2—3 деталей.","Создаёт постройки «по сюжету» (дом, машина и т.д.)."]
[{"$nulls":9},"Конструирует несложные постройки из                  2—3 деталей.","Создаёт постройки «по сюжету» (дом, машина и т.д.)."]
[{"$nulls":9},"Конструирует несложные постройки из                  2—3 деталей.","Создаёт постройки «по сюжету» (дом, машина и т.д.)."]
[{"$nulls":9},"Конструирует несложные постройки из                  2—3 деталей.","Создаёт постройки «по сюжету» (дом, машина и т.д.)."]
[{"$nulls":9},"Конструирует несложные постройки из                  2—3 деталей.","Создаёт постройки «по сюжету» (дом, машина и т.д.)."]
[{"$nulls":9},"Конструирует несложные постройки из                  2—3 деталей.","Создаёт постройки «по сюжету» (дом, машина и т.д.)."]
[{"$nulls":9},"Конструирует несложные постройки из                  2—3 деталей.","Создаёт постройки «по сюжету» (дом, машина и т.д.)."]
[{"$nulls":9},"Конструирует несложные постройки из                  2—3 деталей.","Создаёт постройки «по сюжету» (дом, машина и т.д.)."]
[{"$nulls":9},"Конструирует несложные постройки из                  2—3 деталей.","Создаёт постройки «по сюжету» (дом, машина и т.д.)."]
[{"$nulls":9},"Конструирует несложные постройки из                  2—3 деталей.","Создаёт постройки «по сюжету» (дом, машина и т.д.)."]
[{"$nulls":9},"Конструирует несложные постройки из                  2—3 деталей.","Создаёт постройки «по сюжету» (дом, машина и т.д.)."]
[{"$nulls":9},"Конструирует несложные постройки из                  2—3 деталей.","Создаёт постройки «по сюжету» (дом, машина и т.д.)."]
[{"$nulls":9},"Конструирует несложные постройки из                  2—3 деталей.","Создаёт постройки «по сюжету» (дом, машина и т.д.)."]
[{"$nulls":9},"Конструирует несложные постройки из                  2—3 деталей.","Создаёт постройки «по сюжету» (дом, машина и т.д.)."]
[{"$nulls":9},"Конструирует несложные постройки из                  2—3 деталей.","Создаёт постройки «по сюжету» (дом, машина и т.д.)."]
[{"$nulls":9},"Конструирует несложные постройки из                  2—3 деталей.","Создаёт постройки «по сюжету» (дом, машина и т.д.)."]
[{"$nulls":9},"Конструирует несложные постройки из                  2—3 деталей.","Создаёт постройки «по сюжету» (дом, машина и т.д.)."]
[{"$nulls":9},"Конструирует несложные постройки из                  2—3 деталей.","Создаёт постройки «по сюжету» (дом, машина и т.д.)."]
[{"$nulls":9},"Конструирует несложные постройки из                  2—3 деталей.","Создаёт постройки «по сюжету» (дом, машина и т.д.)."]
[{"$nulls":9},"Конструирует несложные постройки из                  2—3 деталей.","Создаёт постройки «по сюжету» (дом, машина и т.д.)."]
[{"$nulls":9},"Конструирует несложные постройки из                  2—3 деталей.","Создаёт постройки «по сюжету» (дом, машина и т.д.)."]
[{"$nulls":9},"Конструирует несложные постройки из                  2—3 деталей.","Создаёт постройки «по сюжету» (дом, машина и т.д.)."]
[{"$nulls":9},"Конструирует несложные постройки из                  2—3 деталей.","Создаёт постройки «по сюжету» (дом, машина и т.д.)."]
[{"$nulls":9},"Конструирует несложные постройки из                  2—3 деталей.","Создаёт постройки «по сюжету» (дом, машина и т.д.)."]
[{"$nulls":9},"Конструирует несложные постройки из                  2—3 деталей.","Создаёт постройки «по сюжету» (дом, машина и т.д.)."]
[{"$nulls":9},"Конструирует несложные постройки из                  2—3 деталей.","Создаёт постройки «по сюжету» (дом, машина и т.д.)."]
[{"$nulls":9},"Конструирует несложные постройки из                  2—3 деталей.","Создаёт постройки «по сюжету» (дом, машина и т.д.)."]
[{"$nulls":9},"Конструирует несложные постройки из                  2—3 деталей.","Создаёт постройки «по сюжету» (дом, машина и т.д.)."]
[{"$nulls":9},"Конструирует несложные постройки из                  2—3 деталей.","Создаёт постройки «по сюжету» (дом, машина и т.д.)."]
[{"$nulls":9},"Конструирует несложные постройки из                  2—3 деталей.","Создаёт постройки «по сюжету» (дом, машина и т.д.)."]
[{"$nulls":9},"Конструирует несложные постройки из                  2—3 деталей.","Создаёт постройки «по сюжету» (дом, машина и т.д.)."]
[{"$nulls":9},"Конструирует несложные постройки из                  2—3 деталей.","Создаёт постройки «по сюжету» (дом, машина и т.д.)."]
[{"$nulls":9},"Конструирует несложные постройки из                  2—3 деталей.","Создаёт постройки «по сюжету» (дом, машина и т.д.)."]
[{"$nulls":9},"Конструирует несложные постройки из                  2—3 деталей.","Создаёт постройки «по сюжету» (дом, машина и т.д.)."]
[{"$nulls":9},"Конструирует несложные постройки из                  2—3 деталей.","Создаёт постройки «по сюжету» (дом, машина и т.д.)."]
[{"$nulls":9},"Конструирует несложные постройки из                  2—3 деталей.","Создаёт постройки «по сюжету» (дом, машина и т.д.)."]
[{"$nulls":9},"Конструирует несложные постройки из                  2—3 деталей.","Создаёт постройки «по сюжету» (дом, машина и т.д.)."]
[{"$nulls":9},"Конструирует несложные постройки из                  2—3 деталей.","Создаёт постройки «по сюжету» (дом, машина и т.д.)."]
[{"$nulls":9},"Конструирует несложные постройки из                  2—3 деталей.","Создаёт постройки «по сюжету» (дом, машина и т.д.)."]
[{"$nulls":9},"Конструирует несложные постройки из                  2—3 деталей.","Создаёт постройки «по сюжету» (дом, машина и т.д.)."]
[{"$nulls":9},"Конструирует несложные постройки из                  2—3 деталей.","Создаёт постройки «по сюжету» (дом, машина и т.д.)."]
[{"$nulls":9},"Конструирует несложные постройки из                  2—3 деталей.","Создаёт постройки «по сюжету» (дом, машина и т.д.)."]
[{"$nulls":9},"Конструирует несложные постройки из                  2—3 деталей.","Создаёт постройки «по сюжету» (дом, машина и т.д.)."]
[{"$nulls":9},"Конструирует несложные постройки из                  2—3 деталей.","Создаёт постройки «по сюжету» (дом, машина и т.д.)."]
[{"$nulls":9},"Конструирует несложные постройки из                  2—3 деталей.","Создаёт постройки «по сюжету» (дом, машина и т.д.)."]
[{"$nulls":9},"Конструирует несложные постройки из                  2—3 деталей.","Создаёт постройки «по сюжету» (дом, машина и т.д.)."]
[{"$nulls":9},"Конструирует несложные постройки из                  2—3 деталей.","Создаёт постройки «по сюжету» (дом, машина и т.д.)."]
[{"$nulls":9},"Конструирует несложные постройки из                  2—3 деталей.","Создаёт постройки «по сюжету» (дом, машина и т.д.)."]
[{"$nulls":9},"Конструирует несложные постройки из                  2—3 деталей.","Создаёт постройки «по сюжету» (дом, машина и т.д.)."]
[{"$nulls":9},"Конструирует несложные постройки из                  2—3 деталей.","Создаёт постройки «по сюжету» (дом, машина и т.д.)."]
[{"$nulls":9},"Конструирует несложные постройки из                  2—3 деталей.","Создаёт постройки «по сюжету» (дом, машина и т.д.)."]
[{"$nulls":9},"Конструирует несложные постройки из                  2—3 деталей.","Создаёт постройки «по сюжету» (дом, машина и т.д.)."]
[{"$nulls":9},"Конструирует несложные постройки из                  2—3 деталей.","Создаёт постройки «по сюжету» (дом, машина и т.д.)."]
[{"$nulls":9},"Конструирует несложные постройки из                  2—3 деталей.","Создаёт постройки «по сюжету» (дом, машина и т.д.)."]
[{"$nulls":9},"Конструирует несложные постройки из                  2—3 деталей.","Создаёт постройки «по сюжету» (дом, машина и т.д.)."]
[{"$nulls":9},"Конструирует несложные постройки из                  2—3 деталей.","Создаёт постройки «по сюжету» (дом, машина и т.д.)."]
[{"$nulls":9},"Конструирует несложные постройки из                  2—3 деталей.","Создаёт постройки «по сюжету» (дом, машина и т.д.)."]
[{"$nulls":9},"Конструирует несложные постройки из                  2—3 деталей.","Создаёт постройки «по сюжету» (дом, машина и т.д.)."]
[{"$nulls":9},"Конструирует несложные постройки из                  2—3 деталей.","Создаёт постройки «по сюжету» (дом, машина и т.д.)."]
[{"$nulls":9},"Конструирует несложные постройки из                  2—3 деталей.","Создаёт постройки «по сюжету» (дом, машина и т.д.)."]
[{"$nulls":9},"Конструирует несложные постройки из                  2—3 деталей.","Создаёт постройки «по сюжету» (дом, машина и т.д.)."]
[{"$nulls":9},"Конструирует несложные постройки из                  2—3 деталей.","Создаёт постройки «по сюжету» (дом, машина и т.д.)."]
[{"$nulls":9},"Конструирует несложные постройки из                  2—3 деталей.","Создаёт постройки «по сюжету» (дом, машина и т.д.)."]
[{"$nulls":9},"Конструирует несложные постройки из                  2—3 деталей.","Создаёт постройки «по сюжету» (дом, машина и т.д.)."]
[{"$nulls":9},"Конструирует несложные постройки из                  2—3 деталей.","Создаёт постройки «по сюжету» (дом, машина и т.д.)."]
[{"$nulls":9},"Конструирует несложные постройки из                  2—3 деталей.","Создаёт постройки «по сюжету» (дом, машина и т.д.)."]
[{"$nulls":9},"Конструирует несложные постройки из                  2—3 деталей.","Создаёт постройки «по сюжету» (дом, машина и т.д.)."]
[{"$nulls":9},"Конструирует несложные постройки из                  2—3 деталей.","Создаёт постройки «по сюжету» (дом, машина и т.д.)."]
[{"$nulls":9},"Конструирует несложные постройки из                  2—3 деталей.","Создаёт постройки «по сюжету» (дом, машина и т.д.)."]
[{"$nulls":9},"Конструирует несложные постройки из                  2—3 деталей.","Создаёт постройки «по сюжету» (дом, машина и т.д.)."]
[{"$nulls":9},"Конструирует несложные постройки из                  2—3 деталей.","Создаёт постройки «по сюжету» (дом, машина и т.д.)."]
[{"$nulls":9},"Конструирует несложные постройки из                  2—3 деталей.","Создаёт постройки «по сюжету» (дом, машина и т.д.)."]
[{"$nulls":9},"Конструирует несложные постройки из                  2—3 деталей.","Создаёт постройки «по сюжету» (дом, машина и т.д.)."]
[{"$nulls":9},"Конструирует несложные постройки из                  2—3 деталей.","Создаёт постройки «по сюжету» (дом, машина и т.д.)."]
[{"$nulls":9},"Конструирует несложные постройки из                  2—3 деталей.","Создаёт постройки «по сюжету» (дом, машина и т.д.)."]
[{"$nulls":9},"Конструирует несложные постройки из                  2—3 деталей.","Создаёт постройки «по сюжету» (дом, машина и т.д.)."]
[{"$nulls":9},"Конструирует несложные постройки из                  2—3 деталей.","Создаёт постройки «по сюжету» (дом, машина и т.д.)."]
[{"$nulls":9},"Конструирует несложные постройки из                  2—3 деталей.","Создаёт постройки «по сюжету» (дом, машина и т.д.)."]
[{"$nulls":9},"Конструирует несложные постройки из                  2—3 деталей.","Создаёт постройки «по сюжету» (дом, машина и т.д.)."]
[{"$nulls":9},"Конструирует несложные постройки из                  2—3 деталей.","Создаёт постройки «по сюжету» (дом, машина и т.д.)."]
[{"$nulls":9},"Конструирует несложные постройки из                  2—3 деталей.","Создаёт постройки «по сюжету» (дом, машина и т.д.)."]
[{"$nulls":9},"Конструирует несложные постройки из                  2—3 деталей.","Создаёт постройки «по сюжету» (дом, машина и т.д.)."]
[{"$nulls":9},"Конструирует несложные постройки из                  2—3 деталей.","Создаёт постройки «по сюжету» (дом, машина и т.д.)."]
[{"$nulls":9},"Конструирует несложные постройки из                  2—3 деталей.","Создаёт постройки «по сюжету» (дом, машина и т.д.)."]
[{"$nulls":9},"Конструирует несложные постройки из                  2—3 деталей.","Создаёт постройки «по сюжету» (дом, машина и т.д.)."]
[{"$nulls":9},"Конструирует несложные постройки из                  2—3 деталей.","Создаёт постройки «по сюжету» (дом, машина и т.д.)."]
[{"$nulls":9},"Конструирует несложные постройки из                  2—3 деталей.","Создаёт постройки «по сюжету» (дом, машина и т.д.)."]
[{"$nulls":9},"Конструирует несложные постройки из                  2—3 деталей.","Создаёт постройки «по сюжету» (дом, машина и т.д.)."]
[{"$nulls":9},"Конструирует несложные постройки из                  2—3 деталей.","Создаёт постройки «по сюжету» (дом, машина и т.д.)."]
[{"$nulls":9},"Конструирует несложные постройки из                  2—3 деталей.","Создаёт постройки «по сюжету» (дом, машина и т.д.)."]
[{"$nulls":9},"Конструирует несложные постройки из                  2—3 деталей.","Создаёт постройки «по сюжету» (дом, машина и т.д.)."]
[{"$nulls":9},"Конструирует несложные постройки из                  2—3 деталей.","Создаёт постройки «по сюжету» (дом, машина и т.д.)."]
[{"$nulls":9},"Конструирует несложные постройки из                  2—3 деталей.","Создаёт постройки «по сюжету» (дом, машина и т.д.)."]
[{"$nulls":9},"Конструирует несложные постройки из                  2—3 деталей.","Создаёт постройки «по сюжету» (дом, машина и т.д.)."]
[{"$nulls":9},"Конструирует несложные постройки из                  2—3 деталей.","Создаёт постройки «по сюжету» (дом, машина и т.д.)."]
[{"$nulls":9},"Конструирует несложные постройки из                  2—3 деталей.","Создаёт постройки «по сюжету» (дом, машина и т.д.)."]
[{"$nulls":9},"Конструирует несложные постройки из                  2—3 деталей.","Создаёт постройки «по сюжету» (дом, машина и т.д.)."]
[{"$nulls":9},"Конструирует несложные постройки из                  2—3 деталей.","Создаёт постройки «по сюжету» (дом, машина и т.д.)."]
[{"$nulls":9},"Конструирует несложные постройки из                  2—3 деталей.","Создаёт постройки «по сюжету» (дом, машина и т.д.)."]
[{"$nulls":9},"Конструирует несложные постройки из                  2—3 деталей.","Создаёт постройки «по сюжету» (дом, машина и т.д.)."]
[{"$nulls":9},"Конструирует несложные постройки из                  2—3 деталей.","Создаёт постройки «по сюжету» (дом, машина и т.д.)."]
[{"$nulls":9},"Конструирует несложные постройки из                  2—3 деталей.","Создаёт постройки «по сюжету» (дом, машина и т.д.)."]
[{"$nulls":9},"Конструирует несложные постройки из                  2—3 деталей.","Создаёт постройки «по сюжету» (дом, машина и т.д.)."]
[{"$nulls":9},"Конструирует несложные постройки из                  2—3 деталей.","Создаёт постройки «по сюжету» (дом, машина и т.д.)."]
[{"$nulls":9},"Конструирует несложные постройки из                  2—3 деталей.","Создаёт постройки «по сюжету» (дом, машина и т.д.)."]
[{"$nulls":9},"Конструирует несложные постройки из                  2—3 деталей.","Создаёт постройки «по сюжету» (дом, машина и т.д.)."]
[{"$nulls":9},"Конструирует несложные постройки из                  2—3 деталей.","Создаёт постройки «по сюжету» (дом, машина и т.д.)."]
[{"$nulls":9},"Конструирует несложные постройки из                  2—3 деталей.","Создаёт постройки «по сюжету» (дом, машина и т.д.)."]
[{"$nulls":9},"Конструирует несложные постройки из                  2—3 деталей.","Создаёт постройки «по сюжету» (дом, машина и т.д.)."]
[{"$nulls":9},"Конструирует несложные постройки из                  2—3 деталей.","Создаёт постройки «по сюжету» (дом, машина и т.д.)."]
[{"$nulls":9},"Конструирует несложные постройки из                  2—3 деталей.","Создаёт постройки «по сюжету» (дом, машина и т.д.)."]
[{"$nulls":9},"Конструирует несложные постройки из                  2—3 деталей.","Создаёт постройки «по сюжету» (дом, машина и т.д.)."]
[{"$nulls":9},"Конструирует несложные постройки из                  2—3 деталей.","Создаёт постройки «по сюжету» (дом, машина и т.д.)."]
[{"$nulls":9},"Конструирует несложные постройки из                  2—3 деталей.","Создаёт постройки «по сюжету» (дом, машина и т.д.)."]
[{"$nulls":9},"Конструирует несложные постройки из                  2—3 деталей.","Создаёт постройки «по сюжету» (дом, машина и т.д.)."]
[{"$nulls":9},"Конструирует несложные постройки из                  2—3 деталей.","Создаёт постройки «по сюжету» (дом, машина и т.д.)."]
[{"$nulls":9},"Конструирует несложные постройки из                  2—3 деталей.","Создаёт постройки «по сюжету» (дом, машина и т.д.)."]
[{"$nulls":9},"Конструирует несложные постройки из                  2—3 деталей.","Создаёт постройки «по сюжету» (дом, машина и т.д.)."]
[{"$nulls":9},"Конструирует несложные постройки из                  2—3 деталей.","Создаёт постройки «по сюжету» (дом, машина и т.д.)."]
[{"$nulls":9},"Конструирует несложные постройки из                  2—3 деталей.","Создаёт постройки «по сюжету» (дом, машина и т.д.)."]
[{"$nulls":9},"Конструирует несложные постройки из                  2—3 деталей.","Создаёт постройки «по сюжету» (дом, машина и т.д.)."]
[{"$nulls":9},"Конструирует несложные постройки из                  2—3 деталей.","Создаёт постройки «по сюжету» (дом, машина и т.д.)."]
[{"$nulls":9},"Конструирует несложные постройки из                  2—3 деталей.","Создаёт постройки «по сюжету» (дом, машина и т.д.)."]
[{"$nulls":9},"Конструирует несложные постройки из                  2—3 деталей.","Создаёт постройки «по сюжету» (дом, машина и т.д.)."]
[{"$nulls":9},"Конструирует несложные постройки из                  2—3 деталей.","Создаёт постройки «по сюжету» (дом, машина и т.д.)."]
[{"$nulls":9},"Конструирует несложные постройки из                  2—3 деталей.","Создаёт постройки «по сюжету» (дом, машина и т.д.)."]
[{"$nulls":9},"Конструирует несложные постройки из                  2—3 деталей.","Создаёт постройки «по сюжету» (дом, машина и т.д.)."]
[{"$nulls":9},"Конструирует несложные постройки из                  2—3 деталей.","Создаёт постройки «по сюжету» (дом, машина и т.д.)."]
[{"$nulls":9},"Конструирует несложные постройки из                  2—3 деталей.","Создаёт постройки «по сюжету» (дом, машина и т.д.)."]
[{"$nulls":9},"Конструирует несложные постройки из                  2—3 деталей.","Создаёт постройки «по сюжету» (дом, машина и т.д.)."]
[{"$nulls":9},"Конструирует несложные постройки из                  2—3 деталей.","Создаёт постройки «по сюжету» (дом, машина и т.д.)."]
[{"$nulls":9},"Конструирует несложные постройки из                  2—3 деталей.","Создаёт постройки «по сюжету» (дом, машина и т.д.)."]
[{"$nulls":9},"Конструирует несложные постройки из                  2—3 деталей.","Создаёт постройки «по сюжету» (дом, машина и т.д.)."]
[{"$nulls":9},"Конструирует несложные постройки из                  2—3 деталей.","Создаёт постройки «по сюжету» (дом, машина и т.д.)."]
[{"$nulls":9},"Конструирует несложные постройки из                  2—3 деталей.","Создаёт постройки «по сюжету» (дом, машина и т.д.)."]
[{"$nulls":9},"Конструирует несложные постройки из                  2—3 деталей.","Создаёт постройки «по сюжету» (дом, машина и т.д.)."]
[{"$nulls":9},"Конструирует несложные постройки из                  2—3 деталей.","Создаёт постройки «по сюжету» (дом, машина и т.д.)."]
[{"$nulls":9},"Конструирует несложные постройки из                  2—3 деталей.","Создаёт постройки «по сюжету» (дом, машина и т.д.)."]
[{"$nulls":9},"Конструирует несложные постройки из                  2—3 деталей.","Создаёт постройки «по сюжету» (дом, машина и т.д.)."]
[{"$nulls":9},"Конструирует несложные постройки из                  2—3 деталей.","Создаёт постройки «по сюжету» (дом, машина и т.д.)."]
[{"$nulls":9},"Конструирует несложные постройки из                  2—3 деталей.","Создаёт постройки «по сюжету» (дом, машина и т.д.)."]
[{"$nulls":9},"Конструирует несложные постройки из                  2—3 деталей.","Создаёт постройки «по сюжету» (дом, машина и т.д.)."]
[{"$nulls":9},"Конструирует несложные постройки из                  2—3 деталей.","Создаёт постройки «по сюжету» (дом, машина и т.д.)."]
[{"$nulls":9},"Конструирует несложные постройки из                  2—3 деталей.","Создаёт постройки «по сюжету» (дом, машина и т.д.)."]
[{"$nulls":9},"Конструирует несложные постройки из                  2—3 деталей.","Создаёт постройки «по сюжету» (дом, машина и т.д.)."]
[{"$nulls":9},"Конструирует несложные постройки из                  2—3 деталей.","Создаёт постройки «по сюжету» (дом, машина и т.д.)."]
[{"$nulls":9},"Конструирует несложные постройки из                  2—3 деталей.","Создаёт постройки «по сюжету» (дом, машина и т.д.)."]
[{"$nulls":9},"Конструирует несложные постройки из                  2—3 деталей.","Создаёт постройки «по сюжету» (дом, машина и т.д.)."]
[{"$nulls":9},"Конструирует несложные постройки из                  2—3 деталей.","Создаёт постройки «по сюжету» (дом, машина и т.д.)."]
[{"$nulls":9},"Конструирует несложные постройки из                  2—3 деталей.","Создаёт постройки «по сюжету» (дом, машина и т.д.)."]
[{"$nulls":9},"Конструирует несложные постройки из                  2—3 деталей.","Создаёт постройки «по сюжету» (дом, машина и т.д.)."]
[{"$nulls":9},"Конструирует несложные постройки из                  2—3 деталей.","Создаёт постройки «по сюжету» (дом, машина и т.д.)."]
[{"$nulls":9},"Конструирует несложные постройки из                  2—3 деталей.","Создаёт постройки «по сюжету» (дом, машина и т.д.)."]
[{"$nulls":9},"Конструирует несложные постройки из                  2—3 деталей.","Создаёт постройки «по сюжету» (дом, машина и т.д.)."]
[{"$nulls":9},"Конструирует несложные постройки из                  2—3 деталей.","Создаёт постройки «по сюжету» (дом, машина и т.д.)."]
[{"$nulls":9},"Конструирует несложные постройки из                  2—3 деталей.","Создаёт постройки «по сюжету» (дом, машина и т.д.)."]
[{"$nulls":9},"Конструирует несложные постройки из                  2—3 деталей.","Создаёт постройки «по сюжету» (дом, машина и т.д.)."]
[{"$nulls":9},"Конструирует несложные постройки из                  2—3 деталей.","Создаёт постройки «по сюжету» (дом, машина и т.д.)."]
[{"$nulls":9},"Конструирует несложные постройки из                  2—3 деталей.","Создаёт постройки «по сюжету» (дом, машина и т.д.)."]
[{"$nulls":9},"Конструирует несложные постройки из                  2—3 деталей.","Создаёт постройки «по сюжету» (дом, машина и т.д.)."]
[{"$nulls":9},"Конструирует несложные постройки из                  2—3 деталей.","Создаёт постройки «по сюжету» (дом, машина и т.д.)."]
[{"$nulls":9},"Конструирует несложные постройки из                  2—3 деталей.","Создаёт постройки «по сюжету» (дом, машина и т.д.)."]
[{"$nulls":9},"Конструирует несложные постройки из                  2—3 деталей.","Создаёт постройки «по сюжету» (дом, машина и т.д.)."]
[{"$nulls":9},"Конструирует несложные постройки из                  2—3 деталей.","Создаёт постройки «по сюжету» (дом, машина и т.д.)."]
[{"$nulls":9},"Конструирует несложные постройки из                  2—3 деталей.","Создаёт постройки «по сюжету» (дом, машина и т.д.)."]
[{"$nulls":9},"Конструирует несложные постройки из                  2—3 деталей.","Создаёт постройки «по сюжету» (дом, машина и т.д.)."]
[{"$nulls":9},"Конструирует несложные постройки из                  2—3 деталей.","Создаёт постройки «по сюжету» (дом, машина и т.д.)."]
[{"$nulls":9},"Конструирует несложные постройки из                  2—3 деталей.","Создаёт постройки «по сюжету» (дом, машина и т.д.)."]
[{"$nulls":9},"Конструирует несложные постройки из                  2—3 деталей.","Создаёт постройки «по сюжету» (дом, машина и т.д.)."]
[{"$nulls":9},"Конструирует несложные постройки из                  2—3 деталей.","Создаёт постройки «по сюжету» (дом, машина и т.д.)."]
[{"$nulls":9},"Конструирует несложные постройки из                  2—3 деталей.","Создаёт постройки «по сюжету» (дом, машина и т.д.)."]
[{"$nulls":9},"Конструирует несложные постройки из                  2—3 деталей.","Создаёт постройки «по сюжету» (дом, машина и т.д.)."]
[{"$nulls":9},"Конструирует несложные постройки из                  2—3 деталей.","Создаёт постройки «по сюжету» (дом, машина и т.д.)."]
[{"$nulls":9},"Конструирует несложные постройки из                  2—3 деталей.","Создаёт постройки «по сюжету» (дом, машина и т.д.)."]
[{"$nulls":9},"Конструирует несложные постройки из                  2—3 деталей.","Создаёт постройки «по сюжету» (дом, машина и т.д.)."]
[{"$nulls":9},"Конструирует несложные постройки из                  2—3 деталей.","Создаёт постройки «по сюжету» (дом, машина и т.д.)."]
[{"$nulls":9},"Конструирует несложные постройки из                  2—3 деталей.","Создаёт постройки «по сюжету» (дом, машина и т.д.)."]
[{"$nulls":9},"Конструирует несложные постройки из                  2—3 деталей.","Создаёт постройки «по сюжету» (дом, машина и т.д.)."]
[{"$nulls":9},"Конструирует несложные постройки из                  2—3 деталей.","Создаёт постройки «по сюжету» (дом, машина и т.д.)."]
[{"$nulls":9},"Конструирует несложные постройки из                  2—3 деталей.","Создаёт постройки «по сюжету» (дом, машина и т.д.)."]
[{"$nulls":9},"Конструирует несложные постройки из                  2—3 деталей.","Создаёт постройки «по сюжету» (дом, машина и т.д.)."]
[{"$nulls":9},"Конструирует несложные постройки из                  2—3 деталей.","Создаёт постройки «по сюжету» (дом, машина и т.д.)."]
[{"$nulls":9},"Конструирует несложные постройки из                  2—3 деталей.","Создаёт постройки «по сюжету» (дом, машина и т.д.)."]
[{"$nulls":9},"Конструирует несложные постройки из                  2—3 деталей.","Создаёт постройки «по сюжету» (дом, машина и т.д.)."]
[{"$nulls":9},"Конструирует несложные постройки из                  2—3 деталей.","Создаёт постройки «по сюжету» (дом, машина и т.д.)."]
[{"$nulls":9},"Конструирует несложные постройки из                  2—3 деталей.","Создаёт постройки «по сюжету» (дом, машина и т.д.)."]
[{"$nulls":9},"Конструирует несложные постройки из                  2—3 деталей.","Создаёт постройки «по сюжету» (дом, машина и т.д.)."]
[{"$nulls":9},"Конструирует несложные постройки из                  2—3 деталей.","Создаёт постройки «по сюжету» (дом, машина и т.д.)."]
[{"$nulls":9},"Конструирует несложные постройки из                  2—3 деталей.","Создаёт постройки «по сюжету» (дом, машина и т.д.)."]
[{"$nulls":9},"Конструирует несложные постройки из                  2—3 деталей.","Создаёт постройки «по сюжету» (дом, машина и т.д.)."]
[{"$nulls":9},"Конструирует несложные постройки из                  2—3 деталей.","Создаёт постройки «по сюжету» (дом, машина и т.д.)."]
[{"$nulls":9},"Конструирует несложные постройки из                  2—3 деталей.","Создаёт постройки «по сюжету» (дом, машина и т.д.)."]
[{"$nulls":9},"Конструирует несложные постройки из                  2—3 деталей.","Создаёт постройки «по сюжету» (дом, машина и т.д.)."]
[{"$nulls":9},"Конструирует несложные постройки из                  2—3 деталей.","Создаёт постройки «по сюжету» (дом, машина и т.д.)."]
[{"$nulls":9},"Конструирует несложные постройки из                  2—3 деталей.","Создаёт постройки «по сюжету» (дом, машина и т.д.)."]
[{"$nulls":9},"Конструирует несложные постройки из                  2—3 деталей.","Создаёт постройки «по сюжету» (дом, машина и т.д.)."]
[{"$nulls":9},"Конструирует несложные постройки из                  2—3 деталей.","Создаёт постройки «по сюжету» (дом, машина и т.д.)."]
[{"$nulls":9},"Конструирует несложные постройки из                  2—3 деталей.","Создаёт постройки «по сюжету» (дом, машина и т.д.)."]
[{"$nulls":9},"Конструирует несложные постройки из                  2—3 деталей.","Создаёт постройки «по сюжету» (дом, машина и т.д.)."]
[{"$nulls":9},"Конструирует несложные постройки из                  2—3 деталей.","Создаёт постройки «по сюжету» (дом, машина и т.д.)."]
[{"$nulls":9},"Конструирует несложные постройки из                  2—3 деталей.","Создаёт постройки «по сюжету» (дом, машина и т.д.)."]
[{"$nulls":9},"Конструирует несложные постройки из                  2—3 деталей.","Создаёт постройки «по сюжету» (дом, машина и т.д.)."]
[{"$nulls":9},"Конструирует несложные постройки из                  2—3 деталей.","Создаёт постройки «по сюжету» (дом, машина и т.д.)."]
[{"$nulls":9},"Конструирует несложные постройки из                  2—3 деталей.","Создаёт постройки «по сюжету» (дом, машина и т.д.)."]
[{"$nulls":9},"Конструирует несложные постройки из                  2—3 деталей.","Создаёт постройки «по сюжету» (дом, машина и т.д.)."]
[{"$nulls":9},"Конструирует несложные постройки из                  2—3 деталей.","Создаёт постройки «по сюжету» (дом, машина и т.д.)."]
[{"$nulls":9},"Конструирует несложные постройки из                  2—3 деталей.","Создаёт постройки «по сюжету» (дом, машина и т.д.)."]
[{"$nulls":9},"Конструирует несложные постройки из                  2—3 деталей.","Создаёт постройки «по сюжету» (дом, машина и т.д.)."]
[{"$nulls":9},"Конструирует несложные постройки из                  2—3 деталей.","Создаёт постройки «по сюжету» (дом, машина и т.д.)."]
[{"$nulls":9},"Конструирует несложные постройки из                  2—3 деталей.","Создаёт постройки «по сюжету» (дом, машина и т.д.)."]
[{"$nulls":9},"Конструирует несложные постройки из                  2—3 деталей.","Создаёт постройки «по сюжету» (дом, машина и т.д.)."]
[{"$nulls":9},"Конструирует несложные постройки из                  2—3 деталей.","Создаёт постройки «по сюжету» (дом, машина и т.д.)."]
[{"$nulls":9},"Конструирует несложные постройки из                  2—3 деталей.","Создаёт постройки «по сюжету» (дом, машина и т.д.)."]
[{"$nulls":9},"Конструирует несложные постройки из                  2—3 деталей.","Создаёт постройки «по сюжету» (дом, машина и т.д.)."]
[{"$nulls":9},"Конструирует несложные постройки из                  2—3 деталей.","Создаёт постройки «по сюжету» (дом, машина и т.д.)."]
[{"$nulls":9},"Конструирует несложные постройки из                  2—3 деталей.","Создаёт постройки «по сюжету» (дом, машина и т.д.)."]
[{"$nulls":9},"Конструирует несложные постройки из                  2—3 деталей.","Создаёт постройки «по сюжету» (дом, машина и т.д.)."]
[{"$nulls":9},"Конструирует несложные постройки из                  2—3 деталей.","Создаёт постройки «по сюжету» (дом, машина и т.д.)."]
[{"$nulls":9},"Конструирует несложные постройки из                  2—3 деталей.","Создаёт постройки «по сюжету» (дом, машина и т.д.)."]
[{"$nulls":9},"Конструирует несложные постройки из                  2—3 деталей.","Создаёт постройки «по сюжету» (дом, машина и т.д.)."]
[{"$nulls":9},"Конструирует несложные постройки из                  2—3 деталей.","Создаёт постройки «по сюжету» (дом, машина и т.д.)."]
[{"$nulls":9},"Конструирует несложные постройки из                  2—3 деталей.","Создаёт постройки «по сюжету» (дом, машина и т.д.)."]
[{"$nulls":9},"Конструирует несложные постройки из                  2—3 деталей.","Создаёт постройки «по сюжету» (дом, машина и т.д.)."]
[{"$nulls":9},"Конструирует несложные постройки из                  2—3 деталей.","Создаёт постройки «по сюжету» (дом, машина и т.д.)."]
[{"$nulls":9},"Конструирует несложные постройки из                  2—3 деталей.","Создаёт постройки «по сюжету» (дом, машина и т.д.)."]
[{"$nulls":9},"Конструирует несложные постройки из                  2—3 деталей.","Создаёт постройки «по сюжету» (дом, машина и т.д.)."]
[{"$nulls":9},"Конструирует несложные постройки из                  2—3 деталей.","Создаёт постройки «по сюжету» (дом, машина и т.д.)."]
[{"$nulls":9},"Конструирует несложные постройки из                  2—3 деталей.","Создаёт постройки «по сюжету» (дом, машина и т.д.)."]
[{"$nulls":9},"Конструирует несложные постройки из                  2—3 деталей.","Создаёт постройки «по сюжету» (дом, машина и т.д.)."]
[{"$nulls":9},"Конструирует несложные постройки из                  2—3 деталей.","Создаёт постройки «по сюжету» (дом, машина и т.д.)."]
[{"$nulls":9},"Конструирует несложные постройки из                  2—3 деталей.","Создаёт постройки «по сюжету» (дом, машина и т.д.)."]
[{"$nulls":9},"Конструирует несложные постройки из                  2—3 деталей.","Создаёт постройки «по сюжету» (дом, машина и т.д.)."]
[{"$nulls":9},"Конструирует несложные постройки из                  2—3 деталей.","Создаёт постройки «по сюжету» (дом, машина и т.д.)."]
[{"$nulls":9},"Конструирует несложные постройки из                  2—3 деталей.","Создаёт постройки «по сюжету» (дом, машина и т.д.)."]
[{"$nulls":9},"Конструирует несложные постройки из                  2—3 деталей.","Создаёт постройки «по сюжету» (дом, машина и т.д.)."]
[{"$nulls":9},"Конструирует несложные постройки из                  2—3 деталей.","Создаёт постройки «по сюжету» (дом, машина и т.д.)."]
[{"$nulls":9},"Конструирует несложные постройки из                  2—3 деталей.","Создаёт постройки «по сюжету» (дом, машина и т.д.)."]
[{"$nulls":9},"Конструирует несложные постройки из                  2—3 деталей.","Создаёт постройки «по сюжету» (дом, машина и т.д.)."]
[{"$nulls":9},"Конструирует несложные постройки из                  2—3 деталей.","Создаёт постройки «по сюжету» (дом, машина и т.д.)."]
[{"$nulls":9},"Конструирует несложные постройки из                  2—3 деталей.","Создаёт постройки «по сюжету» (дом, машина и т.д.)."]
[{"$nulls":9},"Конструирует несложные постройки из                  2—3 деталей.","Создаёт постройки «по сюжету» (дом, машина и т.д.)."]
[{"$nulls":9},"Конструирует несложные постройки из                  2—3 деталей.","Создаёт постройки «по сюжету» (дом, машина и т.д.)."]
[{"$nulls":9},"Конструирует несложные постройки из                  2—3 деталей.","Создаёт постройки «по сюжету» (дом, машина и т.д.)."]
[{"$nulls":9},"Конструирует несложные постройки из                  2—3 деталей.","Создаёт постройки «по сюжету» (дом, машина и т.д.)."]
[{"$nulls":9},"Конструирует несложные постройки из                  2—3 деталей.","Создаёт постройки «по сюжету» (дом, машина и т.д.)."]
[{"$nulls":9},"Конструирует несложные постройки из                  2—3 деталей.","Создаёт постройки «по сюжету» (дом, машина и т.д.)."]
[{"$nulls":9},"Конструирует несложные постройки из                  2—3 деталей.","Создаёт постройки «по сюжету» (дом, машина и т.д.)."]
[{"$nulls":9},"Конструирует несложные постройки из                  2—3 деталей.","Создаёт постройки «по сюжету» (дом, машина и т.д.)."]
[{"$nulls":9},"Конструирует несложные постройки из                  2—3 деталей.","Создаёт постройки «по сюжету» (дом, машина и т.д.)."]
[{"$nulls":9},"Конструирует несложные постройки из                  2—3 деталей.","Создаёт постройки «по сюжету» (дом, машина и т.д.)."]
[{"$nulls":9},"Конструирует несложные постройки из                  2—3 деталей.","Создаёт постройки «по сюжету» (дом, машина и т.д.)."]
[{"$nulls":9},"Конструирует несложные постройки из                  2—3 деталей.","Создаёт постройки «по сюжету» (дом, машина и т.д.)."]
[{"$nulls":9},"Конструирует несложные постройки из                  2—3 деталей.","Создаёт постройки «по сюжету» (дом, машина и т.д.)."]
[{"$nulls":9},"Конструирует несложные постройки из                  2—3 деталей.","Создаёт постройки «по сюжету» (дом, машина и т.д.)."]
[{"$nulls":9},"Конструирует несложные постройки из                  2—3 деталей.","Создаёт постройки «по сюжету» (дом, машина и т.д.)."]
[{"$nulls":9},"Конструирует несложные постройки из                  2—3 деталей.","Создаёт постройки «по сюжету» (дом, машина и т.д.)."]
[{"$nulls":9},"Конструирует несложные постройки из                  2—3 деталей.","Создаёт постройки «по сюжету» (дом, машина и т.д.)."]
[{"$nulls":9},"Конструирует несложные постройки из                  2—3 деталей.","Создаёт постройки «по сюжету» (дом, машина и т.д.)."]
[{"$nulls":9},"Конструирует несложные постройки из                  2—3 деталей.","Создаёт постройки «по сюжету» (дом, машина и т.д.)."]
[{"$nulls":9},"Конструирует несложные постройки из                  2—3 деталей.","Создаёт постройки «по сюжету» (дом, машина и т.д.)."]
[{"$nulls":9},"Конструирует несложные постройки из                  2—3 деталей.","Создаёт постройки «по сюжету» (дом, машина и т.д.)."]
[{"$nulls":9},"Конструирует несложные постройки из                  2—3 деталей.","Создаёт постройки «по сюжету» (дом, машина и т.д.)."]
[{"$nulls":9},"Конструирует несложные постройки из                  2—3 деталей.","Создаёт постройки «по сюжету» (дом, машина и т.д.)."]
[{"$nulls":9},"Конструирует несложные постройки из                  2—3 деталей.","Создаёт постройки «по сюжету» (дом, машина и т.д.)."]
[{"$nulls":9},"Конструирует несложные постройки из                  2—3 деталей.","Создаёт постройки «по сюжету» (дом, машина и т.д.)."]
[{"$nulls":9},"Конструирует несложные постройки из                  2—3 деталей.","Создаёт постройки «по сюжету» (дом, машина и т.д.)."]
[{"$nulls":9},"Конструирует несложные постройки из                  2—3 деталей.","Создаёт постройки «по сюжету» (дом, машина и т.д.)."]
[{"$nulls":9},"Конструирует несложные постройки из                  2—3 деталей.","Создаёт постройки «по сюжету» (дом, машина и т.д.)."]
[{"$nulls":9},"Конструирует несложные постройки из                  2—3 деталей.","Создаёт постройки «по сюжету» (дом, машина и т.д.)."]
[{"$nulls":9},"Конструирует несложные постройки из                  2—3 деталей.","Создаёт постройки «по сюжету» (дом, машина и т.д.)."]
[{"$nulls":9},"Конструирует несложные постройки из                  2—3 деталей.","Создаёт постройки «по сюжету» (дом, машина и т.д.)."]
[{"$nulls":9},"Конструирует несложные постройки из                  2—3 деталей.","Создаёт постройки «по сюжету» (дом, машина и т.д.)."]
[{"$nulls":9},"Конструирует несложные постройки из                  2—3 деталей.","Создаёт постройки «по сюжету» (дом, машина и т.д.)."]
[{"$nulls":9},"Конструирует несложные постройки из                  2—3 деталей.","Создаёт постройки «по сюжету» (дом, машина и т.д.)."]
[{"$nulls":9},"Конструирует несложные постройки из                  2—3 деталей.","Создаёт постройки «по сюжету» (дом, машина и т.д.)."]
[{"$nulls":9},"Конструирует несложные постройки из                  2—3 деталей.","Создаёт постройки «по сюжету» (дом, машина и т.д.)."]
[{"$nulls":9},"Конструирует несложные постройки из                  2—3 деталей.","Создаёт постройки «по сюжету» (дом, машина и т.д.)."]
[{"$nulls":9},"Конструирует несложные постройки из                  2—3 деталей.","Создаёт постройки «по сюжету» (дом, машина и т.д.)."]
[{"$nulls":9},"Конструирует несложные постройки из                  2—3 деталей.","Создаёт постройки «по сюжету» (дом, машина и т.д.)."]
[{"$nulls":9},"Конструирует несложные постройки из                  2—3 деталей.","Создаёт постройки «по сюжету» (дом, машина и т.д.)."]
[{"$nulls":9},"Конструирует несложные постройки из                  2—3 деталей.","Создаёт постройки «по сюжету» (дом, машина и т.д.)."]
[{"$nulls":9},"Конструирует несложные постройки из                  2—3 деталей.","Создаёт постройки «по сюжету» (дом, машина и т.д.)."]
[{"$nulls":9},"Конструирует несложные постройки из                  2—3 деталей.","Создаёт постройки «по сюжету» (дом, машина и т.д.)."]
[{"$nulls":9},"Конструирует несложные постройки из                  2—3 деталей.","Создаёт постройки «по сюжету» (дом, машина и т.д.)."]
[{"$nulls":9},"Конструирует несложные постройки из                  2—3 деталей.","Создаёт постройки «по сюжету» (дом, машина и т.д.)."]
[{"$nulls":9},"Конструирует несложные постройки из                  2—3 деталей.","Создаёт постройки «по сюжету» (дом, машина и т.д.)."]
[{"$nulls":9},"Конструирует несложные постройки из                  2—3 деталей.","Создаёт постройки «по сюжету» (дом, машина и т.д.)."]
[{"$nulls":9},"Конструирует несложные постройки из                  2—3 деталей.","Создаёт постройки «по сюжету» (дом, машина и т.д.)."]
[{"$nulls":9},"Конструирует несложные постройки из                  2—3 деталей.","Создаёт постройки «по сюжету» (дом, машина и т.д.)."]
[{"$nulls":9},"Конструирует несложные постройки из                  2—3 деталей.","Создаёт постройки «по сюжету» (дом, машина и т.д.)."]
[{"$nulls":9},"Конструирует несложные постройки из                  2—3 деталей.","Создаёт постройки «по сюжету» (дом, машина и т.д.)."]
[{"$nulls":9},"Конструирует несложные постройки из                  2—3 деталей.","Создаёт постройки «по сюжету» (дом, машина и т.д.)."]
[{"$nulls":9},"Конструирует несложные постройки из                  2—3 деталей.","Создаёт постройки «по сюжету» (дом, машина и т.д.)."]
[{"$nulls":9},"Конструирует несложные постройки из                  2—3 деталей.","Создаёт постройки «по сюжету» (дом, машина и т.д.)."]
[{"$nulls":9},"Конструирует несложные постройки из                  2—3 деталей.","Создаёт постройки «по сюжету» (дом, машина и т.д.)."]
[{"$nulls":9},"Конструирует несложные постройки из                  2—3 деталей.","Создаёт постройки «по сюжету» (дом, машина и т.д.)."]
[{"$nulls":9},"Конструирует несложные постройки из                  2—3 деталей.","Создаёт постройки «по сюжету» (дом, машина и т.д.)."]
[{"$nulls":9},"Конструирует несложные постройки из                  2—3 деталей.","Создаёт постройки «по сюжету» (дом, машина и т.д.)."]
[{"$nulls":9},"Конструирует несложные постройки из                  2—3 деталей.","Создаёт постройки «по сюжету» (дом, машина и т.д.)."]
[{"$nulls":9},"Конструирует несложные постройки из                  2—3 деталей.","Создаёт постройки «по сюжету» (дом, машина и т.д.)."]
[{"$nulls":9},"Конструирует несложные постройки из                  2—3 деталей.","Создаёт постройки «по сюжету» (дом, машина и т.д.)."]
[{"$nulls":9},"Конструирует несложные постройки из                  2—3 деталей.","Создаёт постройки «по сюжету» (дом, машина и т.д.)."]
[{"$nulls":9},"Конструирует несложные постройки из                  2—3 деталей.","Создаёт постройки «по сюжету» (дом, машина и т.д.)."]
[{"$nulls":9},"Конструирует несложные постройки из                  2—3 деталей.","Создаёт постройки «по сюжету» (дом, машина и т.д.)."]
[{"$nulls":9},"Конструирует несложные постройки из                  2—3 деталей.","Создаёт постройки «по сюжету» (дом, машина и т.д.)."]
[{"$nulls":9},"Конструирует несложные постройки из                  2—3 деталей.","Создаёт постройки «по сюжету» (дом, машина и т.д.)."]
[{"$nulls":9},"Конструирует несложные постройки из                  2—3 деталей.","Создаёт постройки «по сюжету» (дом, машина и т.д.)."]
[{"$nulls":9},"Конструирует несложные постройки из                  2—3 деталей.","Создаёт постройки «по сюжету» (дом, машина и т.д.)."]
[{"$nulls":9},"Конструирует несложные постройки из                  2—3 деталей.","Создаёт постройки «по сюжету» (дом, машина и т.д.)."]
[{"$nulls":9},"Конструирует несложные постройки из                  2—3 деталей.","Создаёт постройки «по сюжету» (дом, машина и т.д.)."]
[{"$nulls":9},"Конструирует несложные постройки из                  2—3 деталей.","Создаёт постройки «по сюжету» (дом, машина и т.д.)."]
[{"$nulls":9},"Конструирует несложные постройки из                  2—3 деталей.","Создаёт постройки «по сюжету» (дом, машина и т.д.)."]
[{"$nulls":9},"Конструирует несложные постройки из                  2—3 деталей.","Создаёт постройки «по сюжету» (дом, машина и т.д.)."]
[{"$nulls":9},"Конструирует несложные постройки из                  2—3 деталей.","Создаёт постройки «по сюжету» (дом, машина и т.д.)."]
[{"$nulls":9},"Конструирует несложные постройки из                  2—3 деталей.","Создаёт постройки «по сюжету» (дом, машина и т.д.)."]
[{"$nulls":9},"Конструирует несложные постройки из                  2—3 деталей.","Создаёт постройки «по сюжету» (дом, машина и т.д.)."]
[{"$nulls":9},"Конструирует несложные постройки из                  2—3 деталей.","Создаёт постройки «по сюжету» (дом, машина и т.д.)."]
[{"$nulls":9},"Конструирует несложные постройки из                  2—3 деталей.","Создаёт постройки «по сюжету» (дом, машина и т.д.)."]
[{"$nulls":9},"Конструирует несложные постройки из                  2—3 деталей.","Создаёт постройки «по сюжету» (дом, машина и т.д.)."]
[{"$nulls":9},"Конструирует несложные постройки из                  2—3 деталей.","Создаёт постройки «по сюжету» (дом, машина и т.д.)."]
[{"$nulls":9},"Конструирует несложные постройки из                  2—3 деталей.","Создаёт постройки «по сюжету» (дом, машина и т.д.)."]
[{"$nulls":9},"Конструирует несложные постройки из                  2—3 деталей.","Создаёт постройки «по сюжету» (дом, машина и т.д.)."]
[{"$nulls":9},"Конструирует несложные постройки из                  2—3 деталей.","Создаёт постройки «по сюжету» (дом, машина и т.д.)."]
[{"$nulls":9},"Конструирует несложные постройки из                  2—3 деталей.","Создаёт постройки «по сюжету» (дом, машина и т.д.)."]
[{"$nulls":9},"Конструирует несложные постройки из                  2—3 деталей.","Создаёт постройки «по сюжету» (дом, машина и т.д.)."]
[{"$nulls":9},"Конструирует несложные постройки из                  2—3 деталей.","Создаёт постройки «по сюжету» (дом, машина и т.д.)."]
[{"$nulls":9},"Конструирует несложные постройки из                  2—3 деталей.","Создаёт постройки «по сюжету» (дом, машина и т.д.)."]
[{"$nulls":9},"Конструирует несложные постройки из                  2—3 деталей.","Создаёт постройки «по сюжету» (дом, машина и т.д.)."]
[{"$nulls":9},"Конструирует несложные постройки из                  2—3 деталей.","Создаёт постройки «по сюжету» (дом, машина и т.д.)."]
[{"$nulls":9},"Конструирует несложные постройки из                  2—3 деталей.","Создаёт постройки «по сюжету» (дом, машина и т.д.)."]
[{"$nulls":9},"Конструирует несложные постройки из                  2—3 деталей.","Создаёт постройки «по сюжету» (дом, машина и т.д.)."]
[{"$nulls":9},"Конструирует несложные постройки из                  2—3 деталей.","Создаёт постройки «по сюжету» (дом, машина и т.д.)."]
[{"$nulls":9},"Конструирует несложные постройки из                  2—3 деталей.","Создаёт постройки «по сюжету» (дом, машина и т.д.)."]
[{"$nulls":9},"Конструирует несложные постройки из                  2—3 деталей.","Создаёт постройки «по сюжету» (дом, машина и т.д.)."]
[{"$nulls":9},"Конструирует несложные постройки из                  2—3 деталей.","Создаёт постройки «по сюжету» (дом, машина и т.д.)."]
[{"$nulls":9},"Конструирует несложные постройки из                  2—3 деталей.","Создаёт постройки «по сюжету» (дом, машина и т.д.)."]
[{"$nulls":9},"Конструирует несложные постройки из                  2—3 деталей.","Создаёт постройки «по сюжету» (дом, машина и т.д.)."]
[{"$nulls":9},"Конструирует несложные постройки из                  2—3 деталей.","Создаёт постройки «по сюжету» (дом, машина и т.д.)."]
[{"$nulls":9},"Конструирует несложные постройки из                  2—3 деталей.","Создаёт постройки «по сюжету» (дом, машина и т.д.)."]
[{"$nulls":9},"Конструирует несложные постройки из                  2—3 деталей.","Создаёт постройки «по сюжету» (дом, машина и т.д.)."]
[{"$nulls":9},"Конструирует несложные постройки из                  2—3 деталей.","Создаёт постройки «по сюжету» (дом, машина и т.д.)."]
[{"$nulls":9},"Конструирует несложные постройки из                  2—3 деталей.","Создаёт постройки «по сюжету» (дом, машина и т.д.)."]
[{"$nulls":9},"Конструирует несложные постройки из                  2—3 деталей.","Создаёт постройки «по сюжету» (дом, машина и т.д.)."]
[{"$nulls":9},"Конструирует несложные постройки из                  2—3 деталей.","Создаёт постройки «по сюжету» (дом, машина и т.д.)."]
[{"$nulls":9},"Конструирует несложные постройки из                  2—3 деталей.","Создаёт постройки «по сюжету» (дом, машина и т.д.)."]
[{"$nulls":9},"Конструирует несложные постройки из                  2—3 деталей.","Создаёт постройки «по сюжету» (дом, машина и т.д.)."]
[{"$nulls":9},"Конструирует несложные постройки из                  2—3 деталей.","Создаёт постройки «по сюжету» (дом, машина и т.д.)."]
[{"$nulls":9},"Конструирует несложные постройки из                  2—3 деталей.","Создаёт постройки «по сюжету» (дом, машина и т.д.)."]
[{"$nulls":9},"Конструирует несложные постройки из                  2—3 деталей.","Создаёт постройки «по сюжету» (дом, машина и т.д.)."]
[{"$nulls":9},"Конструирует несложные постройки из                  2—3 деталей.","Создаёт постройки «по сюжету» (дом, машина и т.д.)."]
[{"$nulls":9},"Конструирует несложные постройки из                  2—3 деталей.","Создаёт постройки «по сюжету» (дом, машина и т.д.)."]
[{"$nulls":9},"Конструирует несложные постройки из                  2—3 деталей.","Создаёт постройки «по сюжету» (дом, машина и т.д.)."]
[{"$nulls":9},"Конструирует несложные постройки из                  2—3 деталей.","Создаёт постройки «по сюжету» (дом, машина и т.д.)."]
[{"$nulls":9},"Конструирует несложные постройки из                  2—3 деталей.","Создаёт постройки «по сюжету» (дом, машина и т.д.)."]
[{"$nulls":9},"Конструирует несложные постройки из                  2—3 деталей.","Создаёт постройки «по сюжету» (дом, машина и т.д.)."]
[{"$nulls":9},"Конструирует несложные постройки из                  2—3 деталей.","Создаёт постройки «по сюжету» (дом, машина и т.д.)."]
[{"$nulls":9},"Конструирует несложные постройки из                  2—3 деталей.","Создаёт постройки «по сюжету» (дом, машина и т.д.)."]
[{"$nulls":9},"Конструирует несложные постройки из                  2—3 деталей.","Создаёт постройки «по сюжету» (дом, машина и т.д.)."]
[{"$nulls":9},"Конструирует несложные постройки из                  2—3 деталей.","Создаёт постройки «по сюжету» (дом, машина и т.д.)."]
[{"$nulls":9},"Конструирует несложные постройки из                  2—3 деталей.","Создаёт постройки «по сюжету» (дом, машина и т.д.)."]
[{"$nulls":9},"Конструирует несложные постройки из                  2—3 деталей.","Создаёт постройки «по сюжету» (дом, машина и т.д.)."]
[{"$nulls":9},"Конструирует несложные постройки из                  2—3 деталей.","Создаёт постройки «по сюжету» (дом, машина и т.д.)."]
[{"$nulls":9},"Конструирует несложные постройки из                  2—3 деталей.","Создаёт постройки «по сюжету» (дом, машина и т.д.)."]
[{"$nulls":9},"Конструирует несложные постройки из                  2—3 деталей.","Создаёт постройки «по сюжету» (дом, машина и т.д.)."]
[{"$nulls":9},"Конструирует несложные постройки из                  2—3 деталей.","Создаёт постройки «по сюжету» (дом, машина и т.д.)."]
[{"$nulls":9},"Конструирует несложные постройки из                  2—3 деталей.","Создаёт постройки «по сюжету» (дом, машина и т.д.)."]
[{"$nulls":9},"Конструирует несложные постройки из                  2—3 деталей.","Создаёт постройки «по сюжету» (дом, машина и т.д.)."]
[{"$nulls":9},"Конструирует несложные постройки из                  2—3 деталей.","Создаёт постройки «по сюжету» (дом, машина и т.д.)."]
[{"$nulls":9},"Конструирует несложные постройки из                  2—3 деталей.","Создаёт постройки «по сюжету» (дом, машина и т.д.)."]
[{"$nulls":9},"Конструирует несложные постройки из                  2—3 деталей.","Создаёт постройки «по сюжету» (дом, машина и т.д.)."]
[{"$nulls":9},"Конструирует несложные постройки из                  2—3 деталей.","Создаёт постройки «по сюжету» (дом, машина и т.д.)."]
[{"$nulls":9},"Конструирует несложные постройки из                  2—3 деталей.","Создаёт постройки «по сюжету» (дом, машина и т.д.)."]
[{"$nulls":9},"Конструирует несложные постройки из                  2—3 деталей.","Создаёт постройки «по сюжету» (дом, машина и т.д.)."]
[{"$nulls":9},"Конструирует несложные постройки из                  2—3 деталей.","Создаёт постройки «по сюжету» (дом, машина и т.д.)."]
[{"$nulls":9},"Конструирует несложные постройки из                  2—3 деталей.","Создаёт постройки «по сюжету» (дом, машина и т.д.)."]
[{"$nulls":9},"Конструирует несложные постройки из                  2—3 деталей.","Создаёт постройки «по сюжету» (дом, машина и т.д.)."]
[{"$nulls":9},"Конструирует несложные постройки из                  2—3 деталей.","Создаёт постройки «по сюжету» (дом, машина и т.д.)."]
[{"$nulls":9},"Конструирует несложные постройки из                  2—3 деталей.","Создаёт постройки «по сюжету» (дом, машина и т.д.)."]
[{"$nulls":9},"Конструирует несложные постройки из                  2—3 деталей.","Создаёт постройки «по сюжету» (дом, машина и т.д.)."]
[{"$nulls":9},"Конструирует несложные постройки из                  2—3 деталей.","Создаёт постройки «по сюжету» (дом, машина и т.д.)."]
[{"$nulls":9},"Конструирует несложные постройки из                  2—3 деталей.","Создаёт постройки «по сюжету» (дом, машина и т.д.)."]
[{"$nulls":9},"Конструирует несложные постройки из                  2—3 деталей.","Создаёт постройки «по сюжету» (дом, машина и т.д.)."]
[{"$nulls":9},"Конструирует несложные постройки из                  2—3 деталей.","Создаёт постройки «по сюжету» (дом, машина и т.д.)."]
[{"$nulls":9},"Конструирует несложные постройки из                  2—3 деталей.","Создаёт постройки «по сюжету» (дом, машина и т.д.)."]
[{"$nulls":9},"Конструирует несложные постройки из                  2—3 деталей.","Создаёт постройки «по сюжету» (дом, машина и т.д.)."]
[{"$nulls":9},"Конструирует несложные постройки из                  2—3 деталей.","Создаёт постройки «по сюжету» (дом, машина и т.д.)."]
[{"$nulls":9},"Конструирует несложные постройки из                  2—3 деталей.","Создаёт постройки «по сюжету» (дом, машина и т.д.)."]
[{"$nulls":9},"Конструирует несложные постройки из                  2—3 деталей.","Создаёт постройки «по сюжету» (дом, машина и т.д.)."]
[{"$nulls":9},"Конструирует несложные постройки из                  2—3 деталей.","Создаёт постройки «по сюжету» (дом, машина и т.д.)."]
[{"$nulls":9},"Конструирует несложные постройки из                  2—3 деталей.","Создаёт постройки «по сюжету» (дом, машина и т.д.)."]
[{"$nulls":9},"Конструирует несложные постройки из                  2—3 деталей.","Создаёт постройки «по сюжету» (дом, машина и т.д.)."]
[{"$nulls":9},"Конструирует несложные постройки из                  2—3 деталей.","Создаёт постройки «по сюжету» (дом, машина и т.д.)."]
[{"$nulls":9},"Конструирует несложные постройки из                  2—3 деталей.","Создаёт постройки «по сюжету» (дом, машина и т.д.)."]
[{"$nulls":9},"Конструирует несложные постройки из                  2—3 деталей.","Создаёт постройки «по сюжету» (дом, машина и т.д.)."]
[{"$nulls":9},"Конструирует несложные постройки из                  2—3 деталей.","Создаёт постройки «по сюжету» (дом, машина и т.д.)."]
[{"$nulls":9},"Конструирует несложные постройки из                  2—3 деталей.","Создаёт постройки «по сюжету» (дом, машина и т.д.)."]
[{"$nulls":9},"Конструирует несложные постройки из                  2—3 деталей.","Создаёт постройки «по сюжету» (дом, машина и т.д.)."]
[{"$nulls":9},"Конструирует несложные постройки из                  2—3 деталей.","Создаёт постройки «по сюжету» (дом, машина и т.д.)."]
[{"$nulls":9},"Конструирует несложные постройки из                  2—3 деталей.","Создаёт постройки «по сюжету» (дом, машина и т.д.)."]
[{"$nulls":9},"Конструирует несложные постройки из                  2—3 деталей.","Создаёт постройки «по сюжету» (дом, машина и т.д.)."]
[{"$nulls":9},"Конструирует несложные постройки из                  2—3 деталей.","Создаёт постройки «по сюжету» (дом, машина и т.д.)."]
[{"$nulls":9},"Конструирует несложные постройки из                  2—3 деталей.","Создаёт постройки «по сюжету» (дом, машина и т.д.)."]
[{"$nulls":9},"Конструирует несложные постройки из                  2—3 деталей.","Создаёт постройки «по сюжету» (дом, машина и т.д.)."]
[{"$nulls":9},"Конструирует несложные постройки из                  2—3 деталей.","Создаёт постройки «по сюжету» (дом, машина и т.д.)."]
[{"$nulls":9},"Конструирует несложные постройки из                  2—3 деталей.","Создаёт постройки «по сюжету» (дом, машина и т.д.)."]
[{"$nulls":9},"Конструирует несложные постройки из                  2—3 деталей.","Создаёт постройки «по сюжету» (дом, машина и т.д.)."]
[{"$nulls":9},"Конструирует несложные постройки из                  2—3 деталей.","Создаёт постройки «по сюжету» (дом, машина и т.д.)."]
[{"$nulls":9},"Конструирует несложные постройки из                  2—3 деталей.","Создаёт постройки «по сюжету» (дом, машина и т.д.)."]
[{"$nulls":9},"Конструирует несложные постройки из                  2—3 деталей.","Создаёт постройки «по сюжету» (дом, машина и т.д.)."]
[{"$nulls":9},"Конструирует несложные постройки из                  2—3 деталей.","Создаёт постройки «по сюжету» (дом, машина и т.д.)."]
[{"$nulls":9},"Конструирует несложные постройки из                  2—3 деталей.","Создаёт постройки «по сюжету» (дом, машина и т.д.)."]
[{"$nulls":9},"Конструирует несложные постройки из                  2—3 деталей.","Создаёт постройки «по сюжету» (дом, машина и т.д.)."]
[{"$nulls":9},"Конструирует несложные постройки из                  2—3 деталей.","Создаёт постройки «по сюжету» (дом, машина и т.д.)."]
[{"$nulls":9},"Конструирует несложные постройки из                  2—3 деталей.","Создаёт постройки «по сюжету» (дом, машина и т.д.)."]
[{"$nulls":9},"Конструирует несложные постройки из                  2—3 деталей.","Создаёт постройки «по сюжету» (дом, машина и т.д.)."]
[{"$nulls":9},"Конструирует несложные постройки из                  2—3 деталей.","Создаёт постройки «по сюжету» (дом, машина и т.д.)."]
[{"$nulls":9},"Конструирует несложные постройки из                  2—3 деталей.","Создаёт постройки «по сюжету» (дом, машина и т.д.)."]
[{"$nulls":9},"Конструирует несложные постройки из                  2—3 деталей.","Создаёт постройки «по сюжету» (дом, машина и т.д.)."]
[{"$nulls":9},"Конструирует несложные постройки из                  2—3 деталей.","Создаёт постройки «по сюжету» (дом, машина и т.д.)."]
[{"$nulls":9},"Конструирует несложные постройки из                  2—3 деталей.","Создаёт постройки «по сюжету» (дом, машина и т.д.)."]
[{"$nulls":9},"Конструирует несложные постройки из                  2—3 деталей.","Создаёт постройки «по сюжету» (дом, машина и т.д.)."]
[{"$nulls":9},"Конструирует несложные постройки из                  2—3 деталей.","Создаёт постройки «по сюжету» (дом, машина и т.д.)."]
[{"$nulls":9},"Конструирует несложные постройки из                  2—3 деталей.","Создаёт постройки «по сюжету» (дом, машина и т.д.)."]
[{"$nulls":9},"Конструирует несложные постройки из                  2—3 деталей.","Создаёт постройки «по сюжету» (дом, машина и т.д.)."]
[{"$nulls":9},"Конструирует несложные постройки из                  2—3 деталей.","Создаёт постройки «по сюжету» (дом, машина и т.д.)."]
[{"$nulls":9},"Конструирует несложные постройки из                  2—3 деталей.","Создаёт постройки «по сюжету» (дом, машина и т.д.)."]
[{"$nulls":9},"Конструирует несложные постройки из                  2—3 деталей.","Создаёт постройки «по сюжету» (дом, машина и т.д.)."]
[{"$nulls":9},"Конструирует несложные постройки из                  2—3 деталей.","Создаёт постройки «по сюжету» (дом, машина и т.д.)."]
[{"$nulls":9},"Конструирует несложные постройки из                  2—3 деталей.","Создаёт постройки «по сюжету» (дом, машина и т.д.)."]
[{"$nulls":9},"Конструирует несложные постройки из                  2—3 деталей.","Создаёт постройки «по сюжету» (дом, машина и т.д.)."]
[{"$nulls":9},"Конструирует несложные постройки из                  2—3 деталей.","Создаёт постройки «по сюжету» (дом, машина и т.д.)."]
[{"$nulls":9},"Конструирует несложные постройки из                  2—3 деталей.","Создаёт постройки «по сюжету» (дом, машина и т.д.)."]
[{"$nulls":9},"Конструирует несложные постройки из                  2—3 деталей.","Создаёт постройки «по сюжету» (дом, машина и т.д.)."]
[{"$nulls":9},"Конструирует несложные постройки из                  2—3 деталей.","Создаёт постройки «по сюжету» (дом, машина и т.д.)."]
[{"$nulls":9},"Конструирует несложные постройки из                  2—3 деталей.","Создаёт постройки «по сюжету» (дом, машина и т.д.)."]
[{"$nulls":9},"Конструирует несложные постройки из                  2—3 деталей.","Создаёт постройки «по сюжету» (дом, машина и т.д.)."]
[{"$nulls":9},"Конструирует несложные постройки из                  2—3 деталей.","Создаёт постройки «по сюжету» (дом, машина и т.д.)."]
[{"$nulls":9},"Конструирует несложные постройки из                  2—3 деталей.","Создаёт постройки «по сюжету» (дом, машина и т.д.)."]
[{"$nulls":9},"Конструирует несложные постройки из                  2—3 деталей.","Создаёт постройки «по сюжету» (дом, машина и т.д.)."]
[{"$nulls":9},"Конструирует несложные постройки из                  2—3 деталей.","Создаёт постройки «по сюжету» (дом, машина и т.д.)."]
[{"$nulls":9},"Конструирует несложные постройки из                  2—3 деталей.","Создаёт постройки «по сюжету» (дом, машина и т.д.)."]
[{"$nulls":9},"Конструирует несложные постройки из                  2—3 деталей.","Создаёт постройки «по сюжету» (дом, машина и т.д.)."]
[{"$nulls":9},"Конструирует несложные постройки из                  2—3 деталей.","Создаёт постройки «по сюжету» (дом, машина и т.д.)."]
[{"$nulls":9},"Конструирует несложные постройки из                  2—3 деталей.","Создаёт постройки «по сюжету» (дом, машина и т.д.)."]
[{"$nulls":9},"Конструирует несложные постройки из                  2—3 деталей.","Создаёт постройки «по сюжету» (дом, машина и т.д.)."]
[{"$nulls":9},"Конструирует несложные постройки из                  2—3 деталей.","Создаёт постройки «по сюжету» (дом, машина и т.д.)."]
[{"$nulls":9},"Конструирует несложные постройки из                  2—3 деталей.","Создаёт постройки «по сюжету» (дом, машина и т.д.)."]
[{"$nulls":9},"Конструирует несложные постройки из                  2—3 деталей.","Создаёт постройки «по сюжету» (дом, машина и т.д.)."]
[{"$nulls":9},"Конструирует несложные постройки из                  2—3 деталей.","Создаёт постройки «по сюжету» (дом, машина и т.д.)."]
[{"$nulls":9},"Конструирует несложные постройки из                  2—3 деталей.","Создаёт постройки «по сюжету» (дом, машина и т.д.)."]
[{"$nulls":9},"Конструирует несложные постройки из                  2—3 деталей.","Создаёт постройки «по сюжету» (дом, машина и т.д.)."]
[{"$nulls":9},"Конструирует несложные постройки из                  2—3 деталей.","Создаёт постройки «по сюжету» (дом, машина и т.д.)."]
[{"$nulls":9},"Конструирует несложные постройки из                  2—3 деталей.","Создаёт постройки «по сюжету» (дом, машина и т.д.)."]
[{"$nulls":9},"Конструирует несложные постройки из                  2—3 деталей.","Создаёт постройки «по сюжету» (дом, машина и т.д.)."]
[{"$nulls":9},"Конструирует несложные постройки из                  2—3 деталей.","Создаёт постройки «по сюжету» (дом, машина и т.д.)."]
[{"$nulls":9},"Конструирует несложные постройки из                  2—3 деталей.","Создаёт постройки «по сюжету» (дом, машина и т.д.)."]
[{"$nulls":9},"Конструирует несложные постройки из                  2—3 деталей.","Создаёт постройки «по сюжету» (дом, машина и т.д.)."]
[{"$nulls":9},"Конструирует несложные постройки из                  2—3 деталей.","Создаёт постройки «по сюжету» (дом, машина и т.д.)."]
[{"$nulls":9},"Конструирует несложные постройки из                  2—3 деталей.","Создаёт постройки «по сюжету» (дом, машина и т.д.)."]
[{"$nulls":9},"Конструирует несложные постройки из                  2—3 деталей.","Создаёт постройки «по сюжету» (дом, машина и т.д.)."]
[{"$nulls":9},"Конструирует несложные постройки из                  2—3 деталей.","Создаёт постройки «по сюжету» (дом, машина и т.д.)."]
[{"$nulls":9},"Конструирует несложные постройки из                  2—3 деталей.","Создаёт постройки «по сюжету» (дом, машина и т.д.)."]
[{"$nulls":9},"Конструирует несложные постройки из                  2—3 деталей.","Создаёт постройки «по сюжету» (дом, машина и т.д.)."]
[{"$nulls":9},"Конструирует несложные постройки из                  2—3 деталей.","Создаёт постройки «по сюжету» (дом, машина и т.д.)."]
[{"$nulls":9},"Конструирует несложные постройки из                  2—3 деталей.","Создаёт постройки «по сюжету» (дом, машина и т.д.)."]
[{"$nulls":9},"Конструирует несложные постройки из                  2—3 деталей.","Создаёт постройки «по сюжету» (дом, машина и т.д.)."]
[{"$nulls":9},"Конструирует несложные постройки из                  2—3 деталей.","Создаёт постройки «по сюжету» (дом, машина и т.д.)."]
[{"$nulls":9},"Конструирует несложные постройки из                  2—3 деталей.","Создаёт постройки «по сюжету» (дом, машина и т.д.)."]
[{"$nulls":9},"Конструирует несложные постройки из                  2—3 деталей.","Создаёт постройки «по сюжету» (дом, машина и т.д.)."]
[{"$nulls":9},"Конструирует несложные постройки из                  2—3 деталей.","Создаёт постройки «по сюжету» (дом, машина и т.д.)."]
[{"$nulls":9},"Конструирует несложные постройки из                  2—3 деталей.","Создаёт постройки «по сюжету» (дом, машина и т.д.)."]
[{"$nulls":9},"Конструирует несложные постройки из                  2—3 деталей.","Создаёт постройки «по сюжету» (дом, машина и т.д.)."]
[{"$nulls":9},"Конструирует несложные постройки из                  2—3 деталей.","Создаёт постройки «по сюжету» (дом, машина и т.д.)."]
[{"$nulls":9},"Конструирует несложные постройки из                  2—3 деталей.","Создаёт постройки «по сюжету» (дом, машина и т.д.)."]
[{"$nulls":9},"Конструирует несложные постройки из                  2—3 деталей.","Создаёт постройки «по сюжету» (дом, машина и т.д.)."]
[{"$nulls":9},"Конструирует несложные постройки из                  2—3 деталей.","Создаёт постройки «по сюжету» (дом, машина и т.д.)."]
[{"$nulls":9},"Конструирует несложные постройки из                  2—3 деталей.","Создаёт постройки «по сюжету» (дом, машина и т.д.)."]
[{"$nulls":9},"Конструирует несложные постройки из                  2—3 деталей.","Создаёт постройки «по сюжету» (дом, машина и т.д.)."]
[{"$nulls":9},"Конструирует несложные постройки из                  2—3 деталей.","Создаёт постройки «по сюжету» (дом, машина и т.д.)."]
[{"$nulls":9},"Конструирует несложные постройки из                  2—3 деталей.","Создаёт постройки «по сюжету» (дом, машина и т.д.)."]
[{"$nulls":9},"Конструирует несложные постройки из                  2—3 деталей.","Создаёт постройки «по сюжету» (дом, машина и т.д.)."]
[{"$nulls":9},"Конструирует несложные постройки из                  2—3 деталей.","Создаёт постройки «по сюжету» (дом, машина и т.д.)."]
[{"$nulls":9},"Конструирует несложные постройки из                  2—3 деталей.","Создаёт постройки «по сюжету» (дом, машина и т.д.)."]
[{"$nulls":9},"Конструирует несложные постройки из                  2—3 деталей.","Создаёт постройки «по сюжету» (дом, машина и т.д.)."]
[{"$nulls":9},"Конструирует несложные постройки из                  2—3 деталей.","Создаёт постройки «по сюжету» (дом, машина и т.д.)."]
[{"$nulls":9},"Конструирует несложные постройки из                  2—3 деталей.","Создаёт постройки «по сюжету» (дом, машина и т.д.)."]
[{"$nulls":9},"Конструирует несложные постройки из                  2—3 деталей.","Создаёт постройки «по сюжету» (дом, машина и т.д.)."]
[{"$nulls":9},"Конструирует несложные постройки из                  2—3 деталей.","Создаёт постройки «по сюжету» (дом, машина и т.д.)."]
[{"$nulls":9},"Конструирует несложные постройки из                  2—3 деталей.","Создаёт постройки «по сюжету» (дом, машина и т.д.)."]
[{"$nulls":9},"Конструирует несложные постройки из                  2—3 деталей.","Создаёт постройки «по сюжету» (дом, машина и т.д.)."]
[{"$nulls":9},"Конструирует несложные постройки из                  2—3 деталей.","Создаёт постройки «по сюжету» (дом, машина и т.д.)."]
[{"$nulls":9},"Конструирует несложные постройки из                  2—3 деталей.","Создаёт постройки «по сюжету» (дом, машина и т.д.)."]
[{"$nulls":9},"Конструирует несложные постройки из                  2—3 деталей.","Создаёт постройки «по сюжету» (дом, машина и т.д.)."]
[{"$nulls":9},"Конструирует несложные постройки из                  2—3 деталей.","Создаёт постройки «по сюжету» (дом, машина и т.д.)."]
[{"$nulls":9},"Конструирует несложные постройки из                  2—3 деталей.","Создаёт постройки «по сюжету» (дом, машина и т.д.)."]
[{"$nulls":9},"Конструирует несложные постройки из                  2—3 деталей.","Создаёт постройки «по сюжету» (дом, машина и т.д.)."]
[{"$nulls":9},"Конструирует несложные постройки из                  2—3 деталей.","Создаёт постройки «по сюжету» (дом, машина и т.д.)."]
[{"$nulls":9},"Конструирует несложные постройки из                  2—3 деталей.","Создаёт постройки «по сюжету» (дом, машина и т.д.)."]
[{"$nulls":9},"Конструирует несложные постройки из                  2—3 деталей.","Создаёт постройки «по сюжету» (дом, машина и т.д.)."]
[{"$nulls":9},"Конструирует несложные постройки из                  2—3 деталей.","Создаёт постройки «по сюжету» (дом, машина и т.д.)."]
[{"$nulls":9},"Конструирует несложные постройки из                  2—3 деталей.","Создаёт постройки «по сюжету» (дом, машина и т.д.)."]
[{"$nulls":9},"Конструирует несложные постройки из                  2—3 деталей.","Создаёт постройки «по сюжету» (дом, машина и т.д.)."]
[{"$nulls":9},"Конструирует несложные постройки из                  2—3 деталей.","Создаёт постройки «по сюжету» (дом, машина и т.д.)."]
[{"$nulls":9},"Конструирует несложные постройки из                  2—3 деталей.","Создаёт постройки «по сюжету» (дом, машина и т.д.)."]
[{"$nulls":9},"Конструирует несложные постройки из                  2—3 деталей.","Создаёт постройки «по сюжету» (дом, машина и т.д.)."]
[{"$nulls":9},"Конструирует несложные постройки из                  2—3 деталей.","Создаёт постройки «по сюжету» (дом, машина и т.д.)."]
[{"$nulls":9},"Конструирует несложные постройки из                  2—3 деталей.","Создаёт постройки «по сюжету» (дом, машина и т.д.)."]
[{"$nulls":9},"Конструирует несложные постройки из                  2—3 деталей.","Создаёт постройки «по сюжету» (дом, машина и т.д.)."]
[{"$nulls":9},"Конструирует несложные постройки из                  2—3 деталей.","Создаёт постройки «по сюжету» (дом, машина и т.д.)."]
[{"$nulls":9},"Конструирует несложные постройки из                  2—3 деталей.","Создаёт постройки «по сюжету» (дом, машина и т.д.)."]
[{"$nulls":9},"Конструирует несложные постройки из                  2—3 деталей.","Создаёт постройки «по сюжету» (дом, машина и т.д.)."]
[{"$nulls":9},"Конструирует несложные постройки из                  2—3 деталей.","Создаёт постройки «по сюжету» (дом, машина и т.д.)."]
[{"$nulls":9},"Конструирует несложные постройки из                  2—3 деталей.","Создаёт постройки «по сюжету» (дом, машина и т.д.)."]
[{"$nulls":9},"Конструирует несложные постройки из                  2—3 деталей.","Создаёт постройки «по сюжету» (дом, машина и т.д.)."]
[{"$nulls":9},"Конструирует несложные постройки из                  2—3 деталей.","Создаёт постройки «по сюжету» (дом, машина и т.д.)."]
[{"$nulls":9},"Конструирует несложные постройки из                  2—3 деталей.","Создаёт постройки «по сюжету» (дом, машина и т.д.)."]
[{"$nulls":9},"Конструирует несложные постройки из                  2—3 деталей.","Создаёт постройки «по сюжету» (дом, машина и т.д.)."]
[{"$nulls":9},"Конструирует несложные постройки из                  2—3 деталей.","Создаёт постройки «по сюжету» (дом, машина и т.д.)."]
[{"$nulls":9},"Конструирует несложные постройки из                  2—3 деталей.","Создаёт постройки «по сюжету» (дом, машина и т.д.)."]
[{"$nulls":9},"Конструирует несложные постройки из                  2—3 деталей.","Создаёт постройки «по сюжету» (дом, машина и т.д.)."]
[{"$nulls":9},"Конструирует несложные постройки из                  2—3 деталей.","Создаёт постройки «по сюжету» (дом, машина и т.д.)."]
[{"$nulls":9},"Конструирует несложные постройки из                  2—3 деталей.","Создаёт постройки «по сюжету» (дом, машина и т.д.)."]
[{"$nulls":9},"Конструирует несложные постройки из                  2—3 деталей.","Создаёт постройки «по сюжету» (дом, машина и т.д.)."]
[{"$nulls":9},"Конструирует несложные постройки из                  2—3 деталей.","Создаёт постройки «по сюжету» (дом, машина и т.д.)."]
[{"$nulls":9},"Конструирует несложные постройки из                  2—3 деталей.","Создаёт постройки «по сюжету» (дом, машина и т.д.)."]
[{"$nulls":9},"Конструирует несложные постройки из                  2—3 деталей.","Создаёт постройки «по сюжету» (дом, машина и т.д.)."]
[{"$nulls":9},"Конструирует несложные постройки из                  2—3 деталей.","Создаёт постройки «по сюжету» (дом, машина и т.д.)."]
[{"$nulls":9},"Конструирует несложные постройки из                  2—3 деталей.","Создаёт постройки «по сюжету» (дом, машина и т.д.)."]
[{"$nulls":9},"Конструирует несложные постройки из                  2—3 деталей.","Создаёт постройки «по сюжету» (дом, машина и т.д.)."]
[{"$nulls":9},"Конструирует несложные постройки из                  2—3 деталей.","Создаёт постройки «по сюжету» (дом, машина и т.д.)."]
[{"$nulls":9},"Конструирует несложные постройки из                  2—3 деталей.","Создаёт постройки «по сюжету» (дом, машина и т.д.)."]
[{"$nulls":9},"Конструирует несложные постройки из                  2—3 деталей.","Создаёт постройки «по сюжету» (дом, машина и т.д.)."]
[{"$nulls":9},"Конструирует несложные постройки из                  2—3 деталей.","Создаёт постройки «по сюжету» (дом, машина и т.д.)."]
[{"$nulls":9},"Конструирует несложные постройки из                  2—3 деталей.","Создаёт постройки «по сюжету» (дом, машина и т.д.)."]
[{"$nulls":9},"Конструирует несложные постройки из                  2—3 деталей.","Создаёт постройки «по сюжету» (дом, машина и т.д.)."]
[{"$nulls":9},"Конструирует несложные постройки из                  2—3 деталей.","Создаёт постройки «по сюжету» (дом, машина и т.д.)."]
[{"$nulls":9},"Конструирует несложные постройки из                  2—3 деталей.","Создаёт постройки «по сюжету» (дом, машина и т.д.)."]
[{"$nulls":9},"Конструирует несложные постройки из                  2—3 деталей.","Создаёт постройки «по сюжету» (дом, машина и т.д.)."]
[{"$nulls":9},"Конструирует несложные постройки из                  2—3 деталей.","Создаёт постройки «по сюжету» (дом, машина и т.д.)."]
[{"$nulls":9},"Конструирует несложные постройки из                  2—3 деталей.","Создаёт постройки «по сюжету» (дом, машина и т.д.)."]
[{"$nulls":9},"Конструирует несложные постройки из                  2—3 деталей.","Создаёт постройки «по сюжету» (дом, машина и т.д.)."]
[{"$nulls":9},"Конструирует несложные постройки из                  2—3 деталей.","Создаёт постройки «по сюжету» (дом, машина и т.д.)."]
[{"$nulls":9},"Конструирует несложные постройки из                  2—3 деталей.","Создаёт постройки «по сюжету» (дом, машина и т.д.)."]
[{"$nulls":9},"Конструирует несложные постройки из                  2—3 деталей.","Создаёт постройки «по сюжету» (дом, машина и т.д.)."]
[{"$nulls":9},"Конструирует несложные постройки из                  2—3 деталей.","Создаёт постройки «по сюжету» (дом, машина и т.д.)."]
[{"$nulls":9},"Конструирует несложные постройки из                  2—3 деталей.","Создаёт постройки «по сюжету» (дом, машина и т.д.)."]
[{"$nulls":9},"Конструирует несложные постройки из                  2—3 деталей.","Создаёт постройки «по сюжету» (дом, машина и т.д.)."]
[{"$nulls":9},"Конструирует несложные постройки из                  2—3 деталей.","Создаёт постройки «по сюжету» (дом, машина и т.д.)."]
[{"$nulls":9},"Конструирует несложные постройки из                  2—3 деталей.","Создаёт постройки «по сюжету» (дом, машина и т.д.)."]
[{"$nulls":9},"Конструирует несложные постройки из                  2—3 деталей.","Создаёт постройки «по сюжету» (дом, машина и т.д.)."]
[{"$nulls":9},"Конструирует несложные постройки из                  2—3 деталей.","Создаёт постройки «по сюжету» (дом, машина и т.д.)."]
[{"$nulls":9},"Конструирует несложные постройки из                  2—3 деталей.","Создаёт постройки «по сюжету» (дом, машина и т.д.)."]
[{"$nulls":9},"Конструирует несложные постройки из                  2—3 деталей.","Создаёт постройки «по сюжету» (дом, машина и т.д.)."]
[{"$nulls":9},"Конструирует несложные постройки из                  2—3 деталей.","Создаёт постройки «по сюжету» (дом, машина и т.д.)."]
[{"$nulls":9},"Конструирует несложные постройки из                  2—3 деталей.","Создаёт постройки «по сюжету» (дом, машина и т.д.)."]
[{"$nulls":9},"Конструирует несложные постройки из                  2—3 деталей.","Создаёт постройки «по сюжету» (дом, машина и т.д.)."]
[{"$nulls":9},"Конструирует несложные постройки из                  2—3 деталей.","Создаёт постройки «по сюжету» (дом, машина и т.д.)."]
[{"$nulls":9},"Конструирует несложные постройки из                  2—3 деталей.","Создаёт постройки «по сюжету» (дом, машина и т.д.)."]
[{"$nulls":9},"Конструирует несложные постройки из                  2—3 деталей.","Создаёт постройки «по сюжету» (дом, машина и т.д.)."]
[{"$nulls":9},"Конструирует несложные постройки из                  2—3 деталей.","Создаёт постройки «по сюжету» (дом, машина и т.д.)."]
[{"$nulls":9},"Конструирует несложные постройки из                  2—3 деталей.","Создаёт постройки «по сюжету» (дом, машина и т.д.)."]
[{"$nulls":9},"Конструирует несложные постройки из                  2—3 деталей.","Создаёт постройки «по сюжету» (дом, машина и т.д.)."]
[{"$nulls":9},"Конструирует несложные постройки из                  2—3 деталей.","Создаёт постройки «по сюжету» (дом, машина и т.д.)."]
[{"$nulls":9},"Конструирует несложные постройки из                  2—3 деталей.","Создаёт постройки «по сюжету» (дом, машина и т.д.)."]
[{"$nulls":9},"Конструирует несложные постройки из                  2—3 деталей.","Создаёт постройки «по сюжету» (дом, машина и т.д.)."]
[{"$nulls":9},"Конструирует несложные постройки из                  2—3 деталей.","Создаёт постройки «по сюжету» (дом, машина и т.д.)."]
[{"$nulls":9},"Конструирует несложные постройки из                  2—3 деталей.","Создаёт постройки «по сюжету» (дом, машина и т.д.)."]
[{"$nulls":9},"Конструирует несложные постройки из                  2—3 деталей.","Создаёт постройки «по сюжету» (дом, машина и т.д.)."]
[{"$nulls":9},"Конструирует несложные постройки из                  2—3 деталей.","Создаёт постройки «по сюжету» (дом, машина и т.д.)."]
[{"$nulls":9},"Конструирует несложные постройки из                  2—3 деталей.","Создаёт постройки «по сюжету» (дом, машина и т.д.)."]
[{"$nulls":9},"Конструирует несложные постройки из                  2—3 деталей.","Создаёт постройки «по сюжету» (дом, машина и т.д.)."]
[{"$nulls":9},"Конструирует несложные постройки из                  2—3 деталей.","Создаёт постройки «по сюжету» (дом, машина и т.д.)."]
[{"$nulls":9},"Конструирует несложные постройки из                  2—3 деталей.","Создаёт постройки «по сюжету» (дом, машина и т.д.)."]
[{"$nulls":9},"Конструирует несложные постройки из                  2—3 деталей.","Создаёт постройки «по сюжету» (дом, машина и т.д.)."]
[{"$nulls":9},"Конструирует несложные постройки из                  2—3 деталей.","Создаёт постройки «по сюжету» (дом, машина и т.д.)."]
[{"$nulls":9},"Конструирует несложные постройки из                  2—3 деталей.","Создаёт постройки «по сюжету» (дом, машина и т.д.)."]
[{"$nulls":9},"Конструирует несложные постройки из                  2—3 деталей.","Создаёт постройки «по сюжету» (дом, машина и т.д.)."]
[{"$nulls":9},"Конструирует несложные постройки из                  2—3 деталей.","Создаёт постройки «по сюжету» (дом, машина и т.д.)."]
[{"$nulls":9},"Конструирует несложные постройки из                  2—3 деталей.","Создаёт постройки «по сюжету» (дом, машина и т.д.)."]
[{"$nulls":9},"Конструирует несложные постройки из                  2—3 деталей.","Создаёт постройки «по сюжету» (дом, машина и т.д.)."]
[{"$nulls":9},"Конструирует несложные постройки из                  2—3 деталей.","Создаёт постройки «по сюжету» (дом, машина и т.д.)."]
[{"$nulls":9},"Конструирует несложные постройки из                  2—3 деталей.","Создаёт постройки «по сюжету» (дом, машина и т.д.)."]
[{"$nulls":9},"Конструирует несложные постройки из                  2—3 деталей.","Создаёт постройки «по сюжету» (дом, машина и т.д.)."]
[{"$nulls":9},"Конструирует несложные постройки из                  2—3 деталей.","Создаёт постройки «по сюжету» (дом, машина и т.д.)."]
[{"$nulls":9},"Конструирует несложные постройки из                  2—3 деталей.","Создаёт постройки «по сюжету» (дом, машина и т.д.)."]
[{"$nulls":9},"Конструирует несложные постройки из                  2—3 деталей.","Создаёт постройки «по сюжету» (дом, машина и т.д.)."]
[{"$nulls":9},"Конструирует несложные постройки из                  2—3 деталей.","Создаёт постройки «по сюжету» (дом, машина и т.д.)."]
[{"$nulls":9},"Конструирует несложные постройки из                  2—3 деталей.","Создаёт постройки «по сюжету» (дом, машина и т.д.)."]
[{"$nulls":9},"Конструирует несложные постройки из                  2—3 деталей.","Создаёт постройки «по сюжету» (дом, машина и т.д.)."]
[{"$nulls":9},"Конструирует несложные постройки из                  2—3 деталей.","Создаёт постройки «по сюжету» (дом, машина и т.д.)."]
[{"$nulls":9},"Конструирует несложные постройки из                  2—3 деталей.","Создаёт постройки «по сюжету» (дом, машина и т.д.)."]
[{"$nulls":9},"Конструирует несложные постройки из                  2—3 деталей.","Создаёт постройки «по сюжету» (дом, машина и т.д.)."]
[{"$nulls":9},"Конструирует несложные постройки из                  2—3 деталей.","Создаёт постройки «по сюжету» (дом, машина и т.д.)."]
[{"$nulls":9},"Конструирует несложные постройки из                  2—3 деталей.","Создаёт постройки «по сюжету» (дом, машина и т.д.)."]
[{"$nulls":9},"Конструирует несложные постройки из                  2—3 деталей.","Создаёт постройки «по сюжету» (дом, машина и т.д.)."]
[{"$nulls":9},"Конструирует несложные постройки из                  2—3 деталей.","Создаёт постройки «по сюжету» (дом, машина и т.д.)."]
[{"$nulls":9},"Конструирует несложные постройки из                  2—3 деталей.","Создаёт постройки «по сюжету» (дом, машина и т.д.)."]
[{"$nulls":9},"Конструирует несложные постройки из                  2—3 деталей.","Создаёт постройки «по сюжету» (дом, машина и т.д.)."]
[{"$nulls":9},"Конструирует несложные постройки из                  2—3 деталей.","Создаёт постройки «по сюжету» (дом, машина и т.д.)."]
[{"$nulls":9},"Конструирует несложные постройки из                  2—3 деталей.","Создаёт постройки «по сюжету» (дом, машина и т.д.)."]
[{"$nulls":9},"Конструирует несложные постройки из                  2—3 деталей.","Создаёт постройки «по сюжету» (дом, машина и т.д.)."]
[{"$nulls":9},"Конструирует несложные постройки из                  2—3 деталей.","Создаёт постройки «по сюжету» (дом, машина и т.д.)."]
[{"$nulls":9},"Конструирует несложные постройки из                  2—3 деталей.","Создаёт постройки «по сюжету» (дом, машина и т.д.)."]
[{"$nulls":9},"Конструирует несложные постройки из                  2—3 деталей.","Создаёт постройки «по сюжету» (дом, машина и т.д.)."]
[{"$nulls":9},"Конструирует несложные постройки из                  2—3 деталей.","Создаёт постройки «по сюжету» (дом, машина и т.д.)."]
[{"$nulls":9},"Конструирует несложные постройки из                  2—3 деталей.","Создаёт постройки «по сюжету» (дом, машина и т.д.)."]
[{"$nulls":9},"Конструирует несложные постройки из                  2—3 деталей.","Создаёт постройки «по сюжету» (дом, машина и т.д.)."]
[{"$nulls":9},"Конструирует несложные постройки из                  2—3 деталей.","Создаёт постройки «по сюжету» (дом, машина и т.д.)."]
[{"$nulls":9},"Конструирует несложные постройки из                  2—3 деталей.","Создаёт постройки «по сюжету» (дом, машина и т.д.)."]
[{"$nulls":9},"Конструирует несложные постройки из                  2—3 деталей.","Создаёт постройки «по сюжету» (дом, машина и т.д.)."]
[{"$nulls":9},"Конструирует несложные постройки из                  2—3 деталей.","Создаёт постройки «по сюжету» (дом, машина и т.д.)."]
[{"$nulls":9},"Конструирует несложные постройки из                  2—3 деталей.","Создаёт постройки «по сюжету» (дом, машина и т.д.)."]
[{"$nulls":9},"Конструирует несложные постройки из                  2—3 деталей.","Создаёт постройки «по сюжету» (дом, машина и т.д.)."]
[{"$nulls":9},"Конструирует несложные постройки из                  2—3 деталей.","Создаёт постройки «по сюжету» (дом, машина и т.д.)."]
[{"$nulls":9},"Конструирует несложные постройки из                  2—3 деталей.","Создаёт постройки «по сюжету» (дом, машина и т.д.)."]
[{"$nulls":9},"Конструирует несложные постройки из                  2—3 деталей.","Создаёт постройки «по сюжету» (дом, машина и т.д.)."]
[{"$nulls":9},"Конструирует несложные постройки из                  2—3 деталей.","Создаёт постройки «по сюжету» (дом, машина и т.д.)."]
[{"$nulls":9},"Конструирует несложные постройки из                  2—3 деталей.","Создаёт постройки «по сюжету» (дом, машина и т.д.)."]
[{"$nulls":9},"Конструирует несложные постройки из                  2—3 деталей.","Создаёт постройки «по сюжету» (дом, машина и т.д.)."]
[{"$nulls":9},"Конструирует несложные постройки из                  2—3 деталей.","Создаёт постройки «по сюжету» (дом, машина и т.д.)."]
[{"$nulls":9},"Конструирует несложные постройки из                  2—3 деталей.","Создаёт постройки «по сюжету» (дом, машина и т.д.)."]
[{"$nulls":9},"Конструирует несложные постройки из                  2—3 деталей.","Создаёт постройки «по сюжету» (дом, машина и т.д.)."]
[{"$nulls":9},"Конструирует несложные постройки из                  2—3 деталей.","Создаёт постройки «по сюжету» (дом, машина и т.д.)."]
[{"$nulls":9},"Конструирует несложные постройки из                  2—3 деталей.","Создаёт постройки «по сюжету» (дом, машина и т.д.)."]
[{"$nulls":9},"Конструирует несложные постройки из                  2—3 деталей.","Создаёт постройки «по сюжету» (дом, машина и т.д.)."]
[{"$nulls":9},"Конструирует несложные постройки из                  2—3 деталей.","Создаёт постройки «по сюжету» (дом, машина и т.д.)."]
[{"$nulls":9},"Конструирует несложные постройки из                  2—3 деталей.","Создаёт постройки «по сюжету» (дом, машина и т.д.)."]
[{"$nulls":9},"Конструирует несложные постройки из                  2—3 деталей.","Создаёт постройки «по сюжету» (дом, машина и т.д.)."]
[{"$nulls":9},"Конструирует несложные постройки из                  2—3 деталей.","Создаёт постройки «по сюжету» (дом, машина и т.д.)."]
[{"$nulls":9},"Конструирует несложные постройки из                  2—3 деталей.","Создаёт постройки «по сюжету» (дом, машина и т.д.)."]
[{"$nulls":9},"Конструирует несложные постройки из                  2—3 деталей.","Создаёт постройки «по сюжету» (дом, машина и т.д.)."]
[{"$nulls":9},"Конструирует несложные постройки из                  2—3 деталей.","Создаёт постройки «по сюжету» (дом, машина и т.д.)."]
[{"$nulls":9},"Конструирует несложные постройки из                  2—3 деталей.","Создаёт постройки «по сюжету» (дом, машина и т.д.)."]
[{"$nulls":9},"Конструирует несложные постройки из                  2—3 деталей.","Создаёт постройки «по сюжету» (дом, машина и т.д.)."]
[{"$nulls":9},"Конструирует несложные постройки из                  2—3 деталей.","Создаёт постройки «по сюжету» (дом, машина и т.д.)."]
[{"$nulls":9},"Конструирует несложные постройки из                  2—3 деталей.","Создаёт постройки «по сюжету» (дом, машина и т.д.)."]
[{"$nulls":9},"Конструирует несложные постройки из                  2—3 деталей.","Создаёт постройки «по сюжету» (дом, машина и т.д.)."]
[{"$nulls":9},"Конструирует несложные постройки из                  2—3 деталей.","Создаёт постройки «по сюжету» (дом, машина и т.д.)."]
[{"$nulls":9},"Конструирует несложные постройки из                  2—3 деталей.","Создаёт постройки «по сюжету» (дом, машина и т.д.)."]
[{"$nulls":9},"Конструирует несложные постройки из                  2—3 деталей.","Создаёт постройки «по сюжету» (дом, машина и т.д.)."]
[{"$nulls":9},"Конструирует несложные постройки из                  2—3 деталей.","Создаёт постройки «по сюжету» (дом, машина и т.д.)."]
[{"$nulls":9},"Конструирует несложные постройки из                  2—3 деталей.","Создаёт постройки «по сюжету» (дом, машина и т.д.)."]
[{"$nulls":9},"Конструирует несложные постройки из                  2—3 деталей.","Создаёт постройки «по сюжету» (дом, машина и т.д.)."]
[{"$nulls":9},"Конструирует несложные постройки из                  2—3 деталей.","Создаёт постройки «по сюжету» (дом, машина и т.д.)."]
[{"$nulls":9},"Конструирует несложные постройки из                  2—3 деталей.","Создаёт постройки «по сюжету» (дом, машина и т.д.)."]
[{"$nulls":9},"Конструирует несложные постройки из                  2—3 деталей.","Создаёт постройки «по сюжету» (дом, машина и т.д.)."]
[{"$nulls":9},"Конструирует несложные постройки из                  2—3 деталей.","Создаёт постройки «по сюжету» (дом, машина и т.д.)."]
[{"$nulls":9},"Конструирует несложные постройки из                  2—3 деталей.","Создаёт постройки «по сюжету» (дом, машина и т.д.)."]
[{"$nulls":9},"Конструирует несложные постройки из                  2—3 деталей.","Создаёт постройки «по сюжету» (дом, машина и т.д.)."]
[{"$nulls":9},"Конструирует несложные постройки из                  2—3 деталей.","Создаёт постройки «по сюжету» (дом, машина и т.д.)."]
[{"$nulls":9},"Конструирует несложные постройки из                  2—3 деталей.","Создаёт постройки «по сюжету» (дом, машина и т.д.)."]
[{"$nulls":9},"Конструирует несложные постройки из                  2—3 деталей.","Создаёт постройки «по сюжету» (дом, машина и т.д.)."]
[{"$nulls":9},"Конструирует несложные постройки из                  2—3 деталей.","Создаёт постройки «по сюжету» (дом, машина и т.д.)."]
[{"$nulls":9},"Конструирует несложные постройки из                  2—3 деталей.","Создаёт постройки «по сюжету» (дом, машина и т.д.)."]
[{"$nulls":9},"Конструирует несложные постройки из                  2—3 деталей.","Создаёт постройки «по сюжету» (дом, машина и т.д.)."]
[{"$nulls":9},"Конструирует несложные постройки из                  2—3 деталей.","Создаёт постройки «по сюжету» (дом, машина и т.д.)."]
[{"$nulls":9},"Конструирует несложные постройки из                  2—3 деталей.","Создаёт постройки «по сюжету» (дом, машина и т.д.)."]
[{"$nulls":9},"Конструирует несложные постройки из                  2—3 деталей.","Создаёт постройки «по сюжету» (дом, машина и т.д.)."]
[{"$nulls":9},"Конструирует несложные постройки из                  2—3 деталей.","Создаёт постройки «по сюжету» (дом, машина и т.д.)."]
[{"$nulls":9},"Конструирует несложные постройки из                  2—3 деталей.","Создаёт постройки «по сюжету» (дом, машина и т.д.)."]
[{"$nulls":9},"Конструирует несложные постройки из                  2—3 деталей.","Создаёт постройки «по сюжету» (дом, машина и т.д.)."]
[{"$nulls":9},"Конструирует несложные постройки из                  2—3 деталей.","Создаёт постройки «по сюжету» (дом, машина и т.д.)."]
[{"$nulls":9},"Конструирует несложные постройки из                  2—3 деталей.","Создаёт постройки «по сюжету» (дом, машина и т.д.)."]
[{"$nulls":9},"Конструирует несложные постройки из                  2—3 деталей.","Создаёт постройки «по сюжету» (дом, машина и т.д.)."]
[{"$nulls":9},"Конструирует несложные постройки из                  2—3 деталей.","Создаёт постройки «по сюжету» (дом, машина и т.д.)."]
[{"$nulls":9},"Конструирует несложные постройки из                  2—3 деталей.","Создаёт постройки «по сюжету» (дом, машина и т.д.)."]
[{"$nulls":9},"Конструирует несложные постройки из                  2—3 деталей.","Создаёт постройки «по сюжету» (дом, машина и т.д.)."]
[{"$nulls":9},"Конструирует несложные постройки из                  2—3 деталей.","Создаёт постройки «по сюжету» (дом, машина и т.д.)."]
[{"$nulls":9},"Конструирует несложные постройки из                  2—3 деталей.","Создаёт постройки «по сюжету» (дом, машина и т.д.)."]
[{"$nulls":9},"Конструирует несложные постройки из                  2—3 деталей.","Создаёт постройки «по сюжету» (дом, машина и т.д.)."]
[{"$nulls":9},"Конструирует несложные постройки из                  2—3 деталей.","Создаёт постройки «по сюжету» (дом, машина и т.д.)."]
[{"$nulls":9},"Конструирует несложные постройки из                  2—3 деталей.","Создаёт постройки «по сюжету» (дом, машина и т.д.)."]
[{"$nulls":9},"Конструирует несложные постройки из                  2—3 деталей.","Создаёт постройки «по сюжету» (дом, машина и т.д.)."]
[{"$nulls":9},"Конструирует несложные постройки из                  2—3 деталей.","Создаёт постройки «по сюжету» (дом, машина и т.д.)."]
[{"$nulls":9},"Конструирует несложные постройки из                  2—3 деталей.","Создаёт постройки «по сюжету» (дом, машина и т.д.)."]
[{"$nulls":9},"Конструирует несложные постройки из                  2—3 деталей.","Создаёт постройки «по сюжету» (дом, машина и т.д.)."]
[{"$nulls":9},"Конструирует несложные постройки из                  2—3 деталей.","Создаёт постройки «по сюжету» (дом, машина и т.д.)."]
[{"$nulls":9},"Конструирует несложные постройки из                  2—3 деталей.","Создаёт постройки «по сюжету» (дом, машина и т.д.)."]
[{"$nulls":9},"Конструирует несложные постройки из                  2—3 деталей.","Создаёт постройки «по сюжету» (дом, машина и т.д.)."]
[{"$nulls":9},"Конструирует несложные постройки из                  2—3 деталей.","Создаёт постройки «по сюжету» (дом, машина и т.д.)."]
[{"$nulls":9},"Конструирует несложные постройки из                  2—3 деталей.","Создаёт постройки «по сюжету» (дом, машина и т.д.)."]
[{"$nulls":9},"Конструирует несложные постройки из                  2—3 деталей.","Создаёт постройки «по сюжету» (дом, машина и т.д.)."]
[{"$nulls":9},"Конструирует несложные постройки из                  2—3 деталей.","Создаёт постройки «по сюжету» (дом, машина и т.д.)."]
[{"$nulls":9},"Конструирует несложные постройки из                  2—3 деталей.","Создаёт постройки «по сюжету» (дом, машина и т.д.)."]
[{"$nulls":9},"Конструирует несложные постройки из                  2—3 деталей.","Создаёт постройки «по сюжету» (дом, машина и т.д.)."]
[{"$nulls":9},"Конструирует несложные постройки из                  2—3 деталей.","Создаёт постройки «по сюжету» (дом, машина и т.д.)."]
[{"$nulls":9},"Конструирует несложные постройки из                  2—3 деталей.","Создаёт постройки «по сюжету» (дом, машина и т.д.)."]
[{"$nulls":9},"Конструирует несложные постройки из                  2—3 деталей.","Создаёт постройки «по сюжету» (дом, машина и т.д.)."]
[{"$nulls":9},"Конструирует несложные постройки из                  2—3 деталей.","Создаёт постройки «по сюжету» (дом, машина и т.д.)."]
[{"$nulls":9},"Конструирует несложные постройки из                  2—3 деталей.","Создаёт постройки «по сюжету» (дом, машина и т.д.)."]
[{"$nulls":9},"Конструирует несложные постройки из                  2—3 деталей.","Создаёт постройки «по сюжету» (дом, машина и т.д.)."]
[{"$nulls":9},"Конструирует несложные постройки из                  2—3 деталей.","Создаёт постройки «по сюжету» (дом, машина и т.д.)."]
[{"$nulls":9},"Конструирует несложные постройки из                  2—3 деталей.","Создаёт постройки «по сюжету» (дом, машина и т.д.)."]
[{"$nulls":9},"Конструирует несложные постройки из                  2—3 деталей.","Создаёт постройки «по сюжету» (дом, машина и т.д.)."]
[{"$nulls":9},"Конструирует несложные постройки из                  2—3 деталей.","Создаёт постройки «по сюжету» (дом, машина и т.д.)."]
[{"$nulls":9},"Конструирует несложные постройки из                  2—3 деталей.","Создаёт постройки «по сюжету» (дом, машина и т.д.)."]
[{"$nulls":9},"Конструирует несложные постройки из                  2—3 деталей.","Создаёт постройки «по сюжету» (дом, машина и т.д.)."]
[{"$nulls":9},"Конструирует несложные постройки из                  2—3 деталей.","Создаёт постройки «по сюжету» (дом, машина и т.д.)."]
[{"$nulls":9},"Конструирует несложные постройки из                  2—3 деталей.","Создаёт постройки «по сюжету» (дом, машина и т.д.)."]
[{"$nulls":9},"Конструирует несложные постройки из                  2—3 деталей.","Создаёт постройки «по сюжету» (дом, машина и т.д.)."]
[{"$nulls":9},"Конструирует несложные постройки из                  2—3 деталей.","Создаёт постройки «по сюжету» (дом, машина и т.д.)."]
[{"$nulls":9},"Конструирует несложные постройки из                  2—3 деталей.","Создаёт постройки «по сюжету» (дом, машина и т.д.)."]
[{"$nulls":9},"Конструирует несложные постройки из                  2—3 деталей.","Создаёт постройки «по сюжету» (дом, машина и т.д.)."]
[{"$nulls":9},"Конструирует несложные постройки из                  2—3 деталей.","Создаёт постройки «по сюжету» (дом, машина и т.д.)."]
[{"$nulls":9},"Конструирует несложные постройки из                  2—3 деталей.","Создаёт постройки «по сюжету» (дом, машина и т.д.)."]
[{"$nulls":9},"Конструирует несложные постройки из                  2—3 деталей.","Создаёт постройки «по сюжету» (дом, машина и т.д.)."]
[{"$nulls":9},"Конструирует несложные постройки из                  2—3 деталей.","Создаёт постройки «по сюжету» (дом, машина и т.д.)."]
[{"$nulls":9},"Конструирует несложные постройки из                  2—3 деталей.","Создаёт постройки «по сюжету» (дом, машина и т.д.)."]
[{"$nulls":9},"Конструирует несложные постройки из                  2—3 деталей.","Создаёт постройки «по сюжету» (дом, машина и т.д.)."]
[{"$nulls":9},"Конструирует несложные постройки из                  2—3 деталей.","Создаёт постройки «по сюжету» (дом, машина и т.д.)."]
[{"$nulls":9},"Конструирует несложные постройки из                  2—3 деталей.","Создаёт постройки «по сюжету» (дом, машина и т.д.)."]
[{"$nulls":9},"Конструирует несложные постройки из                  2—3 деталей.","Создаёт постройки «по сюжету» (дом, машина и т.д.)."]
[{"$nulls":9},"Конструирует несложные постройки из                  2—3 деталей.","Создаёт постройки «по сюжету» (дом, машина и т.д.)."]
[{"$nulls":9},"Конструирует несложные постройки из                  2—3 деталей.","Создаёт постройки «по сюжету» (дом, машина и т.д.)."]
[{"$nulls":9},"Конструирует несложные постройки из                  2—3 деталей.","Создаёт постройки «по сюжету» (дом, машина и т.д.)."]
[{"$nulls":9},"Конструирует несложные постройки из                  2—3 деталей.","Создаёт постройки «по сюжету» (дом, машина и т.д.)."]
[{"$nulls":9},"Конструирует несложные постройки из                  2—3 деталей.","Создаёт постройки «по сюжету» (дом, машина и т.д.)."]
[{"$nulls":9},"Конструирует несложные постройки из                  2—3 деталей.","Создаёт постройки «по сюжету» (дом, машина и т.д.)."]
[{"$nulls":9},"Конструирует несложные постройки из                  2—3 деталей.","Создаёт постройки «по сюжету» (дом, машина и т.д.)."]
[{"$nulls":9},"Конструирует несложные постройки из                  2—3 деталей.","Создаёт постройки «по сюжету» (дом, машина и т.д.)."]
[{"$nulls":9},"Конструирует несложные постройки из                  2—3 деталей.","Создаёт постройки «по сюжету» (дом, машина и т.д.)."]
[{"$nulls":9},"Конструирует несложные постройки из                  2—3 деталей.","Создаёт постройки «по сюжету» (дом, машина и т.д.)."]
[{"$nulls":9},"Конструирует несложные постройки из                  2—3 деталей.","Создаёт постройки «по сюжету» (дом, машина и т.д.)."]
[{"$nulls":9},"Конструирует несложные постройки из                  2—3 деталей.","Создаёт постройки «по сюжету» (дом, машина и т.д.)."]
[{"$nulls":9},"Конструирует несложные постройки из                  2—3 деталей.","Создаёт постройки «по сюжету» (дом, машина и т.д.)."]
[{"$nulls":9},"Конструирует несложные постройки из                  2—3 деталей.","Создаёт постройки «по сюжету» (дом, машина и т.д.)."]
[{"$nulls":9},"Конструирует несложные постройки из                  2—3 деталей.","Создаёт постройки «по сюжету» (дом, машина и т.д.)."]
[{"$nulls":9},"Конструирует несложные постройки из                  2—3 деталей.","Создаёт постройки «по сюжету» (дом, машина и т.д.)."]
[{"$nulls":9},"Конструирует несложные постройки из                  2—3 деталей.","Создаёт постройки «по сюжету» (дом, машина и т.д.)."]
[{"$nulls":9},"Конструирует несложные постройки из                  2—3 деталей.","Создаёт постройки «по сюжету» (дом, машина и т.д.)."]
[{"$nulls":9},"Конструирует несложные постройки из                  2—3 деталей.","Создаёт постройки «по сюжету» (дом, машина и т.д.)."]
[{"$nulls":9},"Конструирует несложные постройки из                  2—3 деталей.","Создаёт постройки «по сюжету» (дом, машина и т.д.)."]
[{"$nulls":9},"Конструирует несложные постройки из                  2—3 деталей.","Создаёт постройки «по сюжету» (дом, машина и т.д.)."]
[{"$nulls":9},"Конструирует несложные постройки из                  2—3 деталей.","Создаёт постройки «по сюжету» (дом, машина и т.д.)."]
[{"$nulls":9},"Конструирует несложные постройки из                  2—3 деталей.","Создаёт постройки «по сюжету» (дом, машина и т.д.)."]
[{"$nulls":9},"Конструирует несложные постройки из                  2—3 деталей.","Создаёт постройки «по сюжету» (дом, машина и т.д.)."]
[{"$nulls":9},"Конструирует несложные постройки из                  2—3 деталей.","Создаёт постройки «по сюжету» (дом, машина и т.д.)."]
[{"$nulls":9},"Конструирует несложные постройки из                  2—3 деталей.","Создаёт постройки «по сюжету» (дом, машина и т.д.)."]
[{"$nulls":9},"Конструирует несложные постройки из                  2—3 деталей.","Создаёт постройки «по сюжету» (дом, машина и т.д.)."]
[{"$nulls":9},"Конструирует несложные постройки из                  2—3 деталей.","Создаёт постройки «по сюжету» (дом, машина и т.д.)."]
[{"$nulls":9},"Конструирует несложные постройки из                  2—3 деталей.","Создаёт постройки «по сюжету» (дом, машина и т.д.)."]
[{"$nulls":9},"Конструирует несложные постройки из                  2—3 деталей.","Создаёт постройки «по сюжету» (дом, машина и т.д.)."]
[{"$nulls":9},"Конструирует несложные постройки из                  2—3 деталей.","Создаёт постройки «по сюжету» (дом, машина и т.д.)."]
[{"$nulls":9},"Конструирует несложные постройки из                  2—3 деталей.","Создаёт постройки «по сюжету» (дом, машина и т.д.)."]
[{"$nulls":9},"Конструирует несложные постройки из                  2—3 деталей.","Создаёт постройки «по сюжету» (дом, машина и т.д.)."]
[{"$nulls":9},"Конструирует несложные постройки из                  2—3 деталей.","Создаёт постройки «по сюжету» (дом, машина и т.д.)."]
[{"$nulls":9},"Конструирует несложные постройки из                  2—3 деталей.","Создаёт постройки «по сюжету» (дом, машина и т.д.)."]
[{"$nulls":9},"Конструирует несложные постройки из                  2—3 деталей.","Создаёт постройки «по сюжету» (дом, машина и т.д.)."]
[{"$nulls":9},"Конструирует несложные постройки из                  2—3 деталей.","Создаёт постройки «по сюжету» (дом, машина и т.д.)."]
[{"$nulls":9},"Конструирует несложные постройки из                  2—3 деталей.","Создаёт постройки «по сюжету» (дом, машина и т.д.)."]
[{"$nulls":9},"Конструирует несложные постройки из                  2—3 деталей.","Создаёт постройки «по сюжету» (дом, машина и т.д.)."]
[{"$nulls":9},"Конструирует несложные постройки из                  2—3 деталей.","Создаёт постройки «по сюжету» (дом, машина и т.д.)."]
[{"$nulls":9},"Конструирует несложные постройки из                  2—3 деталей.","Создаёт постройки «по сюжету» (дом, машина и т.д.)."]
[{"$nulls":9},"Конструирует несложные постройки из                  2—3 деталей.","Создаёт постройки «по сюжету» (дом, машина и т.д.)."]
[{"$nulls":9},"Конструирует несложные постройки из                  2—3 деталей.","Создаёт постройки «по сюжету» (дом, машина и т.д.)."]
[{"$nulls":9},"Конструирует несложные постройки из                  2—3 деталей.","Создаёт постройки «по сюжету» (дом, машина и т.д.)."]
[{"$nulls":9},"Конструирует несложные постройки из                  2—3 деталей.","Создаёт постройки «по сюжету» (дом, машина и т.д.)."]
[{"$nulls":9},"Конструирует несложные постройки из                  2—3 деталей.","Создаёт постройки «по сюжету» (дом, машина и т.д.)."]
[{"$nulls":9},"Конструирует несложные постройки из                  2—3 деталей.","Создаёт постройки «по сюжету» (дом, машина и т.д.)."]
[{"$nulls":9},"Конструирует несложные постройки из                  2—3 деталей.","Создаёт постройки «по сюжету» (дом, машина и т.д.)."]
[{"$nulls":9},"Конструирует несложные постройки из                  2—3 деталей.","Создаёт постройки «по сюжету» (дом, машина и т.д.)."]
[{"$nulls":9},"Конструирует несложные постройки из                  2—3 деталей.","Создаёт постройки «по сюжету» (дом, машина и т.д.)."]
[{"$nulls":9},"Конструирует несложные постройки из                  2—3 деталей.","Создаёт постройки «по сюжету» (дом, машина и т.д.)."]
[{"$nulls":9},"Конструирует несложные постройки из                  2—3 деталей.","Создаёт постройки «по сюжету» (дом, машина и т.д.)."]
[{"$nulls":9},"Конструирует несложные постройки из                  2—3 деталей.","Создаёт постройки «по сюжету» (дом, машина и т.д.)."]
[{"$nulls":9},"Конструирует несложные постройки из                  2—3 деталей.","Создаёт постройки «по сюжету» (дом, машина и т.д.)."]
[{"$nulls":9},"Конструирует несложные постройки из                  2—3 деталей.","Создаёт постройки «по сюжету» (дом, машина и т.д.)."]
[{"$nulls":9},"Конструирует несложные постройки из                  2—3 деталей.","Создаёт постройки «по сюжету» (дом, машина и т.д.)."]
[{"$nulls":9},"Конструирует несложные постройки из                  2—3 деталей.","Создаёт постройки «по сюжету» (дом, машина и т.д.)."]
[{"$nulls":9},"Конструирует несложные постройки из                  2—3 деталей.","Создаёт постройки «по сюжету» (дом, машина и т.д.)."]
[{"$nulls":9},"Конструирует несложные постройки из                  2—3 деталей.","Создаёт постройки «по сюжету» (дом, машина и т.д.)."]
[{"$nulls":9},"Конструирует несложные постройки из                  2—3 деталей.","Создаёт постройки «по сюжету» (дом, машина и т.д.)."]
[{"$nulls":9},"Конструирует несложные постройки из                  2—3 деталей.","Создаёт постройки «по сюжету» (дом, машина и т.д.)."]
[{"$nulls":9},"Конструирует несложные постройки из                  2—3 деталей.","Создаёт постройки «по сюжету» (дом, машина и т.д.)."]
[{"$nulls":9},"Конструирует несложные постройки из                  2—3 деталей.","Создаёт постройки «по сюжету» (дом, машина и т.д.)."]
[{"$nulls":9},"Конструирует несложные постройки из                  2—3 деталей.","Создаёт постройки «по сюжету» (дом, машина и т.д.)."]
[{"$nulls":9},"Конструирует несложные постройки из                  2—3 деталей.","Создаёт постройки «по сюжету» (дом, машина и т.д.)."]
[{"$nulls":9},"Конструирует несложные постройки из                  2—3 деталей.","Создаёт постройки «по сюжету» (дом, машина и т.д.)."]
[{"$nulls":9},"Конструирует несложные постройки из                  2—3 деталей.","Создаёт постройки «по сюжету» (дом, машина и т.д.)."]
[{"$nulls":9},"Конструирует несложные постройки из                  2—3 деталей.","Создаёт постройки «по сюжету» (дом, машина и т.д.)."]
[{"$nulls":9},"Конструирует несложные постройки из                  2—3 деталей.","Создаёт постройки «по сюжету» (дом, машина и т.д.)."]
[{"$nulls":9},"Конструирует несложные постройки из                  2—3 деталей.","Создаёт постройки «по сюжету» (дом, машина и т.д.)."]
[{"$nulls":9},"Конструирует несложные постройки из                  2—3 деталей.","Создаёт постройки «по сюжету» (дом, машина и т.д.)."]
[{"$nulls":9},"Конструирует несложные постройки из                  2—3 деталей.","Создаёт постройки «по сюжету» (дом, машина и т.д.)."]
[{"$nulls":9},"Конструирует несложные постройки из                  2—3 деталей.","Создаёт постройки «по сюжету» (дом, машина и т.д.)."]
[{"$nulls":9},"Конструирует несложные постройки из                  2—3 деталей.","Создаёт постройки «по сюжету» (дом, машина и т.д.)."]
[{"$nulls":9},"Конструирует несложные постройки из                  2—3 деталей.","Создаёт постройки «по сюжету» (дом, машина и т.д.)."]
[{"$nulls":9},"Конструирует несложные постройки из                  2—3 деталей.","Создаёт постройки «по сюжету» (дом, машина и т.д.)."]
[{"$nulls":9},"Конструирует несложные постройки из                  2—3 деталей.","Создаёт постройки «по сюжету» (дом, машина и т.д.)."]
[{"$nulls":9},"Конструирует несложные постройки из                  2—3 деталей.","Создаёт постройки «по сюжету» (дом, машина и т.д.)."]
[{"$nulls":9},"Конструирует несложные постройки из                  2—3 деталей.","Создаёт постройки «по сюжету» (дом, машина и т.д.)."]
[{"$nulls":9},"Конструирует несложные постройки из                  2—3 деталей.","Создаёт постройки «по сюжету» (дом, машина и т.д.)."]
[{"$nulls":9},"Конструирует несложные постройки из                  2—3 деталей.","Создаёт постройки «по сюжету» (дом, машина и т.д.)."]
[{"$nulls":9},"Конструирует несложные постройки из                  2—3 деталей.","Создаёт постройки «по сюжету» (дом, машина и т.д.)."]
[{"$nulls":9},"Конструирует несложные постройки из                  2—3 деталей.","Создаёт постройки «по сюжету» (дом, машина и т.д.)."]
[{"$nulls":9},"Конструирует несложные постройки из                  2—3 деталей.","Создаёт постройки «по сюжету» (дом, машина и т.д.)."]
[{"$nulls":9},"Конструирует несложные постройки из                  2—3 деталей.","Создаёт постройки «по сюжету» (дом, машина и т.д.)."]
[{"$nulls":9},"Конструирует несложные постройки из                  2—3 деталей.","Создаёт постройки «по сюжету» (дом, машина и т.д.)."]
[{"$nulls":9},"Конструирует несложные постройки из                  2—3 деталей.","Создаёт постройки «по сюжету» (дом, машина и т.д.)."]
[{"$nulls":9},"Конструирует несложные постройки из                  2—3 деталей.","Создаёт постройки «по сюжету» (дом, машина и т.д.)."]
[{"$nulls":9},"Конструирует несложные постройки из                  2—3 деталей.","Создаёт постройки «по сюжету» (дом, машина и т.д.)."]
[{"$nulls":9},"Конструирует несложные постройки из                  2—3 деталей.","Создаёт постройки «по сюжету» (дом, машина и т.д.)."]
[{"$nulls":9},"Конструирует несложные постройки из                  2—3 деталей.","Создаёт постройки «по сюжету» (дом, машина и т.д.)."]
[{"$nulls":9},"Конструирует несложные постройки из                  2—3 деталей.","Создаёт постройки «по сюжету» (дом, машина и т.д.)."]
[{"$nulls":9},"Конструирует несложные постройки из                  2—3 деталей.","Создаёт постройки «по сюжету» (дом, машина и т.д.)."]
[{"$nulls":9},"Конструирует несложные постройки из                  2—3 деталей.","Создаёт постройки «по сюжету» (дом, машина и т.д.)."]
[{"$nulls":9},"Конструирует несложные постройки из                  2—3 деталей.","Создаёт постройки «по сюжету» (дом, машина и т.д.)."]
[{"$nulls":9},"Конструирует несложные постройки из                  2—3 деталей.","Создаёт постройки «по сюжету» (дом, машина и т.д.)."]
[{"$nulls":9},"Конструирует несложные постройки из                  2—3 деталей.","Создаёт постройки «по сюжету» (дом, машина и т.д.)."]
[{"$nulls":9},"Конструирует несложные постройки из                  2—3 деталей.","Создаёт постройки «по сюжету» (дом, машина и т.д.)."]
[{"$nulls":9},"Конструирует несложные постройки из                  2—3 деталей.","Создаёт постройки «по сюжету» (дом, машина и т.д.)."]
[{"$nulls":9},"Конструирует несложные постройки из                  2—3 деталей.","Создаёт постройки «по сюжету» (дом, машина и т.д.)."]
[{"$nulls":9},"Конструирует несложные постройки из                  2—3 деталей.","Создаёт постройки «по сюжету» (дом, машина и т.д.)."]
[{"$nulls":9},"Конструирует несложные постройки из                  2—3 деталей.","Создаёт постройки «по сюжету» (дом, машина и т.д.)."]
[{"$nulls":9},"Конструирует несложные постройки из                  2—3 деталей.","Создаёт постройки «по сюжету» (дом, машина и т.д.)."]
[{"$nulls":9},"Конструирует несложные постройки из                  2—3 деталей.","Создаёт постройки «по сюжету» (дом, машина и т.д.)."]
[{"$nulls":9},"Конструирует несложные постройки из                  2—3 деталей.","Создаёт постройки «по сюжету» (дом, машина и т.д.)."]
[{"$nulls":9},"Конструирует несложные постройки из                  2—3 деталей.","Создаёт постройки «по сюжету» (дом, машина и т.д.)."]
[{"$nulls":9},"Конструирует несложные постройки из                  2—3 деталей.","Создаёт постройки «по сюжету» (дом, машина и т.д.)."]
[{"$nulls":9},"Конструирует несложные постройки из                  2—3 деталей.","Создаёт постройки «по сюжету» (дом, машина и т.д.)."]
[{"$nulls":9},"Конструирует несложные постройки из                  2—3 деталей.","Создаёт постройки «по сюжету» (дом, машина и т.д.)."]
[{"$nulls":9},"Конструирует несложные постройки из                  2—3 деталей.","Создаёт постройки «по сюжету» (дом, машина и т.д.)."]
[{"$nulls":9},"Конструирует несложные постройки из                  2—3 деталей.","Создаёт постройки «по сюжету» (дом, машина и т.д.)."]
[{"$nulls":9},"Конструирует несложные постройки из                  2—3 деталей.","Создаёт постройки «по сюжету» (дом, машина и т.д.)."]
[{"$nulls":9},"Конструирует несложные постройки из                  2—3 деталей.","Создаёт постройки «по сюжету» (дом, машина и т.д.)."]
[{"$nulls":9},"Конструирует несложные постройки из                  2—3 деталей.","Создаёт постройки «по сюжету» (дом, машина и т.д.)."]
[{"$nulls":9},"Конструирует несложные постройки из                  2—3 деталей.","Создаёт постройки «по сюжету» (дом, машина и т.д.)."]
[{"$nulls":9},"Конструирует несложные постройки из                  2—3 деталей.","Создаёт постройки «по сюжету» (дом, машина и т.д.)."]
[{"$nulls":9},"Конструирует несложные постройки из                  2—3 деталей.","Создаёт постройки «по сюжету» (дом, машина и т.д.)."]
[{"$nulls":9},"Конструирует несложные постройки из                  2—3 деталей.","Создаёт постройки «по сюжету» (дом, машина и т.д.)."]
[{"$nulls":9},"Конструирует несложные постройки из                  2—3 деталей.","Создаёт постройки «по сюжету» (дом, машина и т.д.)."]
[{"$nulls":9},"Конструирует несложные постройки из                  2—3 деталей.","Создаёт постройки «по сюжету» (дом, машина и т.д.)."]
[{"$nulls":9},"Конструирует несложные постройки из                  2—3 деталей.","Создаёт постройки «по сюжету» (дом, машина и т.д.)."]
[{"$nulls":9},"Конструирует несложные постройки из                  2—3 деталей.","Создаёт постройки «по сюжету» (дом, машина и т.д.)."]
[{"$nulls":9},"Конструирует несложные постройки из                  2—3 деталей.","Создаёт постройки «по сюжету» (дом, машина и т.д.)."]
[{"$nulls":9},"Конструирует несложные постройки из                  2—3 деталей.","Создаёт постройки «по сюжету» (дом, машина и т.д.)."]
[{"$nulls":9},"Конструирует несложные постройки из                  2—3 деталей.","Создаёт постройки «по сюжету» (дом, машина и т.д.)."]
[{"$nulls":9},"Конструирует несложные постройки из                  2—3 деталей.","Создаёт постройки «по сюжету» (дом, машина и т.д.)."]
[{"$nulls":9},"Конструирует несложные постройки из                  2—3 деталей.","Создаёт постройки «по сюжету» (дом, машина и т.д.)."]
[{"$nulls":9},"Конструирует несложные постройки из                  2—3 деталей.","Создаёт постройки «по сюжету» (дом, машина и т.д.)."]
[{"$nulls":9},"Конструирует несложные постройки из                  2—3 деталей.","Создаёт постройки «по сюжету» (дом, машина и т.д.)."]
[{"$nulls":9},"Конструирует несложные постройки из                  2—3 деталей.","Создаёт постройки «по сюжету» (дом, машина и т.д.)."]
[{"$nulls":9},"Конструирует несложные постройки из                  2—3 деталей.","Создаёт постройки «по сюжету» (дом, машина и т.д.)."]
[{"$nulls":9},"Конструирует несложные постройки из                  2—3 деталей.","Создаёт постройки «по сюжету» (дом, машина и т.д.)."]
[{"$nulls":9},"Конструирует несложные постройки из                  2—3 деталей.","Создаёт постройки «по сюжету» (дом, машина и т.д.)."]
[{"$nulls":9},"Конструирует несложные постройки из                  2—3 деталей.","Создаёт постройки «по сюжету» (дом, машина и т.д.)."]
[{"$nulls":9},"Конструирует несложные постройки из                  2—3 деталей.","Создаёт постройки «по сюжету» (дом, машина и т.д.)."]
[{"$nulls":9},"Конструирует несложные постройки из                  2—3 деталей.","Создаёт постройки «по сюжету» (дом, машина и т.д.)."]
[{"$nulls":9},"Конструирует несложные постройки из                  2—3 деталей.","Создаёт постройки «по сюжету» (дом, машина и т.д.)."]
[{"$nulls":9},"Конструирует несложные постройки из                  2—3 деталей.","Создаёт постройки «по сюжету» (дом, машина и т.д.)."]
[{"$nulls":9},"Конструирует несложные постройки из                  2—3 деталей.","Создаёт постройки «по сюжету» (дом, машина и т.д.)."]
[{"$nulls":9},"Конструирует несложные постройки из                  2—3 деталей.","Создаёт постройки «по сюжету» (дом, машина и т.д.)."]
[{"$nulls":9},"Конструирует несложные постройки из                  2—3 деталей.","Создаёт постройки «по сюжету» (дом, машина и т.д.)."]
[{"$nulls":9},"Конструирует несложные постройки из                  2—3 деталей.","Создаёт постройки «по сюжету» (дом, машина и т.д.)."]
[{"$nulls":9},"Конструирует несложные постройки из                  2—3 деталей.","Создаёт постройки «по сюжету» (дом, машина и т.д.)."]
[{"$nulls":9},"Конструирует несложные постройки из                  2—3 деталей.","Создаёт постройки «по сюжету» (дом, машина и т.д.)."]
[{"$nulls":9},"Конструирует несложные постройки из                  2—3 деталей.","Создаёт постройки «по сюжету» (дом, машина и т.д.)."]
[{"$nulls":9},"Конструирует несложные постройки из                  2—3 деталей.","Создаёт постройки «по сюжету» (дом, машина и т.д.)."]
[{"$nulls":9},"Конструирует несложные постройки из                  2—3 деталей.","Создаёт постройки «по сюжету» (дом, машина и т.д.)."]
[{"$nulls":9},"Конструирует несложные постройки из                  2—3 деталей.","Создаёт постройки «по сюжету» (дом, машина и т.д.)."]
[{"$nulls":9},"Конструирует несложные постройки из                  2—3 деталей.","Создаёт постройки «по сюжету» (дом, машина и т.д.)."]
[{"$nulls":9},"Конструирует несложные постройки из                  2—3 деталей.","Создаёт постройки «по сюжету» (дом, машина и т.д.)."]
[{"$nulls":9},"Конструирует несложные постройки из                  2—3 деталей.","Создаёт постройки «по сюжету» (дом, машина и т.д.)."]
[{"$nulls":9},"Конструирует несложные постройки из                  2—3 деталей.","Создаёт постройки «по сюжету» (дом, машина и т.д.)."]
[{"$nulls":9},"Конструирует несложные постройки из                  2—3 деталей.","Создаёт постройки «по сюжету» (дом, машина и т.д.)."]
[{"$nulls":9},"Конструирует несложные постройки из                  2—3 деталей.","Создаёт постройки «по сюжету» (дом, машина и т.д.)."]
[{"$nulls":9},"Конструирует несложные постройки из                  2—3 деталей.","Создаёт постройки «по сюжету» (дом, машина и т.д.)."]
[{"$nulls":9},"Конструирует несложные постройки из                  2—3 деталей.","Создаёт постройки «по сюжету» (дом, машина и т.д.)."]
[{"$nulls":9},"Конструирует несложные постройки из                  2—3 деталей.","Создаёт постройки «по сюжету» (дом, машина и т.д.)."]
[{"$nulls":9},"Конструирует несложные постройки из                  2—3 деталей.","Создаёт постройки «по сюжету» (дом, машина и т.д.)."]
[{"$nulls":9},"Конструирует несложные постройки из                  2—3 деталей.","Создаёт постройки «по сюжету» (дом, машина и т.д.)."]
[{"$nulls":9},"Конструирует несложные постройки из                  2—3 деталей.","Создаёт постройки «по сюжету» (дом, машина и т.д.)."]
[{"$nulls":9},"Конструирует несложные постройки из                  2—3 деталей.","Создаёт постройки «по сюжету» (дом, машина и т.д.)."]
[{"$nulls":9},"Конструирует несложные постройки из                  2—3 деталей.","Создаёт постройки «по сюжету» (дом, машина и т.д.)."]
[{"$nulls":9},"Конструирует несложные постройки из                  2—3 деталей.","Создаёт постройки «по сюжету» (дом, машина и т.д.)."]
[{"$nulls":9},"Конструирует несложные постройки из                  2—3 деталей.","Создаёт постройки «по сюжету» (дом, машина и т.д.)."]
[{"$nulls":9},"Конструирует несложные постройки из                  2—3 деталей.","Создаёт постройки «по сюжету» (дом, машина и т.д.)."]
[{"$nulls":9},"Конструирует несложные постройки из                  2—3 деталей.","Создаёт постройки «по сюжету» (дом, машина и т.д.)."]
[{"$nulls":9},"Конструирует несложные постройки из                  2—3 деталей.","Создаёт постройки «по сюжету» (дом, машина и т.д.)."]
[{"$nulls":9},"Конструирует несложные постройки из                  2—3 деталей.","Создаёт постройки «по сюжету» (дом, машина и т.д.)."]
[{"$nulls":9},"Конструирует несложные постройки из                  2—3 деталей.","Создаёт постройки «по сюжету» (дом, машина и т.д.)."]
[{"$nulls":9},"Конструирует несложные постройки из                  2—3 деталей.","Создаёт постройки «по сюжету» (дом, машина и т.д.)."]
[{"$nulls":9},"Конструирует несложные постройки из                  2—3 деталей.","Создаёт постройки «по сюжету» (дом, машина и т.д.)."]
[{"$nulls":9},"Конструирует несложные постройки из                  2—3 деталей.","Создаёт постройки «по сюжету» (дом, машина и т.д.)."]
[{"$nulls":9},"Конструирует несложные постройки из                  2—3 деталей.","Создаёт постройки «по сюжету» (дом, машина и т.д.)."]
[{"$nulls":9},"Конструирует несложные постройки из                  2—3 деталей.","Создаёт постройки «по сюжету» (дом, машина и т.д.)."]
[{"$nulls":9},"Конструирует несложные постройки из                  2—3 деталей.","Создаёт постройки «по сюжету» (дом, машина и т.д.)."]
[{"$nulls":9},"Конструирует несложные постройки из                  2—3 деталей.","Создаёт постройки «по сюжету» (дом, машина и т.д.)."]
[{"$nulls":9},"Конструирует несложные постройки из                  2—3 деталей.","Создаёт постройки «по сюжету» (дом, машина и т.д.)."]
[{"$nulls":9},"Конструирует несложные постройки из                  2—3 деталей.","Создаёт постройки «по сюжету» (дом, машина и т.д.)."]
[{"$nulls":9},"Конструирует несложные постройки из                  2—3 деталей.","Создаёт постройки «по сюжету» (дом, машина и т.д.)."]
[{"$nulls":9},"Конструирует несложные постройки из                  2—3 деталей.","Создаёт постройки «по сюжету» (дом, машина и т.д.)."]
[{"$nulls":9},"Конструирует несложные постройки из                  2—3 деталей.","Создаёт постройки «по сюжету» (дом, машина и т.д.)."]
[{"$nulls":9},"Конструирует несложные постройки из                  2—3 деталей.","Создаёт постройки «по сюжету» (дом, машина и т.д.)."]
[{"$nulls":9},"Конструирует несложные постройки из                  2—3 деталей.","Создаёт постройки «по сюжету» (дом, машина и т.д.)."]
[{"$nulls":9},"Конструирует несложные постройки из                  2—3 деталей.","Создаёт постройки «по сюжету» (дом, машина и т.д.)."]
[{"$nulls":9},"Конструирует несложные постройки из                  2—3 деталей.","Создаёт постройки «по сюжету» (дом, машина и т.д.)."]
[{"$nulls":9},"Конструирует несложные постройки из                  2—3 деталей.","Создаёт постройки «по сюжету» (дом, машина и т.д.)."]
[{"$nulls":9},"Конструирует несложные постройки из                  2—3 деталей.","Создаёт постройки «по сюжету» (дом, машина и т.д.)."]
[{"$nulls":9},"Конструирует несложные постройки из                  2—3 деталей.","Создаёт постройки «по сюжету» (дом, машина и т.д.)."]
[{"$nulls":9},"Конструирует несложные постройки из                  2—3 деталей.","Создаёт постройки «по сюжету» (дом, машина и т.д.)."]
[{"$nulls":9},"Конструирует несложные постройки из                  2—3 деталей.","Создаёт постройки «по сюжету» (дом, машина и т.д.)."]
[{"$nulls":9},"Конструирует несложные постройки из                  2—3 деталей.","Создаёт постройки «по сюжету» (дом, машина и т.д.)."]
[{"$nulls":9},"Конструирует несложные постройки из                  2—3 деталей.","Создаёт постройки «по сюжету» (дом, машина и т.д.)."]
[{"$nulls":9},"Конструирует несложные постройки из                  2—3 деталей.","Создаёт постройки «по сюжету» (дом, машина и т.д.)."]
[{"$nulls":9},"Конструирует несложные постройки из                  2—3 деталей.","Создаёт постройки «по сюжету» (дом, машина и т.д.)."]
[{"$nulls":9},"Конструирует несложные постройки из                  2—3 деталей.","Создаёт постройки «по сюжету» (дом, машина и т.д.)."]
[{"$nulls":9},"Конструирует несложные постройки из                  2—3 деталей.","Создаёт постройки «по сюжету» (дом, машина и т.д.)."]
[{"$nulls":9},"Конструирует несложные постройки из                  2—3 деталей.","Создаёт постройки «по сюжету» (дом, машина и т.д.)."]
[{"$nulls":9},"Конструирует несложные постройки из                  2—3 деталей.","Создаёт постройки «по сюжету» (дом, машина и т.д.)."]
[{"$nulls":9},"Конструирует несложные постройки из                  2—3 деталей.","Создаёт постройки «по сюжету» (дом, машина и т.д.)."]
[{"$nulls":9},"Конструирует несложные постройки из                  2—3 деталей.","Создаёт постройки «по сюжету» (дом, машина и т.д.)."]
[{"$nulls":9},"Конструирует несложные постройки из                  2—3 деталей.","Создаёт постройки «по сюжету» (дом, машина и т.д.)."]
[{"$nulls":9},"Конструирует несложные постройки из                  2—3 деталей.","Создаёт постройки «по сюжету» (дом, машина и т.д.)."]
[{"$nulls":9},"Конструирует несложные постройки из                  2—3 деталей.","Создаёт постройки «по сюжету» (дом, машина и т.д.)."]
[{"$nulls":9},"Конструирует несложные постройки из                  2—3 деталей.","Создаёт постройки «по сюжету» (дом, машина и т.д.)."]
[{"$nulls":9},"Конструирует несложные постройки из                  2—3 деталей.","Создаёт постройки «по сюжету» (дом, машина и т.д.)."]
[{"$nulls":9},"Конструирует несложные постройки из                  2—3 деталей.","Создаёт постройки «по сюжету» (дом, машина и т.д.)."]
[{"$nulls":9},"Конструирует несложные постройки из                  2—3 деталей.","Создаёт постройки «по сюжету» (дом, машина и т.д.)."]
[{"$nulls":9},"Конструирует несложные постройки из                  2—3 деталей.","Создаёт постройки «по сюжету» (дом, машина и т.д.)."]
[{"$nulls":9},"Конструирует несложные постройки из                  2—3 деталей.","Создаёт постройки «по сюжету» (дом, машина и т.д.)."]
[{"$nulls":9},"Конструирует несложные постройки из                  2—3 деталей.","Создаёт постройки «по сюжету» (дом, машина и т.д.)."]
[{"$nulls":9},"Конструирует несложные постройки из                  2—3 деталей.","Создаёт постройки «по сюжету» (дом, машина и т.д.)."]
[{"$nulls":9},"Конструирует несложные постройки из                  2—3 деталей.","Создаёт постройки «по сюжету» (дом, машина и т.д.)."]
[{"$nulls":9},"Конструирует несложные постройки из                  2—3 деталей.","Создаёт постройки «по сюжету» (дом, машина и т.д.)."]
[{"$nulls":9},"Конструирует несложные постройки из                  2—3 деталей.","Создаёт постройки «по сюжету» (дом, машина и т.д.)."]
[{"$nulls":9},"Конструирует несложные постройки из                  2—3 деталей.","Создаёт постройки «по сюжету» (дом, машина и т.д.)."]
[{"$nulls":9},"Конструирует несложные постройки из                  2—3 деталей.","Создаёт постройки «по сюжету» (дом, машина и т.д.)."]
[{"$nulls":9},"Конструирует несложные постройки из                  2—3 деталей.","Создаёт постройки «по сюжету» (дом, машина и т.д.)."]
[{"$nulls":9},"Конструирует несложные постройки из                  2—3 деталей.","Создаёт постройки «по сюжету» (дом, машина и т.д.)."]
[{"$nulls":9},"Конструирует несложные постройки из                  2—3 деталей.","Создаёт постройки «по сюжету» (дом, машина и т.д.)."]
[{"$nulls":9},"Конструирует несложные постройки из                  2—3 деталей.","Создаёт постройки «по сюжету» (дом, машина и т.д.)."]
[{"$nulls":9},"Конструирует несложные постройки из                  2—3 деталей.","Создаёт постройки «по сюжету» (дом, машина и т.д.)."]
[{"$nulls":9},"Конструирует несложные постройки из                  2—3 деталей.","Создаёт постройки «по сюжету» (дом, машина и т.д.)."]
[{"$nulls":9},"Конструирует несложные постройки из                  2—3 деталей.","Создаёт постройки «по сюжету» (дом, машина и т.д.)."]
[{"$nulls":9},"Конструирует несложные постройки из                  2—3 деталей.","Создаёт постройки «по сюжету» (дом, машина и т.д.)."]
[{"$nulls":9},"Конструирует несложные постройки из                  2—3 деталей.","Создаёт постройки «по сюжету» (дом, машина и т.д.)."]
[{"$nulls":9},"Конструирует несложные постройки из                  2—3 деталей.","Создаёт постройки «по сюжету» (дом, машина и т.д.)."]
[{"$nulls":9},"Конструирует несложные постройки из                  2—3 деталей.","Создаёт постройки «по сюжету» (дом, машина и т.д.)."]
[{"$nulls":9},"Конструирует несложные постройки из                  2—3 деталей.","Создаёт постройки «по сюжету» (дом, машина и т.д.)."]
[{"$nulls":9},"Конструирует несложные постройки из                  2—3 деталей.","Создаёт постройки «по сюжету» (дом, машина и т.д.)."]
[{"$nulls":9},"Конструирует несложные постройки из                  2—3 деталей.","Создаёт постройки «по сюжету» (дом, машина и т.д.)."]
[{"$nulls":9},"Конструирует несложные постройки из                  2—3 деталей.","Создаёт постройки «по сюжету» (дом, машина и т.д.)."]
[{"$nulls":9},"Конструирует несложные постройки из                  2—3 деталей.","Создаёт постройки «по сюжету» (дом, машина и т.д.)."]
[{"$nulls":9},"Конструирует несложные постройки из                  2—3 деталей.","Создаёт постройки «по сюжету» (дом, машина и т.д.)."]
[{"$nulls":9},"Конструирует несложные постройки из                  2—3 деталей.","Создаёт постройки «по сюжету» (дом, машина и т.д.)."]
[{"$nulls":9},"Конструирует несложные постройки из                  2—3 деталей.","Создаёт постройки «по сюжету» (дом, машина и т.д.)."]
[{"$nulls":9},"Конструирует несложные постройки из                  2—3 деталей.","Создаёт постройки «по сюжету» (дом, машина и т.д.)."]
[{"$nulls":9},"Конструирует несложные постройки из                  2—3 деталей.","Создаёт постройки «по сюжету» (дом, машина и т.д.)."]
[{"$nulls":9},"Конструирует несложные постройки из                  2—3 деталей.","Создаёт постройки «по сюжету» (дом, машина и т.д.)."]
[{"$nulls":9},"Конструирует несложные постройки из                  2—3 деталей.","Создаёт постройки «по сюжету» (дом, машина и т.д.)."]
[{"$nulls":9},"Конструирует несложные постройки из                  2—3 деталей.","Создаёт постройки «по сюжету» (дом, машина и т.д.)."]
[{"$nulls":9},"Конструирует несложные постройки из                  2—3 деталей.","Создаёт постройки «по сюжету» (дом, машина и т.д.)."]
[{"$nulls":9},"Конструирует несложные постройки из                  2—3 деталей.","Создаёт постройки «по сюжету» (дом, машина и т.д.)."]
[{"$nulls":9},"Конструирует несложные постройки из                  2—3 деталей.","Создаёт постройки «по сюжету» (дом, машина и т.д.)."]
[{"$nulls":9},"Конструирует несложные постройки из                  2—3 деталей.","Создаёт постройки «по сюжету» (дом, машина и т.д.)."]
[{"$nulls":9},"Конструирует несложные постройки из                  2—3 деталей.","Создаёт постройки «по сюжету» (дом, машина и т.д.)."]
[{"$nulls":9},"Конструирует несложные постройки из                  2—3 деталей.","Создаёт постройки «по сюжету» (дом, машина и т.д.)."]
[{"$nulls":9},"Конструирует несложные постройки из                  2—3 деталей.","Создаёт постройки «по сюжету» (дом, машина и т.д.)."]
[{"$nulls":9},"Конструирует несложные постройки из                  2—3 деталей.","Создаёт постройки «по сюжету» (дом, машина и т.д.)."]
[{"$nulls":9},"Конструирует несложные постройки из                  2—3 деталей.","Создаёт постройки «по сюжету» (дом, машина и т.д.)."]
[{"$nulls":9},"Конструирует несложные постройки из                  2—3 деталей.","Создаёт постройки «по сюжету» (дом, машина и т.д.)."]
[{"$nulls":9},"Конструирует несложные постройки из                  2—3 деталей.","Создаёт постройки «по сюжету» (дом, машина и т.д.)."]
[{"$nulls":9},"Конструирует несложные постройки из                  2—3 деталей.","Создаёт постройки «по сюжету» (дом, машина и т.д.)."]
[{"$nulls":9},"Конструирует несложные постройки из                  2—3 деталей.","Создаёт постройки «по сюжету» (дом, машина и т.д.)."]
[{"$nulls":9},"Конструирует несложные постройки из                  2—3 деталей.","Создаёт постройки «по сюжету» (дом, машина и т.д.)."]
[{"$nulls":9},"Конструирует несложные постройки из                  2—3 деталей.","Создаёт постройки «по сюжету» (дом, машина и т.д.)."]
[{"$nulls":9},"Конструирует несложные постройки из                  2—3 деталей.","Создаёт постройки «по сюжету» (дом, машина и т.д.)."]
[{"$nulls":9},"Конструирует несложные постройки из                  2—3 деталей.","Создаёт постройки «по сюжету» (дом, машина и т.д.)."]
[{"$nulls":9},"Конструирует несложные постройки из                  2—3 деталей.","Создаёт постройки «по сюжету» (дом, машина и т.д.)."]
[{"$nulls":9},"Конструирует несложные постройки из                  2—3 деталей.","Создаёт постройки «по сюжету» (дом, машина и т.д.)."]
[{"$nulls":9},"Конструирует несложные постройки из                  2—3 деталей.","Создаёт постройки «по сюжету» (дом, машина и т.д.)."]
[{"$nulls":9},"Конструирует несложные постройки из                  2—3 деталей.","Создаёт постройки «по сюжету» (дом, машина и т.д.)."]
[{"$nulls":9},"Конструирует несложные постройки из                  2—3 деталей.","Создаёт постройки «по сюжету» (дом, машина и т.д.)."]
[{"$nulls":9},"Конструирует несложные постройки из                  2—3 деталей.","Создаёт постройки «по сюжету» (дом, машина и т.д.)."]
[{"$nulls":9},"Конструирует несложные постройки из                  2—3 деталей.","Создаёт постройки «по сюжету» (дом, машина и т.д.)."]
[{"$nulls":9},"Конструирует несложные постройки из                  2—3 деталей.","Создаёт постройки «по сюжету» (дом, машина и т.д.)."]
[{"$nulls":9},"Конструирует несложные постройки из                  2—3 деталей.","Создаёт постройки «по сюжету» (дом, машина и т.д.)."]
[{"$nulls":9},"Конструирует несложные постройки из                  2—3 деталей.","Создаёт постройки «по сюжету» (дом, машина и т.д.)."]
[{"$nulls":9},"Конструирует несложные постройки из                  2—3 деталей.","Создаёт постройки «по сюжету» (дом, машина и т.д.)."]
[{"$nulls":9},"Конструирует несложные постройки из                  2—3 деталей.","Создаёт постройки «по сюжету» (дом, машина и т.д.)."]
[{"$nulls":9},"Конструирует несложные постройки из                  2—3 деталей.","Создаёт постройки «по сюжету» (дом, машина и т.д.)."]
[{"$nulls":9},"Конструирует несложные постройки из                  2—3 деталей.","Создаёт постройки «по сюжету» (дом, машина и т.д.)."]
[{"$nulls":9},"Конструирует несложные постройки из                  2—3 деталей.","Создаёт постройки «по сюжету» (дом, машина и т.д.)."]
[{"$nulls":9},"Конструирует несложные постройки из                  2—3 деталей.","Создаёт постройки «по сюжету» (дом, машина и т.д.)."]
[{"$nulls":9},"Конструирует несложные постройки из                  2—3 деталей.","Создаёт постройки «по сюжету» (дом, машина и т.д.)."]
[{"$nulls":9},"Конструирует несложные постройки из                  2—3 деталей.","Создаёт постройки «по сюжету» (дом, машина и т.д.)."]
[{"$nulls":9},"Конструирует несложные постройки из                  2—3 деталей.","Создаёт постройки «по сюжету» (дом, машина и т.д.)."]
[{"$nulls":9},"Конструирует несложные постройки из                  2—3 деталей.","Создаёт постройки «по сюжету» (дом, машина и т.д.)."]
[{"$nulls":9},"Конструирует несложные постройки из                  2—3 деталей.","Создаёт постройки «по сюжету» (дом, машина и т.д.)."]
[{"$nulls":9},"Конструирует несложные постройки из                  2—3 деталей.","Создаёт постройки «по сюжету» (дом, машина и т.д.)."]
[{"$nulls":9},"Конструирует несложные постройки из                  2—3 деталей.","Создаёт постройки «по сюжету» (дом, машина и т.д.)."]
[{"$nulls":9},"Конструирует несложные постройки из                  2—3 деталей.","Создаёт постройки «по сюжету» (дом, машина и т.д.)."]
[{"$nulls":9},"Конструирует несложные постройки из                  2—3 деталей.","Создаёт постройки «по сюжету» (дом, машина и т.д.)."]
[{"$nulls":9},"Конструирует несложные постройки из                  2—3 деталей.","Создаёт постройки «по сюжету» (дом, машина и т.д.)."]
[{"$nulls":9},"Конструирует несложные постройки из                  2—3 деталей.","Создаёт постройки «по сюжету» (дом, машина и т.д.)."]
[{"$nulls":9},"Конструирует несложные постройки из                  2—3 деталей.","Создаёт постройки «по сюжету» (дом, машина и т.д.)."]
[{"$nulls":9},"Конструирует несложные постройки из                  2—3 деталей.","Создаёт постройки «по сюжету» (дом, машина и т.д.)."]
[{"$nulls":9},"Конструирует несложные постройки из                  2—3 деталей.","Создаёт постройки «по сюжету» (дом, машина и т.д.)."]
[{"$nulls":9},"Конструирует несложные постройки из                  2—3 деталей.","Создаёт постройки «по сюжету» (дом, машина и т.д.)."]
[{"$nulls":9},"Конструирует несложные постройки из                  2—3 деталей.","Создаёт постройки «по сюжету» (дом, машина и т.д.)."]
[{"$nulls":9},"Конструирует несложные постройки из                  2—3 деталей.","Создаёт постройки «по сюжету» (дом, машина и т.д.)."]
[{"$nulls":9},"Конструирует несложные постройки из                  2—3 деталей.","Создаёт постройки «по сюжету» (дом, машина и т.д.)."]
[{"$nulls":9},"Конструирует несложные постройки из                  2—3 деталей.","Создаёт постройки «по сюжету» (дом, машина и т.д.)."]
[{"$nulls":9},"Конструирует несложные постройки из                  2—3 деталей.","Создаёт постройки «по сюжету» (дом, машина и т.д.)."]
[{"$nulls":9},"Конструирует несложные постройки из                  2—3 деталей.","Создаёт постройки «по сюжету» (дом, машина и т.д.)."]
[{"$nulls":9},"Конструирует несложные постройки из                  2—3 деталей.","Создаёт постройки «по сюжету» (дом, машина и т.д.)."]
[{"$nulls":9},"Конструирует несложные постройки из                  2—3 деталей.","Создаёт постройки «по сюжету» (дом, машина и т.д.)."]
[{"$nulls":9},"Конструирует несложные постройки из                  2—3 деталей.","Создаёт постройки «по сюжету» (дом, машина и т.д.)."]
[{"$nulls":9},"Конструирует несложные постройки из                  2—3 деталей.","Создаёт постройки «по сюжету» (дом, машина и т.д.)."]
[{"$nulls":9},"Конструирует несложные постройки из                  2—3 деталей.","Создаёт постройки «по сюжету» (дом, машина и т.д.)."]
[{"$nulls":9},"Конструирует несложные постройки из                  2—3 деталей.","Создаёт постройки «по сюжету» (дом, машина и т.д.)."]
[{"$nulls":9},"Конструирует несложные постройки из                  2—3 деталей.","Создаёт постройки «по сюжету» (дом, машина и т.д.)."]
[{"$nulls":9},"Конструирует несложные постройки из                  2—3 деталей.","Создаёт постройки «по сюжету» (дом, машина и т.д.)."]
[{"$nulls":9},"Конструирует несложные постройки из                  2—3 деталей.","Создаёт постройки «по сюжету» (дом, машина и т.д.)."]
[{"$nulls":9},"Конструирует несложные постройки из                  2—3 деталей.","Создаёт постройки «по сюжету» (дом, машина и т.д.)."]
[{"$nulls":9},"Конструирует несложные постройки из                  2—3 деталей.","Создаёт постройки «по сюжету» (дом, машина и т.д.)."]
[{"$nulls":9},"Конструирует несложные постройки из                  2—3 деталей.","Создаёт постройки «по сюжету» (дом, машина и т.д.)."]
[{"$nulls":9},"Конструирует несложные постройки из                  2—3 деталей.","Создаёт постройки «по сюжету» (дом, машина и т.д.)."]
[{"$nulls":9},"Конструирует несложные постройки из                  2—3 деталей.","Создаёт постройки «по сюжету» (дом, машина и т.д.)."]
[{"$nulls":9},"Конструирует несложные постройки из                  2—3 деталей.","Создаёт постройки «по сюжету» (дом, машина и т.д.)."]
[{"$nulls":9},"Конструирует несложные постройки из                  2—3 деталей.","Создаёт постройки «по сюжету» (дом, машина и т.д.)."]
[{"$nulls":9},"Конструирует несложные постройки из                  2—3 деталей.","Создаёт постройки «по сюжету» (дом, машина и т.д.)."]
[{"$nulls":9},"Конструирует несложные постройки из                  2—3 деталей.","Создаёт постройки «по сюжету» (дом, машина и т.д.)."]
[{"$nulls":9},"Конструирует несложные постройки из                  2—3 деталей.","Создаёт постройки «по сюжету» (дом, машина и т.д.)."]
[{"$nulls":9},"Конструирует несложные постройки из                  2—3 деталей.","Создаёт постройки «по сюжету» (дом, машина и т.д.)."]
[{"$nulls":9},"Конструирует несложные постройки из                  2—3 деталей.","Создаёт постройки «по сюжету» (дом, машина и т.д.)."]
[{"$nulls":9},"Конструирует несложные постройки из                  2—3 деталей.","Создаёт постройки «по сюжету» (дом, машина и т.д.)."]
[{"$nulls":9},"Конструирует несложные постройки из                  2—3 деталей.","Создаёт постройки «по сюжету» (дом, машина и т.д.)."]
[{"$nulls":9},"Конструирует несложные постройки из                  2—3 деталей.","Создаёт постройки «по сюжету» (дом, машина и т.д.)."]
[{"$nulls":9},"Конструирует несложные постройки из                  2—3 деталей.","Создаёт постройки «по сюжету» (дом, машина и т.д.)."]
[{"$nulls":9},"Конструирует несложные постройки из                  2—3 деталей.","Создаёт постройки «по сюжету» (дом, машина и т.д.)."]
[{"$nulls":9},"Конструирует несложные постройки из                  2—3 деталей.","Создаёт постройки «по сюжету» (дом, машина и т.д.)."]
[{"$nulls":9},"Конструирует несложные постройки из                  2—3 деталей.","Создаёт постройки «по сюжету» (дом, машина и т.д.)."]
[{"$nulls":9},"Конструирует несложные постройки из                  2—3 деталей.","Создаёт постройки «по сюжету» (дом, машина и т.д.)."]
[{"$nulls":9},"Конструирует несложные постройки из                  2—3 деталей.","Создаёт постройки «по сюжету» (дом, машина и т.д.)."]
[{"$nulls":9},"Конструирует несложные постройки из                  2—3 деталей.","Создаёт постройки «по сюжету» (дом, машина и т.д.)."]
[{"$nulls":9},"Конструирует несложные постройки из                  2—3 деталей.","Создаёт постройки «по сюжету» (дом, машина и т.д.)."]
[{"$nulls":9},"Конструирует несложные постройки из                  2—3 деталей.","Создаёт постройки «по сюжету» (дом, машина и т.д.)."]
[{"$nulls":9},"Конструирует несложные постройки из                  2—3 деталей.","Создаёт постройки «по сюжету» (дом, машина и т.д.)."]
[{"$nulls":9},"Конструирует несложные постройки из                  2—3 деталей.","Создаёт постройки «по сюжету» (дом, машина и т.д.)."]
[{"$nulls":9},"Конструирует несложные постройки из                  2—3 деталей.","Создаёт постройки «по сюжету» (дом, машина и т.д.)."]
[{"$nulls":9},"Конструирует несложные постройки из                  2—3 деталей.","Создаёт постройки «по сюжету» (дом, машина и т.д.)."]
[{"$nulls":9},"Конструирует несложные постройки из                  2—3 деталей.","Создаёт постройки «по сюжету» (дом, машина и т.д.)."]
[{"$nulls":9},"Конструирует несложные постройки из                  2—3 деталей.","Создаёт постройки «по сюжету» (дом, машина и т.д.)."]
[{"$nulls":9},"Конструирует несложные постройки из                  2—3 деталей.","Создаёт постройки «по сюжету» (дом, машина и т.д.)."]
[{"$nulls":9},"Конструирует несложные постройки из                  2—3 деталей.","Создаёт постройки «по сюжету» (дом, машина и т.д.)."]
[{"$nulls":9},"Конструирует несложные постройки из                  2—3 деталей.","Создаёт постройки «по сюжету» (дом, машина и т.д.)."]
[{"$nulls":9},"Конструирует несложные постройки из                  2—3 деталей.","Создаёт постройки «по сюжету» (дом, машина и т.д.)."]
[{"$nulls":9},"Конструирует несложные постройки из                  2—3 деталей.","Создаёт постройки «по сюжету» (дом, машина и т.д.)."]
[{"$nulls":9},"Конструирует несложные постройки из                  2—3 деталей.","Создаёт постройки «по сюжету» (дом, машина и т.д.)."]
[{"$nulls":9},"Конструирует несложные постройки из                  2—3 деталей.","Создаёт постройки «по сюжету» (дом, машина и т.д.)."]
[{"$nulls":9},"Конструирует несложные постройки из                  2—3 деталей.","Создаёт постройки «по сюжету» (дом, машина и т.д.)."]
[{"$nulls":9},"Конструирует несложные постройки из                  2—3 деталей.","Создаёт постройки «по сюжету» (дом, машина и т.д.)."]
[{"$nulls":9},"Конструирует несложные постройки из                  2—3 деталей.","Создаёт постройки «по сюжету» (дом, машина и т.д.)."]
[{"$nulls":9},"Конструирует несложные постройки из                  2—3 деталей.","Создаёт постройки «по сюжету» (дом, машина и т.д.)."]
[{"$nulls":9},"Конструирует несложные постройки из                  2—3 деталей.","Создаёт постройки «по сюжету» (дом, машина и т.д.)."]
[{"$nulls":9},"Конструирует несложные постройки из                  2—3 деталей.","Создаёт постройки «по сюжету» (дом, машина и т.д.)."]
[{"$nulls":9},"Конструирует несложные постройки из                  2—3 деталей.","Создаёт постройки «по сюжету» (дом, машина и т.д.)."]
[{"$nulls":9},"Конструирует несложные постройки из                  2—3 деталей.","Создаёт постройки «по сюжету» (дом, машина и т.д.)."]
[{"$nulls":9},"Конструирует несложные постройки из                  2—3 деталей.","Создаёт постройки «по сюжету» (дом, машина и т.д.)."]
[{"$nulls":9},"Конструирует несложные постройки из                  2—3 деталей.","Создаёт постройки «по сюжету» (дом, машина и т.д.)."]
[{"$nulls":9},"Конструирует несложные постройки из                  2—3 деталей.","Создаёт постройки «по сюжету» (дом, машина и т.д.)."]
[{"$nulls":9},"Конструирует несложные постройки из                  2—3 деталей.","Создаёт постройки «по сюжету» (дом, машина и т.д.)."]
[{"$nulls":9},"Конструирует несложные постройки из                  2—3 деталей.","Создаёт постройки «по сюжету» (дом, машина и т.д.)."]
[{"$nulls":9},"Конструирует несложные постройки из                  2—3 деталей.","Создаёт постройки «по сюжету» (дом, машина и т.д.)."]
[{"$nulls":9},"Конструирует несложные постройки из                  2—3 деталей.","Создаёт постройки «по сюжету» (дом, машина и т.д.)."]
[{"$nulls":9},"Конструирует несложные постройки из                  2—3 деталей.","Создаёт постройки «по сюжету» (дом, машина и т.д.)."]
[{"$nulls":9},"Конструирует несложные постройки из                  2—3 деталей.","Создаёт постройки «по сюжету» (дом, машина и т.д.)."]
[{"$nulls":9},"Конструирует несложные постройки из                  2—3 деталей.","Создаёт постройки «по сюжету» (дом, машина и т.д.)."]
[{"$nulls":9},"Конструирует несложные постройки из                  2—3 деталей.","Создаёт постройки «по сюжету» (дом, машина и т.д.)."]
[{"$nulls":9},"Конструирует несложные постройки из                  2—3 деталей.","Создаёт постройки «по сюжету» (дом, машина и т.д.)."]
[{"$nulls":9},"Конструирует несложные постройки из                  2—3 деталей.","Создаёт постройки «по сюжету» (дом, машина и т.д.)."]
[{"$nulls":9},"Конструирует несложные постройки из                  2—3 деталей.","Создаёт постройки «по сюжету» (дом, машина и т.д.)."]
[{"$nulls":9},"Конструирует несложные постройки из                  2—3 деталей.","Создаёт постройки «по сюжету» (дом, машина и т.д.)."]
[{"$nulls":9},"Конструирует несложные постройки из                  2—3 деталей.","Создаёт постройки «по сюжету» (дом, машина и т.д.)."]
[{"$nulls":9},"Конструирует несложные постройки из                  2—3 деталей.","Создаёт постройки «по сюжету» (дом, машина и т.д.)."]
[{"$nulls":9},"Конструирует несложные постройки из                  2—3 деталей.","Создаёт постройки «по сюжету» (дом, машина и т.д.)."]
[{"$nulls":9},"Конструирует несложные постройки из                  2—3 деталей.","Создаёт постройки «по сюжету» (дом, машина и т.д.)."]
[{"$nulls":9},"Конструирует несложные постройки из                  2—3 деталей.","Создаёт постройки «по сюжету» (дом, машина и т.д.)."]
[{"$nulls":9},"Конструирует несложные постройки из                  2—3 деталей.","Создаёт постройки «по сюжету» (дом, машина и т.д.)."]
[{"$nulls":9},"Конструирует несложные постройки из                  2—3 деталей.","Создаёт постройки «по сюжету» (дом, машина и т.д.)."]
[{"$nulls":9},"Конструирует несложные постройки из                  2—3 деталей.","Создаёт постройки «по сюжету» (дом, машина и т.д.)."]
[{"$nulls":9},"Конструирует несложные постройки из                  2—3 деталей.","Создаёт постройки «по сюжету» (дом, машина и т.д.)."]
[{"$nulls":9},"Конструирует несложные постройки из                  2—3 деталей.","Создаёт постройки «по сюжету» (дом, машина и т.д.)."]
[{"$nulls":9},"Конструирует несложные постройки из                  2—3 деталей.","Создаёт постройки «по сюжету» (дом, машина и т.д.)."]
[{"$nulls":9},"Конструирует несложные постройки из                  2—3 деталей.","Создаёт постройки «по сюжету» (дом, машина и т.д.)."]
[{"$nulls":9},"Конструирует несложные постройки из                  2—3 деталей.","Создаёт постройки «по сюжету» (дом, машина и т.д.)."]
[{"$nulls":9},"Конструирует несложные постройки из                  2—3 деталей.","Создаёт постройки «по сюжету» (дом, машина и т.д.)."]
[{"$nulls":9},"Конструирует несложные постройки из                  2—3 деталей.","Создаёт постройки «по сюжету» (дом, машина и т.д.)."]
[{"$nulls":9},"Конструирует несложные постройки из                  2—3 деталей.","Создаёт постройки «по сюжету» (дом, машина и т.д.)."]
[{"$nulls":9},"Конструирует несложные постройки из                  2—3 деталей.","Создаёт постройки «по сюжету» (дом, машина и т.д.)."]
[{"$nulls":9},"Конструирует несложные постройки из                  2—3 деталей.","Создаёт постройки «по сюжету» (дом, машина и т.д.)."]
[{"$nulls":9},"Конструирует несложные постройки из                  2—3 деталей.","Создаёт постройки «по сюжету» (дом, машина и т.д.)."]
[{"$nulls":9},"Конструирует несложные постройки из                  2—3 деталей.","Создаёт постройки «по сюжету» (дом, машина и т.д.)."]
[{"$nulls":9},"Конструирует несложные постройки из                  2—3 деталей.","Создаёт постройки «по сюжету» (дом, машина и т.д.)."]
[{"$nulls":9},"Конструирует несложные постройки из                  2—3 деталей.","Создаёт постройки «по сюжету» (дом, машина и т.д.)."]
[{"$nulls":9},"Конструирует несложные постройки из                  2—3 деталей.","Создаёт постройки «по сюжету» (дом, машина и т.д.)."]
[{"$nulls":9},"Конструирует несложные постройки из                  2—3 деталей.","Создаёт постройки «по сюжету» (дом, машина и т.д.)."]
[{"$nulls":9},"Конструирует несложные постройки из                  2—3 деталей.","Создаёт постройки «по сюжету» (дом, машина и т.д.)."]
[{"$nulls":9},"Конструирует несложные постройки из                  2—3 деталей.","Создаёт постройки «по сюжету» (дом, машина и т.д.)."]
[{"$nulls":9},"Конструирует несложные постройки из                  2—3 деталей.","Создаёт постройки «по сюжету» (дом, машина и т.д.)."]
[{"$nulls":9},"Конструирует несложные постройки из                  2—3 деталей.","Создаёт постройки «по сюжету» (дом, машина и т.д.)."]
[{"$nulls":9},"Конструирует несложные постройки из                  2—3 деталей.","Создаёт постройки «по сюжету» (дом, машина и т.д.)."]
[{"$nulls":9},"Конструирует несложные постройки из                  2—3 деталей.","Создаёт постройки «по сюжету» (дом, машина и т.д.)."]
[{"$nulls":9},"Конструирует несложные постройки из                  2—3 деталей.","Создаёт постройки «по сюжету» (дом, машина и т.д.)."]
[{"$nulls":9},"Конструирует несложные постройки из                  2—3 деталей.","Создаёт постройки «по сюжету» (дом, машина и т.д.)."]
[{"$nulls":9},"Конструирует несложные постройки из                  2—3 деталей.","Создаёт постройки «по сюжету» (дом, машина и т.д.)."]
[{"$nulls":9},"Конструирует несложные постройки из                  2—3 деталей.","Создаёт постройки «по сюжету» (дом, машина и т.д.)."]
[{"$nulls":9},"Конструирует несложные постройки из                  2—3 деталей.","Создаёт постройки «по сюжету» (дом, машина и т.д.)."]
[{"$nulls":9},"Конструирует несложные постройки из                  2—3 деталей.","Создаёт постройки «по сюжету» (дом, машина и т.д.)."]
[{"$nulls":9},"Конструирует несложные постройки из                  2—3 деталей.","Создаёт постройки «по сюжету» (дом, машина и т.д.)."]
[{"$nulls":9},"Конструирует несложные постройки из                  2—3 деталей.","Создаёт постройки «по сюжету» (дом, машина и т.д.)."]
[{"$nulls":9},"Конструирует несложные постройки из                  2—3 деталей.","Создаёт постройки «по сюжету» (дом, машина и т.д.)."]
[{"$nulls":9},"Конструирует несложные постройки из                  2—3 деталей.","Создаёт постройки «по сюжету» (дом, машина и т.д.)."]
[{"$nulls":9},"Конструирует несложные постройки из                  2—3 деталей.","Создаёт постройки «по сюжету» (дом, машина и т.д.)."]
[{"$nulls":9},"Конструирует несложные постройки из                  2—3 деталей.","Создаёт постройки «по сюжету» (дом, машина и т.д.)."]
[{"$nulls":9},"Конструирует несложные постройки из                  2—3 деталей.","Создаёт постройки «по сюжету» (дом, машина и т.д.)."]
[{"$nulls":9},"Конструирует несложные постройки из                  2—3 деталей.","Создаёт постройки «по сюжету» (дом, машина и т.д.)."]
[{"$nulls":9},"Конструирует несложные постройки из                  2—3 деталей.","Создаёт постройки «по сюжету» (дом, машина и т.д.)."]
[{"$nulls":9},"Конструирует несложные постройки из                  2—3 деталей.","Создаёт постройки «по сюжету» (дом, машина и т.д.)."]
[{"$nulls":9},"Конструирует несложные постройки из                  2—3 деталей.","Создаёт постройки «по сюжету» (дом, машина и т.д.)."]
[{"$nulls":9},"Конструирует несложные постройки из                  2—3 деталей.","Создаёт постройки «по сюжету» (дом, машина и т.д.)."]
[{"$nulls":9},"Конструирует несложные постройки из                  2—3 деталей.","Создаёт постройки «по сюжету» (дом, машина и т.д.)."]
[{"$nulls":9},"Конструирует несложные постройки из                  2—3 деталей.","Создаёт постройки «по сюжету» (дом, машина и т.д.)."]
[{"$nulls":9},"Конструирует несложные постройки из                  2—3 деталей.","Создаёт постройки «по сюжету» (дом, машина и т.д.)."]
[{"$nulls":9},"Конструирует несложные постройки из                  2—3 деталей.","Создаёт постройки «по сюжету» (дом, машина и т.д.)."]
[{"$nulls":9},"Конструирует несложные постройки из                  2—3 деталей.","Создаёт постройки «по сюжету» (дом, машина и т.д.)."]
[{"$nulls":9},"Конструирует несложные постройки из                  2—3 деталей.","Создаёт постройки «по сюжету» (дом, машина и т.д.)."]
[{"$nulls":9},"Конструирует несложные постройки из                  2—3 деталей.","Создаёт постройки «по сюжету» (дом, машина и т.д.)."]
[{"$nulls":9},"Конструирует несложные постройки из                  2—3 деталей.","Создаёт постройки «по сюжету» (дом, машина и т.д.)."]
[{"$nulls":9},"Конструирует несложные постройки из                  2—3 деталей.","Создаёт постройки «по сюжету» (дом, машина и т.д.)."]
[{"$nulls":9},"Конструирует несложные постройки из                  2—3 деталей.","Создаёт постройки «по сюжету» (дом, машина и т.д.)."]
[{"$nulls":9},"Конструирует несложные постройки из                  2—3 деталей.","Создаёт постройки «по сюжету» (дом, машина и т.д.)."]
[{"$nulls":9},"Конструирует несложные постройки из                  2—3 деталей.","Создаёт постройки «по сюжету» (дом, машина и т.д.)."]
[{"$nulls":9},"Конструирует несложные постройки из                  2—3 деталей.","Создаёт постройки «по сюжету» (дом, машина и т.д.)."]
[{"$nulls":9},"Конструирует несложные постройки из                  2—3 деталей.","Создаёт постройки «по сюжету» (дом, машина и т.д.)."]
[{"$nulls":9},"Конструирует несложные постройки из                  2—3 деталей.","Создаёт постройки «по сюжету» (дом, машина и т.д.)."]
[{"$nulls":9},"Конструирует несложные постройки из                  2—3 деталей.","Создаёт постройки «по сюжету» (дом, машина и т.д.)."]
[{"$nulls":9},"Конструирует несложные постройки из                  2—3 деталей.","Создаёт постройки «по сюжету» (дом, машина и т.д.)."]
[{"$nulls":9},"Конструирует несложные постройки из                  2—3 деталей.","Создаёт постройки «по сюжету» (дом, машина и т.д.)."]
[{"$nulls":9},"Конструирует несложные постройки из                  2—3 деталей.","Создаёт постройки «по сюжету» (дом, машина и т.д.)."]
[{"$nulls":9},"Конструирует несложные постройки из                  2—3 деталей.","Создаёт постройки «по сюжету» (дом, машина и т.д.)."]
[{"$nulls":9},"Конструирует несложные постройки из                  2—3 деталей.","Создаёт постройки «по сюжету» (дом, машина и т.д.)."]
[{"$nulls":9},"Конструирует несложные постройки из                  2—3 деталей.","Создаёт постройки «по сюжету» (дом, машина и т.д.)."]
[{"$nulls":9},"Конструирует несложные постройки из                  2—3 деталей.","Создаёт постройки «по сюжету» (дом, машина и т.д.)."]
[{"$nulls":9},"Конструирует несложные постройки из                  2—3 деталей.","Создаёт постройки «по сюжету» (дом, машина и т.д.)."]
[{"$nulls":9},"Конструирует несложные постройки из                  2—3 деталей.","Создаёт постройки «по сюжету» (дом, машина и т.д.)."]
[{"$nulls":9},"Конструирует несложные постройки из                  2—3 деталей.","Создаёт постройки «по сюжету» (дом, машина и т.д.)."]
[{"$nulls":9},"Конструирует несложные постройки из                  2—3 деталей.","Создаёт постройки «по сюжету» (дом, машина и т.д.)."]
[{"$nulls":9},"Конструирует несложные постройки из                  2—3 деталей.","Создаёт постройки «по сюжету» (дом, машина и т.д.)."]
[{"$nulls":9},"Конструирует несложные постройки из                  2—3 деталей.","Создаёт постройки «по сюжету» (дом, машина и т.д.)."]
[{"$nulls":9},"Конструирует несложные постройки из                  2—3 деталей.","Создаёт постройки «по сюжету» (дом, машина и т.д.)."]
[{"$nulls":9},"Конструирует несложные постройки из                  2—3 деталей.","Создаёт постройки «по сюжету» (дом, машина и т.д.)."]
[{"$nulls":9},"Конструирует несложные постройки из                  2—3 деталей.","Создаёт постройки «по сюжету» (дом, машина и т.д.)."]
[{"$nulls":9},"Конструирует несложные постройки из                  2—3 деталей.","Создаёт постройки «по сюжету» (дом, машина и т.д.)."]
[{"$nulls":9},"Конструирует несложные постройки из                  2—3 деталей.","Создаёт постройки «по сюжету» (дом, машина и т.д.)."]
[{"$nulls":9},"Конструирует несложные постройки из                  2—3 деталей.","Создаёт постройки «по сюжету» (дом, машина и т.д.)."]
[{"$nulls":9},"Конструирует несложные постройки из                  2—3 деталей.","Создаёт постройки «по сюжету» (дом, машина и т.д.)."]
[{"$nulls":9},"Конструирует несложные постройки из                  2—3 деталей.","Создаёт постройки «по сюжету» (дом, машина и т.д.)."]
[{"$nulls":9},"Конструирует несложные постройки из                  2—3 деталей.","Создаёт постройки «по сюжету» (дом, машина и т.д.)."]
[{"$nulls":9},"Конструирует несложные постройки из                  2—3 деталей.","Создаёт постройки «по сюжету» (дом, машина и т.д.)."]
[{"$nulls":9},"Конструирует несложные постройки из                  2—3 деталей.","Создаёт постройки «по сюжету» (дом, машина и т.д.)."]
[{"$nulls":9},"Конструирует несложные постройки из                  2—3 деталей.","Создаёт постройки «по сюжету» (дом, машина и т.д.)."]
[{"$nulls":9},"Конструирует несложные постройки из                  2—3 деталей.","Создаёт постройки «по сюжету» (дом, машина и т.д.)."]
[{"$nulls":9},"Конструирует несложные постройки из                  2—3 деталей.","Создаёт постройки «по сюжету» (дом, машина и т.д.)."]
[{"$nulls":9},"Конструирует несложные постройки из                  2—3 деталей.","Создаёт постройки «по сюжету» (дом, машина и т.д.)."]
[{"$nulls":9},"Конструирует несложные постройки из                  2—3 деталей.","Создаёт постройки «по сюжету» (дом, машина и т.д.)."]
[{"$nulls":9},"Конструирует несложные постройки из                  2—3 деталей.","Создаёт постройки «по сюжету» (дом, машина и т.д.)."]
[{"$nulls":9},"Конструирует несложные постройки из                  2—3 деталей.","Создаёт постройки «по сюжету» (дом, машина и т.д.)."]
[{"$nulls":9},"Конструирует несложные постройки из                  2—3 деталей.","Создаёт постройки «по сюжету» (дом, машина и т.д.)."]
[{"$nulls":9},"Конструирует несложные постройки из                  2—3 деталей.","Создаёт постройки «по сюжету» (дом, машина и т.д.)."]
[{"$nulls":9},"Конструирует несложные постройки из                  2—3 деталей.","Создаёт постройки «по сюжету» (дом, машина и т.д.)."]
[{"$nulls":9},"Конструирует несложные постройки из                  2—3 деталей.","Создаёт постройки «по сюжету» (дом, машина и т.д.)."]
[{"$nulls":9},"Конструирует несложные постройки из                  2—3 деталей.","Создаёт постройки «по сюжету» (дом, машина и т.д.)."]
[{"$nulls":9},"Конструирует несложные постройки из                  2—3 деталей.","Создаёт постройки «по сюжету» (дом, машина и т.д.)."]
[{"$nulls":9},"Конструирует несложные постройки из                  2—3 деталей.","Создаёт постройки «по сюжету» (дом, машина и т.д.)."]
[{"$nulls":9},"Конструирует несложные постройки из                  2—3 деталей.","Создаёт постройки «по сюжету» (дом, машина и т.д.)."]
[{"$nulls":9},"Конструирует несложные постройки из                  2—3 деталей.","Создаёт постройки «по сюжету» (дом, машина и т.д.)."]
[{"$nulls":9},"Конструирует несложные постройки из                  2—3 деталей.","Создаёт постройки «по сюжету» (дом, машина и т.д.)."]
[{"$nulls":9},"Конструирует несложные постройки из                  2—3 деталей.","Создаёт постройки «по сюжету» (дом, машина и т.д.)."]
[{"$nulls":9},"Конструирует несложные постройки из                  2—3 деталей.","Создаёт постройки «по сюжету» (дом, машина и т.д.)."]
[{"$nulls":9},"Конструирует несложные постройки из                  2—3 деталей.","Создаёт постройки «по сюжету» (дом, машина и т.д.)."]
[{"$nulls":9},"Конструирует несложные постройки из                  2—3 деталей.","Создаёт постройки «по сюжету» (дом, машина и т.д.)."]
[{"$nulls":9},"Конструирует несложные постройки из                  2—3 деталей.","Создаёт постройки «по сюжету» (дом, машина и т.д.)."]
[{"$nulls":9},"Конструирует несложные постройки из                  2—3 деталей.","Создаёт постройки «по сюжету» (дом, машина и т.д.)."]
[{"$nulls":9},"Конструирует несложные постройки из                  2—3 деталей.","Создаёт постройки «по сюжету» (дом, машина и т.д.)."]
[{"$nulls":9},"Конструирует несложные постройки из                  2—3 деталей.","Создаёт постройки «по сюжету» (дом, машина и т.д.)."]
[{"$nulls":9},"Конструирует несложные постройки из                  2—3 деталей.","Создаёт постройки «по сюжету» (дом, машина и т.д.)."]
[{"$nulls":9},"Конструирует несложные постройки из                  2—3 деталей.","Создаёт постройки «по сюжету» (дом, машина и т.д.)."]
[{"$nulls":9},"Конструирует несложные постройки из                  2—3 деталей.","Создаёт постройки «по сюжету» (дом, машина и т.д.)."]
[{"$nulls":9},"Конструирует несложные постройки из                  2—3 деталей.","Создаёт постройки «по сюжету» (дом, машина и т.д.)."]
[{"$nulls":9},"Конструирует несложные постройки из                  2—3 деталей.","Создаёт постройки «по сюжету» (дом, машина и т.д.)."]
[{"$nulls":9},"Конструирует несложные постройки из                  2—3 деталей.","Создаёт постройки «по сюжету» (дом, машина и т.д.)."]
[{"$nulls":9},"Конструирует несложные постройки из                  2—3 деталей.","Создаёт постройки «по сюжету» (дом, машина и т.д.)."]
[{"$nulls":9},"Конструирует несложные постройки из                  2—3 деталей.","Создаёт постройки «по сюжету» (дом, машина и т.д.)."]
[{"$nulls":9},"Конструирует несложные постройки из                  2—3 деталей.","Создаёт постройки «по сюжету» (дом, машина и т.д.)."]
[{"$nulls":9},"Конструирует несложные постройки из                  2—3 деталей.","Создаёт постройки «по сюжету» (дом, машина и т.д.)."]
[{"$nulls":9},"Конструирует несложные постройки из                  2—3 деталей.","Создаёт постройки «по сюжету» (дом, машина и т.д.)."]
[{"$nulls":9},"Конструирует несложные постройки из                  2—3 деталей.","Создаёт постройки «по сюжету» (дом, машина и т.д.)."]
[{"$nulls":9},"Конструирует несложные постройки из                  2—3 деталей.","Создаёт постройки «по сюжету» (дом, машина и т.д.)."]
[{"$nulls":9},"Конструирует несложные постройки из                  2—3 деталей.","Создаёт постройки «по сюжету» (дом, машина и т.д.)."]
[{"$nulls":9},"Конструирует несложные постройки из                  2—3 деталей.","Создаёт постройки «по сюжету» (дом, машина и т.д.)."]
[{"$nulls":9},"Конструирует несложные постройки из                  2—3 деталей.","Создаёт постройки «по сюжету» (дом, машина и т.д.)."]
[{"$nulls":9},"Конструирует несложные постройки из                  2—3 деталей.","Создаёт постройки «по сюжету» (дом, машина и т.д.)."]
[{"$nulls":9},"Конструирует несложные постройки из                  2—3 деталей.","Создаёт постройки «по сюжету» (дом, машина и т.д.)."]
[{"$nulls":9},"Конструирует несложные постройки из                  2—3 деталей.","Создаёт постройки «по сюжету» (дом, машина и т.д.)."]
[{"$nulls":9},"Конструирует несложные постройки из                  2—3 деталей.","Создаёт постройки «по сюжету» (дом, машина и т.д.)."]
[{"$nulls":9},"Конструирует несложные постройки из                  2—3 деталей.","Создаёт постройки «по сюжету» (дом, машина и т.д.)."]
[{"$nulls":9},"Конструирует несложные постройки из                  2—3 деталей.","Создаёт постройки «по сюжету» (дом, машина и т.д.)."]
[{"$nulls":9},"Конструирует несложные постройки из                  2—3 деталей.","Создаёт постройки «по сюжету» (дом, машина и т.д.)."]
[{"$nulls":9},"Конструирует несложные постройки из                  2—3 деталей.","Создаёт постройки «по сюжету» (дом, машина и т.д.)."]
[{"$nulls":9},"Конструирует несложные постройки из                  2—3 деталей.","Создаёт постройки «по сюжету» (дом, машина и т.д.)."]
[{"$nulls":9},"Конструирует несложные постройки из                  2—3 деталей.","Создаёт постройки «по сюжету» (дом, машина и т.д.)."]
[{"$nulls":9},"Конструирует несложные постройки из                  2—3 деталей.","Создаёт постройки «по сюжету» (дом, машина и т.д.)."]
[{"$nulls":9},"Конструирует несложные постройки из                  2—3 деталей.","Создаёт постройки «по сюжету» (дом, машина и т.д.)."]
[{"$nulls":9},"Конструирует несложные постройки из                  2—3 деталей.","Создаёт постройки «по сюжету» (дом, машина и т.д.)."]
[{"$nulls":9},"Конструирует несложные постройки из                  2—3 деталей.","Создаёт постройки «по сюжету» (дом, машина и т.д.)."]
[{"$nulls":9},"Конструирует несложные постройки из                  2—3 деталей.","Создаёт постройки «по сюжету» (дом, машина и т.д.)."]
[{"$nulls":9},"Конструирует несложные постройки из                  2—3 деталей.","Создаёт постройки «по сюжету» (дом, машина и т.д.)."]
[{"$nulls":9},"Конструирует несложные постройки из                  2—3 деталей.","Создаёт постройки «по сюжету» (дом, машина и т.д.)."]
[{"$nulls":9},"Конструирует несложные постройки из                  2—3 деталей.","Создаёт постройки «по сюжету» (дом, машина и т.д.)."]
[{"$nulls":9},"Конструирует несложные постройки из                  2—3 деталей.","Создаёт постройки «по сюжету» (дом, машина и т.д.)."]
[{"$nulls":9},"Конструирует несложные постройки из                  2—3 деталей.","Создаёт постройки «по сюжету» (дом, машина и т.д.)."]
[{"$nulls":9},"Конструирует несложные постройки из                  2—3 деталей.","Создаёт постройки «по сюжету» (дом, машина и т.д.)."]
[{"$nulls":9},"Конструирует несложные постройки из                  2—3 деталей.","Создаёт постройки «по сюжету» (дом, машина и т.д.)."]
[{"$nulls":9},"Конструирует несложные постройки из                  2—3 деталей.","Создаёт постройки «по сюжету» (дом, машина и т.д.)."]
[{"$nulls":9},"Конструирует несложные постройки из                  2—3 деталей.","Создаёт постройки «по сюжету» (дом, машина и т.д.)."]
[{"$nulls":9},"Конструирует несложные постройки из                  2—3 деталей.","Создаёт постройки «по сюжету» (дом, машина и т.д.)."]
[{"$nulls":9},"Конструирует несложные постройки из                  2—3 деталей.","Создаёт постройки «по сюжету» (дом, машина и т.д.)."]
[{"$nulls":9},"Конструирует несложные постройки из                  2—3 деталей.","Создаёт постройки «по сюжету» (дом, машина и т.д.)."]
[{"$nulls":9},"Конструирует несложные постройки из                  2—3 деталей.","Создаёт постройки «по сюжету» (дом, машина и т.д.)."]
[{"$nulls":9},"Конструирует несложные постройки из                  2—3 деталей.","Создаёт постройки «по сюжету» (дом, машина и т.д.)."]
[{"$nulls":9},"Конструирует несложные постройки из                  2—3 деталей.","Создаёт постройки «по сюжету» (дом, машина и т.д.)."]
[{"$nulls":9},"Конструирует несложные постройки из                  2—3 деталей.","Создаёт постройки «по сюжету» (дом, машина и т.д.)."]
[{"$nulls":9},"Конструирует несложные постройки из                  2—3 деталей.","Создаёт постройки «по сюжету» (дом, машина и т.д.)."]
[{"$nulls":9},"Конструирует несложные постройки из                  2—3 деталей.","Создаёт постройки «по сюжету» (дом, машина и т.д.)."]
[{"$nulls":9},"Конструирует несложные постройки из                  2—3 деталей.","Создаёт постройки «по сюжету» (дом, машина и т.д.)."]
[{"$nulls":9},"Конструирует несложные постройки из                  2—3 деталей.","Создаёт постройки «по сюжету» (дом, машина и т.д.)."]
[{"$nulls":9},"Конструирует несложные постройки из                  2—3 деталей.","Создаёт постройки «по сюжету» (дом, машина и т.д.)."]
[{"$nulls":9},"Конструирует несложные постройки из                  2—3 деталей.","Создаёт постройки «по сюжету» (дом, машина и т.д.)."]
[{"$nulls":9},"Конструирует несложные постройки из                  2—3 деталей.","Создаёт постройки «по сюжету» (дом, машина и т.д.)."]
[{"$nulls":9},"Конструирует несложные постройки из                  2—3 деталей.","Создаёт постройки «по сюжету» (дом, машина и т.д.)."]
[{"$nulls":9},"Конструирует несложные постройки из                  2—3 деталей.","Создаёт постройки «по сюжету» (дом, машина и т.д.)."]
[{"$nulls":9},"Конструирует несложные постройки из                  2—3 деталей.","Создаёт постройки «по сюжету» (дом, машина и т.д.)."]
[{"$nulls":9},"Конструирует несложные постройки из                  2—3 деталей.","Создаёт постройки «по сюжету» (дом, машина и т.д.)."]
[{"$nulls":9},"Конструирует несложные постройки из                  2—3 деталей.","Создаёт постройки «по сюжету» (дом, машина и т.д.)."]
[{"$nulls":9},"Конструирует несложные постройки из                  2—3 деталей.","Создаёт постройки «по сюжету» (дом, машина и т.д.)."]
[{"$nulls":9},"Конструирует несложные постройки из                  2—3 деталей.","Создаёт постройки «по сюжету» (дом, машина и т.д.)."]
[{"$nulls":9},"Конструирует несложные постройки из                  2—3 деталей.","Создаёт постройки «по сюжету» (дом, машина и т.д.)."]
[{"$nulls":9},"Конструирует несложные постройки из                  2—3 деталей.","Создаёт постройки «по сюжету» (дом, машина и т.д.)."]
[{"$nulls":9},"Конструирует несложные постройки из                  2—3 деталей.","Создаёт постройки «по сюжету» (дом, машина и т.д.)."]
[{"$nulls":9},"Конструирует несложные постройки из                  2—3 деталей.","Создаёт постройки «по сюжету» (дом, машина и т.д.)."]
[{"$nulls":9},"Конструирует несложные постройки из                  2—3 деталей.","Создаёт постройки «по сюжету» (дом, машина и т.д.)."]
[{"$nulls":9},"Конструирует несложные постройки из                  2—3 деталей.","Создаёт постройки «по сюжету» (дом, машина и т.д.)."]
[{"$nulls":9},"Конструирует несложные постройки из                  2—3 деталей.","Создаёт постройки «по сюжету» (дом, машина и т.д.)."]
[{"$nulls":9},"Конструирует несложные постройки из                  2—3 деталей.","Создаёт постройки «по сюжету» (дом, машина и т.д.)."]
[{"$nulls":9},"Конструирует несложные постройки из                  2—3 деталей.","Создаёт постройки «по сюжету» (дом, машина и т.д.)."]
[{"$nulls":9},"Конструирует несложные постройки из                  2—3 деталей.","Создаёт постройки «по сюжету» (дом, машина и т.д.)."]
[{"$nulls":9},"Конструирует несложные постройки из                  2—3 деталей.","Создаёт постройки «по сюжету» (дом, машина и т.д.)."]
[{"$nulls":9},"Конструирует несложные постройки из                  2—3 деталей.","Создаёт постройки «по сюжету» (дом, машина и т.д.)."]
[{"$nulls":9},"Конструирует несложные постройки из                  2—3 деталей.","Создаёт постройки «по сюжету» (дом, машина и т.д.)."]
[{"$nulls":9},"Конструирует несложные постройки из                  2—3 деталей.","Создаёт постройки «по сюжету» (дом, машина и т.д.)."]
[{"$nulls":9},"Конструирует несложные постройки из                  2—3 деталей.","Создаёт постройки «по сюжету» (дом, машина и т.д.)."]
[{"$nulls":9},"Конструирует несложные постройки из                  2—3 деталей.","Создаёт постройки «по сюжету» (дом, машина и т.д.)."]
[{"$nulls":9},"Конструирует несложные постройки из                  2—3 деталей.","Создаёт постройки «по сюжету» (дом, машина и т.д.)."]
[{"$nulls":9},"Конструирует несложные постройки из                  2—3 деталей.","Создаёт постройки «по сюжету» (дом, машина и т.д.)."]
[{"$nulls":9},"Конструирует несложные постройки из                  2—3 деталей.","Создаёт постройки «по сюжету» (дом, машина и т.д.)."]
[{"$nulls":9},"Конструирует несложные постройки из                  2—3 деталей.","Создаёт постройки «по сюжету» (дом, машина и т.д.)."]
[{"$nulls":9},"Конструирует несложные постройки из                  2—3 деталей.","Создаёт постройки «по сюжету» (дом, машина и т.д.)."]
[{"$nulls":9},"Конструирует несложные постройки из                  2—3 деталей.","Создаёт постройки «по сюжету» (дом, машина и т.д.)."]
[{"$nulls":9},"Конструирует несложные постройки из                  2—3 деталей.","Создаёт постройки «по сюжету» (дом, машина и т.д.)."]
[{"$nulls":9},"Конструирует несложные постройки из                  2—3 деталей.","Создаёт постройки «по сюжету» (дом, машина и т.д.)."]
[{"$nulls":9},"Конструирует несложные постройки из                  2—3 деталей.","Создаёт постройки «по сюжету» (дом, машина и т.д.)."]
[{"$nulls":9},"Конструирует несложные постройки из                  2—3 деталей.","Создаёт постройки «по сюжету» (дом, машина и т.д.)."]
[{"$nulls":9},"Конструирует несложные постройки из                  2—3 деталей.","Создаёт постройки «по сюжету» (дом, машина и т.д.)."]
[{"$nulls":9},"Конструирует несложные постройки из                  2—3 деталей.","Создаёт постройки «по сюжету» (дом, машина и т.д.)."]
[{"$nulls":9},"Конструирует несложные постройки из                  2—3 деталей.","Создаёт постройки «по сюжету» (дом, машина и т.д.)."]
[{"$nulls":9},"Конструирует несложные постройки из                  2—3 деталей.","Создаёт постройки «по сюжету» (дом, машина и т.д.)."]
[{"$nulls":9},"Конструирует несложные постройки из                  2—3 деталей.","Создаёт постройки «по сюжету» (дом, машина и т.д.)."]
[{"$nulls":9},"Конструирует несложные постройки из                  2—3 деталей.","Создаёт постройки «по сюжету» (дом, машина и т.д.)."]
[{"$nulls":9},"Конструирует несложные постройки из                  2—3 деталей.","Создаёт постройки «по сюжету» (дом, машина и т.д.)."]
[{"$nulls":9},"Конструирует несложные постройки из                  2—3 деталей.","Создаёт постройки «по сюжету» (дом, машина и т.д.)."]
[{"$nulls":9},"Конструирует несложные постройки из                  2—3 деталей.","Создаёт постройки «по сюжету» (дом, машина и т.д.)."]
[{"$nulls":9},"Конструирует несложные постройки из                  2—3 деталей.","Создаёт постройки «по сюжету» (дом, машина и т.д.)."]
[{"$nulls":9},"Конструирует несложные постройки из                  2—3 деталей.","Создаёт постройки «по сюжету» (дом, машина и т.д.)."]
[{"$nulls":9},"Конструирует несложные постройки из                  2—3 деталей.","Создаёт постройки «по сюжету» (дом, машина и т.д.)."]
[{"$nulls":9},"Конструирует несложные постройки из                  2—3 деталей.","Создаёт постройки «по сюжету» (дом, машина и т.д.)."]
[{"$nulls":9},"Конструирует несложные постройки из                  2—3 деталей.","Создаёт постройки «по сюжету» (дом, машина и т.д.)."]
[{"$nulls":9},"Конструирует несложные постройки из                  2—3 деталей.","Создаёт постройки «по сюжету» (дом, машина и т.д.)."]
[{"$nulls":9},"Конструирует несложные постройки из                  2—3 деталей.","Создаёт постройки «по сюжету» (дом, машина и т.д.)."]
[{"$nulls":9},"Конструирует несложные постройки из                  2—3 деталей.","Создаёт постройки «по сюжету» (дом, машина и т.д.)."]
[{"$nulls":9},"Конструирует несложные постройки из                  2—3 деталей.","Создаёт постройки «по сюжету» (дом, машина и т.д.)."]
[{"$nulls":9},"Конструирует несложные постройки из                  2—3 деталей.","Создаёт постройки «по сюжету» (дом, машина и т.д.)."]
[{"$nulls":9},"Конструирует несложные постройки из                  2—3 деталей.","Создаёт постройки «по сюжету» (дом, машина и т.д.)."]
[{"$nulls":9},"Конструирует несложные постройки из                  2—3 деталей.","Создаёт постройки «по сюжету» (дом, машина и т.д.)."]
[{"$nulls":9},"Конструирует несложные постройки из                  2—3 деталей.","Создаёт постройки «по сюжету» (дом, машина и т.д.)."]
[{"$nulls":9},"Конструирует несложные постройки из                  2—3 деталей.","Создаёт постройки «по сюжету» (дом, машина и т.д.)."]
[{"$nulls":9},"Конструирует несложные постройки из                  2—3 деталей.","Создаёт постройки «по сюжету» (дом, машина и т.д.)."]
[{"$nulls":9},"Конструирует несложные постройки из                  2—3 деталей.","Создаёт постройки «по сюжету» (дом, машина и т.д.)."]
[{"$nulls":9},"Конструирует несложные постройки из                  2—3 деталей.","Создаёт постройки «по сюжету» (дом, машина и т.д.)."]
[{"$nulls":9},"Конструирует несложные постройки из                  2—3 деталей.","Создаёт постройки «по сюжету» (дом, машина и т.д.)."]
[{"$nulls":9},"Конструирует несложные постройки из                  2—3 деталей.","Создаёт постройки «по сюжету» (дом, машина и т.д.)."]
[{"$nulls":9},"Конструирует несложные постройки из                  2—3 деталей.","Создаёт постройки «по сюжету» (дом, машина и т.д.)."]
[{"$nulls":9},"Конструирует несложные постройки из                  2—3 деталей.","Создаёт постройки «по сюжету» (дом, машина и т.д.)."]
[{"$nulls":9},"Конструирует несложные постройки из                  2—3 деталей.","Создаёт постройки «по сюжету» (дом, машина и т.д.)."]
[{"$nulls":9},"Конструирует несложные постройки из                  2—3 деталей.","Создаёт постройки «по сюжету» (дом, машина и т.д.)."]
[{"$nulls":9},"Конструирует несложные постройки из                  2—3 деталей.","Создаёт постройки «по сюжету» (дом, машина и т.д.)."]
[{"$nulls":9},"Конструирует несложные постройки из                  2—3 деталей.","Создаёт постройки «по сюжету» (дом, машина и т.д.)."]
[{"$nulls":9},"Конструирует несложные постройки из                  2—3 деталей.","Создаёт постройки «по сюжету» (дом, машина и т.д.)."]
[{"$nulls":9},"Конструирует несложные постройки из                  2—3 деталей.","Создаёт постройки «по сюжету» (дом, машина и т.д.)."]
[{"$nulls":9},"Конструирует несложные постройки из                  2—3 деталей.","Создаёт постройки «по сюжету» (дом, машина и т.д.)."]
[{"$nulls":9},"Конструирует несложные постройки из                  2—3 деталей.","Создаёт постройки «по сюжету» (дом, машина и т.д.)."]
[{"$nulls":9},"Конструирует несложные постройки из                  2—3 деталей.","Создаёт постройки «по сюжету» (дом, машина и т.д.)."]
[{"$nulls":9},"Конструирует несложные постройки из                  2—3 деталей.","Создаёт постройки «по сюжету» (дом, машина и т.д.)."]
[{"$nulls":9},"Конструирует несложные постройки из                  2—3 деталей.","Создаёт постройки «по сюжету» (дом, машина и т.д.)."]
[{"$nulls":9},"Конструирует несложные постройки из                  2—3 деталей.","Создаёт постройки «по сюжету» (дом, машина и т.д.)."]
[{"$nulls":9},"Конструирует несложные постройки из                  2—3 деталей.","Создаёт постройки «по сюжету» (дом, машина и т.д.)."]
[{"$nulls":9},"Конструирует несложные постройки из                  2—3 деталей.","Создаёт постройки «по сюжету» (дом, машина и т.д.)."]
[{"$nulls":9},"Конструирует несложные постройки из                  2—3 деталей.","Создаёт постройки «по сюжету» (дом, машина и т.д.)."]
[{"$nulls":9},"Конструирует несложные постройки из                  2—3 деталей.","Создаёт постройки «по сюжету» (дом, машина и т.д.)."]
[{"$nulls":9},"Конструирует несложные постройки из                  2—3 деталей.","Создаёт постройки «по сюжету» (дом, машина и т.д.)."]
[{"$nulls":9},"Конструирует несложные постройки из                  2—3 деталей.","Создаёт постройки «по сюжету» (дом, машина и т.д.)."]
[{"$nulls":9},"Конструирует несложные постройки из                  2—3 деталей.","Создаёт постройки «по сюжету» (дом, машина и т.д.)."]
[{"$nulls":9},"Конструирует несложные постройки из                  2—3 деталей.","Создаёт постройки «по сюжету» (дом, машина и т.д.)."]
[{"$nulls":9},"Конструирует несложные постройки из                  2—3 деталей.","Создаёт постройки «по сюжету» (дом, машина и т.д.)."]
[{"$nulls":9},"Конструирует несложные постройки из                  2—3 деталей.","Создаёт постройки «по сюжету» (дом, машина и т.д.)."]
[{"$nulls":9},"Конструирует несложные постройки из                  2—3 деталей.","Создаёт постройки «по сюжету» (дом, машина и т.д.)."]
[{"$nulls":9},"Конструирует несложные постройки из                  2—3 деталей.","Создаёт постройки «по сюжету» (дом, машина и т.д.)."]
[{"$nulls":9},"Конструирует несложные постройки из                  2—3 деталей.","Создаёт постройки «по сюжету» (дом, машина и т.д.)."]
[{"$nulls":9},"Конструирует несложные постройки из                  2—3 деталей.","Создаёт постройки «по сюжету» (дом, машина и т.д.)."]
[{"$nulls":9},"Конструирует несложные постройки из                  2—3 деталей.","Создаёт постройки «по сюжету» (дом, машина и т.д.)."]
[{"$nulls":9},"Конструирует несложные постройки из                  2—3 деталей.","Создаёт постройки «по сюжету» (дом, машина и т.д.)."]
[{"$nulls":9},"Конструирует несложные постройки из                  2—3 деталей.","Создаёт постройки «по сюжету» (дом, машина и т.д.)."]
[{"$nulls":9},"Конструирует несложные постройки из                  2—3 деталей.","Создаёт постройки «по сюжету» (дом, машина и т.д.)."]
[{"$nulls":9},"Конструирует несложные постройки из                  2—3 деталей.","Создаёт постройки «по сюжету» (дом, машина и т.д.)."]
[{"$nulls":9},"Конструирует несложные постройки из                  2—3 деталей.","Создаёт постройки «по сюжету» (дом, машина и т.д.)."]
[{"$nulls":9},"Конструирует несложные постройки из                  2—3 деталей.","Создаёт постройки «по сюжету» (дом, машина и т.д.)."]
[{"$nulls":9},"Конструирует несложные постройки из                  2—3 деталей.","Создаёт постройки «по сюжету» (дом, машина и т.д.)."]
[{"$nulls":9},"Конструирует несложные постройки из                  2—3 деталей.","Создаёт постройки «по сюжету» (дом, машина и т.д.)."]
[{"$nulls":9},"Конструирует несложные постройки из                  2—3 деталей.","Создаёт постройки «по сюжету» (дом, машина и т.д.)."]
[{"$nulls":9},"Конструирует несложные постройки из                  2—3 деталей.","Создаёт постройки «по сюжету» (дом, машина и т.д.)."]
[{"$nulls":9},"Конструирует несложные постройки из                  2—3 деталей.","Создаёт постройки «по сюжету» (дом, машина и т.д.)."]
[{"$nulls":9},"Конструирует несложные постройки из                  2—3 деталей.","Создаёт постройки «по сюжету» (дом, машина и т.д.)."]
[{"$nulls":9},"Конструирует несложные постройки из                  2—3 деталей.","Создаёт постройки «по сюжету» (дом, машина и т.д.)."]
[{"$nulls":9},"Конструирует несложные постройки из                  2—3 деталей.","Создаёт постройки «по сюжету» (дом, машина и т.д.)."]
[{"$nulls":9},"Конструирует несложные постройки из                  2—3 деталей.","Создаёт постройки «по сюжету» (дом, машина и т.д.)."]
[{"$nulls":9},"Конструирует несложные постройки из                  2—3 деталей.","Создаёт постройки «по сюжету» (дом, машина и т.д.)."]
[{"$nulls":9},"Конструирует несложные постройки из                  2—3 деталей.","Создаёт постройки «по сюжету» (дом, машина и т.д.)."]
[{"$nulls":9},"Конструирует несложные постройки из                  2—3 деталей.","Создаёт постройки «по сюжету» (дом, машина и т.д.)."]
[{"$nulls":9},"Конструирует несложные постройки из                  2—3 деталей.","Создаёт постройки «по сюжету» (дом, машина и т.д.)."]
[{"$nulls":9},"Конструирует несложные постройки из                  2—3 деталей.","Создаёт постройки «по сюжету» (дом, машина и т.д.)."]
[{"$nulls":9},"Конструирует несложные постройки из                  2—3 деталей.","Создаёт постройки «по сюжету» (дом, машина и т.д.)."]
[{"$nulls":9},"Конструирует несложные постройки из                  2—3 деталей.","Создаёт постройки «по сюжету» (дом, машина и т.д.)."]
[{"$nulls":9},"Конструирует несложные постройки из                  2—3 деталей.","Создаёт постройки «по сюжету» (дом, машина и т.д.)."]
[{"$nulls":9},"Конструирует несложные постройки из                  2—3 деталей.","Создаёт постройки «по сюжету» (дом, машина и т.д.)."]
[{"$nulls":9},"Конструирует несложные постройки из                  2—3 деталей.","Создаёт постройки «по сюжету» (дом, машина и т.д.)."]
[{"$nulls":9},"Конструирует несложные постройки из                  2—3 деталей.","Создаёт постройки «по сюжету» (дом, машина и т.д.)."]
[{"$nulls":9},"Конструирует несложные постройки из                  2—3 деталей.","Создаёт постройки «по сюжету» (дом, машина и т.д.)."]
[{"$nulls":9},"Конструирует несложные постройки из                  2—3 деталей.","Создаёт постройки «по сюжету» (дом, машина и т.д.)."]
[{"$nulls":9},"Конструирует несложные постройки из                  2—3 деталей.","Создаёт постройки «по сюжету» (дом, машина и т.д.)."]
[{"$nulls":9},"Конструирует несложные постройки из                  2—3 деталей.","Создаёт постройки «по сюжету» (дом, машина и т.д.)."]
[{"$nulls":9},"Конструирует несложные постройки из                  2—3 деталей.","Создаёт постройки «по сюжету» (дом, машина и т.д.)."]
[{"$nulls":9},"Конструирует несложные постройки из                  2—3 деталей.","Создаёт постройки «по сюжету» (дом, машина и т.д.)."]
[{"$nulls":9},"Конструирует несложные постройки из                  2—3 деталей.","Создаёт постройки «по сюжету» (дом, машина и т.д.)."]
[{"$nulls":9},"Конструирует несложные постройки из                  2—3 деталей.","Создаёт постройки «по сюжету» (дом, машина и т.д.)."]
[{"$nulls":9},"Конструирует несложные постройки из                  2—3 деталей.","Создаёт постройки «по сюжету» (дом, машина и т.д.)."]
[{"$nulls":9},"Конструирует несложные постройки из                  2—3 деталей.","Создаёт постройки «по сюжету» (дом, машина и т.д.)."]
[{"$nulls":9},"Конструирует несложные постройки из                  2—3 деталей.","Создаёт постройки «по сюжету» (дом, машина и т.д.)."]
[{"$nulls":9},"Конструирует несложные постройки из                  2—3 деталей.","Создаёт постройки «по сюжету» (дом, машина и т.д.)."]
[{"$nulls":9},"Конструирует несложные постройки из                  2—3 деталей.","Создаёт постройки «по сюжету» (дом, машина и т.д.)."]
[{"$nulls":9},"Конструирует несложные постройки из                  2—3 деталей.","Создаёт постройки «по сюжету» (дом, машина и т.д.)."]
[{"$nulls":9},"Конструирует несложные постройки из                  2—3 деталей.","Создаёт постройки «по сюжету» (дом, машина и т.д.)."]
[{"$nulls":9},"Конструирует несложные постройки из                  2—3 деталей.","Создаёт постройки «по сюжету» (дом, машина и т.д.)."]
[{"$nulls":9},"Конструирует несложные постройки из                  2—3 деталей.","Создаёт постройки «по сюжету» (дом, машина и т.д.)."]
[{"$nulls":9},"Конструирует несложные постройки из                  2—3 деталей.","Создаёт постройки «по сюжету» (дом, машина и т.д.)."]
[{"$nulls":9},"Конструирует несложные постройки из                  2—3 деталей.","Создаёт постройки «по сюжету» (дом, машина и т.д.)."]
[{"$nulls":9},"Конструирует несложные постройки из                  2—3 деталей.","Создаёт постройки «по сюжету» (дом, машина и т.д.)."]
[{"$nulls":9},"Конструирует несложные постройки из                  2—3 деталей.","Создаёт постройки «по сюжету» (дом, машина и т.д.)."]
[{"$nulls":9},"Конструирует несложные постройки из                  2—3 деталей.","Создаёт постройки «по сюжету» (дом, машина и т.д.)."]
[{"$nulls":9},"Конструирует несложные постройки из                  2—3 деталей.","Создаёт постройки «по сюжету» (дом, машина и т.д.)."]
[{"$nulls":9},"Конструирует несложные постройки из                  2—3 деталей.","Создаёт постройки «по сюжету» (дом, машина и т.д.)."]
[{"$nulls":9},"Конструирует несложные постройки из                  2—3 деталей.","Создаёт постройки «по сюжету» (дом, машина и т.д.)."]
[{"$nulls":9},"Конструирует несложные постройки из                  2—3 деталей.","Создаёт постройки «по сюжету» (дом, машина и т.д.)."]
[{"$nulls":9},"Конструирует несложные постройки из                  2—3 деталей.","Создаёт постройки «по сюжету» (дом, машина и т.д.)."]
[{"$nulls":9},"Конструирует несложные постройки из                  2—3 деталей.","Создаёт постройки «по сюжету» (дом, машина и т.д.)."]
[{"$nulls":9},"Конструирует несложные постройки из                  2—3 деталей.","Создаёт постройки «по сюжету» (дом, машина и т.д.)."]
[{"$nulls":9},"Конструирует несложные постройки из                  2—3 деталей.","Создаёт постройки «по сюжету» (дом, машина и т.д.)."]
[{"$nulls":9},"Конструирует несложные постройки из                  2—3 деталей.","Создаёт постройки «по сюжету» (дом, машина и т.д.)."]
[{"$nulls":9},"Конструирует несложные постройки из                  2—3 деталей.","Создаёт постройки «по сюжету» (дом, машина и т.д.)."]
[{"$nulls":9},"Конструирует несложные постройки из                  2—3 деталей.","Создаёт постройки «по сюжету» (дом, машина и т.д.)."]
[{"$nulls":9},"Конструирует несложные постройки из                  2—3 деталей.","Создаёт постройки «по сюжету» (дом, машина и т.д.)."]
[{"$nulls":9},"Конструирует несложные постройки из                  2—3 деталей.","Создаёт постройки «по сюжету» (дом, машина и т.д.)."]
[{"$nulls":9},"Конструирует несложные постройки из                  2—3 деталей.","Создаёт постройки «по сюжету» (дом, машина и т.д.)."]
[{"$nulls":9},"Конструирует несложные постройки из                  2—3 деталей.","Создаёт постройки «по сюжету» (дом, машина и т.д.)."]
[{"$nulls":9},"Конструирует несложные постройки из                  2—3 деталей.","Создаёт постройки «по сюжету» (дом, машина и т.д.)."]
[{"$nulls":9},"Конструирует несложные постройки из                  2—3 деталей.","Создаёт постройки «по сюжету» (дом, машина и т.д.)."]
[{"$nulls":9},"Конструирует несложные постройки из                  2—3 деталей.","Создаёт постройки «по сюжету» (дом, машина и т.д.)."]
[{"$nulls":9},"Конструирует несложные постройки из                  2—3 деталей.","Создаёт постройки «по сюжету» (дом, машина и т.д.)."]
[{"$nulls":9},"Конструирует несложные постройки из                  2—3 деталей.","Создаёт постройки «по сюжету» (дом, машина и т.д.)."]
[{"$nulls":9},"Конструирует несложные постройки из                  2—3 деталей.","Создаёт постройки «по сюжету» (дом, машина и т.д.)."]
[{"$nulls":9},"Конструирует несложные постройки из                  2—3 деталей.","Создаёт постройки «по сюжету» (дом, машина и т.д.)."]
[{"$nulls":9},"Конструирует несложные постройки из                  2—3 деталей.","Создаёт постройки «по сюжету» (дом, машина и т.д.)."]
[{"$nulls":9},"Конструирует несложные постройки из                  2—3 деталей.","Создаёт постройки «по сюжету» (дом, машина и т.д.)."]
[{"$nulls":9},"Конструирует несложные постройки из                  2—3 деталей.","Создаёт постройки «по сюжету» (дом, машина и т.д.)."]
[{"$nulls":9},"Конструирует несложные постройки из                  2—3 деталей.","Создаёт постройки «по сюжету» (дом, машина и т.д.)."]
[{"$nulls":9},"Конструирует несложные постройки из                  2—3 деталей.","Создаёт постройки «по сюжету» (дом, машина и т.д.)."]
[{"$nulls":9},"Конструирует несложные постройки из                  2—3 деталей.","Создаёт постройки «по сюжету» (дом, машина и т.д.)."]
[{"$nulls":9},"Конструирует несложные постройки из                  2—3 деталей.","Создаёт постройки «по сюжету» (дом, машина и т.д.)."]
[{"$nulls":9},"Конструирует несложные постройки из                  2—3 деталей.","Создаёт постройки «по сюжету» (дом, машина и т.д.)."]
[{"$nulls":9},"Конструирует несложные постройки из                  2—3 деталей.","Создаёт постройки «по сюжету» (дом, машина и т.д.)."]
[{"$nulls":9},"Конструирует несложные постройки из                  2—3 деталей.","Создаёт постройки «по сюжету» (дом, машина и т.д.)."]
[{"$nulls":9},"Конструирует несложные постройки из                  2—3 деталей.","Создаёт постройки «по сюжету» (дом, машина и т.д.)."]
[{"$nulls":9},"Конструирует несложные постройки из                  2—3 деталей.","Создаёт постройки «по сюжету» (дом, машина и т.д.)."]
[{"$nulls":9},"Конструирует несложные постройки из                  2—3 деталей.","Создаёт постройки «по сюжету» (дом, машина и т.д.)."]
[{"$nulls":9},"Конструирует несложные постройки из                  2—3 деталей.","Создаёт постройки «по сюжету» (дом, машина и т.д.)."]
[{"$nulls":9},"Конструирует несложные постройки из                  2—3 деталей.","Создаёт постройки «по сюжету» (дом, машина и т.д.)."]
[{"$nulls":9},"Конструирует несложные постройки из                  2—3 деталей.","Создаёт постройки «по сюжету» (дом, машина и т.д.)."]
[{"$nulls":9},"Конструирует несложные постройки из                  2—3 деталей.","Создаёт постройки «по сюжету» (дом, машина и т.д.)."]
[{"$nulls":9},"Конструирует несложные постройки из                  2—3 деталей.","Создаёт постройки «по сюжету» (дом, машина и т.д.)."]
[{"$nulls":9},"Конструирует несложные постройки из                  2—3 деталей.","Создаёт постройки «по сюжету» (дом, машина и т.д.)."]
[{"$nulls":9},"Конструирует несложные постройки из                  2—3 деталей.","Создаёт постройки «по сюжету» (дом, машина и т.д.)."]
[{"$nulls":9},"Конструирует несложные постройки из                  2—3 деталей.","Создаёт постройки «по сюжету» (дом, машина и т.д.)."]
[{"$nulls":9},"Конструирует несложные постройки из                  2—3 деталей.","Создаёт постройки «по сюжету» (дом, машина и т.д.)."]
[{"$nulls":9},"Конструирует несложные постройки из                  2—3 деталей.","Создаёт постройки «по сюжету» (дом, машина и т.д.)."]
[{"$nulls":9},"Конструирует несложные постройки из                  2—3 деталей.","Создаёт постройки «по сюжету» (дом, машина и т.д.)."]
[{"$nulls":9},"Конструирует несложные постройки из                  2—3 деталей.","Создаёт постройки «по сюжету» (дом, машина и т.д.)."]
[{"$nulls":9},"Конструирует несложные постройки из                  2—3 деталей.","Создаёт постройки «по сюжету» (дом, машина и т.д.)."]
[{"$nulls":9},"Конструирует несложные постройки из                  2—3 деталей.","Создаёт постройки «по сюжету» (дом, машина и т.д.)."]
[{"$nulls":9},"Конструирует несложные постройки из                  2—3 деталей.","Создаёт постройки «по сюжету» (дом, машина и т.д.)."]
[{"$nulls":9},"Конструирует несложные постройки из                  2—3 деталей.","Создаёт постройки «по сюжету» (дом, машина и т.д.)."]
[{"$nulls":9},"Конструирует несложные постройки из                  2—3 деталей.","Создаёт постройки «по сюжету» (дом, машина и т.д.)."]
[{"$nulls":9},"Конструирует несложные постройки из                  2—3 деталей.","Создаёт постройки «по сюжету» (дом, машина и т.д.)."]
[{"$nulls":9},"Конструирует несложные постройки из                  2—3 деталей.","Создаёт постройки «по сюжету» (дом, машина и т.д.)."]
[{"$nulls":9},"Конструирует несложные постройки из                  2—3 деталей.","Создаёт постройки «по сюжету» (дом, машина и т.д.)."]
[{"$nulls":9},"Конструирует несложные постройки из                  2—3 деталей.","Создаёт постройки «по сюжету» (дом, машина и т.д.)."]
[{"$nulls":9},"Конструирует несложные постройки из                  2—3 деталей.","Создаёт постройки «по сюжету» (дом, машина и т.д.)."]
[{"$nulls":9},"Конструирует несложные постройки из                  2—3 деталей.","Создаёт постройки «по сюжету» (дом, машина и т.д.)."]
[{"$nulls":9},"Конструирует несложные постройки из                  2—3 деталей.","Создаёт постройки «по сюжету» (дом, машина и т.д.)."]
[{"$nulls":9},"Конструирует несложные постройки из                  2—3 деталей.","Создаёт постройки «по сюжету» (дом, машина и т.д.)."]
[{"$nulls":9},"Конструирует несложные постройки из                  2—3 деталей.","Создаёт постройки «по сюжету» (дом, машина и т.д.)."]
[{"$nulls":9},"Конструирует несложные постройки из                  2—3 деталей.","Создаёт постройки «по сюжету» (дом, машина и т.д.)."]
[{"$nulls":9},"Конструирует несложные постройки из                  2—3 деталей.","Создаёт постройки «по сюжету» (дом, машина и т.д.)."]
[{"$nulls":9},"Конструирует несложные постройки из                  2—3 деталей.","Создаёт постройки «по сюжету» (дом, машина и т.д.)."]
[{"$nulls":9},"Конструирует несложные постройки из                  2—3 деталей.","Создаёт постройки «по сюжету» (дом, машина и т.д.)."]
[{"$nulls":9},"Конструирует несложные постройки из                  2—3 деталей.","Создаёт постройки «по сюжету» (дом, машина и т.д.)."]
[{"$nulls":9},"Конструирует несложные постройки из                  2—3 деталей.","Создаёт постройки «по сюжету» (дом, машина и т.д.)."]
[{"$nulls":9},"Конструирует несложные постройки из                  2—3 деталей.","Создаёт постройки «по сюжету» (дом, машина и т.д.)."]
[{"$nulls":9},"Конструирует несложные постройки из                  2—3 деталей.","Создаёт постройки «по сюжету» (дом, машина и т.д.)."]
[{"$nulls":9},"Конструирует несложные постройки из                  2—3 деталей.","Создаёт постройки «по сюжету» (дом, машина и т.д.)."]
[{"$nulls":9},"Конструирует несложные постройки из                  2—3 деталей.","Создаёт постройки «по сюжету» (дом, машина и т.д.)."]
[{"$nulls":9},"Конструирует несложные постройки из                  2—3 деталей.","Создаёт постройки «по сюжету» (дом, машина и т.д.)."]
[{"$nulls":9},"Конструирует несложные постройки из                  2—3 деталей.","Создаёт постройки «по сюжету» (дом, машина и т.д.)."]
[{"$nulls":9},"Конструирует несложные постройки из                  2—3 деталей.","Создаёт постройки «по сюжету» (дом, машина и т.д.)."]
[{"$nulls":9},"Конструирует несложные постройки из                  2—3 деталей.","Создаёт постройки «по сюжету» (дом, машина и т.д.)."]
[{"$nulls":9},"Конструирует несложные постройки из                  2—3 деталей.","Создаёт постройки «по сюжету» (дом, машина и т.д.)."]
[{"$nulls":9},"Конструирует несложные постройки из                  2—3 деталей.","Создаёт постройки «по сюжету» (дом, машина и т.д.)."]
[{"$nulls":9},"Конструирует несложные постройки из                  2—3 деталей.","Создаёт постройки «по сюжету» (дом, машина и т.д.)."]
[{"$nulls":9},"Конструирует несложные постройки из                  2—3 деталей.","Создаёт постройки «по сюжету» (дом, машина и т.д.)."]
[{"$nulls":9},"Конструирует несложные постройки из                  2—3 деталей.","Создаёт постройки «по сюжету» (дом, машина и т.д.)."]
[{"$nulls":9},"Конструирует несложные постройки из                  2—3 деталей.","Создаёт постройки «по сюжету» (дом, машина и т.д.)."]
[{"$nulls":9},"Конструирует несложные постройки из                  2—3 деталей.","Создаёт постройки «по сюжету» (дом, машина и т.д.)."]
[{"$nulls":9},"Конструирует несложные постройки из                  2—3 деталей.","Создаёт постройки «по сюжету» (дом, машина и т.д.)."]
[{"$nulls":9},"Конструирует несложные постройки из                  2—3 деталей.","Создаёт постройки «по сюжету» (дом, машина и т.д.)."]
[{"$nulls":9},"Конструирует несложные постройки из                  2—3 деталей.","Создаёт постройки «по сюжету» (дом, машина и т.д.)."]
[{"$nulls":9},"Конструирует несложные постройки из                  2—3 деталей.","Создаёт постройки «по сюжету» (дом, машина и т.д.)."]
[{"$nulls":9},"Конструирует несложные постройки из                  2—3 деталей.","Создаёт постройки «по сюжету» (дом, машина и т.д.)."]
[{"$nulls":9},"Конструирует несложные постройки из                  2—3 деталей.","Создаёт постройки «по сюжету» (дом, машина и т.д.)."]
[{"$nulls":9},"Конструирует несложные постройки из                  2—3 деталей.","Создаёт постройки «по сюжету» (дом, машина и т.д.)."]
[{"$nulls":9},"Конструирует несложные постройки из                  2—3 деталей.","Создаёт постройки «по сюжету» (дом, машина и т.д.)."]
[{"$nulls":9},"Конструирует несложные постройки из                  2—3 деталей.","Создаёт постройки «по сюжету» (дом, машина и т.д.)."]
[{"$nulls":9},"Конструирует несложные постройки из                  2—3 деталей.","Создаёт постройки «по сюжету» (дом, машина и т.д.)."]
[{"$nulls":9},"Конструирует несложные постройки из                  2—3 деталей.","Создаёт постройки «по сюжету» (дом, машина и т.д.)."]
[{"$nulls":9},"Конструирует несложные постройки из                  2—3 деталей.","Создаёт постройки «по сюжету» (дом, машина и т.д.)."]
[{"$nulls":9},"Конструирует несложные постройки из                  2—3 деталей.","Создаёт постройки «по сюжету» (дом, машина и т.д.)."]
[{"$nulls":9},"Конструирует несложные постройки из                  2—3 деталей.","Создаёт постройки «по сюжету» (дом, машина и т.д.)."]
[{"$nulls":9},"Конструирует несложные постройки из                  2—3 деталей.","Создаёт постройки «по сюжету» (дом, машина и т.д.)."]
[{"$nulls":9},"Конструирует несложные постройки из                  2—3 деталей.","Создаёт постройки «по сюжету» (дом, машина и т.д.)."]
[{"$nulls":9},"Конструирует несложные постройки из                  2—3 деталей.","Создаёт постройки «по сюжету» (дом, машина и т.д.)."]
[{"$nulls":9},"Конструирует несложные постройки из                  2—3 деталей.","Создаёт постройки «по сюжету» (дом, машина и т.д.)."]
[{"$nulls":9},"Конструирует несложные постройки из                  2—3 деталей.","Создаёт постройки «по сюжету» (дом, машина и т.д.)."]
[{"$nulls":9},"Конструирует несложные постройки из                  2—3 деталей.","Создаёт постройки «по сюжету» (дом, машина и т.д.)."]
[{"$nulls":9},"Конструирует несложные постройки из                  2—3 деталей.","Создаёт постройки «по сюжету» (дом, машина и т.д.)."]
[{"$nulls":9},"Конструирует несложные постройки из                  2—3 деталей.","Создаёт постройки «по сюжету» (дом, машина и т.д.)."]
[{"$nulls":9},"Конструирует несложные постройки из                  2—3 деталей.","Создаёт постройки «по сюжету» (дом, машина и т.д.)."]
[{"$nulls":9},"Конструирует несложные постройки из                  2—3 деталей.","Создаёт постройки «по сюжету» (дом, машина и т.д.)."]
[{"$nulls":9},"Конструирует несложные постройки из                  2—3 деталей.","Создаёт постройки «по сюжету» (дом, машина и т.д.)."]
[{"$nulls":9},"Конструирует несложные постройки из                  2—3 деталей.","Создаёт постройки «по сюжету» (дом, машина и т.д.)."]
[{"$nulls":9},"Конструирует несложные постройки из                  2—3 деталей.","Создаёт постройки «по сюжету» (дом, машина и т.д.)."]
[{"$nulls":9},"Конструирует несложные постройки из                  2—3 деталей.","Создаёт постройки «по сюжету» (дом, машина и т.д.)."]
[{"$nulls":9},"Конструирует несложные постройки из                  2—3 деталей.","Создаёт постройки «по сюжету» (дом, машина и т.д.)."]
[{"$nulls":9},"Конструирует несложные постройки из                  2—3 деталей.","Создаёт постройки «по сюжету» (дом, машина и т.д.)."]
[{"$nulls":9},"Конструирует несложные постройки из                  2—3 деталей.","Создаёт постройки «по сюжету» (дом, машина и т.д.)."]
[{"$nulls":9},"Конструирует несложные постройки из                  2—3 деталей.","Создаёт постройки «по сюжету» (дом, машина и т.д.)."]
[{"$nulls":9},"Конструирует несложные постройки из                  2—3 деталей.","Создаёт постройки «по сюжету» (дом, машина и т.д.)."]
[{"$nulls":9},"Конструирует несложные постройки из                  2—3 деталей.","Создаёт постройки «по сюжету» (дом, машина и т.д.)."]
[{"$nulls":9},"Конструирует несложные постройки из                  2—3 деталей.","Создаёт постройки «по сюжету» (дом, машина и т.д.)."]
[{"$nulls":9},"Конструирует несложные постройки из                  2—3 деталей.","Создаёт постройки «по сюжету» (дом, машина и т.д.)."]
[{"$nulls":9},"Конструирует несложные постройки из                  2—3 деталей.","Создаёт постройки «по сюжету» (дом, машина и т.д.)."]
[{"$nulls":9},"Конструирует несложные постройки из                  2—3 деталей.","Создаёт постройки «по сюжету» (дом, машина и т.д.)."]
[{"$nulls":9},"Конструирует несложные постройки из                  2—3 деталей.","Создаёт постройки «по сюжету» (дом, машина и т.д.)."]
[{"$nulls":9},"Конструирует несложные постройки из                  2—3 деталей.","Создаёт постройки «по сюжету» (дом, машина и т.д.)."]
[{"$nulls":9},"Конструирует несложные постройки из                  2—3 деталей.","Создаёт постройки «по сюжету» (дом, машина и т.д.)."]
[{"$nulls":9},"Конструирует несложные постройки из                  2—3 деталей.","Создаёт постройки «по сюжету» (дом, машина и т.д.)."]
[{"$nulls":9},"Конструирует несложные постройки из                  2—3 деталей.","Создаёт постройки «по сюжету» (дом, машина и т.д.)."]
[{"$nulls":9},"Конструирует несложные постройки из                  2—3 деталей.","Создаёт постройки «по сюжету» (дом, машина и т.д.)."]
[{"$nulls":9},"Конструирует несложные постройки из                  2—3 деталей.","Создаёт постройки «по сюжету» (дом, машина и т.д.)."]
[{"$nulls":9},"Конструирует несложные постройки из                  2—3 деталей.","Создаёт постройки «по сюжету» (дом, машина и т.д.)."]
[{"$nulls":9},"Конструирует несложные постройки из                  2—3 деталей.","Создаёт постройки «по сюжету» (дом, машина и т.д.)."]
[{"$nulls":9},"Конструирует несложные постройки из                  2—3 деталей.","Создаёт постройки «по сюжету» (дом, машина и т.д.)."]
[{"$nulls":9},"Конструирует несложные постройки из                  2—3 деталей.","Создаёт постройки «по сюжету» (дом, машина и т.д.)."]
[{"$nulls":9},"Конструирует несложные постройки из                  2—3 деталей.","Создаёт постройки «по сюжету» (дом, машина и т.д.)."]
[{"$nulls":9},"Конструирует несложные постройки из                  2—3 деталей.","Создаёт постройки «по сюжету» (дом, машина и т.д.)."]
[{"$nulls":9},"Конструирует несложные постройки из                  2—3 деталей.","Создаёт постройки «по сюжету» (дом, машина и т.д.)."]
[{"$nulls":9},"Конструирует несложные постройки из                  2—3 деталей.","Создаёт постройки «по сюжету» (дом, машина и т.д.)."]
[{"$nulls":9},"Конструирует несложные постройки из                  2—3 деталей.","Создаёт постройки «по сюжету» (дом, машина и т.д.)."]
[{"$nulls":9},"Конструирует несложные постройки из                  2—3 деталей.","Создаёт постройки «по сюжету» (дом, машина и т.д.)."]
[{"$nulls":9},"Конструирует несложные постройки из                  2—3 деталей.","Создаёт постройки «по сюжету» (дом, машина и т.д.)."]
[{"$nulls":9},"Конструирует несложные постройки из                  2—3 деталей.","Создаёт постройки «по сюжету» (дом, машина и т.д.)."]
[{"$nulls":9},"Конструирует несложные постройки из                  2—3 деталей.","Создаёт постройки «по сюжету» (дом, машина и т.д.)."]
[{"$nulls":9},"Конструирует несложные постройки из                  2—3 деталей.","Создаёт постройки «по сюжету» (дом, машина и т.д.)."]
[{"$nulls":9},"Конструирует несложные постройки из                  2—3 деталей.","Создаёт постройки «по сюжету» (дом, машина и т.д.)."]
[{"$nulls":9},"Конструирует несложные постройки из                  2—3 деталей.","Создаёт постройки «по сюжету» (дом, машина и т.д.)."]
[{"$nulls":9},"Конструирует несложные постройки из                  2—3 деталей.","Создаёт постройки «по сюжету» (дом, машина и т.д.)."]
[{"$nulls":9},"Конструирует несложные постройки из                  2—3 деталей.","Создаёт постройки «по сюжету» (дом, машина и т.д.)."]
[{"$nulls":9},"Конструирует несложные постройки из                  2—3 деталей.","Создаёт постройки «по сюжету» (дом, машина и т.д.)."]
[{"$nulls":9},"Конструирует несложные постройки из                  2—3 деталей.","Создаёт постройки «по сюжету» (дом, машина и т.д.)."]
[{"$nulls":9},"Конструирует несложные постройки из                  2—3 деталей.","Создаёт постройки «по сюжету» (дом, машина и т.д.)."]
[{"$nulls":9},"Конструирует несложные постройки из                  2—3 деталей.","Создаёт постройки «по сюжету» (дом, машина и т.д.)."]
[{"$nulls":9},"Конструирует несложные постройки из                  2—3 деталей.","Создаёт постройки «по сюжету» (дом, машина и т.д.)."]
[{"$nulls":9},"Конструирует несложные постройки из                  2—3 деталей.","Создаёт постройки «по сюжету» (дом, машина и т.д.)."]
[{"$nulls":9},"Конструирует несложные постройки из                  2—3 деталей.","Создаёт постройки «по сюжету» (дом, машина и т.д.)."]
[{"$nulls":9},"Конструирует несложные постройки из                  2—3 деталей.","Создаёт постройки «по сюжету» (дом, машина и т.д.)."]
[{"$nulls":9},"Конструирует несложные постройки из                  2—3 деталей.","Создаёт постройки «по сюжету» (дом, машина и т.д.)."]
[{"$nulls":9},"Конструирует несложные постройки из                  2—3 деталей.","Создаёт постройки «по сюжету» (дом, машина и т.д.)."]
[{"$nulls":9},"Конструирует несложные постройки из                  2—3 деталей.","Создаёт постройки «по сюжету» (дом, машина и т.д.)."]
[{"$nulls":9},"Конструирует несложные постройки из                  2—3 деталей.","Создаёт постройки «по сюжету» (дом, машина и т.д.)."]
[{"$nulls":9},"Конструирует несложные постройки из                  2—3 деталей.","Создаёт постройки «по сюжету» (дом, машина и т.д.)."]
[{"$nulls":9},"Конструирует несложные постройки из                  2—3 деталей.","Создаёт постройки «по сюжету» (дом, машина и т.д.)."]
[{"$nulls":9},"Конструирует несложные постройки из                  2—3 деталей.","Создаёт постройки «по сюжету» (дом, машина и т.д.)."]
[{"$nulls":9},"Конструирует несложные постройки из                  2—3 деталей.","Создаёт постройки «по сюжету» (дом, машина и т.д.)."]
[{"$nulls":9},"Конструирует несложные постройки из                  2—3 деталей.","Создаёт постройки «по сюжету» (дом, машина и т.д.)."]
[{"$nulls":9},"Конструирует несложные постройки из                  2—3 деталей.","Создаёт постройки «по сюжету» (дом, машина и т.д.)."]
[{"$nulls":9},"Конструирует несложные постройки из                  2—3 деталей.","Создаёт постройки «по сюжету» (дом, машина и т.д.)."]
[{"$nulls":9},"Конструирует несложные постройки из                  2—3 деталей.","Создаёт постройки «по сюжету» (дом, машина и т.д.)."]
[{"$nulls":9},"Конструирует несложные постройки из                  2—3 деталей.","Создаёт постройки «по сюжету» (дом, машина и т.д.)."]
[{"$nulls":9},"Конструирует несложные постройки из                  2—3 деталей.","Создаёт постройки «по сюжету» (дом, машина и т.д.)."]
[{"$nulls":9},"Конструирует несложные постройки из                  2—3 деталей.","Создаёт постройки «по сюжету» (дом, машина и т.д.)."]
[{"$nulls":9},"Конструирует несложные постройки из                  2—3 деталей.","Создаёт постройки «по сюжету» (дом, машина и т.д.)."]
[{"$nulls":9},"Конструирует несложные постройки из                  2—3 деталей.","Создаёт постройки «по сюжету» (дом, машина и т.д.)."]
[{"$nulls":9},"Конструирует несложные постройки из                  2—3 деталей.","Создаёт постройки «по сюжету» (дом, машина и т.д.)."]
[{"$nulls":9},"Конструирует несложные постройки из                  2—3 деталей.","Создаёт постройки «по сюжету» (дом, машина и т.д.)."]
[{"$nulls":9},"Конструирует несложные постройки из                  2—3 деталей.","Создаёт постройки «по сюжету» (дом, машина и т.д.)."]
[{"$nulls":9},"Конструирует несложные постройки из                  2—3 деталей.","Создаёт постройки «по сюжету» (дом, машина и т.д.)."]
[{"$nulls":9},"Конструирует несложные постройки из                  2—3 деталей.","Создаёт постройки «по сюжету» (дом, машина и т.д.)."]
[{"$nulls":9},"Конструирует несложные постройки из                  2—3 деталей.","Создаёт постройки «по сюжету» (дом, машина и т.д.)."]
[{"$nulls":9},"Конструирует несложные постройки из                  2—3 деталей.","Создаёт постройки «по сюжету» (дом, машина и т.д.)."]
[{"$nulls":9},"Конструирует несложные постройки из                  2—3 деталей.","Создаёт постройки «по сюжету» (дом, машина и т.д.)."]
[{"$nulls":9},"Конструирует несложные постройки из                  2—3 деталей.","Создаёт постройки «по сюжету» (дом, машина и т.д.)."]
[{"$nulls":9},"Конструирует несложные постройки из                  2—3 деталей.","Создаёт постройки «по сюжету» (дом, машина и т.д.)."]
[{"$nulls":9},"Конструирует несложные постройки из                  2—3 деталей.","Создаёт постройки «по сюжету» (дом, машина и т.д.)."]
[{"$nulls":9},"Конструирует несложные постройки из                  2—3 деталей.","Создаёт постройки «по сюжету» (дом, машина и т.д.)."]
[{"$nulls":9},"Конструирует несложные постройки из                  2—3 деталей.","Создаёт постройки «по сюжету» (дом, машина и т.д.)."]
[{"$nulls":9},"Конструирует несложные постройки из                  2—3 деталей.","Создаёт постройки «по сюжету» (дом, машина и т.д.)."]
[{"$nulls":9},"Конструирует несложные постройки из                  2—3 деталей.","Создаёт постройки «по сюжету» (дом, машина и т.д.)."]
[{"$nulls":9},"Конструирует несложные постройки из                  2—3 деталей.","Создаёт постройки «по сюжету» (дом, машина и т.д.)."]
[{"$nulls":9},"Конструирует несложные постройки из                  2—3 деталей.","Создаёт постройки «по сюжету» (дом, машина и т.д.)."]
[{"$nulls":9},"Конструирует несложные постройки из                  2—3 деталей.","Создаёт постройки «по сюжету» (дом, машина и т.д.)."]
[{"$nulls":9},"Конструирует несложные постройки из                  2—3 деталей.","Создаёт постройки «по сюжету» (дом, машина и т.д.)."]
[{"$nulls":9},"Конструирует несложные постройки из                  2—3 деталей.","Создаёт постройки «по сюжету» (дом, машина и т.д.)."]
[{"$nulls":9},"Конструирует несложные постройки из                  2—3 деталей.","Создаёт постройки «по сюжету» (дом, машина и т.д.)."]
[{"$nulls":9},"Конструирует несложные постройки из                  2—3 деталей.","Создаёт постройки «по сюжету» (дом, машина и т.д.)."]
[{"$nulls":9},"Конструирует несложные постройки из                  2—3 деталей.","Создаёт постройки «по сюжету» (дом, машина и т.д.)."]
[{"$nulls":9},"Конструирует несложные постройки из                  2—3 деталей.","Создаёт постройки «по сюжету» (дом, машина и т.д.)."]
[{"$nulls":9},"Конструирует несложные постройки из                  2—3 деталей.","Создаёт постройки «по сюжету» (дом, машина и т.д.)."]
[{"$nulls":9},"Конструирует несложные постройки из                  2—3 деталей.","Создаёт постройки «по сюжету» (дом, машина и т.д.)."]
[{"$nulls":9},"Конструирует несложные постройки из                  2—3 деталей.","Создаёт постройки «по сюжету» (дом, машина и т.д.)."]
[{"$nulls":9},"Конструирует несложные постройки из                  2—3 деталей.","Создаёт постройки «по сюжету» (дом, машина и т.д.)."]
[{"$nulls":9},"Конструирует несложные постройки из                  2—3 деталей.","Создаёт постройки «по сюжету» (дом, машина и т.д.)."]
[{"$nulls":9},"Конструирует несложные постройки из                  2—3 деталей.","Создаёт постройки «по сюжету» (дом, машина и т.д.)."]
[{"$nulls":9},"Конструирует несложные постройки из                  2—3 деталей.","Создаёт постройки «по сюжету» (дом, машина и т.д.)."]
[{"$nulls":9},"Конструирует несложные постройки из                  2—3 деталей.","Создаёт постройки «по сюжету» (дом, машина и т.д.)."]
[{"$nulls":9},"Конструирует несложные постройки из                  2—3 деталей.","Создаёт постройки «по сюжету» (дом, машина и т.д.)."]
[{"$nulls":9},"Конструирует несложные постройки из                  2—3 деталей.","Создаёт постройки «по сюжету» (дом, машина и т.д.)."]
[{"$nulls":9},"Конструирует несложные постройки из                  2—3 деталей.","Создаёт постройки «по сюжету» (дом, машина и т.д.)."]
[{"$nulls":9},"Конструирует несложные постройки из                  2—3 деталей.","Создаёт постройки «по сюжету» (дом, машина и т.д.)."]
[{"$nulls":9},"Конструирует несложные постройки из                  2—3 деталей.","Создаёт постройки «по сюжету» (дом, машина и т.д.)."]
[{"$nulls":9},"Конструирует несложные постройки из                  2—3 деталей.","Создаёт постройки «по сюжету» (дом, машина и т.д.)."]
[{"$nulls":9},"Конструирует несложные постройки из                  2—3 деталей.","Создаёт постройки «по сюжету» (дом, машина и т.д.)."]
[{"$nulls":9},"Конструирует несложные постройки из                  2—3 деталей.","Создаёт постройки «по сюжету» (дом, машина и т.д.)."]
[{"$nulls":9},"Конструирует несложные постройки из                  2—3 деталей.","Создаёт постройки «по сюжету» (дом, машина и т.д.)."]
[{"$nulls":9},"Конструирует несложные постройки из                  2—3 деталей.","Создаёт постройки «по сюжету» (дом, машина и т.д.)."]
[{"$nulls":9},"Конструирует несложные постройки из                  2—3 деталей.","Создаёт постройки «по сюжету» (дом, машина и т.д.)."]
[{"$nulls":9},"Конструирует несложные постройки из                  2—3 деталей.","Создаёт постройки «по сюжету» (дом, машина и т.д.)."]
[{"$nulls":9},"Конструирует несложные постройки из                  2—3 деталей.","Создаёт постройки «по сюжету» (дом, машина и т.д.)."]
[{"$nulls":9},"Конструирует несложные постройки из                  2—3 деталей.","Создаёт постройки «по сюжету» (дом, машина и т.д.)."]
[{"$nulls":9},"Конструирует несложные постройки из                  2—3 деталей.","Создаёт постройки «по сюжету» (дом, машина и т.д.)."]
[{"$nulls":9},"Конструирует несложные постройки из                  2—3 деталей.","Создаёт постройки «по сюжету» (дом, машина и т.д.)."]
[{"$nulls":9},"Конструирует несложные постройки из                  2—3 деталей.","Создаёт постройки «по сюжету» (дом, машина и т.д.)."]
[{"$nulls":9},"Конструирует несложные постройки из                  2—3 деталей.","Создаёт постройки «по сюжету» (дом, машина и т.д.)."]
[{"$nulls":9},"Конструирует несложные постройки из                  2—3 деталей.","Создаёт постройки «по сюжету» (дом, машина и т.д.)."]
[{"$nulls":9},"Конструирует несложные постройки из                  2—3 деталей.","Создаёт постройки «по сюжету» (дом, машина и т.д.)."]
[{"$nulls":9},"Конструирует несложные постройки из                  2—3 деталей.","Создаёт постройки «по сюжету» (дом, машина и т.д.)."]
[{"$nulls":9},"Конструирует несложные постройки из                  2—3 деталей.","Создаёт постройки «по сюжету» (дом, машина и т.д.)."]
[{"$nulls":9},"Конструирует несложные постройки из                  2—3 деталей.","Создаёт постройки «по сюжету» (дом, машина и т.д.)."]
[{"$nulls":9},"Конструирует несложные постройки из                  2—3 деталей.","Создаёт постройки «по сюжету» (дом, машина и т.д.)."]
[{"$nulls":9},"Конструирует несложные постройки из                  2—3 деталей.","Создаёт постройки «по сюжету» (дом, машина и т.д.)."]
[{"$nulls":9},"Конструирует несложные постройки из                  2—3 деталей.","Создаёт постройки «по сюжету» (дом, машина и т.д.)."]
[{"$nulls":9},"Конструирует несложные постройки из                  2—3 деталей.","Создаёт постройки «по сюжету» (дом, машина и т.д.)."]
[{"$nulls":9},"Конструирует несложные постройки из                  2—3 деталей.","Создаёт постройки «по сюжету» (дом, машина и т.д.)."]
[{"$nulls":9},"Конструирует несложные постройки из                  2—3 деталей.","Создаёт постройки «по сюжету» (дом, машина и т.д.)."]
[{"$nulls":9},"Конструирует несложные постройки из                  2—3 деталей.","Создаёт постройки «по сюжету» (дом, машина и т.д.)."]
[{"$nulls":9},"Конструирует несложные постройки из                  2—3 деталей.","Создаёт постройки «по сюжету» (дом, машина и т.д.)."]
[{"$nulls":9},"Конструирует несложные постройки из                  2—3 деталей.","Создаёт постройки «по сюжету» (дом, машина и т.д.)."]
[{"$nulls":9},"Конструирует несложные постройки из                  2—3 деталей.","Создаёт постройки «по сюжету» (дом, машина и т.д.)."]
[{"$nulls":9},"Конструирует несложные постройки из                  2—3 деталей.","Создаёт постройки «по сюжету» (дом, машина и т.д.)."]
[{"$nulls":9},"Конструирует несложные постройки из                  2—3 деталей.","Создаёт постройки «по сюжету» (дом, машина и т.д.)."]
[{"$nulls":9},"Конструирует несложные постройки из                  2—3 деталей.","Создаёт постройки «по сюжету» (дом, машина и т.д.)."]
[{"$nulls":9},"Конструирует несложные постройки из                  2—3 деталей.","Создаёт постройки «по сюжету» (дом, машина и т.д.)."]
[{"$nulls":9},"Конструирует несложные постройки из                  2—3 деталей.","Создаёт постройки «по сюжету» (дом, машина и т.д.)."]
[{"$nulls":9},"Конструирует несложные постройки из                  2—3 деталей.","Создаёт постройки «по сюжету» (дом, машина и т.д.)."]
[{"$nulls":9},"Конструирует несложные постройки из                  2—3 деталей.","Создаёт постройки «по сюжету» (дом, машина и т.д.)."]
[{"$nulls":9},"Конструирует несложные постройки из                  2—3 деталей.","Создаёт постройки «по сюжету» (дом, машина и т.д.)."]
[{"$nulls":9},"Конструирует несложные постройки из                  2—3 деталей.","Создаёт постройки «по сюжету» (дом, машина и т.д.)."]
[{"$nulls":9},"Конструирует несложные постройки из                  2—3 деталей.","Создаёт постройки «по сюжету» (дом, машина и т.д.)."]
[{"$nulls":9},"Конструирует несложные постройки из                  2—3 деталей.","Создаёт постройки «по сюжету» (дом, машина и т.д.)."]
[{"$nulls":9},"Конструирует несложные постройки из                  2—3 деталей.","Создаёт постройки «по сюжету» (дом, машина и т.д.)."]
[{"$nulls":9},"Конструирует несложные постройки из                  2—3 деталей.","Создаёт постройки «по сюжету» (дом, машина и т.д.)."]
[{"$nulls":9},"Конструирует несложные постройки из                  2—3 деталей.","Создаёт постройки «по сюжету» (дом, машина и т.д.)."]
[{"$nulls":9},"Конструирует несложные постройки из                  2—3 деталей.","Создаёт постройки «по сюжету» (дом, машина и т.д.)."]
[{"$nulls":9},"Конструирует несложные постройки из                  2—3 деталей.","Создаёт постройки «по сюжету» (дом, машина и т.д.)."]
[{"$nulls":9},"Конструирует несложные постройки из                  2—3 деталей.","Создаёт постройки «по сюжету» (дом, машина и т.д.)."]
[{"$nulls":9},"Конструирует несложные постройки из                  2—3 деталей.","Создаёт постройки «по сюжету» (дом, машина и т.д.)."]
[{"$nulls":9},"Конструирует несложные постройки из                  2—3 деталей.","Создаёт постройки «по сюжету» (дом, машина и т.д.)."]
[{"$nulls":9},"Конструирует несложные постройки из                  2—3 деталей.","Создаёт постройки «по сюжету» (дом, машина и т.д.)."]
[{"$nulls":9},"Конструирует несложные постройки из                  2—3 деталей.","Создаёт постройки «по сюжету» (дом, машина и т.д.)."]
[{"$nulls":9},"Конструирует несложные постройки из                  2—3 деталей.","Создаёт постройки «по сюжету» (дом, машина и т.д.)."]
[{"$nulls":9},"Конструирует несложные постройки из                  2—3 деталей.","Создаёт постройки «по сюжету» (дом, машина и т.д.)."]
[{"$nulls":9},"Конструирует несложные постройки из                  2—3 деталей.","Создаёт постройки «по сюжету» (дом, машина и т.д.)."]
[{"$nulls":9},"Конструирует несложные постройки из                  2—3 деталей.","Создаёт постройки «по сюжету» (дом, машина и т.д.)."]
[{"$nulls":9},"Конструирует несложные постройки из                  2—3 деталей.","Создаёт постройки «по сюжету» (дом, машина и т.д.)."]
[{"$nulls":9},"Конструирует несложные постройки из                  2—3 деталей.","Создаёт постройки «по сюжету» (дом, машина и т.д.)."]
[{"$nulls":9},"Конструирует несложные постройки из                  2—3 деталей.","Создаёт постройки «по сюжету» (дом, машина и т.д.)."]
[{"$nulls":9},"Конструирует несложные постройки из                  2—3 деталей.","Создаёт постройки «по сюжету» (дом, машина и т.д.)."]
[{"$nulls":9},"Конструирует несложные постройки из                  2—3 деталей.","Создаёт постройки «по сюжету» (дом, машина и т.д.)."]
[{"$nulls":9},"Конструирует несложные постройки из                  2—3 деталей.","Создаёт постройки «по сюжету» (дом, машина и т.д.)."]
[{"$nulls":9},"Конструирует несложные постройки из                  2—3 деталей.","Создаёт постройки «по сюжету» (дом, машина и т.д.)."]
[{"$nulls":9},"Конструирует несложные постройки из                  2—3 деталей.","Создаёт постройки «по сюжету» (дом, машина и т.д.)."]
[{"$nulls":9},"Конструирует несложные постройки из                  2—3 деталей.","Создаёт постройки «по сюжету» (дом, машина и т.д.)."]
[{"$nulls":9},"Конструирует несложные постройки из                  2—3 деталей.","Создаёт постройки «по сюжету» (дом, машина и т.д.)."]
[{"$nulls":9},"Конструирует несложные постройки из                  2—3 деталей.","Создаёт постройки «по сюжету» (дом, машина и т.д.)."]
[{"$nulls":9},"Конструирует несложные постройки из                  2—3 деталей.","Создаёт постройки «по сюжету» (дом, машина и т.д.)."]
[{"$nulls":9},"Конструирует несложные постройки из                  2—3 деталей.","Создаёт постройки «по сюжету» (дом, машина и т.д.)."]
[{"$nulls":9},"Конструирует несложные постройки из                  2—3 деталей.","Создаёт постройки «по сюжету» (дом, машина и т.д.)."]
[{"$nulls":9},"Конструирует несложные постройки из                  2—3 деталей.","Создаёт постройки «по сюжету» (дом, машина и т.д.)."]
[{"$nulls":9},"Конструирует несложные постройки из                  2—3 деталей.","Создаёт постройки «по сюжету» (дом, машина и т.д.)."]
[{"$nulls":9},"Конструирует несложные постройки из                  2—3 деталей.","Создаёт постройки «по сюжету» (дом, машина и т.д.)."]
[{"$nulls":9},"Конструирует несложные постройки из                  2—3 деталей.","Создаёт постройки «по сюжету» (дом, машина и т.д.)."]
[{"$nulls":9},"Конструирует несложные постройки из                  2—3 деталей.","Создаёт постройки «по сюжету» (дом, машина и т.д.)."]
[{"$nulls":9},"Конструирует несложные постройки из                  2—3 деталей.","Создаёт постройки «по сюжету» (дом, машина и т.д.)."]
[{"$nulls":9},"Конструирует несложные постройки из                  2—3 деталей.","Создаёт постройки «по сюжету» (дом, машина и т.д.)."]
[{"$nulls":9},"Конструирует несложные постройки из                  2—3 деталей.","Создаёт постройки «по сюжету» (дом, машина и т.д.)."]
[{"$nulls":9},"Конструирует несложные постройки из                  2—3 деталей.","Создаёт постройки «по сюжету» (дом, машина и т.д.)."]
[{"$nulls":9},"Конструирует несложные постройки из                  2—3 деталей.","Создаёт постройки «по сюжету» (дом, машина и т.д.)."]
[{"$nulls":9},"Конструирует несложные постройки из                  2—3 деталей.","Создаёт постройки «по сюжету» (дом, машина и т.д.)."]
[{"$nulls":9},"Конструирует несложные постройки из                  2—3 деталей.","Создаёт постройки «по сюжету» (дом, машина и т.д.)."]
[{"$nulls":9},"Конструирует несложные постройки из                  2—3 деталей.","Создаёт постройки «по сюжету» (дом, машина и т.д.)."]
[{"$nulls":9},"Конструирует несложные постройки из                  2—3 деталей.","Создаёт постройки «по сюжету» (дом, машина и т.д.)."]
[{"$nulls":9},"Конструирует несложные постройки из                  2—3 деталей.","Создаёт постройки «по сюжету» (дом, машина и т.д.)."]
[{"$nulls":9},"Конструирует несложные постройки из                  2—3 деталей.","Создаёт постройки «по сюжету» (дом, машина и т.д.)."]
[{"$nulls":9},"Конструирует несложные постройки из                  2—3 деталей.","Создаёт постройки «по сюжету» (дом, машина и т.д.)."]
[{"$nulls":9},"Конструирует несложные постройки из                  2—3 деталей.","Создаёт постройки «по сюжету» (дом, машина и т.д.)."]
[{"$nulls":9},"Конструирует несложные постройки из                  2—3 деталей.","Создаёт постройки «по сюжету» (дом, машина и т.д.)."]
[{"$nulls":9},"Конструирует несложные постройки из                  2—3 деталей.","Создаёт постройки «по сюжету» (дом, машина и т.д.)."]
[{"$nulls":9},"Конструирует несложные постройки из                  2—3 деталей.","Создаёт постройки «по сюжету» (дом, машина и т.д.)."]
[{"$nulls":9},"Конструирует несложные постройки из                  2—3 деталей.","Создаёт постройки «по сюжету» (дом, машина и т.д.)."]
[{"$nulls":9},"Конструирует несложные постройки из                  2—3 деталей.","Создаёт постройки «по сюжету» (дом, машина и т.д.)."]
[{"$nulls":9},"Конструирует несложные постройки из                  2—3 деталей.","Создаёт постройки «по сюжету» (дом, машина и т.д.)."]
[{"$nulls":9},"Конструирует несложные постройки из                  2—3 деталей.","Создаёт постройки «по сюжету» (дом, машина и т.д.)."]
[{"$nulls":9},"Конструирует несложные постройки из                  2—3 деталей.","Создаёт постройки «по сюжету» (дом, машина и т.д.)."]
[{"$nulls":9},"Конструирует несложные постройки из                  2—3 деталей.","Создаёт постройки «по сюжету» (дом, машина и т.д.)."]
[{"$nulls":9},"Конструирует несложные постройки из                  2—3 деталей.","Создаёт постройки «по сюжету» (дом, машина и т.д.)."]
[{"$nulls":9},"Конструирует несложные постройки из                  2—3 деталей.","Создаёт постройки «по сюжету» (дом, машина и т.д.)."]
[{"$nulls":9},"Конструирует несложные постройки из                  2—3 деталей.","Создаёт постройки «по сюжету» (дом, машина и т.д.)."]
[{"$nulls":9},"Конструирует несложные постройки из                  2—3 деталей.","Создаёт постройки «по сюжету» (дом, машина и т.д.)."]
[{"$nulls":9},"Конструирует несложные постройки из                  2—3 деталей.","Создаёт постройки «по сюжету» (дом, машина и т.д.)."]
[{"$nulls":9},"Конструирует несложные постройки из                  2—3 деталей.","Создаёт постройки «по сюжету» (дом, машина и т.д.)."]
[{"$nulls":9},"Конструирует несложные постройки из                  2—3 деталей.","Создаёт постройки «по сюжету» (дом, машина и т.д.)."]
[{"$nulls":9},"Конструирует несложные постройки из                  2—3 деталей.","Создаёт постройки «по сюжету» (дом, машина и т.д.)."]
[{"$nulls":9},"Конструирует несложные постройки из                  2—3 деталей.","Создаёт постройки «по сюжету» (дом, машина и т.д.)."]
[{"$nulls":9},"Конструирует несложные постройки из                  2—3 деталей.","Создаёт постройки «по сюжету» (дом, машина и т.д.)."]
[{"$nulls":9},"Конструирует несложные постройки из                  2—3 деталей.","Создаёт постройки «по сюжету» (дом, машина и т.д.)."]
[{"$nulls":9},"Конструирует несложные постройки из                  2—3 деталей.","Создаёт постройки «по сюжету» (дом, машина и т.д.)."]
[{"$nulls":9},"Конструирует несложные постройки из                  2—3 деталей.","Создаёт постройки «по сюжету» (дом, машина и т.д.)."]
[{"$nulls":9},"Конструирует несложные постройки из                  2—3 деталей.","Создаёт постройки «по сюжету» (дом, машина и т.д.)."]
[{"$nulls":9},"Конструирует несложные постройки из                  2—3 деталей.","Создаёт постройки «по сюжету» (дом, машина и т.д.)."]
[{"$nulls":9},"Конструирует несложные постройки из                  2—3 деталей.","Создаёт постройки «по сюжету» (дом, машина и т.д.)."]
[{"$nulls":9},"Конструирует несложные постройки из                  2—3 деталей.","Создаёт постройки «по сюжету» (дом, машина и т.д.)."]
[{"$nulls":9},"Конструирует несложные постройки из                  2—3 деталей.","Создаёт постройки «по сюжету» (дом, машина и т.д.)."]
[{"$nulls":9},"Конструирует несложные постройки из                  2—3 деталей.","Создаёт постройки «по сюжету» (дом, машина и т.д.)."]
[{"$nulls":9},"Конструирует несложные постройки из                  2—3 деталей.","Создаёт постройки «по сюжету» (дом, машина и т.д.)."]
[{"$nulls":9},"Конструирует несложные постройки из                  2—3 деталей.","Создаёт постройки «по сюжету» (дом, машина и т.д.)."]
[{"$nulls":9},"Конструирует несложные постройки из                  2—3 деталей.","Создаёт постройки «по сюжету» (дом, машина и т.д.)."]
[{"$nulls":9},"Конструирует несложные постройки из                  2—3 деталей.","Создаёт постройки «по сюжету» (дом, машина и т.д.)."]
[{"$nulls":9},"Конструирует несложные постройки из                  2—3 деталей.","Создаёт постройки «по сюжету» (дом, машина и т.д.)."]
[{"$nulls":9},"Конструирует несложные постройки из                  2—3 деталей.","Создаёт постройки «по сюжету» (дом, машина и т.д.)."]
[{"$nulls":9},"Конструирует несложные постройки из                  2—3 деталей.","Создаёт постройки «по сюжету» (дом, машина и т.д.)."]
[{"$nulls":9},"Конструирует несложные постройки из                  2—3 деталей.","Создаёт постройки «по сюжету» (дом, машина и т.д.)."]
[{"$nulls":9},"Конструирует несложные постройки из                  2—3 деталей.","Создаёт постройки «по сюжету» (дом, машина и т.д.)."]
[{"$nulls":9},"Конструирует несложные постройки из                  2—3 деталей.","Создаёт постройки «по сюжету» (дом, машина и т.д.)."]
[{"$nulls":9},"Конструирует несложные постройки из                  2—3 деталей.","Создаёт постройки «по сюжету» (дом, машина и т.д.)."]
[{"$nulls":9},"Конструирует несложные постройки из                  2—3 деталей.","Создаёт постройки «по сюжету» (дом, машина и т.д.)."]
[{"$nulls":9},"Конструирует несложные постройки из                  2—3 деталей.","Создаёт постройки «по сюжету» (дом, машина и т.д.)."]
[{"$nulls":9},"Конструирует несложные постройки из                  2—3 деталей.","Создаёт постройки «по сюжету» (дом, машина и т.д.)."]
[{"$nulls":9},"Конструирует несложные постройки из                  2—3 деталей.","Создаёт постройки «по сюжету» (дом, машина и т.д.)."]
[{"$nulls":9},"Конструирует несложные постройки из                  2—3 деталей.","Создаёт постройки «по сюжету» (дом, машина и т.д.)."]
[{"$nulls":9},"Конструирует несложные постройки из                  2—3 деталей.","Создаёт постройки «по сюжету» (дом, машина и т.д.)."]
[{"$nulls":9},"Конструирует несложные постройки из                  2—3 деталей.","Создаёт постройки «по сюжету» (дом, машина и т.д.)."]
[{"$nulls":9},"Конструирует несложные постройки из                  2—3 деталей.","Создаёт постройки «по сюжету» (дом, машина и т.д.)."]
[{"$nulls":9},"Конструирует несложные постройки из                  2—3 деталей.","Создаёт постройки «по сюжету» (дом, машина и т.д.)."]
[{"$nulls":9},"Конструирует несложные постройки из                  2—3 деталей.","Создаёт постройки «по сюжету» (дом, машина и т.д.)."]
[{"$nulls":9},"Конструирует несложные постройки из                  2—3 деталей.","Создаёт постройки «по сюжету» (дом, машина и т.д.)."]
[{"$nulls":9},"Конструирует несложные постройки из                  2—3 деталей.","Создаёт постройки «по сюжету» (дом, машина и т.д.)."]
[{"$nulls":9},"Конструирует несложные постройки из                  2—3 деталей.","Создаёт постройки «по сюжету» (дом, машина и т.д.)."]
[{"$nulls":9},"Конструирует несложные постройки из                  2—3 деталей.","Создаёт постройки «по сюжету» (дом, машина и т.д.)."]
[{"$nulls":9},"Конструирует несложные постройки из                  2—3 деталей.","Создаёт постройки «по сюжету» (дом, машина и т.д.)."]
[{"$nulls":9},"Конструирует несложные постройки из                  2—3 деталей.","Создаёт постройки «по сюжету» (дом, машина и т.д.)."]
[{"$nulls":9},"Конструирует несложные постройки из                  2—3 деталей.","Создаёт постройки «по сюжету» (дом, машина и т.д.)."]
[{"$nulls":9},"Конструирует несложные постройки из                  2—3 деталей.","Создаёт постройки «по сюжету» (дом, машина и т.д.)."]
[{"$nulls":9},"Конструирует несложные постройки из                  2—3 деталей.","Создаёт постройки «по сюжету» (дом, машина и т.д.)."]
[{"$nulls":9},"Конструирует несложные постройки из                  2—3 деталей.","Создаёт постройки «по сюжету» (дом, машина и т.д.)."]
[{"$nulls":9},"Конструирует несложные постройки из                  2—3 деталей.","Создаёт постройки «по сюжету» (дом, машина и т.д.)."]
[{"$nulls":9},"Конструирует несложные постройки из                  2—3 деталей.","Создаёт постройки «по сюжету» (дом, машина и т.д.)."]
[{"$nulls":9},"Конструирует несложные постройки из                  2—3 деталей.","Создаёт постройки «по сюжету» (дом, машина и т.д.)."]
[{"$nulls":9},"Конструирует несложные постройки из                  2—3 деталей.","Создаёт постройки «по сюжету» (дом, машина и т.д.)."]
[{"$nulls":9},"Конструирует несложные постройки из                  2—3 деталей.","Создаёт постройки «по сюжету» (дом, машина и т.д.)."]
[{"$nulls":9},"Конструирует несложные постройки из                  2—3 деталей.","Создаёт постройки «по сюжету» (дом, машина и т.д.)."]
[{"$nulls":9},"Конструирует несложные постройки из                  2—3 деталей.","Создаёт постройки «по сюжету» (дом, машина и т.д.)."]
[{"$nulls":9},"Конструирует несложные постройки из                  2—3 деталей.","Создаёт постройки «по сюжету» (дом, машина и т.д.)."]
[{"$nulls":9},"Конструирует несложные постройки из                  2—3 деталей.","Создаёт постройки «по сюжету» (дом, машина и т.д.)."]
[{"$nulls":9},"Конструирует несложные постройки из                  2—3 деталей.","Создаёт постройки «по сюжету» (дом, машина и т.д.)."]
[{"$nulls":9},"Конструирует несложные постройки из                  2—3 деталей.","Создаёт постройки «по сюжету» (дом, машина и т.д.)."]
[{"$nulls":9},"Конструирует несложные постройки из                  2—3 деталей.","Создаёт постройки «по сюжету» (дом, машина и т.д.)."]
[{"$nulls":9},"Конструирует несложные постройки из                  2—3 деталей.","Создаёт постройки «по сюжету» (дом, машина и т.д.)."]
[{"$nulls":9},"Конструирует несложные постройки из                  2—3 деталей.","Создаёт постройки «по сюжету» (дом, машина и т.д.)."]
[{"$nulls":9},"Конструирует несложные постройки из                  2—3 деталей.","Создаёт постройки «по сюжету» (дом, машина и т.д.)."]
[{"$nulls":9},"Конструирует несложные постройки из                  2—3 деталей.","Создаёт постройки «по сюжету» (дом, машина и т.д.)."]
[{"$nulls":9},"Конструирует несложные постройки из                  2—3 деталей.","Создаёт постройки «по сюжету» (дом, машина и т.д.)."]
[{"$nulls":9},"Конструирует несложные постройки из                  2—3 деталей.","Создаёт постройки «по сюжету» (дом, машина и т.д.)."]
[{"$nulls":9},"Конструирует несложные постройки из                  2—3 деталей.","Создаёт постройки «по сюжету» (дом, машина и т.д.)."]
[{"$nulls":9},"Конструирует несложные постройки из                  2—3 деталей.","Создаёт постройки «по сюжету» (дом, машина и т.д.)."]
[{"$nulls":9},"Конструирует несложные постройки из                  2—3 деталей.","Создаёт постройки «по сюжету» (дом, машина и т.д.)."]
[{"$nulls":9},"Конструирует несложные постройки из                  2—3 деталей.","Создаёт постройки «по сюжету» (дом, машина и т.д.)."]
[{"$nulls":9},"Конструирует несложные постройки из                  2—3 деталей.","Создаёт постройки «по сюжету» (дом, машина и т.д.)."]
[{"$nulls":9},"Конструирует несложные постройки из                  2—3 деталей.","Создаёт постройки «по сюжету» (дом, машина и т.д.)."]
[{"$nulls":9},"Конструирует несложные постройки из                  2—3 деталей.","Создаёт постройки «по сюжету» (дом, машина и т.д.)."]
[{"$nulls":9},"Конструирует несложные постройки из                  2—3 деталей.","Создаёт постройки «по сюжету» (дом, машина и т.д.)."]
[{"$nulls":9},"Конструирует несложные постройки из                  2—3 деталей.","Создаёт постройки «по сюжету» (дом, машина и т.д.)."]
[{"$nulls":9},"Конструирует несложные постройки из                  2—3 деталей.","Создаёт постройки «по сюжету» (дом, машина и т.д.)."]
[{"$nulls":9},"Конструирует несложные постройки из                  2—3 деталей.","Создаёт постройки «по сюжету» (дом, машина и т.д.)."]
[{"$nulls":9},"Конструирует несложные постройки из                  2—3 деталей.","Создаёт постройки «по сюжету» (дом, машина и т.д.)."]
[{"$nulls":9},"Конструирует несложные постройки из                  2—3 деталей.","Создаёт постройки «по сюжету» (дом, машина и т.д.)."]
[{"$nulls":9},"Конструирует несложные постройки из                  2—3 деталей.","Создаёт постройки «по сюжету» (дом, машина и т.д.)."]
[{"$nulls":9},"Конструирует несложные постройки из                  2—3 деталей.","Создаёт постройки «по сюжету» (дом, машина и т.д.)."]
[{"$nulls":9},"Конструирует несложные постройки из                  2—3 деталей.","Создаёт постройки «по сюжету» (дом, машина и т.д.)."]
[{"$nulls":9},"Конструирует несложные постройки из                  2—3 деталей.","Создаёт постройки «по сюжету» (дом, машина и т.д.)."]
[{"$nulls":9},"Конструирует несложные постройки из                  2—3 деталей.","Создаёт постройки «по сюжету» (дом, машина и т.д.)."]
[{"$nulls":9},"Конструирует несложные постройки из                  2—3 деталей.","Создаёт постройки «по сюжету» (дом, машина и т.д.)."]
[{"$nulls":9},"Конструирует несложные постройки из                  2—3 деталей.","Создаёт постройки «по сюжету» (дом, машина и т.д.)."]
[{"$nulls":9},"Конструирует несложные постройки из                  2—3 деталей.","Создаёт постройки «по сюжету» (дом, машина и т.д.)."]
[{"$nulls":9},"Конструирует несложные постройки из                  2—3 деталей.","Создаёт постройки «по сюжету» (дом, машина и т.д.)."]
[{"$nulls":9},"Конструирует несложные постройки из                  2—3 деталей.","Создаёт постройки «по сюжету» (дом, машина и т.д.)."]
[{"$nulls":9},"Конструирует несложные постройки из                  2—3 деталей.","Создаёт постройки «по сюжету» (дом, машина и т.д.)."]
[{"$nulls":9},"Конструирует несложные постройки из                  2—3 деталей.","Создаёт постройки «по сюжету» (дом, машина и т.д.)."]
[{"$nulls":9},"Конструирует несложные постройки из                  2—3 деталей.","Создаёт постройки «по сюжету» (дом, машина и т.д.)."]
[{"$nulls":9},"Конструирует несложные постройки из                  2—3 деталей.","Создаёт постройки «по сюжету» (дом, машина и т.д.)."]
[{"$nulls":9},"Конструирует несложные постройки из                  2—3 деталей.","Создаёт постройки «по сюжету» (дом, машина и т.д.)."]
[{"$nulls":9},"Конструирует несложные постройки из                  2—3 деталей.","Создаёт постройки «по сюжету» (дом, машина и т.д.)."]
[{"$nulls":9},"Конструирует несложные постройки из                  2—3 деталей.","Создаёт постройки «по сюжету» (дом, машина и т.д.)."]
[{"$nulls":9},"Конструирует несложные постройки из                  2—3 деталей.","Создаёт постройки «по сюжету» (дом, машина и т.д.)."]
[{"$nulls":9},"Конструирует несложные постройки из                  2—3 деталей.","Создаёт постройки «по сюжету» (дом, машина и т.д.)."]
[{"$nulls":9},"Конструирует несложные постройки из                  2—3 деталей.","Создаёт постройки «по сюжету» (дом, машина и т.д.)."]
[{"$nulls":9},"Конструирует несложные постройки из                  2—3 деталей.","Создаёт постройки «по сюжету» (дом, машина и т.д.)."]
[{"$nulls":9},"Конструирует несложные постройки из                  2—3 деталей.","Создаёт постройки «по сюжету» (дом, машина и т.д.)."]
[{"$nulls":9},"Конструирует несложные постройки из                  2—3 деталей.","Создаёт постройки «по сюжету» (дом, машина и т.д.)."]
[{"$nulls":9},"Конструирует несложные постройки из                  2—3 деталей.","Создаёт постройки «по сюжету» (дом, машина и т.д.)."]
[{"$nulls":9},"Конструирует несложные постройки из                  2—3 деталей.","Создаёт постройки «по сюжету» (дом, машина и т.д.)."]
[{"$nulls":9},"Конструирует несложные постройки из                  2—3 деталей.","Создаёт постройки «по сюжету» (дом, машина и т.д.)."]
[{"$nulls":9},"Конструирует несложные постройки из                  2—3 деталей.","Создаёт постройки «по сюжету» (дом, машина и т.д.)."]
[{"$nulls":9},"Конструирует несложные постройки из                  2—3 деталей.","Создаёт постройки «по сюжету» (дом, машина и т.д.)."]
[{"$nulls":9},"Конструирует несложные постройки из                  2—3 деталей.","Создаёт постройки «по сюжету» (дом, машина и т.д.)."]
[{"$nulls":9},"Конструирует несложные постройки из                  2—3 деталей.","Создаёт постройки «по сюжету» (дом, машина и т.д.)."]
[{"$nulls":9},"Конструирует несложные постройки из                  2—3 деталей.","Создаёт постройки «по сюжету» (дом, машина и т.д.)."]
[{"$nulls":9},"Конструирует несложные постройки из                  2—3 деталей.","Создаёт постройки «по сюжету» (дом, машина и т.д.)."]
[{"$nulls":9},"Конструирует несложные постройки из                  2—3 деталей.","Создаёт постройки «по сюжету» (дом, машина и т.д.)."]
[{"$nulls":9},"Конструирует несложные постройки из                  2—3 деталей.","Создаёт постройки «по сюжету» (дом, машина и т.д.)."]
[{"$nulls":9},"Конструирует несложные постройки из                  2—3 деталей.","Создаёт постройки «по сюжету» (дом, машина и т.д.)."]
[{"$nulls":9},"Конструирует несложные постройки из                  2—3 деталей.","Создаёт постройки «по сюжету» (дом, машина и т.д.)."]
[{"$nulls":9},"Конструирует несложные постройки из                  2—3 деталей.","Создаёт постройки «по сюжету» (дом, машина и т.д.)."]
[{"$nulls":9},"Конструирует несложные постройки из                  2—3 деталей.","Создаёт постройки «по сюжету» (дом, машина и т.д.)."]
[{"$nulls":9},"Конструирует несложные постройки из                  2—3 деталей.","Создаёт постройки «по сюжету» (дом, машина и т.д.)."]
[{"$nulls":9},"Конструирует несложные постройки из                  2—3 деталей.","Создаёт постройки «по сюжету» (дом, машина и т.д.)."]
[{"$nulls":9},"Конструирует несложные постройки из                  2—3 деталей.","Создаёт постройки «по сюжету» (дом, машина и т.д.)."]
[{"$nulls":9},"Конструирует несложные постройки из                  2—3 деталей.","Создаёт постройки «по сюжету» (дом, машина и т.д.)."]
[{"$nulls":9},"Конструирует несложные постройки из                  2—3 деталей.","Создаёт постройки «по сюжету» (дом, машина и т.д.)."]
[{"$nulls":9},"Конструирует несложные постройки из                  2—3 деталей.","Создаёт постройки «по сюжету» (дом, машина и т.д.)."]
[{"$nulls":9},"Конструирует несложные постройки из                  2—3 деталей.","Создаёт постройки «по сюжету» (дом, машина и т.д.)."]
[{"$nulls":9},"Конструирует несложные постройки из                  2—3 деталей.","Создаёт постройки «по сюжету» (дом, машина и т.д.)."]
[{"$nulls":9},"Конструирует несложные постройки из                  2—3 деталей.","Создаёт постройки «по сюжету» (дом, машина и т.д.)."]
[{"$nulls":9},"Конструирует несложные постройки из                  2—3 деталей.","Создаёт постройки «по сюжету» (дом, машина и т.д.)."]
[{"$nulls":9},"Конструирует несложные постройки из                  2—3 деталей.","Создаёт постройки «по сюжету» (дом, машина и т.д.)."]
[{"$nulls":9},"Конструирует несложные постройки из                  2—3 деталей.","Создаёт постройки «по сюжету» (дом, машина и т.д.)."]
[{"$nulls":9},"Конструирует несложные постройки из                  2—3 деталей.","Создаёт постройки «по сюжету» (дом, машина и т.д.)."]
[{"$nulls":9},"Конструирует несложные постройки из                  2—3 деталей.","Создаёт постройки «по сюжету» (дом, машина и т.д.)."]
[{"$nulls":9},"Конструирует несложные постройки из                  2—3 деталей.","Создаёт постройки «по сюжету» (дом, машина и т.д.)."]
[{"$nulls":9},"Конструирует несложные постройки из                  2—3 деталей.","Создаёт постройки «по сюжету» (дом, машина и т.д.)."]
[{"$nulls":9},"Конструирует несложные постройки из                  2—3 деталей.","Создаёт постройки «по сюжету» (дом, машина и т.д.)."]
[{"$nulls":9},"Конструирует несложные постройки из                  2—3 деталей.","Создаёт постройки «по сюжету» (дом, машина и т.д.)."]
[{"$nulls":9},"Конструирует несложные постройки из                  2—3 деталей.","Создаёт постройки «по сюжету» (дом, машина и т.д.)."]
[{"$nulls":9},"Конструирует несложные постройки из                  2—3 деталей.","Создаёт постройки «по сюжету» (дом, машина и т.д.)."]
[{"$nulls":9},"Конструирует несложные постройки из                  2—3 деталей.","Создаёт постройки «по сюжету» (дом, машина и т.д.)."]
[{"$nulls":9},"Конструирует несложные постройки из                  2—3 деталей.","Создаёт постройки «по сюжету» (дом, машина и т.д.)."]
[{"$nulls":9},"Конструирует несложные постройки из                  2—3 деталей.","Создаёт постройки «по сюжету» (дом, машина и т.д.)."]
[{"$nulls":9},"Конструирует несложные постройки из                  2—3 деталей.","Создаёт постройки «по сюжету» (дом, машина и т.д.)."]
[{"$nulls":9},"Конструирует несложные постройки из                  2—3 деталей.","Создаёт постройки «по сюжету» (дом, машина и т.д.)."]
[{"$nulls":9},"Конструирует несложные постройки из                  2—3 деталей.","Создаёт постройки «по сюжету» (дом, машина и т.д.)."]
[{"$nulls":9},"Конструирует несложные постройки из                  2—3 деталей.","Создаёт постройки «по сюжету» (дом, машина и т.д.)."]
[{"$nulls":9},"Конструирует несложные постройки из                  2—3 деталей.","Создаёт постройки «по сюжету» (дом, машина и т.д.)."]
[{"$nulls":9},"Конструирует несложные постройки из                  2—3 деталей.","Создаёт постройки «по сюжету» (дом, машина и т.д.)."]
[{"$nulls":9},"Конструирует несложные постройки из                  2—3 деталей.","Создаёт постройки «по сюжету» (дом, машина и т.д.)."]
[{"$nulls":9},"Конструирует несложные постройки из                  2—3 деталей.","Создаёт постройки «по сюжету» (дом, машина и т.д.)."]
[{"$nulls":9},"Конструирует несложные постройки из                  2—3 деталей.","Создаёт постройки «по сюжету» (дом, машина и т.д.)."]
[{"$nulls":9},"Конструирует несложные постройки из                  2—3 деталей.","Создаёт постройки «по сюжету» (дом, машина и т.д.)."]
[{"$nulls":9},"Конструирует несложные постройки из                  2—3 деталей.","Создаёт постройки «по сюжету» (дом, машина и т.д.)."]
[{"$nulls":9},"Конструирует несложные постройки из                  2—3 деталей.","Создаёт постройки «по сюжету» (дом, машина и т.д.)."]
[{"$nulls":9},"Конструирует несложные постройки из                  2—3 деталей.","Создаёт постройки «по сюжету» (дом, машина и т.д.)."]
[{"$nulls":9},"Конструирует несложные постройки из                  2—3 деталей.","Создаёт постройки «по сюжету» (дом, машина и т.д.)."]
[{"$nulls":9},"Конструирует несложные постройки из                  2—3 деталей.","Создаёт постройки «по сюжету» (дом, машина и т.д.)."]
[{"$nulls":9},"Конструирует несложные постройки из                  2—3 деталей.","Создаёт постройки «по сюжету» (дом, машина и т.д.)."]
[{"$nulls":9},"Конструирует несложные постройки из                  2—3 деталей.","Создаёт постройки «по сюжету» (дом, машина и т.д.)."]
[{"$nulls":9},"Конструирует несложные постройки из                  2—3 деталей.","Создаёт постройки «по сюжету» (дом, машина и т.д.)."]
[{"$nulls":9},"Конструирует несложные постройки из                  2—3 деталей.","Создаёт постройки «по сюжету» (дом, машина и т.д.)."]
[{"$nulls":9},"Конструирует несложные постройки из                  2—3 деталей.","Создаёт постройки «по сюжету» (дом, машина и т.д.)."]
[{"$nulls":9},"Конструирует несложные постройки из                  2—3 деталей.","Создаёт постройки «по сюжету» (дом, машина и т.д.)."]
[{"$nulls":9},"Конструирует несложные постройки из                  2—3 деталей.","Создаёт постройки «по сюжету» (дом, машина и т.д.)."]
[{"$nulls":9},"Конструирует несложные постройки из                  2—3 деталей.","Создаёт постройки «по сюжету» (дом, машина и т.д.)."]
[{"$nulls":9},"Конструирует несложные постройки из                  2—3 деталей.","Создаёт постройки «по сюжету» (дом, машина и т.д.)."]
[{"$nulls":9},"Конструирует несложные постройки из                  2—3 деталей.","Создаёт постройки «по сюжету» (дом, машина и т.д.)."]
[{"$nulls":9},"Конструирует несложные постройки из                  2—3 деталей.","Создаёт постройки «по сюжету» (дом, машина и т.д.)."]
[{"$nulls":9},"Конструирует несложные постройки из                  2—3 деталей.","Создаёт постройки «по сюжету» (дом, машина и т.д.)."]
[{"$nulls":9},"Конструирует несложные постройки из                  2—3 деталей.","Создаёт постройки «по сюжету» (дом, машина и т.д.)."]
[{"$nulls":9},"Конструирует несложные постройки из                  2—3 деталей.","Создаёт постройки «по сюжету» (дом, машина и т.д.)."]
[{"$nulls":9},"Конструирует несложные постройки из                  2—3 деталей.","Создаёт постройки «по сюжету» (дом, машина и т.д.)."]
[{"$nulls":9},"Конструирует несложные постройки из                  2—3 деталей.","Создаёт постройки «по сюжету» (дом, машина и т.д.)."]
[{"$nulls":9},"Конструирует несложные постройки из                  2—3 деталей.","Создаёт постройки «по сюжету» (дом, машина и т.д.)."]
[{"$nulls":9},"Конструирует несложные постройки из                  2—3 деталей.","Создаёт постройки «по сюжету» (дом, машина и т.д.)."]
[{"$nulls":9},"Конструирует несложные постройки из                  2—3 деталей.","Создаёт постройки «по сюжету» (дом, машина и т.д.)."]
[{"$nulls":9},"Конструирует несложные постройки из                  2—3 деталей.","Создаёт постройки «по сюжету» (дом, машина и т.д.)."]
[{"$nulls":9},"Конструирует несложные постройки из                  2—3 деталей.","Создаёт постройки «по сюжету» (дом, машина и т.д.)."]
[{"$nulls":9},"Конструирует несложные постройки из                  2—3 деталей.","Создаёт постройки «по сюжету» (дом, машина и т.д.)."]
[{"$nulls":9},"Конструирует несложные постройки из                  2—3 деталей.","Создаёт постройки «по сюжету» (дом, машина и т.д.)."]
[{"$nulls":9},"Конструирует несложные постройки из                  2—3 деталей.","Создаёт постройки «по сюжету» (дом, машина и т.д.)."]
[{"$nulls":9},"Конструирует несложные постройки из                  2—3 деталей.","Создаёт постройки «по сюжету» (дом, машина и т.д.)."]
[{"$nulls":9},"Конструирует несложные постройки из                  2—3 деталей.","Создаёт постройки «по сюжету» (дом, машина и т.д.)."]
[{"$nulls":9},"Конструирует несложные постройки из                  2—3 деталей.","Создаёт постройки «по сюжету» (дом, машина и т.д.)."]
[{"$nulls":9},"Конструирует несложные постройки из                  2—3 деталей.","Создаёт постройки «по сюжету» (дом, машина и т.д.)."]
[{"$nulls":9},"Конструирует несложные постройки из                  2—3 деталей.","Создаёт постройки «по сюжету» (дом, машина и т.д.)."]
[{"$nulls":9},"Конструирует несложные постройки из                  2—3 деталей.","Создаёт постройки «по сюжету» (дом, машина и т.д.)."]
[{"$nulls":9},"Конструирует несложные постройки из                  2—3 деталей.","Создаёт постройки «по сюжету» (дом, машина и т.д.)."]
[{"$nulls":9},"Конструирует несложные постройки из                  2—3 деталей.","Создаёт постройки «по сюжету» (дом, машина и т.д.)."]
[{"$nulls":9},"Конструирует несложные постройки из                  2—3 деталей.","Создаёт постройки «по сюжету» (дом, машина и т.д.)."]
[{"$nulls":9},"Конструирует несложные постройки из                  2—3 деталей.","Создаёт постройки «по сюжету» (дом, машина и т.д.)."]
[{"$nulls":9},"Конструирует несложные постройки из                  2—3 деталей.","Создаёт постройки «по сюжету» (дом, машина и т.д.)."]
[{"$nulls":9},"Конструирует несложные постройки из                  2—3 деталей.","Создаёт постройки «по сюжету» (дом, машина и т.д.)."]
[{"$nulls":9},"Конструирует несложные постройки из                  2—3 деталей.","Создаёт постройки «по сюжету» (дом, машина и т.д.)."]
[{"$nulls":9},"Конструирует несложные постройки из                  2—3 деталей.","Создаёт постройки «по сюжету» (дом, машина и т.д.)."]
[{"$nulls":9},"Конструирует несложные постройки из                  2—3 деталей.","Создаёт постройки «по сюжету» (дом, машина и т.д.)."]
[{"$nulls":9},"Конструирует несложные постройки из                  2—3 деталей.","Создаёт постройки «по сюжету» (дом, машина и т.д.)."]
[{"$nulls":9},"Конструирует несложные постройки из                  2—3 деталей.","Создаёт постройки «по сюжету» (дом, машина и т.д.)."]
[{"$nulls":9},"Конструирует несложные постройки из                  2—3 деталей.","Создаёт постройки «по сюжету» (дом, машина и т.д.)."]
[{"$nulls":9},"Конструирует несложные постройки из                  2—3 деталей.","Создаёт постройки «по сюжету» (дом, машина и т.д.)."]
[{"$nulls":9},"Конструирует несложные постройки из                  2—3 деталей.","Создаёт постройки «по сюжету» (дом, машина и т.д.)."]
[{"$nulls":9},"Конструирует несложные постройки из                  2—3 деталей.","Создаёт постройки «по сюжету» (дом, машина и т.д.)."]
[{"$nulls":9},"Конструирует несложные постройки из                  2—3 деталей.","Создаёт постройки «по сюжету» (дом, машина и т.д.)."]
[{"$nulls":9},"Конструирует несложные постройки из                  2—3 деталей.","Создаёт постройки «по сюжету» (дом, машина и т.д.)."]
[{"$nulls":9},"Конструирует несложные постройки из                  2—3 деталей.","Создаёт постройки «по сюжету» (дом, машина и т.д.)."]
[{"$nulls":9},"Конструирует несложные постройки из                  2—3 деталей.","Создаёт постройки «по сюжету» (дом, машина и т.д.)."]
[{"$nulls":9},"Конструирует несложные постройки из                  2—3 деталей.","Создаёт постройки «по сюжету» (дом, машина и т.д.)."]
[{"$nulls":9},"Конструирует несложные постройки из                  2—3 деталей.","Создаёт постройки «по сюжету» (дом, машина и т.д.)."]
[{"$nulls":9},"Конструирует несложные постройки из                  2—3 деталей.","Создаёт постройки «по сюжету» (дом, машина и т.д.)."]
[{"$nulls":9},"Конструирует несложные постройки из                  2—3 деталей.","Создаёт постройки «по сюжету» (дом, машина и т.д.)."]
[{"$nulls":9},"Конструирует несложные постройки из                  2—3 деталей.","Создаёт постройки «по сюжету» (дом, машина и т.д.)."]
[{"$nulls":9},"Конструирует несложные постройки из                  2—3 деталей.","Создаёт постройки «по сюжету» (дом, машина и т.д.)."]
[{"$nulls":9},"Конструирует несложные постройки из                  2—3 деталей.","Создаёт постройки «по сюжету» (дом, машина и т.д.)."]
[{"$nulls":9},"Конструирует несложные постройки из                  2—3 деталей.","Создаёт постройки «по сюжету» (дом, машина и т.д.)."]
[{"$nulls":9},"Конструирует несложные постройки из                  2—3 деталей.","Создаёт постройки «по сюжету» (дом, машина и т.д.)."]
[{"$nulls":9},"Конструирует несложные постройки из                  2—3 деталей.","Создаёт постройки «по сюжету» (дом, машина и т.д.)."]
[{"$nulls":9},"Конструирует несложные постройки из                  2—3 деталей.","Создаёт постройки «по сюжету» (дом, машина и т.д.)."]
[{"$nulls":9},"Конструирует несложные постройки из                  2—3 деталей.","Создаёт постройки «по сюжету» (дом, машина и т.д.)."]
[{"$nulls":9},"Конструирует несложные постройки из                  2—3 деталей.","Создаёт постройки «по сюжету» (дом, машина и т.д.)."]
[{"$nulls":9},"Конструирует несложные постройки из                  2—3 деталей.","Создаёт постройки «по сюжету» (дом, машина и т.д.)."]
[{"$nulls":9},"Конструирует несложные постройки из                  2—3 деталей.","Создаёт постройки «по сюжету» (дом, машина и т.д.)."]
[{"$nulls":9},"Конструирует несложные постройки из                  2—3 деталей.","Создаёт постройки «по сюжету» (дом, машина и т.д.)."]
[{"$nulls":9},"Конструирует несложные постройки из                  2—3 деталей.","Создаёт постройки «по сюжету» (дом, машина и т.д.)."]
[{"$nulls":9},"Конструирует несложные постройки из                  2—3 деталей.","Создаёт постройки «по сюжету» (дом, машина и т.д.)."]
[{"$nulls":9},"Конструирует несложные постройки из                  2—3 деталей.","Создаёт постройки «по сюжету» (дом, машина и т.д.)."]
[{"$nulls":9},"Конструирует несложные постройки из                  2—3 деталей.","Создаёт постройки «по сюжету» (дом, машина и т.д.)."]
[{"$nulls":9},"Конструирует несложные постройки из                  2—3 деталей.","Создаёт постройки «по сюжету» (дом, машина и т.д.)."]
[{"$nulls":9},"Конструирует несложные постройки из                  2—3 деталей.","Создаёт постройки «по сюжету» (дом, машина и т.д.)."]
[{"$nulls":9},"Конструирует несложные постройки из                  2—3 деталей.","Создаёт постройки «по сюжету» (дом, машина и т.д.)."]
[{"$nulls":9},"Конструирует несложные постройки из                  2—3 деталей.","Создаёт постройки «по сюжету» (дом, машина и т.д.)."]
[{"$nulls":9},"Конструирует несложные постройки из                  2—3 деталей.","Создаёт постройки «по сюжету» (дом, машина и т.д.)."]
[{"$nulls":9},"Конструирует несложные постройки из                  2—3 деталей.","Создаёт постройки «по сюжету» (дом, машина и т.д.)."]
[{"$nulls":9},"Конструирует несложные постройки из                  2—3 деталей.","Создаёт постройки «по сюжету» (дом, машина и т.д.)."]
[{"$nulls":9},"Конструирует несложные постройки из                  2—3 деталей.","Создаёт постройки «по сюжету» (дом, машина и т.д.)."]
[{"$nulls":9},"Конструирует несложные постройки из                  2—3 деталей.","Создаёт постройки «по сюжету» (дом, машина и т.д.)."]
[{"$nulls":9},"Конструирует несложные постройки из                  2—3 деталей.","Создаёт постройки «по сюжету» (дом, машина и т.д.)."]
[{"$nulls":9},"Конструирует несложные постройки из                  2—3 деталей.","Создаёт постройки «по сюжету» (дом, машина и т.д.)."]
[{"$nulls":9},"Конструирует несложные постройки из                  2—3 деталей.","Создаёт постройки «по сюжету» (дом, машина и т.д.)."]
[{"$nulls":9},"Конструирует несложные постройки из                  2—3 деталей.","Создаёт постройки «по сюжету» (дом, машина и т.д.)."]
[{"$nulls":9},"Конструирует несложные постройки из                  2—3 деталей.","Создаёт постройки «по сюжету» (дом, машина и т.д.)."]
[{"$nulls":9},"Конструирует несложные постройки из                  2—3 деталей.","Создаёт постройки «по сюжету» (дом, машина и т.д.)."]
[{"$nulls":9},"Конструирует несложные постройки из                  2—3 деталей.","Создаёт постройки «по сюжету» (дом, машина и т.д.)."]
[{"$nulls":9},"Конструирует несложные постройки из                  2—3 деталей.","Создаёт постройки «по сюжету» (дом, машина и т.д.)."]
[{"$nulls":9},"Конструирует несложные постройки из                  2—3 деталей.","Создаёт постройки «по сюжету» (дом, машина и т.д.)."]
[{"$nulls":9},"Конструирует несложные постройки из                  2—3 деталей.","Создаёт постройки «по сюжету» (дом, машина и т.д.)."]
[{"$nulls":9},"Конструирует несложные постройки из                  2—3 деталей.","Создаёт постройки «по сюжету» (дом, машина и т.д.)."]
[{"$nulls":9},"Конструирует несложные постройки из                  2—3 деталей.","Создаёт постройки «по сюжету» (дом, машина и т.д.)."]
[{"$nulls":9},"Конструирует несложные постройки из                  2—3 деталей.","Создаёт постройки «по сюжету» (дом, машина и т.д.)."]
[{"$nulls":9},"Конструирует несложные постройки из                  2—3 деталей.","Создаёт постройки «по сюжету» (дом, машина и т.д.)."]
[{"$nulls":9},"Конструирует несложные постройки из                  2—3 деталей.","Создаёт постройки «по сюжету» (дом, машина и т.д.)."]
[{"$nulls":9},"Конструирует несложные постройки из                  2—3 деталей.","Создаёт постройки «по сюжету» (дом, машина и т.д.)."]
[{"$nulls":9},"Конструирует несложные постройки из                  2—3 деталей.","Создаёт постройки «по сюжету» (дом, машина и т.д.)."]
[{"$nulls":9},"Конструирует несложные постройки из                  2—3 деталей.","Создаёт постройки «по сюжету» (дом, машина и т.д.)."]
[{"$nulls":9},"Конструирует несложные постройки из                  2—3 деталей.","Создаёт постройки «по сюжету» (дом, машина и т.д.)."]
[{"$nulls":9},"Конструирует несложные постройки из                  2—3 деталей.","Создаёт постройки «по сюжету» (дом, машина и т.д.)."]
[{"$nulls":9},"Конструирует несложные постройки из                  2—3 деталей.","Создаёт постройки «по сюжету» (дом, машина и т.д.)."]
[{"$nulls":9},"Конструирует несложные постройки из                  2—3 деталей.","Создаёт постройки «по сюжету» (дом, машина и т.д.)."]
[{"$nulls":9},"Конструирует несложные постройки из                  2—3 деталей.","Создаёт постройки «по сюжету» (дом, машина и т.д.)."]
[{"$nulls":9},"Конструирует несложные постройки из                  2—3 деталей.","Создаёт постройки «по сюжету» (дом, машина и т.д.)."]
[{"$nulls":9},"Конструирует несложные постройки из                  2—3 деталей.","Создаёт постройки «по сюжету» (дом, машина и т.д.)."]
[{"$nulls":9},"Конструирует несложные постройки из                  2—3 деталей.","Создаёт постройки «по сюжету» (дом, машина и т.д.)."]
[{"$nulls":9},"Конструирует несложные постройки из                  2—3 деталей.","Создаёт постройки «по сюжету» (дом, машина и т.д.)."]
[{"$nulls":9},"Конструирует несложные постройки из                  2—3 деталей.","Создаёт постройки «по сюжету» (дом, машина и т.д.)."]
[{"$nulls":9},"Конструирует несложные постройки из                  2—3 деталей.","Создаёт постройки «по сюжету» (дом, машина и т.д.)."]
[{"$nulls":9},"Конструирует несложные постройки из                  2—3 деталей.","Создаёт постройки «по сюжету» (дом, машина и т.д.)."]
[{"$nulls":9},"Конструирует несложные постройки из                  2—3 деталей.","Создаёт постройки «по сюжету» (дом, машина и т.д.)."]
[{"$nulls":9},"Конструирует несложные постройки из                  2—3 деталей.","Создаёт постройки «по сюжету» (дом, машина и т.д.)."]
[{"$nulls":9},"Конструирует несложные постройки из                  2—3 деталей.","Создаёт постройки «по сюжету» (дом, машина и т.д.)."]
[{"$nulls":9},"Конструирует несложные постройки из                  2—3 деталей.","Создаёт постройки «по сюжету» (дом, машина и т.д.)."]
[{"$nulls":9},"Конструирует несложные постройки из                  2—3 деталей.","Создаёт постройки «по сюжету» (дом, машина и т.д.)."]
[{"$nulls":9},"Конструирует несложные постройки из                  2—3 деталей.","Создаёт постройки «по сюжету» (дом, машина и т.д.)."]
[{"$nulls":9},"Конструирует несложные постройки из                  2—3 деталей.","Создаёт постройки «по сюжету» (дом, машина и т.д.)."]
[{"$nulls":9},"Конструирует несложные постройки из                  2—3 деталей.","Создаёт постройки «по сюжету» (дом, машина и т.д.)."]
[{"$nulls":9},"Конструирует несложные постройки из                  2—3 деталей.","Создаёт постройки «по сюжету» (дом, машина и т.д.)."]
[{"$nulls":9},"Конструирует несложные постройки из                  2—3 деталей.","Создаёт постройки «по сюжету» (дом, машина и т.д.)."]
[{"$nulls":9},"Конструирует несложные постройки из                  2—3 деталей.","Создаёт постройки «по сюжету» (дом, машина и т.д.)."]
[{"$nulls":9},"Конструирует несложные постройки из                  2—3 деталей.","Создаёт постройки «по сюжету» (дом, машина и т.д.)."]
[{"$nulls":9},"Конструирует несложные постройки из                  2—3 деталей.","Создаёт постройки «по сюжету» (дом, машина и т.д.)."]
[{"$nulls":9},"Конструирует несложные постройки из                  2—3 деталей.","Создаёт постройки «по сюжету» (дом, машина и т.д.)."]
[{"$nulls":9},"Конструирует несложные постройки из                  2—3 деталей.","Создаёт постройки «по сюжету» (дом, машина и т.д.)."]
[{"$nulls":9},"Конструирует несложные постройки из                  2—3 деталей.","Создаёт постройки «по сюжету» (дом, машина и т.д.)."]
[{"$nulls":9},"Конструирует несложные постройки из                  2—3 деталей.","Создаёт постройки «по сюжету» (дом, машина и т.д.)."]
[{"$nulls":9},"Конструирует несложные постройки из                  2—3 деталей.","Создаёт постройки «по сюжету» (дом, машина и т.д.)."]
[{"$nulls":9},"Конструирует несложные постройки из                  2—3 деталей.","Создаёт постройки «по сюжету» (дом, машина и т.д.)."]
[{"$nulls":9},"Конструирует несложные постройки из                  2—3 деталей.","Создаёт постройки «по сюжету» (дом, машина и т.д.)."]
[{"$nulls":9},"Конструирует несложные постройки из                  2—3 деталей.","Создаёт постройки «по сюжету» (дом, машина и т.д.)."]
[{"$nulls":9},"Конструирует несложные постройки из                  2—3 деталей.","Создаёт постройки «по сюжету» (дом, машина и т.д.)."]
[{"$nulls":9},"Конструирует несложные постройки из                  2—3 деталей.","Создаёт постройки «по сюжету» (дом, машина и т.д.)."]
[{"$nulls":9},"Конструирует несложные постройки из                  2—3 деталей.","Создаёт постройки «по сюжету» (дом, машина и т.д.)."]
[{"$nulls":9},"Конструирует несложные постройки из                  2—3 деталей.","Создаёт постройки «по сюжету» (дом, машина и т.д.)."]
[{"$nulls":9},"Конструирует несложные постройки из                  2—3 деталей.","Создаёт постройки «по сюжету» (дом, машина и т.д.)."]
[{"$nulls":9},"Конструирует несложные постройки из                  2—3 деталей.","Создаёт постройки «по сюжету» (дом, машина и т.д.)."]
[{"$nulls":9},"Конструирует несложные постройки из                  2—3 деталей.","Создаёт постройки «по сюжету» (дом, машина и т.д.)."]
[{"$nulls":9},"Конструирует несложные постройки из                  2—3 деталей.","Создаёт постройки «по сюжету» (дом, машина и т.д.)."]
[{"$nulls":9},"Конструирует несложные постройки из                  2—3 деталей.","Создаёт постройки «по сюжету» (дом, машина и т.д.)."]
[{"$nulls":9},"Конструирует несложные постройки из                  2—3 деталей.","Создаёт постройки «по сюжету» (дом, машина и т.д.)."]
[{"$nulls":9},"Конструирует несложные постройки из                  2—3 деталей.","Создаёт постройки «по сюжету» (дом, машина и т.д.)."]
[{"$nulls":9},"Конструирует несложные постройки из                  2—3 деталей.","Создаёт постройки «по сюжету» (дом, машина и т.д.)."]
[{"$nulls":9},"Конструирует несложные постройки из                  2—3 деталей.","Создаёт постройки «по сюжету» (дом, машина и т.д.)."]
[{"$nulls":9},"Конструирует несложные постройки из                  2—3 деталей.","Создаёт постройки «по сюжету» (дом, машина и т.д.)."]
[{"$nulls":9},"Конструирует несложные постройки из                  2—3 деталей.","Создаёт постройки «по сюжету» (дом, машина и т.д.)."]
[{"$nulls":9},"Конструирует несложные постройки из                  2—3 деталей.","Создаёт постройки «по сюжету» (дом, машина и т.д.)."]
[{"$nulls":9},"Конструирует несложные постройки из                  2—3 деталей.","Создаёт постройки «по сюжету» (дом, машина и т.д.)."]
[{"$nulls":9},"Конструирует несложные постройки из                  2—3 деталей.","Создаёт постройки «по сюжету» (дом, машина и т.д.)."]
[{"$nulls":9},"Конструирует несложные постройки из                  2—3 деталей.","Создаёт постройки «по сюжету» (дом, машина и т.д.)."]
[{"$nulls":9},"Конструирует несложные постройки из                  2—3 деталей.","Создаёт постройки «по сюжету» (дом, машина и т.д.)."]
[{"$nulls":9},"Конструирует несложные постройки из                  2—3 деталей.","Создаёт постройки «по сюжету» (дом, машина и т.д.)."]
[{"$nulls":9},"Конструирует несложные постройки из                  2—3 деталей.","Создаёт постройки «по сюжету» (дом, машина и т.д.)."]
[{"$nulls":9},"Конструирует несложные постройки из                  2—3 деталей.","Создаёт постройки «по сюжету» (дом, машина и т.д.)."]
[{"$nulls":9},"Конструирует несложные постройки из                  2—3 деталей.","Создаёт постройки «по сюжету» (дом, машина и т.д.)."]
[{"$nulls":9},"Конструирует несложные постройки из                  2—3 деталей.","Создаёт постройки «по сюжету» (дом, машина и т.д.)."]
[{"$nulls":9},"Конструирует несложные постройки из                  2—3 деталей.","Создаёт постройки «по сюжету» (дом, машина и т.д.)."]
[{"$nulls":9},"Конструирует несложные постройки из                  2—3 деталей.","Создаёт постройки «по сюжету» (дом, машина и т.д.)."]
[{"$nulls":9},"Конструирует несложные постройки из                  2—3 деталей.","Создаёт постройки «по сюжету» (дом, машина и т.д.)."]
[{"$nulls":9},"Конструирует несложные постройки из                  2—3 деталей.","Создаёт постройки «по сюжету» (дом, машина и т.д.)."]
[{"$nulls":9},"Конструирует несложные постройки из                  2—3 деталей.","Создаёт постройки «по сюжету» (дом, машина и т.д.)."]
[{"$nulls":9},"Конструирует несложные постройки из                  2—3 деталей.","Создаёт постройки «по сюжету» (дом, машина и т.д.)."]
[{"$nulls":9},"Конструирует несложные постройки из                  2—3 деталей.","Создаёт постройки «по сюжету» (дом, машина и т.д.)."]
[{"$nulls":9},"Конструирует несложные постройки из                  2—3 деталей.","Создаёт постройки «по сюжету» (дом, машина и т.д.)."]
[{"$nulls":9},"Конструирует несложные постройки из                  2—3 деталей.","Создаёт постройки «по сюжету» (дом, машина и т.д.)."]
[{"$nulls":9},"Конструирует несложные постройки из                  2—3 деталей.","Создаёт постройки «по сюжету» (дом, машина и т.д.)."]
[{"$nulls":9},"Конструирует несложные постройки из                  2—3 деталей.","Создаёт постройки «по сюжету» (дом, машина и т.д.)."]
[{"$nulls":9},"Конструирует несложные постройки из                  2—3 деталей.","Создаёт постройки «по сюжету» (дом, машина и т.д.)."]
[{"$nulls":9},"Конструирует несложные постройки из                  2—3 деталей.","Создаёт постройки «по сюжету» (дом, машина и т.д.)."]
[{"$nulls":9},"Конструирует несложные постройки из                  2—3 деталей.","Создаёт постройки «по сюжету» (дом, машина и т.д.)."]
[{"$nulls":9},"Конструирует несложные постройки из                  2—3 деталей.","Создаёт постройки «по сюжету» (дом, машина и т.д.)."]
[{"$nulls":9},"Конструирует несложные постройки из                  2—3 деталей.","Создаёт постройки «по сюжету» (дом, машина и т.д.)."]
[{"$nulls":9},"Конструирует несложные постройки из                  2—3 деталей.","Создаёт постройки «по сюжету» (дом, машина и т.д.)."]
[{"$nulls":9},"Конструирует несложные постройки из                  2—3 деталей.","Создаёт постройки «по сюжету» (дом, машина и т.д.)."]
[{"$nulls":9},"Конструирует несложные постройки из                  2—3 деталей.","Создаёт постройки «по сюжету» (дом, машина и т.д.)."]
[{"$nulls":9},"Конструирует несложные постройки из                  2—3 деталей.","Создаёт постройки «по сюжету» (дом, машина и т.д.)."]
[{"$nulls":9},"Конструирует несложные постройки из                  2—3 деталей.","Создаёт постройки «по сюжету» (дом, машина и т.д.)."]
[{"$nulls":9},"Конструирует несложные постройки из                  2—3 деталей.","Создаёт постройки «по сюжету» (дом, машина и т.д.)."]
[{"$nulls":9},"Конструирует несложные постройки из                  2—3 деталей.","Создаёт постройки «по сюжету» (дом, машина и т.д.)."]
[{"$nulls":9},"Конструирует несложные постройки из                  2—3 деталей.","Создаёт постройки «по сюжету» (дом, машина и т.д.)."]
[{"$nulls":9},"Конструирует несложные постройки из                  2—3 деталей.","Создаёт постройки «по сюжету» (дом, машина и т.д.)."]
[{"$nulls":9},"Конструирует несложные постройки из                  2—3 деталей.","Создаёт постройки «по сюжету» (дом, машина и т.д.)."]
[{"$nulls":9},"Конструирует несложные постройки из                  2—3 деталей.","Создаёт постройки «по сюжету» (дом, машина и т.д.)."]
[{"$nulls":9},"Конструирует несложные постройки из                  2—3 деталей.","Создаёт постройки «по сюжету» (дом, машина и т.д.)."]
[{"$nulls":9},"Конструирует несложные постройки из                  2—3 деталей.","Создаёт постройки «по сюжету» (дом, машина и т.д.)."]
[{"$nulls":9},"Конструирует несложные постройки из                  2—3 деталей.","Создаёт постройки «по сюжету» (дом, машина и т.д.)."]
[{"$nulls":9},"Конструирует несложные постройки из                  2—3 деталей.","Создаёт постройки «по сюжету» (дом, машина и т.д.)."]
[{"$nulls":9},"Конструирует несложные постройки из                  2—3 деталей.","Создаёт постройки «по сюжету» (дом, машина и т.д.)."]
[{"$nulls":9},"Конструирует несложные постройки из                  2—3 деталей.","Создаёт постройки «по сюжету» (дом, машина и т.д.)."]
[{"$nulls":9},"Конструирует несложные постройки из                  2—3 деталей.","Создаёт постройки «по сюжету» (дом, машина и т.д.)."]
[{"$nulls":9},"Конструирует несложные постройки из                  2—3 деталей.","Создаёт постройки «по сюжету» (дом, машина и т.д.)."]
[{"$nulls":9},"Конструирует несложные постройки из                  2—3 деталей.","Создаёт постройки «по сюжету» (дом, машина и т.д.)."]
[{"$nulls":9},"Конструирует несложные постройки из                  2—3 деталей.","Создаёт постройки «по сюжету» (дом, машина и т.д.)."]
[{"$nulls":9},"Конструирует несложные постройки из                  2—3 деталей.","Создаёт постройки «по сюжету» (дом, машина и т.д.)."]
[{"$nulls":9},"Конструирует несложные постройки из                  2—3 деталей.","Создаёт постройки «по сюжету» (дом, машина и т.д.)."]
[{"$nulls":9},"Конструирует несложные постройки из                  2—3 деталей.","Создаёт постройки «по сюжету» (дом, машина и т.д.)."]
[{"$nulls":9},"Конструирует несложные постройки из                  2—3 деталей.","Создаёт постройки «по сюжету» (дом, машина и т.д.)."]
[{"$nulls":9},"Конструирует несложные постройки из                  2—3 деталей.","Создаёт постройки «по сюжету» (дом, машина и т.д.)."]
[{"$nulls":9},"Конструирует несложные постройки из                  2—3 деталей.","Создаёт постройки «по сюжету» (дом, машина и т.д.)."]
[{"$nulls":9},"Конструирует несложные постройки из                  2—3 деталей.","Создаёт постройки «по сюжету» (дом, машина и т.д.)."]
[{"$nulls":9},"Конструирует несложные постройки из                  2—3 деталей.","Создаёт постройки «по сюжету» (дом, машина и т.д.)."]
[{"$nulls":9},"Конструирует несложные постройки из                  2—3 деталей.","Создаёт постройки «по сюжету» (дом, машина и т.д.)."]
[{"$nulls":9},"Конструирует несложные постройки из                  2—3 деталей.","Создаёт постройки «по сюжету» (дом, машина и т.д.)."]
[{"$nulls":9},"Конструирует несложные постройки из                  2—3 деталей.","Создаёт постройки «по сюжету» (дом, машина и т.д.)."]
[{"$nulls":9},"Конструирует несложные постройки из                  2—3 деталей.","Создаёт постройки «по сюжету» (дом, машина и т.д.)."]
[{"$nulls":9},"Конструирует несложные постройки из                  2—3 деталей.","Создаёт постройки «по сюжету» (дом, машина и т.д.)."]
[{"$nulls":9},"Конструирует несложные постройки из                  2—3 деталей.","Создаёт постройки «по сюжету» (дом, машина и т.д.)."]
[{"$nulls":9},"Конструирует несложные постройки из                  2—3 деталей.","Создаёт постройки «по сюжету» (дом, машина и т.д.)."]
[{"$nulls":9},"Конструирует несложные постройки из                  2—3 деталей.","Создаёт постройки «по сюжету» (дом, машина и т.д.)."]
[{"$nulls":9},"Конструирует несложные постройки из                  2—3 деталей.","Создаёт постройки «по сюжету» (дом, машина и т.д.)."]
[{"$nulls":9},"Конструирует несложные постройки из                  2—3 деталей.","Создаёт постройки «по сюжету» (дом, машина и т.д.)."]
[{"$nulls":9},"Конструирует несложные постройки из                  2—3 деталей.","Создаёт постройки «по сюжету» (дом, машина и т.д.)."]
[{"$nulls":9},"Конструирует несложные постройки из                  2—3 деталей.","Создаёт постройки «по сюжету» (дом, машина и т.д.)."]
[{"$nulls":9},"Конструирует несложные постройки из                  2—3 деталей.","Создаёт постройки «по сюжету» (дом, машина и т.д.)."]
[{"$nulls":9},"Конструирует несложные постройки из                  2—3 деталей.","Создаёт постройки «по сюжету» (дом, машина и т.д.)."]
[{"$nulls":9},"Конструирует несложные постройки из                  2—3 деталей.","Создаёт постройки «по сюжету» (дом, машина и т.д.)."]
[{"$nulls":9},"Конструирует несложные постройки из                  2—3 деталей.","Создаёт постройки «по сюжету» (дом, машина и т.д.)."]
[{"$nulls":9},"Конструирует несложные постройки из                  2—3 деталей.","Создаёт постройки «по сюжету» (дом, машина и т.д.)."]
[{"$nulls":9},"Конструирует несложные постройки из                  2—3 деталей.","Создаёт постройки «по сюжету» (дом, машина и т.д.)."]
[{"$nulls":9},"Конструирует несложные постройки из                  2—3 деталей.","Создаёт постройки «по сюжету» (дом, машина и т.д.)."]
[{"$nulls":9},"Конструирует несложные постройки из                  2—3 деталей.","Создаёт постройки «по сюжету» (дом, машина и т.д.)."]
[{"$nulls":9},"Конструирует несложные постройки из                  2—3 деталей.","Создаёт постройки «по сюжету» (дом, машина и т.д.)."]
[{"$nulls":9},"Конструирует несложные постройки из                  2—3 деталей.","Создаёт постройки «по сюжету» (дом, машина и т.д.)."]
[{"$nulls":9},"Конструирует несложные постройки из                  2—3 деталей.","Создаёт постройки «по сюжету» (дом, машина и т.д.)."]
[{"$nulls":9},"Конструирует несложные постройки из                  2—3 деталей.","Создаёт постройки «по сюжету» (дом, машина и т.д.)."]
[{"$nulls":9},"Конструирует несложные постройки из                  2—3 деталей.","Создаёт постройки «по сюжету» (дом, машина и т.д.)."]
[{"$nulls":9},"Конструирует несложные постройки из                  2—3 деталей.","Создаёт постройки «по сюжету» (дом, машина и т.д.)."]
[{"$nulls":9},"Конструирует несложные постройки из                  2—3 деталей.","Создаёт постройки «по сюжету» (дом, машина и т.д.)."]
[{"$nulls":9},"Конструирует несложные постройки из                  2—3 деталей.","Создаёт постройки «по сюжету» (дом, машина и т.д.)."]
[{"$nulls":9},"Конструирует несложные постройки из                  2—3 деталей.","Создаёт постройки «по сюжету» (дом, машина и т.д.)."]
[{"$nulls":9},"Конструирует несложные постройки из                  2—3 деталей.","Создаёт постройки «по сюжету» (дом, машина и т.д.)."]
[{"$nulls":9},"Конструирует несложные постройки из                  2—3 деталей.","Создаёт постройки «по сюжету» (дом, машина и т.д.)."]
[{"$nulls":9},"Конструирует несложные постройки из                  2—3 деталей.","Создаёт постройки «по сюжету» (дом, машина и т.д.)."]
[{"$nulls":9},"Конструирует несложные постройки из                  2—3 деталей.","Создаёт постройки «по сюжету» (дом, машина и т.д.)."]
[{"$nulls":9},"Конструирует несложные постройки из                  2—3 деталей.","Создаёт постройки «по сюжету» (дом, машина и т.д.)."]
[{"$nulls":9},"Конструирует несложные постройки из                  2—3 деталей.","Создаёт постройки «по сюжету» (дом, машина и т.д.)."]
[{"$nulls":9},"Конструирует несложные постройки из                  2—3 деталей.","Создаёт постройки «по сюжету» (дом, машина и т.д.)."]
[{"$nulls":9},"Конструирует несложные постройки из                  2—3 деталей.","Создаёт постройки «по сюжету» (дом, машина и т.д.)."]
[{"$nulls":9},"Конструирует несложные постройки из                  2—3 деталей.","Создаёт постройки «по сюжету» (дом, машина и т.д.)."]
[{"$nulls":9},"Конструирует несложные постройки из                  2—3 деталей.","Создаёт постройки «по сюжету» (дом, машина и т.д.)."]
[{"$nulls":9},"Конструирует несложные постройки из                  2—3 деталей.","Создаёт постройки «по сюжету» (дом, машина и т.д.)."]
[{"$nulls":9},"Конструирует несложные постройки из                  2—3 деталей.","Создаёт постройки «по сюжету» (дом, машина и т.д.)."]
[{"$nulls":9},"Конструирует несложные постройки из                  2—3 деталей.","Создаёт постройки «по сюжету» (дом, машина и т.д.)."]
[{"$nulls":9},"Конструирует несложные постройки из                  2—3 деталей.","Создаёт постройки «по сюжету» (дом, машина и т.д.)."]
[{"$nulls":9},"Конструирует несложные постройки из                  2—3 деталей.","Создаёт постройки «по сюжету» (дом, машина и т.д.)."]
[{"$nulls":9},"Конструирует несложные постройки из                  2—3 деталей.","Создаёт постройки «по сюжету» (дом, машина и т.д.)."]
[{"$nulls":9},"Конструирует несложные постройки из                  2—3 деталей.","Создаёт постройки «по сюжету» (дом, машина и т.д.)."]
[{"$nulls":9},"Конструирует несложные постройки из                  2—3 деталей.","Создаёт постройки «по сюжету» (дом, машина и т.д.)."]
[{"$nulls":9},"Конструирует несложные постройки из                  2—3 деталей.","Создаёт постройки «по сюжету» (дом, машина и т.д.)."]
[{"$nulls":9},"Конструирует несложные постройки из                  2—3 деталей.","Создаёт постройки «по сюжету» (дом, машина и т.д.)."]
[{"$nulls":9},"Конструирует несложные постройки из                  2—3 деталей.","Создаёт постройки «по сюжету» (дом, машина и т.д.)."]
[{"$nulls":9},"Конструирует несложные постройки из                  2—3 деталей.","Создаёт постройки «по сюжету» (дом, машина и т.д.)."]
[{"$nulls":9},"Конструирует несложные постройки из                  2—3 деталей.","Создаёт постройки «по сюжету» (дом, машина и т.д.)."]
[{"$nulls":9},"Конструирует несложные постройки из                  2—3 деталей.","Создаёт постройки «по сюжету» (дом, машина и т.д.)."]
[{"$nulls":9},"Конструирует несложные постройки из                  2—3 деталей.","Создаёт постройки «по сюжету» (дом, машина и т.д.)."]
[{"$nulls":9},"Конструирует несложные постройки из                  2—3 деталей.","Создаёт постройки «по сюжету» (дом, машина и т.д.)."]
[{"$nulls":9},"Конструирует несложные постройки из                  2—3 деталей.","Создаёт постройки «по сюжету» (дом, машина и т.д.)."]
[{"$nulls":9},"Конструирует несложные постройки из                  2—3 деталей.","Создаёт постройки «по сюжету» (дом, машина и т.д.)."]
[{"$nulls":9},"Конструирует несложные постройки из                  2—3 деталей.","Создаёт постройки «по сюжету» (дом, машина и т.д.)."]
[{"$nulls":9},"Конструирует несложные постройки из                  2—3 деталей.","Создаёт постройки «по сюжету» (дом, машина и т.д.)."]
[{"$nulls":9},"Конструирует несложные постройки из                  2—3 деталей.","Создаёт постройки «по сюжету» (дом, машина и т.д.)."]
[{"$nulls":9},"Конструирует несложные постройки из                  2—3 деталей.","Создаёт постройки «по сюжету» (дом, машина и т.д.)."]
[{"$nulls":9},"Конструирует несложные постройки из                  2—3 деталей.","Создаёт постройки «по сюжету» (дом, машина и т.д.)."]
[{"$nulls":9},"Конструирует несложные постройки из                  2—3 деталей.","Создаёт постройки «по сюжету» (дом, машина и т.д.)."]
[{"$nulls":9},"Конструирует несложные постройки из                  2—3 деталей.","Создаёт постройки «по сюжету» (дом, машина и т.д.)."]
[{"$nulls":9},"Конструирует несложные постройки из                  2—3 деталей.","Создаёт постройки «по сюжету» (дом, машина и т.д.)."]
[{"$nulls":9},"Конструирует несложные постройки из                  2—3 деталей.","Создаёт постройки «по сюжету» (дом, машина и т.д.)."]
[{"$nulls":9},"Конструирует несложные постройки из                  2—3 деталей.","Создаёт постройки «по сюжету» (дом, машина и т.д.)."]
[{"$nulls":9},"Конструирует несложные постройки из                  2—3 деталей.","Создаёт постройки «по сюжету» (дом, машина и т.д.)."]
[{"$nulls":9},"Конструирует несложные постройки из                  2—3 деталей.","Создаёт постройки «по сюжету» (дом, машина и т.д.)."]
[{"$nulls":9},"Конструирует несложные постройки из                  2—3 деталей.","Создаёт постройки «по сюжету» (дом, машина и т.д.)."]
[{"$nulls":9},"Конструирует несложные постройки из                  2—3 деталей.","Создаёт постройки «по сюжету» (дом, машина и т.д.)."]
[{"$nulls":9},"Конструирует несложные постройки из                  2—3 деталей.","Создаёт постройки «по сюжету» (дом, машина и т.д.)."]
[{"$nulls":9},"Конструирует несложные постройки из                  2—3 деталей.","Создаёт постройки «по сюжету» (дом, машина и т.д.)."]
[{"$nulls":9},"Конструирует несложные постройки из                  2—3 деталей.","Создаёт постройки «по сюжету» (дом, машина и т.д.)."]
[{"$nulls":9},"Конструирует несложные постройки из                  2—3 деталей.","Создаёт постройки «по сюжету» (дом, машина и т.д.)."]
[{"$nulls":9},"Конструирует несложные постройки из                  2—3 деталей.","Создаёт постройки «по сюжету» (дом, машина и т.д.)."]
[{"$nulls":9},"Конструирует несложные постройки из                  2—3 деталей.","Создаёт постройки «по сюжету» (дом, машина и т.д.)."]
[{"$nulls":9},"Конструирует несложные постройки из                  2—3 деталей.","Создаёт постройки «по сюжету» (дом, машина и т.д.)."]
[{"$nulls":9},"Конструирует несложные постройки из                  2—3 деталей.","Создаёт постройки «по сюжету» (дом, машина и т.д.)."]
[{"$nulls":9},"Конструирует несложные постройки из                  2—3 деталей.","Создаёт постройки «по сюжету» (дом, машина и т.д.)."]
[{"$nulls":9},"Конструирует несложные постройки из                  2—3 деталей.","Создаёт постройки «по сюжету» (дом, машина и т.д.)."]
[{"$nulls":9},"Конструирует несложные постройки из                  2—3 деталей.","Создаёт постройки «по сюжету» (дом, машина и т.д.)."]
[{"$nulls":9},"Конструирует несложные постройки из                  2—3 деталей.","Создаёт постройки «по сюжету» (дом, машина и т.д.)."]
[{"$nulls":9},"Конструирует несложные постройки из                  2—3 деталей.","Создаёт постройки «по сюжету» (дом, машина и т.д.)."]
[{"$nulls":9},"Конструирует несложные постройки из                  2—3 деталей.","Создаёт постройки «по сюжету» (дом, машина и т.д.)."]
[{"$nulls":9},"Конструирует несложные постройки из                  2—3 деталей.","Создаёт постройки «по сюжету» (дом, машина и т.д.)."]
[{"$nulls":9},"Конструирует несложные постройки из                  2—3 деталей.","Создаёт постройки «по сюжету» (дом, машина и т.д.)."]
[{"$nulls":9},"Конструирует несложные постройки из                  2—3 деталей.","Создаёт постройки «по сюжету» (дом, машина и т.д.)."]
[{"$nulls":9},"Конструирует несложные постройки из                  2—3 деталей.","Создаёт постройки «по сюжету» (дом, машина и т.д.)."]
[{"$nulls":9},"Конструирует несложные постройки из                  2—3 деталей.","Создаёт постройки «по сюжету» (дом, машина и т.д.)."]
[{"$nulls":9},"Конструирует несложные постройки из                  2—3 деталей.","Создаёт постройки «по сюжету» (дом, машина и т.д.)."]
[{"$nulls":9},"Конструирует несложные постройки из                  2—3 деталей.","Создаёт постройки «по сюжету» (дом, машина и т.д.)."]
[{"$nulls":9},"Конструирует несложные постройки из                  2—3 деталей.","Создаёт постройки «по сюжету» (дом, машина и т.д.)."]
[{"$nulls":9},"Конструирует несложные постройки из                  2—3 деталей.","Создаёт постройки «по сюжету» (дом, машина и т.д.)."]
[{"$nulls":9},"Конструирует несложные постройки из                  2—3 деталей.","Создаёт постройки «по сюжету» (дом, машина и т.д.)."]
[{"$nulls":9},"Конструирует несложные постройки из                  2—3 деталей.","Создаёт постройки «по сюжету» (дом, машина и т.д.)."]
[{"$nulls":9},"Конструирует несложные постройки из                  2—3 деталей.","Создаёт постройки «по сюжету» (дом, машина и т.д.)."]
[{"$nulls":9},"Конструирует несложные постройки из                  2—3 деталей.","Создаёт постройки «по сюжету» (дом, машина и т.д.)."]
[{"$nulls":9},"Конструирует несложные постройки из                  2—3 деталей.","Создаёт постройки «по сюжету» (дом, машина и т.д.)."]
[{"$nulls":9},"Конструирует несложные постройки из                  2—3 деталей.","Создаёт постройки «по сюжету» (дом, машина и т.д.)."]
[{"$nulls":9},"Конструирует несложные постройки из                  2—3 деталей.","Создаёт постройки «по сюжету» (дом, машина и т.д.)."]
[{"$nulls":9},"Конструирует несложные постройки из                  2—3 деталей.","Создаёт постройки «по сюжету» (дом, машина и т.д.)."]
[{"$nulls":9},"Конструирует несложные постройки из                  2—3 деталей.","Создаёт постройки «по сюжету» (дом, машина и т.д.)."]
[{"$nulls":9},"Конструирует несложные постройки из                  2—3 деталей.","Создаёт постройки «по сюжету» (дом, машина и т.д.)."]
[{"$nulls":9},"Конструирует несложные постройки из                  2—3 деталей.","Создаёт постройки «по сюжету» (дом, машина и т.д.)."]
[{"$nulls":9},"Конструирует несложные постройки из                  2—3 деталей.","Создаёт постройки «по сюжету» (дом, машина и т.д.)."]
[{"$nulls":9},"Конструирует несложные постройки из                  2—3 деталей.","Создаёт постройки «по сюжету» (дом, машина и т.д.)."]
[{"$nulls":9},"Конструирует несложные постройки из                  2—3 деталей.","Создаёт постройки «по сюжету» (дом, машина и т.д.)."]
[{"$nulls":9},"Конструирует несложные постройки из                  2—3 деталей.","Создаёт постройки «по сюжету» (дом, машина и т.д.)."]
[{"$nulls":9},"Конструирует несложные постройки из                  2—3 деталей.","Создаёт постройки «по сюжету» (дом, машина и т.д.)."]
[{"$nulls":9},"Конструирует несложные постройки из                  2—3 деталей.","Создаёт постройки «по сюжету» (дом, машина и т.д.)."]
[{"$nulls":9},"Конструирует несложные постройки из                  2—3 деталей.","Создаёт постройки «по сюжету» (дом, машина и т.д.)."]
[{"$nulls":9},"Конструирует несложные постройки из                  2—3 деталей.","Создаёт постройки «по сюжету» (дом, машина и т.д.)."]
[{"$nulls":9},"Конструирует несложные постройки из                  2—3 деталей.","Создаёт постройки «по сюжету» (дом, машина и т.д.)."]
[{"$nulls":9},"Конструирует несложные постройки из                  2—3 деталей.","Создаёт постройки «по сюжету» (дом, машина и т.д.)."]
[{"$nulls":9},"Конструирует несложные постройки из                  2—3 деталей.","Создаёт постройки «по сюжету» (дом, машина и т.д.)."]
[{"$nulls":9},"Конструирует несложные постройки из                  2—3 деталей.","Создаёт постройки «по сюжету» (дом, машина и т.д.)."]
[{"$nulls":9},"Конструирует несложные постройки из                  2—3 деталей.","Создаёт постройки «по сюжету» (дом, машина и т.д.)."]
[{"$nulls":9},"Конструирует несложные постройки из                  2—3 деталей.","Создаёт постройки «по сюжету» (дом, машина и т.д.)."]
[{"$nulls":9},"Конструирует несложные постройки из                  2—3 деталей.","Создаёт постройки «по сюжету» (дом, машина и т.д.)."]
[{"$nulls":9},"Конструирует несложные постройки из                  2—3 деталей.","Создаёт постройки «по сюжету» (дом, машина и т.д.)."]
[{"$nulls":9},"Конструирует несложные постройки из                  2—3 деталей.","Создаёт постройки «по сюжету» (дом, машина и т.д.)."]
[{"$nulls":9},"Конструирует несложные постройки из                  2—3 деталей.","Создаёт постройки «по сюжету» (дом, машина и т.д.)."]
[{"$nulls":9},"Конструирует несложные постройки из                  2—3 деталей.","Создаёт постройки «по сюжету» (дом, машина и т.д.)."]
[{"$nulls":9},"Конструирует несложные постройки из                  2—3 деталей.","Создаёт постройки «по сюжету» (дом, машина и т.д.)."]
[{"$nulls":9},"Конструирует несложные постройки из                  2—3 деталей.","Создаёт постройки «по сюжету» (дом, машина и т.д.)."]
[{"$nulls":9},"Конструирует несложные постройки из                  2—3 деталей.","Создаёт постройки «по сюжету» (дом, машина и т.д.)."]
[{"$nulls":9},"Конструирует несложные постройки из                  2—3 деталей.","Создаёт постройки «по сюжету» (дом, машина и т.д.)."]
[{"$nulls":9},"Конструирует несложные постройки из                  2—3 деталей.","Создаёт постройки «по сюжету» (дом, машина и т.д.)."]
[{"$nulls":9},"Конструирует несложные постройки из                  2—3 деталей.","Создаёт постройки «по сюжету» (дом, машина и т.д.)."]
[{"$nulls":9},"Конструирует несложные постройки из                  2—3 деталей.","Создаёт постройки «по сюжету» (дом, машина и т.д.)."]
[{"$nulls":9},"Конструирует несложные постройки из                  2—3 деталей.","Создаёт постройки «по сюжету» (дом, машина и т.д.)."]
[{"$nulls":9},"Конструирует несложные постройки из                  2—3 деталей.","Создаёт постройки «по сюжету» (дом, машина и т.д.)."]
[{"$nulls":9},"Конструирует несложные постройки из                  2—3 деталей.","Создаёт постройки «по сюжету» (дом, машина и т.д.)."]
[{"$nulls":9},"Конструирует несложные постройки из                  2—3 деталей.","Создаёт постройки «по сюжету» (дом, машина и т.д.)."]
[{"$nulls":9},"Конструирует несложные постройки из                  2—3 деталей.","Создаёт постройки «по сюжету» (дом, машина и т.д.)."]
[{"$nulls":9},"Конструирует несложные постройки из                  2—3 деталей.","Создаёт постройки «по сюжету» (дом, машина и т.д.)."]
[{"$nulls":9},"Конструирует несложные постройки из                  2—3 деталей.","Создаёт постройки «по сюжету» (дом, машина и т.д.)."]
[{"$nulls":9},"Конструирует несложные постройки из                  2—3 деталей.","Создаёт постройки «по сюжету» (дом, машина и т.д.)."]
[{"$nulls":9},"Конструирует несложные постройки из                  2—3 деталей.","Создаёт постройки «по сюжету» (дом, машина и т.д.)."]
[{"$nulls":9},"Конструирует несложные постройки из                  2—3 деталей.","Создаёт постройки «по сюжету» (дом, машина и т.д.)."]
[{"$nulls":9},"Конструирует несложные постройки из                  2—3 деталей.","Создаёт постройки «по сюжету» (дом, машина и т.д.)."]
[{"$nulls":9},"Конструирует несложные постройки из                  2—3 деталей.","Создаёт постройки «по сюжету» (дом, машина и т.д.)."]
[{"$nulls":9},"Конструирует несложные постройки из                  2—3 деталей.","Создаёт постройки «по сюжету» (дом, машина и т.д.)."]
[{"$nulls":9},"Конструирует несложные постройки из                  2—3 деталей.","Создаёт постройки «по сюжету» (дом, машина и т.д.)."]
[{"$nulls":9},"Конструирует несложные постройки из                  2—3 деталей.","Создаёт постройки «по сюжету» (дом, машина и т.д.)."]
[{"$nulls":9},"Конструирует несложные постройки из                  2—3 деталей.","Создаёт постройки «по сюжету» (дом, машина и т.д.)."]
[{"$nulls":9},"Конструирует несложные постройки из                  2—3 деталей.","Создаёт постройки «по сюжету» (дом, машина и т.д.)."]
[{"$nulls":9},"Конструирует несложные постройки из                  2—3 деталей.","Создаёт постройки «по сюжету» (дом, машина и т.д.)."]
[{"$nulls":9},"Конструирует несложные постройки из                  2—3 деталей.","Создаёт постройки «по сюжету» (дом, машина и т.д.)."]
[{"$nulls":9},"Конструирует несложные постройки из                  2—3 деталей.","Создаёт постройки «по сюжету» (дом, машина и т.д.)."]
[{"$nulls":9},"Конструирует несложные постройки из                  2—3 деталей.","Создаёт постройки «по сюжету» (дом, машина и т.д.)."]
[{"$nulls":9},"Конструирует несложные постройки из                  2—3 деталей.","Создаёт постройки «по сюжету» (дом, машина и т.д.)."]
[{"$nulls":9},"Конструирует несложные постройки из                  2—3 деталей.","Создаёт постройки «по сюжету» (дом, машина и т.д.)."]
[{"$nulls":9},"Конструирует несложные постройки из                  2—3 деталей.","Создаёт постройки «по сюжету» (дом, машина и т.д.)."]
[{"$nulls":9},"Конструирует несложные постройки из                  2—3 деталей.","Создаёт постройки «по сюжету» (дом, машина и т.д.)."]
[{"$nulls":9},"Конструирует несложные постройки из                  2—3 деталей.","Создаёт постройки «по сюжету» (дом, машина и т.д.)."]
[{"$nulls":9},"Конструирует несложные постройки из                  2—3 деталей.","Создаёт постройки «по сюжету» (дом, машина и т.д.)."]
[{"$nulls":9},"Конструирует несложные постройки из                  2—3 деталей.","Создаёт постройки «по сюжету» (дом, машина и т.д.)."]
[{"$nulls":9},"Конструирует несложные постройки из                  2—3 деталей.","Создаёт постройки «по сюжету» (дом, машина и т.д.)."]
[{"$nulls":9},"Конструирует несложные постройки из                  2—3 деталей.","Создаёт постройки «по сюжету» (дом, машина и т.д.)."]
[{"$nulls":9},"Конструирует несложные постройки из                  2—3 деталей.","Создаёт постройки «по сюжету» (дом, машина и т.д.)."]
[{"$nulls":9},"Конструирует несложные постройки из                  2—3 деталей.","Создаёт постройки «по сюжету» (дом, машина и т.д.)."]
[{"$nulls":9},"Конструирует несложные постройки из                  2—3 деталей.","Создаёт постройки «по сюжету» (дом, машина и т.д.)."]
[{"$nulls":9},"Конструирует несложные постройки из                  2—3 деталей.","Создаёт постройки «по сюжету» (дом, машина и т.д.)."]
[{"$nulls":9},"Конструирует несложные постройки из                  2—3 деталей.","Создаёт постройки «по сюжету» (дом, машина и т.д.)."]
[{"$nulls":9},"Конструирует несложные постройки из                  2—3 деталей.","Создаёт постройки «по сюжету» (дом, машина и т.д.)."]
[{"$nulls":9},"Конструирует несложные постройки из                  2—3 деталей.","Создаёт постройки «по сюжету» (дом, машина и т.д.)."]
[{"$nulls":9},"Конструирует несложные постройки из                  2—3 деталей.","Создаёт постройки «по сюжету» (дом, машина и т.д.)."]
[{"$nulls":9},"Конструирует несложные постройки из                  2—3 деталей.","Создаёт постройки «по сюжету» (дом, машина и т.д.)."]
[{"$nulls":9},"Конструирует несложные постройки из                  2—3 деталей.","Создаёт постройки «по сюжету» (дом, машина и т.д.)."]
[{"$nulls":9},"Конструирует несложные постройки из                  2—3 деталей.","Создаёт постройки «по сюжету» (дом, машина и т.д.)."]
[{"$nulls":9},"Конструирует несложные постройки из                  2—3 деталей.","Создаёт постройки «по сюжету» (дом, машина и т.д.)."]
[{"$nulls":9},"Конструирует несложные постройки из                  2—3 деталей.","Создаёт постройки «по сюжету» (дом, машина и т.д.)."]
[{"$nulls":9},"Конструирует несложные постройки из                  2—3 деталей.","Создаёт постройки «по сюжету» (дом, машина и т.д.)."]
[{"$nulls":9},"Конструирует несложные постройки из                  2—3 деталей.","Создаёт постройки «по сюжету» (дом, машина и т.д.)."]
[{"$nulls":9},"Конструирует несложные постройки из                  2—3 деталей.","Создаёт постройки «по сюжету» (дом, машина и т.д.)."]
[{"$nulls":9},"Конструирует несложные постройки из                  2—3 деталей.","Создаёт постройки «по сюжету» (дом, машина и т.д.)."]
[{"$nulls":9},"Конструирует несложные постройки из                  2—3 деталей.","Создаёт постройки «по сюжету» (дом, машина и т.д.)."]
[{"$nulls":9},"Конструирует несложные постройки из                  2—3 деталей.","Создаёт постройки «по сюжету» (дом, машина и т.д.)."]
[{"$nulls":9},"Конструирует несложные постройки из                  2—3 деталей.","Создаёт постройки «по сюжету» (дом, машина и т.д.)."]
[{"$nulls":9},"Конструирует несложные постройки из                  2—3 деталей.","Создаёт постройки «по сюжету» (дом, машина и т.д.)."]
[{"$nulls":9},"Конструирует несложные постройки из                  2—3 деталей.","Создаёт постройки «по сюжету» (дом, машина и т.д.)."]
[{"$nulls":9},"Конструирует несложные постройки из                  2—3 деталей.","Создаёт постройки «по сюжету» (дом, машина и т.д.)."]
[{"$nulls":9},"Конструирует несложные постройки из                  2—3 деталей.","Создаёт постройки «по сюжету» (дом, машина и т.д.)."]
[{"$nulls":9},"Конструирует несложные постройки из                  2—3 деталей.","Создаёт постройки «по сюжету» (дом, машина и т.д.)."]
[{"$nulls":9},"Конструирует несложные постройки из                  2—3 деталей.","Создаёт постройки «по сюжету» (дом, машина и т.д.)."]
[{"$nulls":9},"Конструирует несложные постройки из                  2—3 деталей.","Создаёт постройки «по сюжету» (дом, машина и т.д.)."]
[{"$nulls":9},"Конструирует несложные постройки из                  2—3 деталей.","Создаёт постройки «по сюжету» (дом, машина и т.д.)."]
[{"$nulls":9},"Конструирует несложные постройки из                  2—3 деталей.","Создаёт постройки «по сюжету» (дом, машина и т.д.)."]
[{"$nulls":9},"Конструирует несложные постройки из                  2—3 деталей.","Создаёт постройки «по сюжету» (дом, машина и т.д.)."]
[{"$nulls":9},"Конструирует несложные постройки из                  2—3 деталей.","Создаёт постройки «по сюжету» (дом, машина и т.д.)."]
[{"$nulls":9},"Конструирует несложные постройки из                  2—3 деталей.","Создаёт постройки «по сюжету» (дом, машина и т.д.)."]
[{"$nulls":9},"Конструирует несложные постройки из                  2—3 деталей.","Создаёт постройки «по сюжету» (дом, машина и т.д.)."]
[{"$nulls":9},"Конструирует несложные постройки из                  2—3 деталей.","Создаёт постройки «по сюжету» (дом, машина и т.д.)."]
[{"$nulls":9},"Конструирует несложные постройки из                  2—3 деталей.","Создаёт постройки «по сюжету» (дом, машина и т.д.)."]
[{"$nulls":9},"Конструирует несложные постройки из                  2—3 деталей.","Создаёт постройки «по сюжету» (дом, машина и т.д.)."]
[{"$nulls":9},"Конструирует несложные постройки из                  2—3 деталей.","Создаёт постройки «по сюжету» (дом, машина и т.д.)."]
[{"$nulls":9},"Конструирует несложные постройки из                  2—3 деталей.","Создаёт постройки «по сюжету» (дом, машина и т.д.)."]
[{"$nulls":9},"Конструирует несложные постройки из                  2—3 деталей.","Создаёт постройки «по сюжету» (дом, машина и т.д.)."]
[{"$nulls":9},"Конструирует несложные постройки из                  2—3 деталей.","Создаёт постройки «по сюжету» (дом, машина и т.д.)."]
[{"$nulls":9},"Конструирует несложные постройки из                  2—3 деталей.","Создаёт постройки «по сюжету» (дом, машина и т.д.)."]
[{"$nulls":9},"Конструирует несложные постройки из                  2—3 деталей.","Создаёт постройки «по сюжету» (дом, машина и т.д.)."]
[{"$nulls":9},"Конструирует несложные постройки из                  2—3 деталей.","Создаёт постройки «по сюжету» (дом, машина и т.д.)."]
[{"$nulls":9},"Конструирует несложные постройки из                  2—3 деталей.","Создаёт постройки «по сюжету» (дом, машина и т.д.)."]
[{"$nulls":9},"Конструирует несложные постройки из                  2—3 деталей.","Создаёт постройки «по сюжету» (дом, машина и т.д.)."]
[{"$nulls":9},"Конструирует несложные постройки из                  2—3 деталей.","Создаёт постройки «по сюжету» (дом, машина и т.д.)."]
[{"$nulls":9},"Конструирует несложные постройки из                  2—3 деталей.","Создаёт постройки «по сюжету» (дом, машина и т.д.)."]
[{"$nulls":9},"Конструирует несложные постройки из                  2—3 деталей.","Создаёт постройки «по сюжету» (дом, машина и т.д.)."]
[{"$nulls":9},"Конструирует несложные постройки из                  2—3 деталей.","Создаёт постройки «по сюжету» (дом, машина и т.д.)."]
[{"$nulls":9},"Конструирует несложные постройки из                  2—3 деталей.","Создаёт постройки «по сюжету» (дом, машина и т.д.)."]
[{"$nulls":9},"Конструирует несложные постройки из                  2—3 деталей.","Создаёт постройки «по сюжету» (дом, машина и т.д.)."]
[{"$nulls":9},"Конструирует несложные постройки из                  2—3 деталей.","Создаёт постройки «по сюжету» (дом, машина и т.д.)."]
[{"$nulls":9},"Конструирует несложные постройки из                  2—3 деталей.","Создаёт постройки «по сюжету» (дом, машина и т.д.)."]
[{"$nulls":9},"Конструирует несложные постройки из                  2—3 деталей.","Создаёт постройки «по сюжету» (дом, машина и т.д.)."]
[{"$nulls":9},"Конструирует несложные постройки из                  2—3 деталей.","Создаёт постройки «по сюжету» (дом, машина и т.д.)."]
[{"$nulls":9},"Конструирует несложные постройки из                  2—3 деталей.","Создаёт постройки «по сюжету» (дом, машина и т.д.)."]
[{"$nulls":9},"Конструирует несложные постройки из                  2—3 деталей.","Создаёт постройки «по сюжету» (дом, машина и т.д.)."]
[{"$nulls":9},"Конструирует несложные постройки из                  2—3 деталей.","Создаёт постройки «по сюжету» (дом, машина и т.д.)."]
[{"$nulls":9},"Конструирует несложные постройки из                  2—3 деталей.","Создаёт постройки «по сюжету» (дом, машина и т.д.)."]
[{"$nulls":9},"Конструирует несложные постройки из                  2—3 деталей.","Создаёт постройки «по сюжету» (дом, машина и т.д.)."]
[{"$nulls":9},"Конструирует несложные постройки из                  2—3 деталей.","Создаёт постройки «по сюжету» (дом, машина и т.д.)."]
[{"$nulls":9},"Конструирует несложные постройки из                  2—3 деталей.","Создаёт постройки «по сюжету» (дом, машина и т.д.)."]
[{"$nulls":9},"Конструирует несложные постройки из                  2—3 деталей.","Создаёт постройки «по сюжету» (дом, машина и т.д.)."]
[{"$nulls":9},"Конструирует несложные постройки из                  2—3 деталей.","Создаёт постройки «по сюжету» (дом, машина и т.д.)."]
[{"$nulls":9},"Конструирует несложные постройки из                  2—3 деталей.","Создаёт постройки «по сюжету» (дом, машина и т.д.)."]
[{"$nulls":9},"Конструирует несложные постройки из                  2—3 деталей.","Создаёт постройки «по сюжету» (дом, машина и т.д.)."]
[{"$nulls":9},"Конструирует несложные постройки из                  2—3 деталей.","Создаёт постройки «по сюжету» (дом, машина и т.д.)."]
[{"$nulls":9},"Конструирует несложные постройки из                  2—3 деталей.","Создаёт постройки «по сюжету» (дом, машина и т.д.)."]
[{"$nulls":9},"Конструирует несложные постройки из                  2—3 деталей.","Создаёт постройки «по сюжету» (дом, машина и т.д.)."]
[{"$nulls":9},"Конструирует несложные постройки из                  2—3 деталей.","Создаёт постройки «по сюжету» (дом, машина и т.д.)."]
[{"$nulls":9},"Конструирует несложные постройки из                  2—3 деталей.","Создаёт постройки «по сюжету» (дом, машина и т.д.)."]
[{"$nulls":9},"Конструирует несложные постройки из                  2—3 деталей.","Создаёт постройки «по сюжету» (дом, машина и т.д.)."]
[{"$nulls":9},"Конструирует несложные постройки из                  2—3 деталей.","Создаёт постройки «по сюжету» (дом, машина и т.д.)."]
[{"$nulls":9},"Конструирует несложные постройки из                  2—3 деталей.","Создаёт постройки «по сюжету» (дом, машина и т.д.)."]
[{"$nulls":9},"Конструирует несложные постройки из                  2—3 деталей.","Создаёт постройки «по сюжету» (дом, машина и т.д.)."]
[{"$nulls":9},"Конструирует несложные постройки из                  2—3 деталей.","Создаёт постройки «по сюжету» (дом, машина и т.д.)."]
[{"$nulls":9},"Конструирует несложные постройки из                  2—3 деталей.","Создаёт постройки «по сюжету» (дом, машина и т.д.)."]
[{"$nulls":9},"Конструирует несложные постройки из                  2—3 деталей.","Создаёт постройки «по сюжету» (дом, машина и т.д.)."]
[{"$nulls":9},"Конструирует несложные постройки из                  2—3 деталей.","Создаёт постройки «по сюжету» (дом, машина и т.д.)."]
[{"$nulls":9},"Конструирует несложные постройки из                  2—3 деталей.","Создаёт постройки «по сюжету» (дом, машина и т.д.)."]
[{"$nulls":9},"Конструирует несложные постройки из                  2—3 деталей.","Создаёт постройки «по сюжету» (дом, машина и т.д.)."]
[{"$nulls":9},"Конструирует несложные постройки из                  2—3 деталей.","Создаёт постройки «по сюжету» (дом, машина и т.д.)."]
[{"$nulls":9},"Конструирует несложные постройки из                  2—3 деталей.","Создаёт постройки «по сюжету» (дом, машина и т.д.)."]
[{"$nulls":9},"Конструирует несложные постройки из                  2—3 деталей.","Создаёт постройки «по сюжету» (дом, машина и т.д.)."]
[{"$nulls":9},"Конструирует несложные постройки из                  2—3 деталей.","Создаёт постройки «по сюжету» (дом, машина и т.д.)."]
[{"$nulls":9},"Конструирует несложные постройки из                  2—3 деталей.","Создаёт постройки «по сюжету» (дом, машина и т.д.)."]
[{"$nulls":9},"Конструирует несложные постройки из                  2—3 деталей.","Создаёт постройки «по сюжету» (дом, машина и т.д.)."]
[{"$nulls":9},"Конструирует несложные постройки из                  2—3 деталей.","Создаёт постройки «по сюжету» (дом, машина и т.д.)."]
[{"$nulls":9},"Конструирует несложные постройки из                  2—3 деталей.","Создаёт постройки «по сюжету» (дом, машина и т.д.)."]
[{"$nulls":9},"Конструирует несложные постройки из                  2—3 деталей.","Создаёт постройки «по сюжету» (дом, машина и т.д.)."]
[{"$nulls":9},"Конструирует несложные постройки из                  2—3 деталей.","Создаёт постройки «по сюжету» (дом, машина и т.д.)."]
[{"$nulls":9},"Конструирует несложные постройки из                  2—3 деталей.","Создаёт постройки «по сюжету» (дом, машина и т.д.)."]
[{"$nulls":9},"Конструирует несложные постройки из                  2—3 деталей.","Создаёт постройки «по сюжету» (дом, машина и т.д.)."]
[{"$nulls":9},"Конструирует несложные постройки из                  2—3 деталей.","Создаёт постройки «по сюжету» (дом, машина и т.д.)."]
[{"$nulls":9},"Конструирует несложные постройки из                  2—3 деталей.","Создаёт постройки «по сюжету» (дом, машина и т.д.)."]
[{"$nulls":9},"Конструирует несложные постройки из                  2—3 деталей.","Создаёт постройки «по сюжету» (дом, машина и т.д.)."]
[{"$nulls":9},"Конструирует несложные постройки из                  2—3 деталей.","Создаёт постройки «по сюжету» (дом, машина и т.д.)."]
[{"$nulls":9},"Конструирует несложные постройки из                  2—3 деталей.","Создаёт постройки «по сюжету» (дом, машина и т.д.)."]
[{"$nulls":9},"Конструирует несложные постройки из                  2—3 деталей.","Создаёт постройки «по сюжету» (дом, машина и т.д.)."]
[{"$nulls":9},"Конструирует несложные постройки из                  2—3 деталей.","Создаёт постройки «по сюжету» (дом, машина и т.д.)."]
[{"$nulls":9},"Конструирует несложные постройки из                  2—3 деталей.","Создаёт постройки «по сюжету» (дом, машина и т.д.)."]
[{"$nulls":9},"Конструирует несложные постройки из                  2—3 деталей.","Создаёт постройки «по сюжету» (дом, машина и т.д.)."]
[{"$nulls":9},"Конструирует несложные постройки из                  2—3 деталей.","Создаёт постройки «по сюжету» (дом, машина и т.д.)."]
[{"$nulls":9},"Конструирует несложные постройки из                  2—3 деталей.","Создаёт постройки «по сюжету» (дом, машина и т.д.)."]
[{"$nulls":9},"Конструирует несложные постройки из                  2—3 деталей.","Создаёт постройки «по сюжету» (дом, машина и т.д.)."]
[{"$nulls":9},"Конструирует несложные постройки из                  2—3 деталей.","Создаёт постройки «по сюжету» (дом, машина и т.д.)."]
[{"$nulls":9},"Конструирует несложные постройки из                  2—3 деталей.","Создаёт постройки «по сюжету» (дом, машина и т.д.)."]
[{"$nulls":9},"Конструирует несложные постройки из                  2—3 деталей.","Создаёт постройки «по сюжету» (дом, машина и т.д.)."]
[{"$nulls":9},"Конструирует несложные постройки из                  2—3 деталей.","Создаёт постройки «по сюжету» (дом, машина и т.д.)."]
[{"$nulls":9},"Конструирует несложные постройки из                  2—3 деталей.","Создаёт постройки «по сюжету» (дом, машина и т.д.)."]
[{"$nulls":9},"Конструирует несложные постройки из                  2—3 деталей.","Создаёт постройки «по сюжету» (дом, машина и т.д.)."]
[{"$nulls":9},"Конструирует несложные постройки из                  2—3 деталей.","Создаёт постройки «по сюжету» (дом, машина и т.д.)."]
[{"$nulls":9},"Конструирует несложные постройки из                  2—3 деталей.","Создаёт постройки «по сюжету» (дом, машина и т.д.)."]
[{"$nulls":9},"Конструирует несложные постройки из                  2—3 деталей.","Создаёт постройки «по сюжету» (дом, машина и т.д.)."]
[{"$nulls":9},"Конструирует несложные постройки из                  2—3 деталей.","Создаёт постройки «по сюжету» (дом, машина и т.д.)."]
[{"$nulls":9},"Конструирует несложные постройки из                  2—3 деталей.","Создаёт постройки «по сюжету» (дом, машина и т.д.)."]
[{"$nulls":9},"Конструирует несложные постройки из                  2—3 деталей.","Создаёт постройки «по сюжету» (дом, машина и т.д.)."]
[{"$nulls":9},"Конструирует несложные постройки из                  2—3 деталей.","Создаёт постройки «по сюжету» (дом, машина и т.д.)."]
[{"$nulls":9},"Конструирует несложные постройки из                  2—3 деталей.","Создаёт постройки «по сюжету» (дом, машина и т.д.)."]
[{"$nulls":9},"Конструирует несложные постройки из                  2—3 деталей.","Создаёт постройки «по сюжету» (дом, машина и т.д.)."]
[{"$nulls":9},"Конструирует несложные постройки из                  2—3 деталей.","Создаёт постройки «по сюжету» (дом, машина и т.д.)."]
[{"$nulls":9},"Конструирует несложные постройки из                  2—3 деталей.","Создаёт постройки «по сюжету» (дом, машина и т.д.)."]
[{"$nulls":9},"Конструирует несложные постройки из                  2—3 деталей.","Создаёт постройки «по сюжету» (дом, машина и т.д.)."]
[{"$nulls":9},"Конструирует несложные постройки из                  2—3 деталей.","Создаёт постройки «по сюжету» (дом, машина и т.д.)."]
[{"$nulls":9},"Конструирует несложные постройки из                  2—3 деталей.","Создаёт постройки «по сюжету» (дом, машина и т.д.)."]
[{"$nulls":9},"Конструирует несложные постройки из                  2—3 деталей.","Создаёт постройки «по сюжету» (дом, машина и т.д.)."]
[{"$nulls":9},"Конструирует несложные постройки из                  2—3 деталей.","Создаёт постройки «по сюжету» (дом, машина и т.д.)."]
[{"$nulls":9},"Конструирует несложные постройки из                  2—3 деталей.","Создаёт постройки «по сюжету» (дом, машина и т.д.)."]
[{"$nulls":9},"Конструирует несложные постройки из                  2—3 деталей.","Создаёт постройки «по сюжету» (дом, машина и т.д.)."]
[{"$nulls":9},"Конструирует несложные постройки из                  2—3 деталей.","Создаёт постройки «по сюжету» (дом, машина и т.д.)."]
[{"$nulls":9},"Конструирует несложные постройки из                  2—3 деталей.","Создаёт постройки «по сюжету» (дом, машина и т.д.)."]
[{"$nulls":9},"Конструирует несложные постройки из                  2—3 деталей.","Создаёт постройки «по сюжету» (дом, машина и т.д.)."]
[{"$nulls":9},"Конструирует несложные постройки из                  2—3 деталей.","Создаёт постройки «по сюжету» (дом, машина и т.д.)."]
[{"$nulls":9},"Конструирует несложные постройки из                  2—3 деталей.","Создаёт постройки «по сюжету» (дом, машина и т.д.)."]
[{"$nulls":9},"Конструирует несложные постройки из                  2—3 деталей.","Создаёт постройки «по сюжету» (дом, машина и т.д.)."]
[{"$nulls":9},"Конструирует несложные постройки из                  2—3 деталей.","Создаёт постройки «по сюжету» (дом, машина и т.д.)."]
[{"$nulls":9},"Конструирует несложные постройки из                  2—3 деталей.","Создаёт постройки «по сюжету» (дом, машина и т.д.)."]
[{"$nulls":9},"Конструирует несложные постройки из                  2—3 деталей.","Создаёт постройки «по сюжету» (дом, машина и т.д.)."]
[{"$nulls":9},"Конструирует несложные постройки из                  2—3 деталей.","Создаёт постройки «по сюжету» (дом, машина и т.д.)."]
[{"$nulls":9},"Конструирует несложные постройки из                  2—3 деталей.","Создаёт постройки «по сюжету» (дом, машина и т.д.)."]
[{"$nulls":9},"Конструирует несложные постройки из                  2—3 деталей.","Создаёт постройки «по сюжету» (дом, машина и т.д.)."]
[{"$nulls":9},"Конструирует несложные постройки из                  2—3 деталей.","Создаёт постройки «по сюжету» (дом, машина и т.д.)."]
[{"$nulls":9},"Конструирует несложные постройки из                  2—3 деталей.","Создаёт постройки «по сюжету» (дом, машина и т.д.)."]
[{"$nulls":9},"Конструирует несложные постройки из                  2—3 деталей.","Создаёт постройки «по сюжету» (дом, машина и т.д.)."]
[{"$nulls":9},"Конструирует несложные постройки из                  2—3 деталей.","Создаёт постройки «по сюжету» (дом, машина и т.д.)."]
[{"$nulls":9},"Конструирует несложные постройки из                  2—3 деталей.","Создаёт постройки «по сюжету» (дом, машина и т.д.)."]
[{"$nulls":9},"Конструирует несложные постройки из                  2—3 деталей.","Создаёт постройки «по сюжету» (дом, машина и т.д.)."]
[{"$nulls":9},"Конструирует несложные постройки из                  2—3 деталей.","Создаёт постройки «по сюжету» (дом, машина и т.д.)."]
[{"$nulls":9},"Конструирует несложные постройки из                  2—3 деталей.","Создаёт постройки «по сюжету» (дом, машина и т.д.)."]
[{"$nulls":9},"Конструирует несложные постройки из                  2—3 деталей.","Создаёт постройки «по сюжету» (дом, машина и т.д.)."]
[{"$nulls":9},"Конструирует несложные постройки из                  2—3 деталей.","Создаёт постройки «по сюжету» (дом, машина и т.д.)."]
[{"$nulls":9},"Конструирует несложные постройки из                  2—3 деталей.","Создаёт постройки «по сюжету» (дом, машина и т.д.)."]
[{"$nulls":9},"Конструирует несложные постройки из                  2—3 деталей.","Создаёт постройки «по сюжету» (дом, машина и т.д.)."]
[{"$nulls":9},"Конструирует несложные постройки из                  2—3 деталей.","Создаёт постройки «по сюжету» (дом, машина и т.д.)."]
[{"$nulls":9},"Конструирует несложные постройки из                  2—3 деталей.","Создаёт постройки «по сюжету» (дом, машина и т.д.)."]
[{"$nulls":9},"Конструирует несложные постройки из                  2—3 деталей.","Создаёт постройки «по сюжету» (дом, машина и т.д.)."]
[{"$nulls":9},"Конструирует несложные постройки из                  2—3 деталей.","Создаёт постройки «по сюжету» (дом, машина и т.д.)."]
[{"$nulls":9},"Конструирует несложные постройки из                  2—3 деталей.","Создаёт постройки «по сюжету» (дом, машина и т.д.)."]
[{"$nulls":9},"Конструирует несложные постройки из                  2—3 деталей.","Создаёт постройки «по сюжету» (дом, машина и т.д.)."]
[{"$nulls":9},"Конструирует несложные постройки из                  2—3 деталей.","Создаёт постройки «по сюжету» (дом, машина и т.д.)."]
[{"$nulls":9},"Конструирует несложные постройки из                  2—3 деталей.","Создаёт постройки «по сюжету» (дом, машина и т.д.)."]
[{"$nulls":9},"Конструирует несложные постройки из                  2—3 деталей.","Создаёт постройки «по сюжету» (дом, машина и т.д.)."]
[{"$nulls":9},"Конструирует несложные постройки из                  2—3 деталей.","Создаёт постройки «по сюжету» (дом, машина и т.д.)."]
[{"$nulls":9},"Конструирует несложные постройки из                  2—3 деталей.","Создаёт постройки «по сюжету» (дом, машина и т.д.)."]
[{"$nulls":9},"Конструирует несложные постройки из                  2—3 деталей.","Создаёт постройки «по сюжету» (дом, машина и т.д.)."]
[{"$nulls":9},"Конструирует несложные постройки из                  2—3 деталей.","Создаёт постройки «по сюжету» (дом, машина и т.д.)."]
[{"$nulls":9},"Конструирует несложные постройки из                  2—3 деталей.","Создаёт постройки «по сюжету» (дом, машина и т.д.)."]
[{"$nulls":9},"Конструирует несложные постройки из                  2—3 деталей.","Создаёт постройки «по сюжету» (дом, машина и т.д.)."]
[{"$nulls":9},"Конструирует несложные постройки из                  2—3 деталей.","Создаёт постройки «по сюжету» (дом, машина и т.д.)."]
[{"$nulls":9},"Конструирует несложные постройки из                  2—3 деталей.","Создаёт постройки «по сюжету» (дом, машина и т.д.)."]
[{"$nulls":9},"Конструирует несложные постройки из                  2—3 деталей.","Создаёт постройки «по сюжету» (дом, машина и т.д.)."]
[{"$nulls":9},"Конструирует несложные постройки из                  2—3 деталей.","Создаёт постройки «по сюжету» (дом, машина и т.д.)."]
[{"$nulls":9},"Конструирует несложные постройки из                  2—3 деталей.","Создаёт постройки «по сюжету» (дом, машина и т.д.)."]
[{"$nulls":9},"Конструирует несложные постройки из                  2—3 деталей.","Создаёт постройки «по сюжету» (дом, машина и т.д.)."]
[{"$nulls":9},"Конструирует несложные постройки из                  2—3 деталей.","Создаёт постройки «по сюжету» (дом, машина и т.д.)."]
[{"$nulls":9},"Конструирует несложные постройки из                  2—3 деталей.","Создаёт постройки «по сюжету» (дом, машина и т.д.)."]
[{"$nulls":9},"Конструирует несложные постройки из                  2—3 деталей.","Создаёт постройки «по сюжету» (дом, машина и т.д.)."]
[{"$nulls":9},"Конструирует несложные постройки из                  2—3 деталей.","Создаёт постройки «по сюжету» (дом, машина и т.д.)."]
[{"$nulls":9},"Конструирует несложные постройки из                  2—3 деталей.","Создаёт постройки «по сюжету» (дом, машина и т.д.)."]
[{"$nulls":9},"Конструирует несложные постройки из                  2—3 деталей.","Создаёт постройки «по сюжету» (дом, машина и т.д.)."]
[{"$nulls":9},"Конструирует несложные постройки из                  2—3 деталей.","Создаёт постройки «по сюжету» (дом, машина и т.д.)."]
[{"$nulls":9},"Конструирует несложные постройки из                  2—3 деталей.","Создаёт постройки «по сюжету» (дом, машина и т.д.)."]
[{"$nulls":9},"Конструирует несложные постройки из                  2—3 деталей.","Создаёт постройки «по сюжету» (дом, машина и т.д.)."]
[{"$nulls":9},"Конструирует несложные постройки из                  2—3 деталей.","Создаёт постройки «по сюжету» (дом, машина и т.д.)."]
[{"$nulls":9},"Конструирует несложные постройки из                  2—3 деталей.","Создаёт постройки «по сюжету» (дом, машина и т.д.)."]
[{"$nulls":9},"Конструирует несложные постройки из                  2—3 деталей.","Создаёт постройки «по сюжету» (дом, машина и т.д.)."]
[{"$nulls":9},"Конструирует несложные постройки из                  2—3 деталей.","Создаёт постройки «по сюжету» (дом, машина и т.д.)."]
[{"$nulls":9},"Конструирует несложные постройки из                  2—3 деталей.","Создаёт постройки «по сюжету» (дом, машина и т.д.)."]
[{"$nulls":9},"Конструирует несложные постройки из                  2—3 деталей.","Создаёт постройки «по сюжету» (дом, машина и т.д.)."]
[{"$nulls":9},"Конструирует несложные постройки из                  2—3 деталей.","Создаёт постройки «по сюжету» (дом, машина и т.д.)."]
[{"$nulls":9},"Конструирует несложные постройки из                  2—3 деталей.","Создаёт постройки «по сюжету» (дом, машина и т.д.)."]
[{"$nulls":9},"Конструирует несложные постройки из                  2—3 деталей.","Создаёт постройки «по сюжету» (дом, машина и т.д.)."]
[{"$nulls":9},"Конструирует несложные постройки из                  2—3 деталей.","Создаёт постройки «по сюжету» (дом, машина и т.д.)."]
[{"$nulls":9},"Конструирует несложные постройки из                  2—3 деталей.","Создаёт постройки «по сюжету» (дом, машина и т.д.)."]
[{"$nulls":9},"Конструирует несложные постройки из                  2—3 деталей.","Создаёт постройки «по сюжету» (дом, машина и т.д.)."]
[{"$nulls":9},"Конструирует несложные постройки из                  2—3 деталей.","Создаёт постройки «по сюжету» (дом, машина и т.д.)."]
[{"$nulls":9},"Конструирует несложные постройки из                  2—3 деталей.","Создаёт постройки «по сюжету» (дом, машина и т.д.)."]
[{"$nulls":9},"Конструирует несложные постройки из                  2—3 деталей.","Создаёт постройки «по сюжету» (дом, машина и т.д.)."]
[{"$nulls":9},"Конструирует несложные постройки из                  2—3 деталей.","Создаёт постройки «по сюжету» (дом, машина и т.д.)."]
[{"$nulls":9},"Конструирует несложные постройки из                  2—3 деталей.","Создаёт постройки «по сюжету» (дом, машина и т.д.)."]
[{"$nulls":9},"Конструирует несложные постройки из                  2—3 деталей.","Создаёт постройки «по сюжету» (дом, машина и т.д.)."]
[{"$nulls":9},"Конструирует несложные постройки из                  2—3 деталей.","Создаёт постройки «по сюжету» (дом, машина и т.д.)."]
[{"$nulls":9},"Конструирует несложные постройки из                  2—3 деталей.","Создаёт постройки «по сюжету» (дом, машина и т.д.)."]
[{"$nulls":9},"Конструирует несложные постройки из                  2—3 деталей.","Создаёт постройки «по сюжету» (дом, машина и т.д.)."]
[{"$nulls":9},"Конструирует несложные постройки из                  2—3 деталей.","Создаёт постройки «по сюжету» (дом, машина и т.д.)."]
[{"$nulls":9},"Конструирует несложные постройки из                  2—3 деталей.","Создаёт постройки «по сюжету» (дом, машина и т.д.)."]
[{"$nulls":9},"Конструирует несложные постройки из                  2—3 деталей.","Создаёт постройки «по сюжету» (дом, машина и т.д.)."]
[{"$nulls":9},"Конструирует несложные постройки из                  2—3 деталей.","Создаёт постройки «по сюжету» (дом, машина и т.д.)."]
[{"$nulls":9},"Конструирует несложные постройки из                  2—3 деталей.","Создаёт постройки «по сюжету» (дом, машина и т.д.)."]
[{"$nulls":9},"Конструирует несложные постройки из                  2—3 деталей.","Создаёт постройки «по сюжету» (дом, машина и т.д.)."]
[{"$nulls":9},"Конструирует несложные постройки из                  2—3 деталей.","Создаёт постройки «по сюжету» (дом, машина и т.д.)."]
[{"$nulls":9},"Конструирует несложные постройки из                  2—3 деталей.","Создаёт постройки «по сюжету» (дом, машина и т.д.)."]
[{"$nulls":9},"Конструирует несложные постройки из                  2—3 деталей.","Создаёт постройки «по сюжету» (дом, машина и т.д.)."]
[{"$nulls":9},"Конструирует несложные постройки из                  2—3 деталей.","Создаёт постройки «по сюжету» (дом, машина и т.д.)."]
[{"$nulls":9},"Конструирует несложные постройки из                  2—3 деталей.","Создаёт постройки «по сюжету» (дом, машина и т.д.)."]
[{"$nulls":9},"Конструирует несложные постройки из                  2—3 деталей.","Создаёт постройки «по сюжету» (дом, машина и т.д.)."]
[{"$nulls":9},"Конструирует несложные постройки из                  2—3 деталей.","Создаёт постройки «по сюжету» (дом, машина и т.д.)."]
[{"$nulls":9},"Конструирует несложные постройки из                  2—3 деталей.","Создаёт постройки «по сюжету» (дом, машина и т.д.)."]
[{"$nulls":9},"Конструирует несложные постройки из                  2—3 деталей.","Создаёт постройки «по сюжету» (дом, машина и т.д.)."]
[{"$nulls":9},"Конструирует несложные постройки из                  2—3 деталей.","Создаёт постройки «по сюжету» (дом, машина и т.д.)."]
[{"$nulls":9},"Конструирует несложные постройки из                  2—3 деталей.","Создаёт постройки «по сюжету» (дом, машина и т.д.)."]
[{"$nulls":9},"Конструирует несложные постройки из                  2—3 деталей.","Создаёт постройки «по сюжету» (дом, машина и т.д.)."]
[{"$nulls":9},"Конструирует несложные постройки из                  2—3 деталей.","Создаёт постройки «по сюжету» (дом, машина и т.д.)."]
[{"$nulls":9},"Конструирует несложные постройки из                  2—3 деталей.","Создаёт постройки «по сюжету» (дом, машина и т.д.)."]
[{"$nulls":9},"Конструирует несложные постройки из                  2—3 деталей.","Создаёт постройки «по сюжету» (дом, машина и т.д.)."]
[{"$nulls":9},"Конструирует несложные постройки из                  2—3 деталей.","Создаёт постройки «по сюжету» (дом, машина и т.д.)."]
[{"$nulls":9},"Конструирует несложные постройки из                  2—3 деталей.","Создаёт постройки «по сюжету» (дом, машина и т.д.)."]
[{"$nulls":9},"Конструирует несложные постройки из                  2—3 деталей.","Создаёт постройки «по сюжету» (дом, машина и т.д.)."]
[{"$nulls":9},"Конструирует несложные постройки из                  2—3 деталей.","Создаёт постройки «по сюжету» (дом, машина и т.д.)."]
[{"$nulls":9},"Конструирует несложные постройки из                  2—3 деталей.","Создаёт постройки «по сюжету» (дом, машина и т.д.)."]
[{"$nulls":9},"Конструирует несложные постройки из                  2—3 деталей.","Создаёт постройки «по сюжету» (дом, машина и т.д.)."]
[{"$nulls":9},"Конструирует несложные постройки из                  2—3 деталей.","Создаёт постройки «по сюжету» (дом, машина и т.д.)."]
[{"$nulls":9},"Конструирует несложные постройки из                  2—3 деталей.","Создаёт постройки «по сюжету» (дом, машина и т.д.)."]
[{"$nulls":9},"Конструирует несложные постройки из                  2—3 деталей.","Создаёт постройки «по сюжету» (дом, машина и т.д.)."]
[{"$nulls":9},"Конструирует несложные постройки из                  2—3 деталей.","Создаёт постройки «по сюжету» (дом, машина и т.д.)."]
[{"$nulls":9},"Конструирует несложные постройки из                  2—3 деталей.","Создаёт постройки «по сюжету» (дом, машина и т.д.)."]
[{"$nulls":9},"Конструирует несложные постройки из                  2—3 деталей.","Создаёт постройки «по сюжету» (дом, машина и т.д.)."]
[{"$nulls":9},"Конструирует несложные постройки из                  2—3 деталей.","Создаёт постройки «по сюжету» (дом, машина и т.д.)."]
[{"$nulls":9},"Конструирует несложные постройки из                  2—3 деталей.","Создаёт постройки «по сюжету» (дом, машина и т.д.)."]
[{"$nulls":9},"Конструирует несложные постройки из                  2—3 деталей.","Создаёт постройки «по сюжету» (дом, машина и т.д.)."]
[{"$nulls":9},"Конструирует несложные постройки из                  2—3 деталей.","Создаёт постройки «по сюжету» (дом, машина и т.д.)."]
[{"$nulls":9},"Конструирует несложные постройки из                  2—3 деталей.","Создаёт постройки «по сюжету» (дом, машина и т.д.)."]
[{"$nulls":9},"Конструирует несложные постройки из                  2—3 деталей.","Создаёт постройки «по сюжету» (дом, машина и т.д.)."]
[{"$nulls":9},"Конструирует несложные постройки из                  2—3 деталей.","Создаёт постройки «по сюжету» (дом, машина и т.д.)."]
[{"$nulls":9},"Конструирует несложные постройки из                  2—3 деталей.","Создаёт постройки «по сюжету» (дом, машина и т.д.)."]
[{"$nulls":9},"Конструирует несложные постройки из                  2—3 деталей.","Создаёт постройки «по сюжету» (дом, машина и т.д.)."]
[{"$nulls":9},"Конструирует несложные постройки из                  2—3 деталей.","Создаёт постройки «по сюжету» (дом, машина и т.д.)."]
[{"$nulls":9},"Конструирует несложные постройки из                  2—3 деталей.","Создаёт постройки «по сюжету» (дом, машина и т.д.)."]
[{"$nulls":9},"Конструирует несложные постройки из                  2—3 деталей.","Создаёт постройки «по сюжету» (дом, машина и т.д.)."]
[{"$nulls":9},"Конструирует несложные постройки из                  2—3 деталей.","Создаёт постройки «по сюжету» (дом, машина и т.д.)."]
[{"$nulls":9},"Конструирует несложные постройки из                  2—3 деталей.","Создаёт постройки «по сюжету» (дом, машина и т.д.)."]
[{"$nulls":9},"Конструирует несложные постройки из                  2—3 деталей.","Создаёт постройки «по сюжету» (дом, машина и т.д.)."]
[{"$nulls":9},"Конструирует несложные постройки из                  2—3 деталей.","Создаёт постройки «по сюжету» (дом, машина и т.д.)."]
[{"$nulls":9},"Конструирует несложные постройки из                  2—3 деталей.","Создаёт постройки «по сюжету» (дом, машина и т.д.)."]
[{"$nulls":9},"Конструирует несложные постройки из                  2—3 деталей.","Создаёт постройки «по сюжету» (дом, машина и т.д.)."]
[{"$nulls":9},"Конструирует несложные постройки из                  2—3 деталей.","Создаёт постройки «по сюжету» (дом, машина и т.д.)."]
[{"$nulls":9},"Конструирует несложные постройки из                  2—3 деталей.","Создаёт постройки «по сюжету» (дом, машина и т.д.)."]
[{"$nulls":9},"Конструирует несложные постройки из                  2—3 деталей.","Создаёт постройки «по сюжету» (дом, машина и т.д.)."]
[{"$nulls":9},"Конструирует несложные постройки из                  2—3 деталей.","Создаёт постройки «по сюжету» (дом, машина и т.д.)."]
[{"$nulls":9},"Конструирует несложные постройки из                  2—3 деталей.","Создаёт постройки «по сюжету» (дом, машина и т.д.)."]
[{"$nulls":9},"Конструирует несложные постройки из                  2—3 деталей.","Создаёт постройки «по сюжету» (дом, машина и т.д.)."]
[{"$nulls":9},"Конструирует несложные постройки из                  2—3 деталей.","Создаёт постройки «по сюжету» (дом, машина и т.д.)."]
[{"$nulls":9},"Конструирует несложные постройки из                  2—3 деталей.","Создаёт постройки «по сюжету» (дом, машина и т.д.)."]
[{"$nulls":9},"Конструирует несложные постройки из                  2—3 деталей.","Создаёт постройки «по сюжету» (дом, машина и т.д.)."]
[{"$nulls":9},"Конструирует несложные постройки из                  2—3 деталей.","Создаёт постройки «по сюжету» (дом, машина и т.д.)."]
[{"$nulls":9},"Конструирует несложные постройки из                  2—3 деталей.","Создаёт постройки «по сюжету» (дом, машина и т.д.)."]
[{"$nulls":9},"Конструирует несложные постройки из                  2—3 деталей.","Создаёт постройки «по сюжету» (дом, машина и т.д.)."]
[{"$nulls":9},"Конструирует несложные постройки из                  2—3 деталей.","Создаёт постройки «по сюжету» (дом, машина и т.д.)."]
[{"$nulls":9},"Конструирует несложные постройки из                  2—3 деталей.","Создаёт постройки «по сюжету» (дом, машина и т.д.)."]
[{"$nulls":9},"Конструирует несложные постройки из                  2—3 деталей.","Создаёт постройки «по сюжету» (дом, машина и т.д.)."]
[{"$nulls":9},"Конструирует несложные постройки из                  2—3 деталей.","Создаёт постройки «по сюжету» (дом, машина и т.д.)."]
[{"$nulls":9},"Конструирует несложные постройки из                  2—3 деталей.","Создаёт постройки «по сюжету» (дом, машина и т.д.)."]
[{"$nulls":9},"Конструирует несложные постройки из                  2—3 деталей.","Создаёт постройки «по сюжету» (дом, машина и т.д.)."]
[{"$nulls":9},"Конструирует несложные постройки из                  2—3 деталей.","Создаёт постройки «по сюжету» (дом, машина и т.д.)."]
[{"$nulls":9},"Конструирует несложные постройки из                  2—3 деталей.","Создаёт постройки «по сюжету» (дом, машина и т.д.)."]
[{"$nulls":9},"Конструирует несложные постройки из                  2—3 деталей.","Создаёт постройки «по сюжету» (дом, машина и т.д.)."]
[{"$nulls":9},"Конструирует несложные постройки из                  2—3 деталей.","Создаёт постройки «по сюжету» (дом, машина и т.д.)."]
[{"$nulls":9},"Конструирует несложные постройки из                  2—3 деталей.","Создаёт постройки «по сюжету» (дом, машина и т.д.)."]
[{"$nulls":9},"Конструирует несложные постройки из                  2—3 деталей.","Создаёт постройки «по сюжету» (дом, машина и т.д.)."]
[{"$nulls":9},"Конструирует несложные постройки из                  2—3 деталей.","Создаёт постройки «по сюжету» (дом, машина и т.д.)."]
[{"$nulls":9},"Конструирует несложные постройки из                  2—3 деталей.","Создаёт постройки «по сюжету» (дом, машина и т.д.)."]
[{"$nulls":9},"Конструирует несложные постройки из                  2—3 деталей.","Создаёт постройки «по сюжету» (дом, машина и т.д.)."]
[{"$nulls":9},"Конструирует несложные постройки из                  2—3 деталей.","Создаёт постройки «по сюжету» (дом, машина и т.д.)."]
[{"$nulls":9},"Конструирует несложные постройки из                  2—3 деталей.","Создаёт постройки «по сюжету» (дом, машина и т.д.)."]
[{"$nulls":9},"Конструирует несложные постройки из                  2—3 деталей.","Создаёт постройки «по сюжету» (дом, машина и т.д.)."]
[{"$nulls":9},"Конструирует несложные постройки из                  2—3 деталей.","Создаёт постройки «по сюжету» (дом, машина и т.д.)."]
[{"$nulls":9},"Конструирует несложные постройки из                  2—3 деталей.","Создаёт постройки «по сюжету» (дом, машина и т.д.)."]
[{"$nulls":9},"Конструирует несложные постройки из                  2—3 деталей.","Создаёт постройки «по сюжету» (дом, машина и т.д.)."]
[{"$nulls":9},"Конструирует несложные постройки из                  2—3 деталей.","Создаёт постройки «по сюжету» (дом, машина и т.д.)."]
[{"$nulls":9},"Конструирует несложные постройки из                  2—3 деталей.","Создаёт постройки «по сюжету» (дом, машина и т.д.)."]
[{"$nulls":9},"Конструирует несложные постройки из                  2—3 деталей.","Создаёт постройки «по сюжету» (дом, машина и т.д.)."]
[{"$nulls":9},"Конструирует несложные постройки из                  2—3 деталей.","Создаёт постройки «по сюжету» (дом, машина и т.д.)."]
[{"$nulls":9},"Конструирует несложные постройки из                  2—3 деталей.","Создаёт постройки «по сюжету» (дом, машина и т.д.)."]
[{"$nulls":9},"Конструирует несложные постройки из                  2—3 деталей.","Создаёт постройки «по сюжету» (дом, машина и т.д.)."]
[{"$nulls":9},"Конструирует несложные постройки из                  2—3 деталей.","Создаёт постройки «по сюжету» (дом, машина и т.д.)."]
[{"$nulls":9},"Конструирует несложные постройки из                  2—3 деталей.","Создаёт постройки «по сюжету» (дом, машина и т.д.)."]
[{"$nulls":9},"Конструирует несложные постройки из                  2—3 деталей.","Создаёт постройки «по сюжету» (дом, машина и т.д.)."]
[{"$nulls":9},"Конструирует несложные постройки из                  2—3 деталей.","Создаёт постройки «по сюжету» (дом, машина и т.д.)."]
[{"$nulls":9},"Конструирует несложные постройки из                  2—3 деталей.","Создаёт постройки «по сюжету» (дом, машина и т.д.)."]
[{"$nulls":9},"Конструирует несложные постройки из                  2—3 деталей.","Создаёт постройки «по сюжету» (дом, машина и т.д.)."]
[{"$nulls":9},"Конструирует несложные постройки из                  2—3 деталей.","Создаёт постройки «по сюжету» (дом, машина и т.д.)."]
[{"$nulls":9},"Конструирует несложные постройки из                  2—3 деталей.","Создаёт постройки «по сюжету» (дом, машина и т.д.)."]
[{"$nulls":9},"Конструирует несложные постройки из                  2—3 деталей.","Создаёт постройки «по сюжету» (дом, машина и т.д.)."]
[{"$nulls":9},"Конструирует несложные постройки из                  2—3 деталей.","Создаёт постройки «по сюжету» (дом, машина и т.д.)."]
[{"$nulls":9},"Конструирует несложные постройки из                  2—3 деталей.","Создаёт постройки «по сюжету» (дом, машина и т.д.)."]
[{"$nulls":9},"Конструирует несложные постройки из                  2—3 деталей.","Создаёт постройки «по сюжету» (дом, машина и т.д.)."]
[{"$nulls":9},"Конструирует несложные постройки из                  2—3 деталей.","Создаёт постройки «по сюжету» (дом, машина и т.д.)."]
[{"$nulls":9},"Конструирует несложные постройки из                  2—3 деталей.","Создаёт постройки «по сюжету» (дом, машина и т.д.)."]
[{"$nulls":9},"Конструирует несложные постройки из                  2—3 деталей.","Создаёт постройки «по сюжету» (дом, машина и т.д.)."]
[{"$nulls":9},"Конструирует несложные постройки из                  2—3 деталей.","Создаёт постройки «по сюжету» (дом, машина и т.д.)."]
[{"$nulls":9},"Конструирует несложные постройки из                  2—3 деталей.","Создаёт постройки «по сюжету» (дом, машина и т.д.)."]
[{"$nulls":9},"Конструирует несложные постройки из                  2—3 деталей.","Создаёт постройки «по сюжету» (дом, машина и т.д.)."]
[{"$nulls":9},"Конструирует несложные постройки из                  2—3 деталей.","Создаёт постройки «по сюжету» (дом, машина и т.д.)."]
[{"$nulls":9},"Конструирует несложные постройки из                  2—3 деталей.","Создаёт постройки «по сюжету» (дом, машина и т.д.)."]
[{"$nulls":9},"Конструирует несложные постройки из                  2—3 деталей.","Создаёт постройки «по сюжету» (дом, машина и т.д.)."]
[{"$nulls":9},"Конструирует несложные постройки из                  2—3 деталей.","Создаёт постройки «по сюжету» (дом, машина и т.д.)."]
[{"$nulls":9},"Конструирует несложные постройки из                  2—3 деталей.","Создаёт постройки «по сюжету» (дом, машина и т.д.)."]
[{"$nulls":9},"Конструирует несложные постройки из                  2—3 деталей.","Создаёт постройки «по сюжету» (дом, машина и т.д.)."]
[{"$nulls":9},"Конструирует несложные постройки из                  2—3 деталей.","Создаёт постройки «по сюжету» (дом, машина и т.д.)."]
[{"$nulls":9},"Конструирует несложные постройки из                  2—3 деталей.","Создаёт постройки «по сюжету» (дом, машина и т.д.)."]
[{"$nulls":9},"Конструирует несложные постройки из                  2—3 деталей.","Создаёт постройки «по сюжету» (дом, машина и т.д.)."]
[{"$nulls":9},"Конструирует несложные постройки из                  2—3 деталей.","Создаёт постройки «по сюжету» (дом, машина и т.д.)."]
[{"$nulls":9},"Конструирует несложные постройки из                  2—3 деталей.","Создаёт постройки «по сюжету» (дом, машина и т.д.)."]
[{"$nulls":9},"Конструирует несложные постройки из                  2—3 деталей.","Создаёт постройки «по сюжету» (дом, машина и т.д.)."]
[{"$nulls":9},"Конструирует несложные постройки из                  2—3 деталей.","Создаёт постройки «по сюжету» (дом, машина и т.д.)."]
[{"$nulls":9},"Конструирует несложные постройки из                  2—3 деталей.","Создаёт постройки «по сюжету» (дом, машина и т.д.)."]
[{"$nulls":9},"Конструирует несложные постройки из                  2—3 деталей.","Создаёт постройки «по сюжету» (дом, машина и т.д.)."]
[{"$nulls":9},"Конструирует несложные постройки из                  2—3 деталей.","Создаёт постройки «по сюжету» (дом, машина и т.д.)."]
[{"$nulls":9},"Конструирует несложные постройки из                  2—3 деталей.","Создаёт постройки «по сюжету» (дом, машина и т.д.)."]
[{"$nulls":9},"Конструирует несложные постройки из                  2—3 деталей.","Создаёт постройки «по сюжету» (дом, машина и т.д.)."]
[{"$nulls":9},"Конструирует несложные постройки из                  2—3 деталей.","Создаёт постройки «по сюжету» (дом, машина и т.д.)."]
[{"$nulls":9},"Конструирует несложные постройки из                  2—3 деталей.","Создаёт постройки «по сюжету» (дом, машина и т.д.)."]
[{"$nulls":9},"Конструирует несложные постройки из                  2—3 деталей.","Создаёт постройки «по сюжету» (дом, машина и т.д.)."]
[{"$nulls":9},"Конструирует несложные постройки из                  2—3 деталей.","Создаёт постройки «по сюжету» (дом, машина и т.д.)."]
[{"$nulls":9},"Конструирует несложные постройки из                  2—3 деталей.","Создаёт постройки «по сюжету» (дом, машина и т.д.)."]
[{"$nulls":9},"Конструирует несложные постройки из                  2—3 деталей.","Создаёт постройки «по сюжету» (дом, машина и т.д.)."]
[{"$nulls":9},"Конструирует несложные постройки из                  2—3 деталей.","Создаёт постройки «по сюжету» (дом, машина и т.д.)."]
[{"$nulls":9},"Конструирует несложные постройки из                  2—3 деталей.","Создаёт постройки «по сюжету» (дом, машина и т.д.)."]
[{"$nulls":9},"Конструирует несложные постройки из                  2—3 деталей.","Создаёт постройки «по сюжету» (дом, машина и т.д.)."]
[{"$nulls":9},"Конструирует несложные постройки из                  2—3 деталей.","Создаёт постройки «по сюжету» (дом, машина и т.д.)."]
[{"$nulls":9},"Конструирует несложные постройки из                  2—3 деталей.","Создаёт постройки «по сюжету» (дом, машина и т.д.)."]
[{"$nulls":9},"Конструирует несложные постройки из                  2—3 деталей.","Создаёт постройки «по сюжету» (дом, машина и т.д.)."]
[{"$nulls":9},"Конструирует несложные постройки из                  2—3 деталей.","Создаёт постройки «по сюжету» (дом, машина и т.д.)."]
[{"$nulls":9},"Конструирует несложные постройки из                  2—3 деталей.","Создаёт постройки «по сюжету» (дом, машина и т.д.)."]
[{"$nulls":9},"Конструирует несложные постройки из                  2—3 деталей.","Создаёт постройки «по сюжету» (дом, машина и т.д.)."]
[{"$nulls":9},"Конструирует несложные постройки из                  2—3 деталей.","Создаёт постройки «по сюжету» (дом, машина и т.д.)."]
[{"$nulls":9},"Конструирует несложные постройки из                  2—3 деталей.","Создаёт постройки «по сюжету» (дом, машина и т.д.)."]
[{"$nulls":9},"Конструирует несложные постройки из                  2—3 деталей.","Создаёт постройки «по сюжету» (дом, машина и т.д.)."]
[{"$nulls":9},"Конструирует несложные постройки из                  2—3 деталей.","Создаёт постройки «по сюжету» (дом, машина и т.д.)."]
[{"$nulls":9},"Конструирует несложные постройки из                  2—3 деталей.","Создаёт постройки «по сюжету» (дом, машина и т.д.)."]
[{"$nulls":9},"Конструирует несложные постройки из                  2—3 деталей.","Создаёт постройки «по сюжету» (дом, машина и т.д.)."]
[{"$nulls":9},"Конструирует несложные постройки из                  2—3 деталей.","Создаёт постройки «по сюжету» (дом, машина и т.д.)."]
[{"$nulls":9},"Конструирует несложные постройки из                  2—3 деталей.","Создаёт постройки «по сюжету» (дом, машина и т.д.)."]
[{"$nulls":9},"Конструирует несложные постройки из                  2—3 деталей.","Создаёт постройки «по сюжету» (дом, машина и т.д.)."]
[{"$nulls":9},"Конструирует несложные постройки из                  2—3 деталей.","Создаёт постройки «по сюжету» (дом, машина и т.д.)."]
[{"$nulls":9},"Конструирует несложные постройки из                  2—3 деталей.","Создаёт постройки «по сюжету» (дом, машина и т.д.)."]
[{"$nulls":9},"Конструирует несложные постройки из                  2—3 деталей.","Создаёт постройки «по сюжету» (дом, машина и т.д.)."]
[{"$nulls":9},"Конструирует несложные постройки из                  2—3 деталей.","Создаёт постройки «по сюжету» (дом, машина и т.д.)."]
[{"$nulls":9},"Конструирует несложные постройки из                  2—3 деталей.","Создаёт постройки «по сюжету» (дом, машина и т.д.)."]
[{"$nulls":9},"Конструирует несложные постройки из                  2—3 деталей.","Создаёт постройки «по сюжету» (дом, машина и т.д.)."]
[{"$nulls":9},"Конструирует несложные постройки из                  2—3 деталей.","Создаёт постройки «по сюжету» (дом, машина и т.д.)."]
[{"$nulls":9},"Конструирует несложные постройки из                  2—3 деталей.","Создаёт постройки «по сюжету» (дом, машина и т.д.)."]
[{"$nulls":9},"Конструирует несложные постройки из                  2—3 деталей.","Создаёт постройки «по сюжету» (дом, машина и т.д.)."]
[{"$nulls":9},"Конструирует несложные постройки из                  2—3 деталей.","Создаёт постройки «по сюжету» (дом, машина и т.д.)."]
[{"$nulls":9},"Конструирует несложные постройки из                  2—3 деталей.","Создаёт постройки «по сюжету» (дом, машина и т.д.)."]
[{"$nulls":9},"Конструирует несложные постройки из                  2—3 деталей.","Создаёт постройки «по сюжету» (дом, машина и т.д.)."]
[{"$nulls":9},"Конструирует несложные постройки из                  2—3 деталей.","Создаёт постройки «по сюжету» (дом, машина и т.д.)."]
[{"$nulls":9},"Конструирует несложные постройки из                  2—3 деталей.","Создаёт постройки «по сюжету» (дом, машина и т.д.)."]
[{"$nulls":9},"Конструирует несложные постройки из                  2—3 деталей.","Создаёт постройки «по сюжету» (дом, машина и т.д.)."]
[{"$nulls":9},"Конструирует несложные постройки из                  2—3 деталей.","Создаёт постройки «по сюжету» (дом, машина и т.д.)."]
[{"$nulls":9},"Конструирует несложные постройки из                  2—3 деталей.","Создаёт постройки «по сюжету» (дом, машина и т.д.)."]
[{"$nulls":9},"Конструирует несложные постройки из                  2—3 деталей.","Создаёт постройки «по сюжету» (дом, машина и т.д.)."]
[{"$nulls":9},"Конструирует несложные постройки из                  2—3 деталей.","Создаёт постройки «по сюжету» (дом, машина и т.д.)."]
[{"$nulls":9},"Конструирует несложные постройки из                  2—3 деталей.","Создаёт постройки «по сюжету» (дом, машина и т.д.)."]
[{"$nulls":9},"Конструирует несложные постройки из                  2—3 деталей.","Создаёт постройки «по сюжету» (дом, машина и т.д.)."]
[{"$nulls":9},"Конструирует несложные постройки из                  2—3 деталей.","Создаёт постройки «по сюжету» (дом, машина и т.д.)."]
[{"$nulls":9},"Конструирует несложные постройки из                  2—3 деталей.","Создаёт постройки «по сюжету» (дом, машина и т.д.)."]
[{"$nulls":9},"Конструирует несложные постройки из                  2—3 деталей.","Создаёт постройки «по сюжету» (дом, машина и т.д.)."]
[{"$nulls":9},"Конструирует несложные постройки из                  2—3 деталей.","Создаёт постройки «по сюжету» (дом, машина и т.д.)."]
[{"$nulls":9},"Конструирует несложные постройки из                  2—3 деталей.","Создаёт постройки «по сюжету» (дом, машина и т.д.)."]
[{"$nulls":9},"Конструирует несложные постройки из                  2—3 деталей.","Создаёт постройки «по сюжету» (дом, машина и т.д.)."]
[{"$nulls":9},"Конструирует несложные постройки из                  2—3 деталей.","Создаёт постройки «по сюжету» (дом, машина и т.д.)."]
[{"$nulls":9},"Конструирует несложные постройки из                  2—3 деталей.","Создаёт постройки «по сюжету» (дом, машина и т.д.)."]
[{"$nulls":9},"Конструирует несложные постройки из                  2—3 деталей.","Создаёт постройки «по сюжету» (дом, машина и т.д.)."]
[{"$nulls":9},"Конструирует несложные постройки из                  2—3 деталей.","Создаёт постройки «по сюжету» (дом, машина и т.д.)."]
[{"$nulls":9},"Конструирует несложные постройки из                  2—3 деталей.","Создаёт постройки «по сюжету» (дом, машина и т.д.)."]
[{"$nulls":9},"Конструирует несложные постройки из                  2—3 деталей.","Создаёт постройки «по сюжету» (дом, машина и т.д.)."]
[{"$nulls":9},"Конструирует несложные постройки из                  2—3 деталей.","Создаёт постройки «по сюжету» (дом, машина и т.д.)."]
[{"$nulls":9},"Конструирует несложные постройки из                  2—3 деталей.","Создаёт постройки «по сюжету» (дом, машина и т.д.)."]
[{"$nulls":9},"Конструирует несложные постройки из                  2—3 деталей.","Создаёт постройки «по сюжету» (дом, машина и т.д.)."]
[{"$nulls":9},"Конструирует несложные постройки из                  2—3 деталей.","Создаёт постройки «по сюжету» (дом, машина и т.д.)."]
[{"$nulls":9},"Конструирует несложные постройки из                  2—3 деталей.","Создаёт постройки «по сюжету» (дом, машина и т.д.)."]
[{"$nulls":9},"Конструирует несложные постройки из                  2—3 деталей.","Создаёт постройки «по сюжету» (дом, машина и т.д.)."]
[{"$nulls":9},"Конструирует несложные постройки из                  2—3 деталей.","Создаёт постройки «по сюжету» (дом, машина и т.д.)."]
[{"$nulls":9},"Конструирует несложные постройки из                  2—3 деталей.","Создаёт постройки «по сюжету» (дом, машина и т.д.)."]
[{"$nulls":9},"Конструирует несложные постройки из                  2—3 деталей.","Создаёт постройки «по сюжету» (дом, машина и т.д.)."]
[{"$nulls":9},"Конструирует несложные постройки из                  2—3 деталей.","Создаёт постройки «по сюжету» (дом, машина и т.д.)."]
[{"$nulls":9},"Конструирует несложные постройки из                  2—3 деталей.","Создаёт постройки «по сюжету» (дом, машина и т.д.)."]
[{"$nulls":9},"Конструирует несложные постройки из                  2—3 деталей.","Создаёт постройки «по сюжету» (дом, машина и т.д.)."]
[{"$nulls":9},"Конструирует несложные постройки из                  2—3 деталей.","Создаёт постройки «по сюжету» (дом, машина и т.д.)."]
[{"$nulls":9},"Конструирует несложные постройки из                  2—3 деталей.","Создаёт постройки «по сюжету» (дом, машина и т.д.)."]
[{"$nulls":9},"Конструирует несложные постройки из                  2—3 деталей.","Создаёт постройки «по сюжету» (дом, машина и т.д.)."]
[{"$nulls":9},"Конструирует несложные постройки из                  2—3 деталей.","Создаёт постройки «по сюжету» (дом, машина и т.д.)."]
[{"$nulls":9},"Конструирует несложные постройки из                  2—3 деталей.","Создаёт постройки «по сюжету» (дом, машина и т.д.)."]
[{"$nulls":9},"Конструирует несложные постройки из                  2—3 деталей.","Создаёт постройки «по сюжету» (дом, машина и т.д.)."]
[{"$nulls":9},"Конструирует несложные постройки из                  2—3 деталей.","Создаёт постройки «по сюжету» (дом, машина и т.д.)."]
[{"$nulls":9},"Конструирует несложные постройки из                  2—3 деталей.","Создаёт постройки «по сюжету» (дом, машина и т.д.)."]
[{"$nulls":9},"Конструирует несложные постройки из                  2—3 деталей.","Создаёт постройки «по сюжету» (дом, машина и т.д.)."]
[{"$nulls":9},"Конструирует несложные постройки из                  2—3 деталей.","Создаёт постройки «по сюжету» (дом, машина и т.д.)."]
[{"$nulls":9},"Конструирует несложные постройки из                  2—3 деталей.","Создаёт постройки «по сюжету» (дом, машина и т.д.)."]
[{"$nulls":9},"Конструирует несложные постройки из                  2—3 деталей.","Создаёт постройки «по сюжету» (дом, машина и т.д.)."]
[{"$nulls":9},"Конструирует несложные постройки из                  2—3 деталей.","Создаёт постройки «по сюжету» (дом, машина и т.д.)."]
[{"$nulls":9},"Конструирует несложные постройки из                  2—3 деталей.","Создаёт постройки «по сюжету» (дом, машина и т.д.)."]
[{"$nulls":9},"Конструирует несложные постройки из                  2—3 деталей.","Создаёт постройки «по сюжету» (дом, машина и т.д.)."]
[{"$nulls":9},"Конструирует несложные постройки из                  2—3 деталей.","Создаёт постройки «по сюжету» (дом, машина и т.д.)."]
[{"$nulls":9},"Конструирует несложные постройки из                  2—3 деталей.","Создаёт постройки «по сюжету» (дом, машина и т.д.)."]
[{"$nulls":9},"Конструирует несложные постройки из                  2—3 деталей.","Создаёт постройки «по сюжету» (дом, машина и т.д.)."]
[{"$nulls":9},"Конструирует несложные постройки из                  2—3 деталей.","Создаёт постройки «по сюжету» (дом, машина и т.д.)."]
[{"$nulls":9},"Конструирует несложные постройки из                  2—3 деталей.","Создаёт постройки «по сюжету» (дом, машина и т.д.)."]
[{"$nulls":9},"Конструирует несложные постройки из                  2—3 деталей.","Создаёт постройки «по сюжету» (дом, машина и т.д.)."]
[{"$nulls":9},"Конструирует несложные постройки из                  2—3 деталей.","Создаёт постройки «по сюжету» (дом, машина и т.д.)."]
[{"$nulls":9},"Конструирует несложные постройки из                  2—3 деталей.","Создаёт постройки «по сюжету» (дом, машина и т.д.)."]
[{"$nulls":9},"Конструирует несложные постройки из                  2—3 деталей.","Создаёт постройки «по сюжету» (дом, машина и т.д.)."]
[{"$nulls":9},"Конструирует несложные постройки из                  2—3 деталей.","Создаёт постройки «по сюжету» (дом, машина и т.д.)."]
[{"$nulls":9},"Конструирует несложные постройки из                  2—3 деталей.","Создаёт постройки «по сюжету» (дом, машина и т.д.)."]
[{"$nulls":9},"Конструирует несложные постройки из                  2—3 деталей.","Создаёт постройки «по сюжету» (дом, машина и т.д.)."]
[{"$nulls":9},"Конструирует несложные постройки из                  2—3 деталей.","Создаёт постройки «по сюжету» (дом, машина и т.д.)."]
[{"$nulls":9},"Конструирует несложные постройки из                  2—3 деталей.","Создаёт постройки «по сюжету» (дом, машина и т.д.)."]
[{"$nulls":9},"Конструирует несложные постройки из                  2—3 деталей.","Создаёт постройки «по сюжету» (дом, машина и т.д.)."]
[{"$nulls":9},"Конструирует несложные постройки из                  2—3 деталей.","Создаёт постройки «по сюжету» (дом, машина и т.д.)."]
[{"$nulls":9},"Конструирует несложные постройки из                  2—3 деталей.","Создаёт постройки «по сюжету» (дом, машина и т.д.)."]
[{"$nulls":9},"Конструирует несложные постройки из                  2—3 деталей.","Создаёт постройки «по сюжету» (дом, машина и т.д.)."]
[{"$nulls":9},"Конструирует несложные постройки из                  2—3 деталей.","Создаёт постройки «по сюжету» (дом, машина и т.д.)."]
[{"$nulls":9},"Конструирует несложные постройки из                  2—3 деталей.","Создаёт постройки «по сюжету» (дом, машина и т.д.)."]
[{"$nulls":9},"Конструирует несложные постройки из                  2—3 деталей.","Создаёт постройки «по сюжету» (дом, машина и т.д.)."]
[{"$nulls":9},"Конструирует несложные постройки из                  2—3 деталей.","Создаёт постройки «по сюжету» (дом, машина и т.д.)."]
[{"$nulls":9},"Конструирует несложные постройки из                  2—3 деталей.","Создаёт постройки «по сюжету» (дом, машина и т.д.)."]
[{"$nulls":9},"Конструирует несложные постройки из                  2—3 деталей.","Создаёт постройки «по сюжету» (дом, машина и т.д.)."]
[{"$nulls":9},"Конструирует несложные постройки из                  2—3 деталей.","Создаёт постройки «по сюжету» (дом, машина и т.д.)."]
[{"$nulls":9},"Конструирует несложные постройки из                  2—3 деталей.","Создаёт постройки «по сюжету» (дом, машина и т.д.)."]
[{"$nulls":9},"Конструирует несложные постройки из                  2—3 деталей.","Создаёт постройки «по сюжету» (дом, машина и т.д.)."]
[{"$nulls":9},"Конструирует несложные постройки из                  2—3 деталей.","Создаёт постройки «по сюжету» (дом, машина и т.д.)."]
[{"$nulls":9},"Конструирует несложные постройки из                  2—3 деталей.","Создаёт постройки «по сюжету» (дом, машина и т.д.)."]
[{"$nulls":9},"Конструирует несложные постройки из                  2—3 деталей.","Создаёт постройки «по сюжету» (дом, машина и т.д.)."]
[{"$nulls":9},"Конструирует несложные постройки из                  2—3 деталей.","Создаёт постройки «по сюжету» (дом, машина и т.д.)."]
[{"$nulls":9},"Конструирует несложные постройки из                  2—3 деталей.","Создаёт постройки «по сюжету» (дом, машина и т.д.)."]
[{"$nulls":9},"Конструирует несложные постройки из                  2—3 деталей.","Создаёт постройки «по сюжету» (дом, машина и т.д.)."]
[{"$nulls":9},"Конструирует несложные постройки из                  2—3 деталей.","Создаёт постройки «по сюжету» (дом, машина и т.д.)."]
[{"$nulls":9},"Конструирует несложные постройки из                  2—3 деталей.","Создаёт постройки «по сюжету» (дом, машина и т.д.)."]
[{"$nulls":9},"Конструирует несложные постройки из                  2—3 деталей.","Создаёт постройки «по сюжету» (дом, машина и т.д.)."]
[{"$nulls":9},"Конструирует несложные постройки из                  2—3 деталей.","Создаёт постройки «по сюжету» (дом, машина и т.д.)."]
[{"$nulls":9},"Конструирует несложные постройки из                  2—3 деталей.","Создаёт постройки «по сюжету» (дом, машина и т.д.)."]
[{"$nulls":9},"Конструирует несложные постройки из                  2—3 деталей.","Создаёт постройки «по сюжету» (дом, машина и т.д.)."]
[{"$nulls":9},"Конструирует несложные постройки из                  2—3 деталей.","Создаёт постройки «по сюжету» (дом, машина и т.д.)."]
[{"$nulls":9},"Конструирует несложные постройки из                  2—3 деталей.","Создаёт постройки «по сюжету» (дом, машина и т.д.)."]
[{"$nulls":9},"Конструирует несложные постройки из                  2—3 деталей.","Создаёт постройки «по сюжету» (дом, машина и т.д.)."]
[{"$nulls":9},"Конструирует несложные постройки из                  2—3 деталей.","Создаёт постройки «по сюжету» (дом, машина и т.д.)."]
[{"$nulls":9},"Конструирует несложные постройки из                  2—3 деталей.","Создаёт постройки «по сюжету» (дом, машина и т.д.)."]
[{"$nulls":9},"Конструирует несложные постройки из                  2—3 деталей.","Создаёт постройки «по сюжету» (дом, машина и т.д.)."]
[{"$nulls":9},"Конструирует несложные постройки из                  2—3 деталей.","Создаёт постройки «по сюжету» (дом, машина и т.д.)."]
[{"$nulls":9},"Конструирует несложные постройки из                  2—3 деталей.","Создаёт постройки «по сюжету» (дом, машина и т.д.)."]
[{"$nulls":9},"Конструирует несложные постройки из                  2—3 деталей.","Создаёт постройки «по сюжету» (дом, машина и т.д.)."]
[{"$nulls":9},"Конструирует несложные постройки из                  2—3 деталей.","Создаёт постройки «по сюжету» (дом, машина и т.д.)."]
[{"$nulls":9},"Конструирует несложные постройки из                  2—3 деталей.","Создаёт постройки «по сюжету» (дом, машина и т.д.)."]
[{"$nulls":9},"Конструирует несложные постройки из                  2—3 деталей.","Создаёт постройки «по сюжету» (дом, машина и т.д.)."]
[{"$nulls":9},"Конструирует несложные постройки из                  2—3 деталей.","Создаёт постройки «по сюжету» (дом, машина и т.д.)."]
[{"$nulls":9},"Конструирует несложные постройки из                  2—3 деталей.","Создаёт постройки «по сюжету» (дом, машина и т.д.)."]
[{"$nulls":9},"Конструирует несложные постройки из                  2—3 деталей.","Создаёт постройки «по сюжету» (дом, машина и т.д.)."]
[{"$nulls":9},"Конструирует несложные постройки из                  2—3 деталей.","Создаёт постройки «по сюжету» (дом, машина и т.д.)."]
[{"$nulls":9},"Конструирует несложные постройки из                  2—3 деталей.","Создаёт постройки «по сюжету» (дом, машина и т.д.)."]
[{"$nulls":9},"Конструирует несложные постройки из                  2—3 деталей.","Создаёт постройки «по сюжету» (дом, машина и т.д.)."]
[{"$nulls":9},"Конструирует несложные постройки из                  2—3 деталей.","Создаёт постройки «по сюжету» (дом, машина и т.д.)."]
[{"$nulls":9},"Конструирует несложные постройки из                  2—3 деталей.","Создаёт постройки «по сюжету» (дом, машина и т.д.)."]
[{"$nulls":9},"Конструирует несложные постройки из                  2—3 деталей.","Создаёт постройки «по сюжету» (дом, машина и т.д.)."]
[{"$nulls":9},"Конструирует несложные постройки из                  2—3 деталей.","Создаёт постройки «по сюжету» (дом, машина и т.д.)."]
[{"$nulls":9},"Конструирует несложные постройки из                  2—3 деталей.","Создаёт постройки «по сюжету» (дом, машина и т.д.)."]
[{"$nulls":9},"Конструирует несложные постройки из                  2—3 деталей.","Создаёт постройки «по сюжету» (дом, машина и т.д.)."]
[{"$nulls":9},"Конструирует несложные постройки из                  2—3 деталей.","Создаёт постройки «по сюжету» (дом, машина и т.д.)."]
[{"$nulls":9},"Конструирует несложные постройки из                  2—3 деталей.","Создаёт постройки «по сюжету» (дом, машина и т.д.)."]
[{"$nulls":9},"Конструирует несложные постройки из                  2—3 деталей.","Создаёт постройки «по сюжету» (дом, машина и т.д.)."]
[{"$nulls":9},"Конструирует несложные постройки из                  2—3 деталей.","Создаёт постройки «по сюжету» (дом, машина и т.д.)."]
[{"$nulls":9},"Конструирует несложные постройки из                  2—3 деталей.","Создаёт постройки «по сюжету» (дом, машина и т.д.)."]
[{"$nulls":9},"Конструирует несложные постройки из                  2—3 деталей.","Создаёт постройки «по сюжету» (дом, машина и т.д.)."]
[{"$nulls":9},"Конструирует несложные постройки из                  2—3 деталей.","Создаёт постройки «по сюжету» (дом, машина и т.д.)."]
[{"$nulls":9},"Конструирует несложные постройки из                  2—3 деталей.","Создаёт постройки «по сюжету» (дом, машина и т.д.)."]
[{"$nulls":9},"Конструирует несложные постройки из                  2—3 деталей.","Создаёт постройки «по сюжету» (дом, машина и т.д.)."]
[{"$nulls":9},"Конструирует несложные постройки из                  2—3 деталей.","Создаёт постройки «по сюжету» (дом, машина и т.д.)."]
[{"$nulls":9},"Конструирует несложные постройки из                  2—3 деталей.","Создаёт постройки «по сюжету» (дом, машина и т.д.)."]
[{"$nulls":9},"Конструирует несложные постройки из                  2—3 деталей.","Создаёт постройки «по сюжету» (дом, машина и т.д.)."]
[{"$nulls":9},"Конструирует несложные постройки из                  2—3 деталей.","Создаёт постройки «по сюжету» (дом, машина и т.д.)."]
[{"$nulls":9},"Конструирует несложные постройки из                  2—3 деталей.","Создаёт постройки «по сюжету» (дом, машина и т.д.)."]
[{"$nulls":9},"Конструирует несложные постройки из                  2—3 деталей.","Создаёт постройки «по сюжету» (дом, машина и т.д.)."]
[{"$nulls":9},"Конструирует несложные постройки из                  2—3 деталей.","Создаёт постройки «по сюжету» (дом, машина и т.д.)."]
[{"$nulls":9},"Конструирует несложные постройки из                  2—3 деталей.","Создаёт постройки «по сюжету» (дом, машина и т.д.)."]
[{"$nulls":9},"Конструирует несложные постройки из                  2—3 деталей.","Создаёт постройки «по сюжету» (дом, машина и т.д.)."]
[{"$nulls":9},"Конструирует несложные постройки из                  2—3 деталей.","Создаёт постройки «по сюжету» (дом, машина и т.д.)."]
[{"$nulls":9},"Конструирует несложные постройки из                  2—3 деталей.","Создаёт постройки «по сюжету» (дом, машина и т.д.)."]
[{"$nulls":9},"Конструирует несложные постройки из                  2—3 деталей.","Создаёт постройки «по сюжету» (дом, машина и т.д.)."]
[{"$nulls":9},"Конструирует несложные постройки из                  2—3 деталей.","Создаёт постройки «по сюжету» (дом, машина и т.д.)."]
[{"$nulls":9},"Конструирует несложные постройки из                  2—3 деталей.","Создаёт постройки «по сюжету» (дом, машина и т.д.)."]
[{"$nulls":9},"Конструирует несложные постройки из                  2—3 деталей.","Создаёт постройки «по сюжету» (дом, машина и т.д.)."]
[{"$nulls":9},"Конструирует несложные постройки из                  2—3 деталей.","Создаёт постройки «по сюжету» (дом, машина и т.д.)."]
[{"$nulls":9},"Конструирует несложные постройки из                  2—3 деталей.","Создаёт постройки «по сюжету» (дом, машина и т.д.)."]
[{"$nulls":9},"Конструирует несложные постройки из                  2—3 деталей.","Создаёт постройки «по сюжету» (дом, машина и т.д.)."]
[{"$nulls":9},"Конструирует несложные постройки из                  2—3 деталей.","Создаёт постройки «по сюжету» (дом, машина и т.д.)."]
[{"$nulls":9},"Конструирует несложные постройки из                  2—3 деталей.","Создаёт постройки «по сюжету» (дом, машина и т.д.)."]
[{"$nulls":9},"Конструирует несложные постройки из                  2—3 деталей.","Создаёт постройки «по сюжету» (дом, машина и т.д.)."]
[{"$nulls":9},"Конструирует несложные постройки из                  2—3 деталей.","Создаёт постройки «по сюжету» (дом, машина и т.д.)."]
[{"$nulls":9},"Конструирует несложные постройки из                  2—3 деталей.","Создаёт постройки «по сюжету» (дом, машина и т.д.)."]
[{"$nulls":9},"Конструирует несложные постройки из                  2—3 деталей.","Создаёт постройки «по сюжету» (дом, машина и т.д.)."]
[{"$nulls":9},"Конструирует несложные постройки из                  2—3 деталей.","Создаёт постройки «по сюжету» (дом, машина и т.д.)."]
[{"$nulls":9},"Конструирует несложные постройки из                  2—3 деталей.","Создаёт постройки «по сюжету» (дом, машина и т.д.)."]
[{"$nulls":9},"Конструирует несложные постройки из                  2—3 деталей.","Создаёт постройки «по сюжету» (дом, машина и т.д.)."]
[{"$nulls":9},"Конструирует несложные постройки из                  2—3 деталей.","Создаёт постройки «по сюжету» (дом, машина и т.д.)."]
[{"$nulls":9},"Конструирует несложные постройки из                  2—3 деталей.","Создаёт постройки «по сюжету» (дом, машина и т.д.)."]
[{"$nulls":9},"Конструирует несложные постройки из                  2—3 деталей.","Создаёт постройки «по сюжету» (дом, машина и т.д.)."]
[{"$nulls":9},"Конструирует несложные постройки из                  2—3 деталей.","Создаёт постройки «по сюжету» (дом, машина и т.д.)."]
[{"$nulls":9},"Конструирует несложные постройки из                  2—3 деталей.","Создаёт постройки «по сюжету» (дом, машина и т.д.)."]
[{"$nulls":9},"Конструирует несложные постройки из                  2—3 деталей.","Создаёт постройки «по сюжету» (дом, машина и т.д.)."]
[{"$nulls":9},"Конструирует несложные постройки из                  2—3 деталей.","Создаёт постройки «по сюжету» (дом, машина и т.д.)."]
[{"$nulls":9},"Конструирует несложные постройки из                  2—3 деталей.","Создаёт постройки «по сюжету» (дом, машина и т.д.)."]
[{"$nulls":9},"Конструирует несложные постройки из                  2—3 деталей.","Создаёт постройки «по сюжету» (дом, машина и т.д.)."]
[{"$nulls":9},"Конструирует несложные постройки из                  2—3 деталей.","Создаёт постройки «по сюжету» (дом, машина и т.д.)."]
[{"$nulls":9},"Конструирует несложные постройки из                  2—3 деталей.","Создаёт постройки «по сюжету» (дом, машина и т.д.)."]
[{"$nulls":9},"Конструирует несложные постройки из                  2—3 деталей.","Создаёт постройки «по сюжету» (дом, машина и т.д.)."]
[{"$nulls":9},"Конструирует несложные постройки из                  2—3 деталей.","Создаёт постройки «по сюжету» (дом, машина и т.д.)."]
[{"$nulls":9},"Конструирует несложные постройки из                  2—3 деталей.","Создаёт постройки «по сюжету» (дом, машина и т.д.)."]
[{"$nulls":9},"Конструирует несложные постройки из                  2—3 деталей.","Создаёт постройки «по сюжету» (дом, машина и т.д.)."]
[{"$nulls":9},"Конструирует несложные постройки из                  2—3 деталей.","Создаёт постройки «по сюжету» (дом, машина и т.д.)."]
[{"$nulls":9},"Конструирует несложные постройки из                  2—3 деталей.","Создаёт постройки «по сюжету» (дом, машина и т.д.)."]
[{"$nulls":9},"Конструирует несложные постройки из                  2—3 деталей.","Создаёт постройки «по сюжету» (дом, машина и т.д.)."]
[{"$nulls":9},"Конструирует несложные постройки из                  2—3 деталей.","Создаёт постройки «по сюжету» (дом, машина и т.д.)."]
[{"$nulls":9},"Конструирует несложные постройки из                  2—3 деталей.","Создаёт постройки «по сюжету» (дом, машина и т.д.)."]
[{"$nulls":9},"Конструирует несложные постройки из                  2—3 деталей.","Создаёт постройки «по сюжету» (дом, машина и т.д.)."]
[{"$nulls":9},"Конструирует несложные постройки из                  2—3 деталей.","Создаёт постройки «по сюжету» (дом, машина и т.д.)."]
[{"$nulls":9},"Конструирует несложные постройки из                  2—3 деталей.","Создаёт постройки «по сюжету» (дом, машина и т.д.)."]
[{"$nulls":9},"Конструирует несложные постройки из                  2—3 деталей.","Создаёт постройки «по сюжету» (дом, машина и т.д.)."]
[{"$nulls":9},"Конструирует несложные постройки из                  2—3 деталей.","Создаёт постройки «по сюжету» (дом, машина и т.д.)."]
[{"$nulls":9},"Конструирует несложные постройки из                  2—3 деталей.","Создаёт постройки «по сюжету» (дом, машина и т.д.)."]
[{"$nulls":9},"Конструирует несложные постройки из                  2—3 деталей.","Создаёт постройки «по сюжету» (дом, машина и т.д.)."]
[{"$nulls":9},"Конструирует несложные постройки из                  2—3 деталей.","Создаёт постройки «по сюжету» (дом, машина и т.д.)."]
[{"$nulls":9},"Конструирует несложные постройки из                  2—3 деталей.","Создаёт постройки «по сюжету» (дом, машина и т.д.)."]
[{"$nulls":9},"Конструирует несложные постройки из                  2—3 деталей.","Создаёт постройки «по сюжету» (дом, машина и т.д.)."]
[{"$nulls":9},"Конструирует несложные постройки из                  2—3 деталей.","Создаёт постройки «по сюжету» (дом, машина и т.д.)."]
[{"$nulls":9},"Конструирует несложные постройки из                  2—3 деталей.","Создаёт постройки «по сюжету» (дом, машина и т.д.)."]
[{"$nulls":9},"Конструирует несложные постройки из                  2—3 деталей.","Создаёт постройки «по сюжету» (дом, машина и т.д.)."]
[{"$nulls":9},"Конструирует несложные постройки из                  2—3 деталей.","Создаёт постройки «по сюжету» (дом, машина и т.д.)."]
[{"$nulls":9},"Конструирует несложные постройки из                  2—3 деталей.","Создаёт постройки «по сюжету» (дом, машина и т.д.)."]
[{"$nulls":9},"Конструирует несложные постройки из                  2—3 деталей.","Создаёт постройки «по сюжету» (дом, машина и т.д.)."]
[{"$nulls":9},"Конструирует несложные постройки из                  2—3 деталей.","Создаёт постройки «по сюжету» (дом, машина и т.д.)."]
[{"$nulls":9},"Конструирует несложные постройки из                  2—3 деталей.","Создаёт постройки «по сюжету» (дом, машина и т.д.)."]
[{"$nulls":9},"Конструирует несложные постройки из                  2—3 деталей.","Создаёт постройки «по сюжету» (дом, машина и т.д.)."]
[{"$nulls":9},"Конструирует несложные постройки из                  2—3 деталей.","Создаёт постройки «по сюжету» (дом, машина и т.д.)."]
[{"$nulls":9},"Конструирует несложные постройки из                  2—3 деталей.","Создаёт постройки «по сюжету» (дом, машина и т.д.)."]
[{"$nulls":9},"Конструирует несложные постройки из                  2—3 деталей.","Создаёт постройки «по сюжету» (дом, машина и т.д.)."]
[{"$nulls":9},"Конструирует несложные постройки из                  2—3 деталей.","Создаёт постройки «по сюжету» (дом, машина и т.д.)."]
[{"$nulls":9},"Конструирует несложные постройки из                  2—3 деталей.","Создаёт постройки «по сюжету» (дом, машина и т.д.)."]
[{"$nulls":9},"Конструирует несложные постройки из                  2—3 деталей.","Создаёт постройки «по сюжету» (дом, машина и т.д.)."]
[{"$nulls":9},"Конструирует несложные постройки из                  2—3 деталей.","Создаёт постройки «по сюжету» (дом, машина и т.д.)."]
[{"$nulls":9},"Конструирует несложные постройки из                  2—3 деталей.","Создаёт постройки «по сюжету» (дом, машина и т.д.)."]
[{"$nulls":9},"Конструирует несложные постройки из                  2—3 деталей.","Создаёт постройки «по сюжету» (дом, машина и т.д.)."]
[{"$nulls":9},"Конструирует несложные постройки из                  2—3 деталей.","Создаёт постройки «по сюжету» (дом, машина и т.д.)."]
[{"$nulls":9},"Конструирует несложные постройки из                  2—3 деталей.","Создаёт постройки «по сюжету» (дом, машина и т.д.)."]
[{"$nulls":9},"Конструирует несложные постройки из                  2—3 деталей.","Создаёт постройки «по сюжету» (дом, машина и т.д.)."]
[{"$nulls":9},"Конструирует несложные постройки из                  2—3 деталей.","Создаёт постройки «по сюжету» (дом, машина и т.д.)."]
[{"$nulls":9},"Конструирует несложные постройки из                  2—3 деталей.","Создаёт постройки «по сюжету» (дом, машина и т.д.)."]
[{"$nulls":9},"Конструирует несложные постройки из                  2—3 деталей.","Создаёт постройки «по сюжету» (дом, машина и т.д.)."]
[{"$nulls":9},"Конструирует несложные постройки из                  2—3 деталей.","Создаёт постройки «по сюжету» (дом, машина и т.д.)."]
[{"$nulls":9},"Конструирует несложные постройки из                  2—3 деталей.","Создаёт постройки «по сюжету» (дом, машина и т.д.)."]
[{"$nulls":9},"Конструирует несложные постройки из                  2—3 деталей.","Создаёт постройки «по сюжету» (дом, машина и т.д.)."]
[{"$nulls":9},"Конструирует несложные постройки из                  2—3 деталей.","Создаёт постройки «по сюжету» (дом, машина и т.д.)."]
[{"$nulls":9},"Конструирует несложные постройки из                  2—3 деталей.","Создаёт постройки «по сюжету» (дом, машина и т.д.)."]
[{"$nulls":9},"Конструирует несложные постройки из                  2—3 деталей.","Создаёт постройки «по сюжету» (дом, машина и т.д.)."]
[{"$nulls":9},"Конструирует несложные постройки из                  2—3 деталей.","Создаёт постройки «по сюжету» (дом, машина и т.д.)."]
[{"$nulls":9},"Конструирует несложные постройки из                  2—3 деталей.","Создаёт постройки «по сюжету» (дом, машина и т.д.)."]
[{"$nulls":9},"Конструирует несложные постройки из                  2—3 деталей.","Создаёт постройки «по сюжету» (дом, машина и т.д.)."]
[{"$nulls":9},"Конструирует несложные постройки из                  2—3 деталей.","Создаёт постройки «по сюжету» (дом, машина и т.д.)."]
[{"$nulls":9},"Конструирует несложные постройки из                  2—3 деталей.","Создаёт постройки «по сюжету» (дом, машина и т.д.)."]
[{"$nulls":9},"Конструирует несложные постройки из                  2—3 деталей.","Создаёт постройки «по сюжету» (дом, машина и т.д.)."]
[{"$nulls":9},"Конструирует несложные постройки из                  2—3 деталей.","Создаёт постройки «по сюжету» (дом, машина и т.д.)."]
[{"$nulls":9},"Конструирует несложные постройки из                  2—3 деталей.","Создаёт постройки «по сюжету» (дом, машина и т.д.)."]
[{"$nulls":9},"Конструирует несложные постройки из                  2—3 деталей.","Создаёт постройки «по сюжету» (дом, машина и т.д.)."]
[{"$nulls":9},"Конструирует несложные постройки из                  2—3 деталей.","Создаёт постройки «по сюжету» (дом, машина и т.д.)."]
[{"$nulls":9},"Конструирует несложные постройки из                  2—3 деталей.","Создаёт постройки «по сюжету» (дом, машина и т.д.)."]
[{"$nulls":9},"Конструирует несложные постройки из                  2—3 деталей.","Создаёт постройки «по сюжету» (дом, машина и т.д.)."]
[{"$nulls":9},"Конструирует несложные постройки из                  2—3 деталей.","Создаёт постройки «по сюжету» (дом, машина и т.д.)."]
[{"$nulls":9},"Конструирует несложные постройки из                  2—3 деталей.","Создаёт постройки «по сюжету» (дом, машина и т.д.)."]
[{"$nulls":9},"Конструирует несложные постройки из                  2—3 деталей.","Создаёт постройки «по сюжету» (дом, машина и т.д.)."]
[{"$nulls":9},"Конструирует несложные постройки из                  2—3 деталей.","Создаёт постройки «по сюжету» (дом, машина и т.д.)."]
[{"$nulls":9},"Конструирует несложные постройки из                  2—3 деталей.","Создаёт постройки «по сюжету» (дом, машина и т.д.)."]
[{"$nulls":9},"Конструирует несложные постройки из                  2—3 деталей.","Создаёт постройки «по сюжету» (дом, машина и т.д.)."]
[{"$nulls":9},"Конструирует несложные постройки из                  2—3 деталей.","Создаёт постройки «по сюжету» (дом, машина и т.д.)."]
[{"$nulls":9},"Конструирует несложные постройки из                  2—3 деталей.","Создаёт постройки «по сюжету» (дом, машина и т.д.)."]
[{"$nulls":9},"Конструирует несложные постройки из                  2—3 деталей.","Создаёт постройки «по сюжету» (дом, машина и т.д.)."]
[{"$nulls":9},"Конструирует несложные постройки из                  2—3 деталей.","Создаёт постройки «по сюжету» (дом, машина и т.д.)."]
[{"$nulls":9},"Конструирует несложные постройки из                  2—3 деталей.","Создаёт постройки «по сюжету» (дом, машина и т.д.)."]
[{"$nulls":9},"Конструирует несложные постройки из                  2—3 деталей.","Создаёт постройки «по сюжету» (дом, машина и т.д.)."]
[{"$nulls":9},"Конструирует несложные постройки из                  2—3 деталей.","Создаёт постройки «по сюжету» (дом, машина и т.д.)."]
[{"$nulls":9},"Конструирует несложные постройки из                  2—3 деталей.","Создаёт постройки «по сюжету» (дом, машина и т.д.)."]
[{"$nulls":9},"Конструирует несложные постройки из                  2—3 деталей.","Создаёт постройки «по сюжету» (дом, машина и т.д.)."]
[{"$nulls":9},"Конструирует несложные постройки из                  2—3 деталей.","Создаёт постройки «по сюжету» (дом, машина и т.д.)."]
[{"$nulls":9},"Конструирует несложные постройки из                  2—3 деталей.","Создаёт постройки «по сюжету» (дом, машина и т.д.)."]
[{"$nulls":9},"Конструирует несложные постройки из                  2—3 деталей.","Создаёт постройки «по сюжету» (дом, машина и т.д.)."]
[{"$nulls":9},"Конструирует несложные постройки из                  2—3 деталей.","Создаёт постройки «по сюжету» (дом, машина и т.д.)."]
[{"$nulls":9},"Конструирует несложные постройки из                  2—3 деталей.","Создаёт постройки «по сюжету» (дом, машина и т.д.)."]
[{"$nulls":9},"Конструирует несложные постройки из                  2—3 деталей.","Создаёт постройки «по сюжету» (дом, машина и т.д.)."]
[{"$nulls":9},"Конструирует несложные постройки из                  2—3 деталей.","Создаёт постройки «по сюжету» (дом, машина и т.д.)."]
[{"$nulls":9},"Конструирует несложные постройки из                  2—3 деталей.","Создаёт постройки «по сюжету» (дом, машина и т.д.)."]
[{"$nulls":9},"Конструирует несложные постройки из                  2—3 деталей.","Создаёт постройки «по сюжету» (дом, машина и т.д.)."]
[{"$nulls":9},"Конструирует несложные постройки из                  2—3 деталей.","Создаёт постройки «по сюжету» (дом, машина и т.д.)."]
[{"$nulls":9},"Конструирует несложные постройки из                  2—3 деталей.","Создаёт постройки «по сюжету» (дом, машина и т.д.)."]
[{"$nulls":9},"Конструирует несложные постройки из                  2—3 деталей.","Создаёт постройки «по сюжету» (дом, машина и т.д.)."]
[{"$nulls":9},"Конструирует несложные постройки из                  2—3 деталей.","Создаёт постройки «по сюжету» (дом, машина и т.д.)."]
[{"$nulls":9},"Конструирует несложные постройки из                  2—3 деталей.","Создаёт постройки «по сюжету» (дом, машина и т.д.)."]
[{"$nulls":9},"Конструирует несложные постройки из                  2—3 деталей.","Создаёт постройки «по сюжету» (дом, машина и т.д.)."]
[{"$nulls":9},"Конструирует несложные постройки из                  2—3 деталей.","Создаёт постройки «по сюжету» (дом, машина и т.д.)."]
[{"$nulls":9},"Конструирует несложные постройки из                  2—3 деталей.","Создаёт постройки «по сюжету» (дом, машина и т.д.)."]
[{"$nulls":9},"Конструирует несложные постройки из                  2—3 деталей.","Создаёт постройки «по сюжету» (дом, машина и т.д.)."]
[{"$nulls":9},"Конструирует несложные постройки из                  2—3 деталей.","Создаёт постройки «по сюжету» (дом, машина и т.д.)."]
[{"$nulls":9},"Конструирует несложные постройки из                  2—3 деталей.","Создаёт постройки «по сюжету» (дом, машина и т.д.)."]
[{"$nulls":9},"Конструирует несложные постройки из                  2—3 деталей.","Создаёт постройки «по сюжету» (дом, машина и т.д.)."]
[{"$nulls":9},"Конструирует несложные постройки из                  2—3 деталей.","Создаёт постройки «по сюжету» (дом, машина и т.д.)."]
[{"$nulls":9},"Конструирует несложные постройки из                  2—3 деталей.","Создаёт постройки «по сюжету» (дом, машина и т.д.)."]
[{"$nulls":9},"Конструирует несложные постройки из                  2—3 деталей.","Создаёт постройки «по сюжету» (дом, машина и т.д.)."]
[{"$nulls":9},"Конструирует несложные постройки из                  2—3 деталей.","Создаёт постройки «по сюжету» (дом, машина и т.д.)."]
[{"$nulls":9},"Конструирует несложные постройки из                  2—3 деталей.","Создаёт постройки «по сюжету» (дом, машина и т.д.)."]
[{"$nulls":9},"Конструирует несложные постройки из                  2—3 деталей.","Создаёт постройки «по сюжету» (дом, машина и т.д.)."]
[{"$nulls":9},"Конструирует несложные постройки из                  2—3 деталей.","Создаёт постройки «по сюжету» (дом, машина и т.д.)."]
[{"$nulls":9},"Конструирует несложные постройки из                  2—3 деталей.","Создаёт постройки «по сюжету» (дом, машина и т.д.)."]
[{"$nulls":9},"Конструирует несложные постройки из                  2—3 деталей.","Создаёт постройки «по сюжету» (дом, машина и т.д.)."]
[{"$nulls":9},"Конструирует несложные постройки из                  2—3 деталей.","Создаёт постройки «по сюжету» (дом, машина и т.д.)."]
[{"$nulls":9},"Конструирует несложные постройки из                  2—3 деталей.","Создаёт постройки «по сюжету» (дом, машина и т.д.)."]
[{"$nulls":9},"Конструирует несложные постройки из                  2—3 деталей.","Создаёт постройки «по сюжету» (дом, машина и т.д.)."]
[{"$nulls":9},"Конструирует несложные постройки из                  2—3 деталей.","Создаёт постройки «по сюжету» (дом, машина и т.д.)."]
[{"$nulls":9},"Конструирует несложные постройки из                  2—3 деталей.","Создаёт постройки «по сюжету» (дом, машина и т.д.)."]
[{"$nulls":9},"Конструирует несложные постройки из                  2—3 деталей.","Создаёт постройки «по сюжету» (дом, машина и т.д.)."]
[{"$nulls":9},"Конструирует несложные постройки из                  2—3 деталей.","Создаёт постройки «по сюжету» (дом, машина и т.д.)."]
[{"$nulls":9},"Конструирует несложные постройки из                  2—3 деталей.","Создаёт постройки «по сюжету» (дом, машина и т.д.)."]
[{"$nulls":9},"Конструирует несложные постройки из                  2—3 деталей.","Создаёт постройки «по сюжету» (дом, машина и т.д.)."]
[{"$nulls":9},"Конструирует несложные постройки из                  2—3 деталей.","Создаёт постройки «по сюжету» (дом, машина и т.д.)."]
[{"$nulls":9},"Конструирует несложные постройки из                  2—3 деталей.","Создаёт постройки «по сюжету» (дом, машина и т.д.)."]
[{"$nulls":9},"Конструирует несложные постройки из                  2—3 деталей.","Создаёт постройки «по сюжету» (дом, машина и т.д.)."]
[{"$nulls":9},"Конструирует несложные постройки из                  2—3 деталей.","Создаёт постройки «по сюжету» (дом, машина и т.д.)."]
[{"$nulls":9},"Конструирует несложные постройки из                  2—3 деталей.","Создаёт постройки «по сюжету» (дом, машина и т.д.)."]
[{"$nulls":9},"Конструирует несложные постройки из                  2—3 деталей.","Создаёт постройки «по сюжету» (дом, машина и т.д.)."]
[{"$nulls":9},"Конструирует несложные постройки из                  2—3 деталей.","Создаёт постройки «по сюжету» (дом, машина и т.д.)."]
[{"$nulls":9},"Конструирует несложные постройки из                  2—3 деталей.","Создаёт постройки «по сюжету» (дом, машина и т.д.)."]
[{"$nulls":9},"Конструирует несложные постройки из                  2—3 деталей.","Создаёт постройки «по сюжету» (дом, машина и т.д.)."]
[{"$nulls":9},"Конструирует несложные постройки из                  2—3 деталей.","Создаёт постройки «по сюжету» (дом, машина и т.д.)."]
[{"$nulls":9},"Конструирует несложные постройки из                  2—3 деталей.","Создаёт постройки «по сюжету» (дом, машина и т.д.)."]
[{"$nulls":9},"Конструирует несложные постройки из                  2—3 деталей.","Создаёт постройки «по сюжету» (дом, машина и т.д.)."]
[{"$nulls":9},"Конструирует несложные постройки из                  2—3 деталей.","Создаёт постройки «по сюжету» (дом, машина и т.д.)."]
[{"$nulls":9},"Конструирует несложные постройки из                  2—3 деталей.","Создаёт постройки «по сюжету» (дом, машина и т.д.)."]
[{"$nulls":9},"Конструирует несложные постройки из                  2—3 деталей.","Создаёт постройки «по сюжету» (дом, машина и т.д.)."]
[{"$nulls":9},"Конструирует несложные постройки из                  2—3 деталей.","Создаёт постройки «по сюжету» (дом, машина и т.д.)."]
[{"$nulls":9},"Конструирует несложные постройки из                  2—3 деталей.","Создаёт постройки «по сюжету» (дом, машина и т.д.)."]
[{"$nulls":9},"Конструирует несложные постройки из                  2—3 деталей.","Создаёт постройки «по сюжету» (дом, машина и т.д.)."]
[{"$nulls":9},"Конструирует несложные постройки из                  2—3 деталей.","Создаёт постройки «по сюжету» (дом, машина и т.д.)."]
[{"$nulls":9},"Конструирует несложные постройки из                  2—3 деталей.","Создаёт постройки «по сюжету» (дом, машина и т.д.)."]
[{"$nulls":9},"Конструирует несложные постройки из                  2—3 деталей.","Создаёт постройки «по сюжету» (дом, машина и т.д.)."]
[{"$nulls":9},"Конструирует несложные постройки из                  2—3 деталей.","Создаёт постройки «по сюжету» (дом, машина и т.д.)."]
[{"$nulls":9},"Конструирует несложные постройки из                  2—3 деталей.","Создаёт постройки «по сюжету» (дом, машина и т.д.)."]
[{"$nulls":9},"Конструирует несложные постройки из                  2—3 деталей.","Создаёт постройки «по сюжету» (дом, машина и т.д.)."]
[{"$nulls":9},"Конструирует несложные постройки из                  2—3 деталей.","Создаёт постройки «по сюжету» (дом, машина и т.д.)."]
[{"$nulls":9},"Конструирует несложные постройки из                  2—3 деталей.","Создаёт постройки «по сюжету» (дом, машина и т.д.)."]
[{"$nulls":9},"Конструирует несложные постройки из                  2—3 деталей.","Создаёт постройки «по сюжету» (дом, машина и т.д.)."]
[{"$nulls":9},"Конструирует несложные постройки из                  2—3 деталей.","Создаёт постройки «по сюжету» (дом, машина и т.д.)."]
[{"$nulls":9},"Конструирует несложные постройки из                  2—3 деталей.","Создаёт постройки «по сюжету» (дом, машина и т.д.)."]
[{"$nulls":9},"Конструирует несложные постройки из                  2—3 деталей.","Создаёт постройки «по сюжету» (дом, машина и т.д.)."]
[{"$nulls":9},"Конструирует несложные постройки из                  2—3 деталей.","Создаёт постройки «по сюжету» (дом, машина и т.д.)."]
[{"$nulls":9},"Конструирует несложные постройки из                  2—3 деталей.","Создаёт постройки «по сюжету» (дом, машина и т.д.)."]
[{"$nulls":9},"Конструирует несложные постройки из                  2—3 деталей.","Создаёт постройки «по сюжету» (дом, машина и т.д.)."]
[{"$nulls":9},"Конструирует несложные постройки из                  2—3 деталей.","Создаёт постройки «по сюжету» (дом, машина и т.д.)."]
[{"$nulls":9},"Конструирует несложные постройки из                  2—3 деталей.","Создаёт постройки «по сюжету» (дом, машина и т.д.)."]
[{"$nulls":9},"Конструирует несложные постройки из                  2—3 деталей.","Создаёт постройки «по сюжету» (дом, машина и т.д.)."]
[{"$nulls":9},"Конструирует несложные постройки из                  2—3 деталей.","Создаёт постройки «по сюжету» (дом, машина и т.д.)."]
[{"$nulls":9},"Конструирует несложные постройки из                  2—3 деталей.","Создаёт постройки «по сюжету» (дом, машина и т.д.)."]
[{"$nulls":9},"Конструирует несложные постройки из                  2—3 деталей.","Создаёт постройки «по сюжету» (дом, машина и т.д.)."]
[{"$nulls":9},"Конструирует несложные постройки из                  2—3 деталей.","Создаёт постройки «по сюжету» (дом, машина и т.д.)."]
[{"$nulls":9},"Конструирует несложные постройки из                  2—3 деталей.","Создаёт постройки «по сюжету» (дом, машина и т.д.)."]
[{"$nulls":9},"Конструирует несложные постройки из                  2—3 деталей.","Создаёт постройки «по сюжету» (дом, машина и т.д.)."]
[{"$nulls":9},"Конструирует несложные постройки из                  2—3 деталей.","Создаёт постройки «по сюжету» (дом, машина и т.д.)."]
[{"$nulls":9},"Конструирует несложные постройки из                  2—3 деталей.","Создаёт постройки «по сюжету» (дом, машина и т.д.)."]
[{"$nulls":9},"Конструирует несложные постройки из                  2—3 деталей.","Создаёт постройки «по сюжету» (дом, машина и т.д.)."]
[{"$nulls":9},"Конструирует несложные постройки из                  2—3 деталей.","Создаёт постройки «по сюжету» (дом, машина и т.д.)."]
[{"$nulls":9},"Конструирует несложные постройки из                  2—3 деталей.","Создаёт постройки «по сюжету» (дом, машина и т.д.)."]
[{"$nulls":9},"Конструирует несложные постройки из                  2—3 деталей.","Создаёт постройки «по сюжету» (дом, машина и т.д.)."]
[{"$nulls":9},"Конструирует несложные постройки из                  2—3 деталей.","Создаёт постройки «по сюжету» (дом, машина и т.д.)."]
[{"$nulls":9},"Конструирует несложные постройки из                  2—3 деталей.","Создаёт постройки «по сюжету» (дом, машина и т.д.)."]
[{"$nulls":9},"Конструирует несложные постройки из                  2—3 деталей.","Создаёт постройки «по сюжету» (дом, машина и т.д.)."]
[{"$nulls":9},"Конструирует несложные постройки из                  2—3 деталей.","Создаёт постройки «по сюжету» (дом, машина и т.д.)."]
[{"$nulls":9},"Конструирует несложные постройки из                  2—3 деталей.","Создаёт постройки «по сюжету» (дом, машина и т.д.)."]
[{"$nulls":9},"Конструирует несложные постройки из                  2—3 деталей.","Создаёт постройки «по сюжету» (дом, машина и т.д.)."]
[{"$nulls":9},"Конструирует несложные постройки из                  2—3 деталей.","Создаёт постройки «по сюжету» (дом, машина и т.д.)."]
[{"$nulls":9},"Конструирует несложные постройки из                  2—3 деталей.","Создаёт постройки «по сюжету» (дом, машина и т.д.)."]
[{"$nulls":9},"Конструирует несложные постройки из                  2—3 деталей.","Создаёт постройки «по сюжету» (дом, машина и т.д.)."]
[{"$nulls":9},"Конструирует несложные постройки из                  2—3 деталей.","Создаёт постройки «по сюжету» (дом, машина и т.д.)."]
[{"$nulls":9},"Конструирует несложные постройки из                  2—3 деталей.","Создаёт постройки «по сюжету» (дом, машина и т.д.)."]
[{"$nulls":9},"Конструирует несложные постройки из                  2—3 деталей.","Создаёт постройки «по сюжету» (дом, машина и т.д.)."]
[{"$nulls":9},"Конструирует несложные постройки из                  2—3 деталей.","Создаёт постройки «по сюжету» (дом, машина и т.д.)."]
[{"$nulls":9},"Конструирует несложные постройки из                  2—3 деталей.","Создаёт постройки «по сюжету» (дом, машина и т.д.)."]
[{"$nulls":9},"Конструирует несложные постройки из                  2—3 деталей.","Создаёт постройки «по сюжету» (дом, машина и т.д.)."]
[{"$nulls":9},"Конструирует несложные постройки из                  2—3 деталей.","Создаёт постройки «по сюжету» (дом, машина и т.д.)."]
[{"$nulls":9},"Конструирует несложные постройки из                  2—3 деталей.","Создаёт постройки «по сюжету» (дом, машина и т.д.)."]
[{"$nulls":9},"Конструирует несложные постройки из                  2—3 деталей.","Создаёт постройки «по сюжету» (дом, машина и т.д.)."]
[{"$nulls":9},"Конструирует несложные постройки из                  2—3 деталей.","Создаёт постройки «по сюжету» (дом, машина и т.д.)."]
[{"$nulls":9},"Конструирует несложные постройки из                  2—3 деталей.","Создаёт постройки «по сюжету» (дом, машина и т.д.)."]
[{"$nulls":9},"Конструирует несложные постройки из                  2—3 деталей.","Создаёт постройки «по сюжету» (дом, машина и т.д.)."]
[{"$nulls":9},"Конструирует несложные постройки из                  2—3 деталей.","Создаёт постройки «по сюжету» (дом, машина и т.д.)."]
[{"$nulls":9},"Конструирует несложные постройки из                  2—3 деталей.","Создаёт постройки «по сюжету» (дом, машина и т.д.)."]
[{"$nulls":9},"Конструирует несложные постройки из                  2—3 деталей.","Создаёт постройки «по сюжету» (дом, машина и т.д.)."]
[{"$nulls":9},"Конструирует несложные постройки из                  2—3 деталей.","Создаёт постройки «по сюжету» (дом, машина и т.д.)."]
[{"$nulls":9},"Конструирует несложные постройки из                  2—3 деталей.","Создаёт постройки «по сюжету» (дом, машина и т.д.)."]
[{"$nulls":9},"Конструирует несложные постройки из                  2—3 деталей.","Создаёт постройки «по сюжету» (дом, машина и т.д.)."]
[{"$nulls":9},"Конструирует несложные постройки из                  2—3 деталей.","Создаёт постройки «по сюжету» (дом, машина и т.д.)."]
[{"$nulls":9},"Конструирует несложные постройки из                  2—3 деталей.","Создаёт постройки «по сюжету» (дом, машина и т.д.)."]
[{"$nulls":9},"Конструирует несложные постройки из                  2—3 деталей.","Создаёт постройки «по сюжету» (дом, машина и т.д.)."]
[{"$nulls":9},"Конструирует несложные постройки из                  2—3 деталей.","Создаёт постройки «по сюжету» (дом, машина и т.д.)."]
[{"$nulls":9},"Конструирует несложные постройки из                  2—3 деталей.","Создаёт постройки «по сюжету» (дом, машина и т.д.)."]
[{"$nulls":9},"Конструирует несложные постройки из                  2—3 деталей.","Создаёт постройки «по сюжету» (дом, машина и т.д.)."]
[{"$nulls":9},"Конструирует несложные постройки из                  2—3 деталей.","Создаёт постройки «по сюжету» (дом, машина и т.д.)."]
[{"$nulls":9},"Конструирует несложные постройки из                  2—3 деталей.","Создаёт постройки «по сюжету» (дом, машина и т.д.)."]
[{"$nulls":9},"Конструирует несложные постройки из                  2—3 деталей.","Создаёт постройки «по сюжету» (дом, машина и т.д.)."]
[{"$nulls":9},"Конструирует несложные постройки из                  2—3 деталей.","Создаёт постройки «по сюжету» (дом, машина и т.д.)."]
[{"$nulls":9},"Конструирует несложные постройки из                  2—3 деталей.","Создаёт постройки «по сюжету» (дом, машина и т.д.)."]
[{"$nulls":9},"Конструирует несложные постройки из                  2—3 деталей.","Создаёт постройки «по сюжету» (дом, машина и т.д.)."]
[{"$nulls":9},"Конструирует несложные постройки из                  2—3 деталей.","Создаёт постройки «по сюжету» (дом, машина и т.д.)."]
[{"$nulls":9},"Конструирует несложные постройки из                  2—3 деталей.","Создаёт постройки «по сюжету» (дом, машина и т.д.)."]
[{"$nulls":9},"Конструирует несложные постройки из                  2—3 деталей.","Создаёт постройки «по сюжету» (дом, машина и т.д.)."]
[{"$nulls":9},"Конструирует несложные постройки из                  2—3 деталей.","Создаёт постройки «по сюжету» (дом, машина и т.д.)."]
[{"$nulls":9},"Конструирует несложные постройки из                  2—3 деталей.","Создаёт постройки «по сюжету» (дом, машина и т.д.)."]
[{"$nulls":9},"Конструирует несложные постройки из                  2—3 деталей.","Создаёт постройки «по сюжету» (дом, машина и т.д.)."]
[{"$nulls":9},"Конструирует несложные постройки из                  2—3 деталей.","Создаёт постройки «по сюжету» (дом, машина и т.д.)."]
[{"$nulls":9},"Конструирует несложные постройки из                  2—3 деталей.","Создаёт постройки «по сюжету» (дом, машина и т.д.)."]
[{"$nulls":9},"Конструирует несложные постройки из                  2—3 деталей.","Создаёт постройки «по сюжету» (дом, машина и т.д.)."]
[{"$nulls":9},"Конструирует несложные постройки из                  2—3 деталей.","Создаёт постройки «по сюжету» (дом, машина и т.д.)."]
[{"$nulls":9},"Конструирует несложные постройки из                  2—3 деталей.","Создаёт постройки «по сюжету» (дом, машина и т.д.)."]
[{"$nulls":9},"Конструирует несложные постройки из                  2—3 деталей.","Создаёт постройки «по сюжету» (дом, машина и т.д.)."]
[{"$nulls":9},"Конструирует несложные постройки из                  2—3 деталей.","Создаёт постройки «по сюжету» (дом, машина и т.д.)."]
[{"$nulls":9},"Конструирует несложные постройки из                  2—3 деталей.","Создаёт постройки «по сюжету» (дом, машина и т.д.)."]
[{"$nulls":9},"Конструирует несложные постройки из                  2—3 деталей.","Создаёт постройки «по сюжету» (дом, машина и т.д.)."]
[{"$nulls":9},"Конструирует несложные постройки из                  2—3 деталей.","Создаёт постройки «по сюжету» (дом, машина и т.д.)."]
[{"$nulls":9},"Конструирует несложные постройки из                  2—3 деталей.","Создаёт постройки «по сюжету» (дом, машина и т.д.)."]
[{"$nulls":9},"Конструирует несложные постройки из                  2—3 деталей.","Создаёт постройки «по сюжету» (дом, машина и т.д.)."]
[{"$nulls":9},"Конструирует несложные постройки из                  2—3 деталей.","Создаёт постройки «по сюжету» (дом, машина и т.д.)."]
[{"$nulls":9},"Конструирует несложные постройки из                  2—3 деталей.","Создаёт постройки «по сюжету» (дом, машина и т.д.)."]
[{"$nulls":9},"Конструирует несложные постройки из                  2—3 деталей.","Создаёт постройки «по сюжету» (дом, машина и т.д.)."]
[{"$nulls":9},"Конструирует несложные постройки из                  2—3 деталей.","Создаёт постройки «по сюжету» (дом, машина и т.д.)."]
[{"$nulls":9},"Конструирует несложные постройки из                  2—3 деталей.","Создаёт постройки «по сюжету» (дом, машина и т.д.)."]
[{"$nulls":9},"Конструирует несложные постройки из                  2—3 деталей.","Создаёт постройки «по сюжету» (дом, машина и т.д.)."]
[{"$nulls":9},"Конструирует несложные постройки из                  2—3 деталей.","Создаёт постройки «по сюжету» (дом, машина и т.д.)."]
[{"$nulls":9},"Конструирует несложные постройки из                  2—3 деталей.","Создаёт постройки «по сюжету» (дом, машина и т.д.)."]
[{"$nulls":9},"Конструирует несложные постройки из                  2—3 деталей.","Создаёт постройки «по сюжету» (дом, машина и т.д.)."]
[{"$nulls":9},"Конструирует несложные постройки из                  2—3 деталей.","Создаёт постройки «по сюжету» (дом, машина и т.д.)."]
[{"$nulls":9},"Конструирует несложные постройки из                  2—3 деталей.","Создаёт постройки «по сюжету» (дом, машина и т.д.)."]
[{"$nulls":9},"Конструирует несложные постройки из                  2—3 деталей.","Создаёт постройки «по сюжету» (дом, машина и т.д.)."]
[{"$nulls":9},"Конструирует несложные постройки из                  2—3 деталей.","Создаёт постройки «по сюжету» (дом, машина и т.д.)."]
[{"$nulls":9},"Конструирует несложные постройки из                  2—3 деталей.","Создаёт постройки «по сюжету» (дом, машина и т.д.)."]
[{"$nulls":9},"Конструирует несложные постройки из                  2—3 деталей.","Создаёт постройки «по сюжету» (дом, машина и т.д.)."]
[{"$nulls":9},"Конструирует несложные постройки из                  2—3 деталей.","Создаёт постройки «по сюжету» (дом, машина и т.д.)."]
[{"$nulls":9},"Конструирует несложные постройки из                  2—3 деталей.","Создаёт постройки «по сюжету» (дом, машина и т.д.)."]
[{"$nulls":9},"Конструирует несложные постройки из                  2—3 деталей.","Создаёт постройки «по сюжету» (дом, машина и т.д.)."]
[{"$nulls":9},"Конструирует несложные постройки из                  2—3 деталей.","Создаёт постройки «по сюжету» (дом, машина и т.д.)."]
[{"$nulls":9},"Конструирует несложные постройки из                  2—3 деталей.","Создаёт постройки «по сюжету» (дом, машина и т.д.)."]
[{"$nulls":9},"Конструирует несложные постройки из                  2—3 деталей.","Создаёт постройки «по сюжету» (дом, машина и т.д.)."]
[{"$nulls":9},"Конструирует несложные постройки из                  2—3 деталей.","Создаёт постройки «по сюжету» (дом, машина и т.д.)."]
[{"$nulls":9},"Конструирует несложные постройки из                  2—3 деталей.","Создаёт постройки «по сюжету» (дом, машина и т.д.)."]
[{"$nulls":9},"Конструирует несложные постройки из                  2—3 деталей.","Создаёт постройки «по сюжету» (дом, машина и т.д.)."]
[{"$nulls":9},"Конструирует несложные постройки из                  2—3 деталей.","Создаёт постройки «по сюжету» (дом, машина и т.д.)."]
[{"$nulls":9},"Конструирует несложные постройки из                  2—3 деталей.","Создаёт постройки «по сюжету» (дом, машина и т.д.)."]
[{"$nulls":9},"Конструирует несложные постройки из                  2—3 деталей.","Создаёт постройки «по сюжету» (дом, машина и т.д.)."]
[{"$nulls":9},"Конструирует несложные постройки из                  2—3 деталей.","Создаёт постройки «по сюжету» (дом, машина и т.д.)."]
[{"$nulls":9},"Конструирует несложные постройки из                  2—3 деталей.","Создаёт постройки «по сюжету» (дом, машина и т.д.)."]
[{"$nulls":9},"Конструирует несложные постройки из                  2—3 деталей.","Создаёт постройки «по сюжету» (дом, машина и т.д.)."]
[{"$nulls":9},"Конструирует несложные постройки из                  2—3 деталей.","Создаёт постройки «по сюжету» (дом, машина и т.д.)."]
[{"$nulls":9},"Конструирует несложные постройки из                  2—3 деталей.","Создаёт постройки «по сюжету» (дом, машина и т.д.)."]
[{"$nulls":9},"Конструирует несложные постройки из                  2—3 деталей.","Создаёт постройки «по сюжету» (дом, машина и т.д.)."]
[{"$nulls":9},"Конструирует несложные постройки из                  2—3 деталей.","Создаёт постройки «по сюжету» (дом, машина и т.д.)."]
[{"$nulls":9},"Конструирует несложные постройки из                  2—3 деталей.","Создаёт постройки «по сюжету» (дом, машина и т.д.)."]
[{"$nulls":9},"Конструирует несложные постройки из                  2—3 деталей.","Создаёт постройки «по сюжету» (дом, машина и т.д.)."]
[{"$nulls":9},"Конструирует несложные постройки из                  2—3 деталей.","Создаёт постройки «по сюжету» (дом, машина и т.д.)."]
[{"$nulls":9},"Конструирует несложные постройки из                  2—3 деталей.","Создаёт постройки «по сюжету» (дом, машина и т.д.)."]
[{"$nulls":9},"Конструирует несложные постройки из                  2—3 деталей.","Создаёт постройки «по сюжету» (дом, машина и т.д.)."]
[{"$nulls":9},"Конструирует несложные постройки из                  2—3 деталей.","Создаёт постройки «по сюжету» (дом, машина и т.д.)."]
[{"$nulls":9},"Конструирует несложные постройки из                  2—3 деталей.","Создаёт постройки «по сюжету» (дом, машина и т.д.)."]
[{"$nulls":9},"Конструирует несложные постройки из                  2—3 деталей.","Создаёт постройки «по сюжету» (дом, машина и т.д.)."]
[{"$nulls":9},"Конструирует несложные постройки из                  2—3 деталей.","Создаёт постройки «по сюжету» (дом, машина и т.д.)."]
[{"$nulls":9},"Конструирует несложные постройки из                  2—3 деталей.","Создаёт постройки «по сюжету» (дом, машина и т.д.)."]
[{"$nulls":9},"Конструирует несложные постройки из                  2—3 деталей.","Создаёт постройки «по сюжету» (дом, машина и т.д.)."]
[{"$nulls":9},"Конструирует несложные постройки из                  2—3 деталей.","Создаёт постройки «по сюжету» (дом, машина и т.д.)."]
[{"$nulls":9},"Конструирует несложные постройки из                  2—3 деталей.","Создаёт постройки «по сюжету» (дом, машина и т.д.)."]
[{"$nulls":9},"Конструирует несложные постройки из                  2—3 деталей.","Создаёт постройки «по сюжету» (дом, машина и т.д.)."]
[{"$nulls":9},"Конструирует несложные постройки из                  2—3 деталей.","Создаёт постройки «по сюжету» (дом, машина и т.д.)."]
[{"$nulls":9},"Конструирует несложные постройки из                  2—3 деталей.","Создаёт постройки «по сюжету» (дом, машина и т.д.)."]
[{"$nulls":9},"Конструирует несложные постройки из                  2—3 деталей.","Создаёт постройки «по сюжету» (дом, машина и т.д.)."]
[{"$nulls":9},"Конструирует несложные постройки из                  2—3 деталей.","Создаёт постройки «по сюжету» (дом, машина и т.д.)."]
[{"$nulls":9},"Конструирует несложные постройки из                  2—3 деталей.","Создаёт постройки «по сюжету» (дом, машина и т.д.)."]
[{"$nulls":9},"Конструирует несложные постройки из                  2—3 деталей.","Создаёт постройки «по сюжету» (дом, машина и т.д.)."]
[{"$nulls":9},"Конструирует несложные постройки из                  2—3 деталей.","Создаёт постройки «по сюжету» (дом, машина и т.д.)."]
[{"$nulls":9},"Конструирует несложные постройки из                  2—3 деталей.","Создаёт постройки «по сюжету» (дом, машина и т.д.)."]
[{"$nulls":9},"Конструирует несложные постройки из                  2—3 деталей.","Создаёт постройки «по сюжету» (дом, машина и т.д.)."]
[{"$nulls":9},"Конструирует несложные постройки из                  2—3 деталей.","Создаёт постройки «по сюжету» (дом, машина и т.д.)."]
[{"$nulls":9},"Конструирует несложные постройки из                  2—3 деталей.","Создаёт постройки «по сюжету» (дом, машина и т.д.)."]
[{"$nulls":9},"Конструирует несложные постройки из                  2—3 деталей.","Создаёт постройки «по сюжету» (дом, машина и т.д.)."]
[{"$nulls":9},"Конструирует несложные постройки из                  2—3 деталей.","Создаёт постройки «по сюжету» (дом, машина и т.д.)."]
[{"$nulls":9},"Конструирует несложные постройки из                  2—3 деталей.","Создаёт постройки «по сюжету» (дом, машина и т.д.)."]
[{"$nulls":9},"Конструирует несложные постройки из                  2—3 деталей.","Создаёт постройки «по сюжету» (дом, машина и т.д.)."]
[{"$nulls":9},"Конструирует несложные постройки из                  2—3 деталей.","Создаёт постройки «по сюжету» (дом, машина и т.д.)."]
[{"$nulls":9},"Конструирует несложные постройки из                  2—3 деталей.","Создаёт постройки «по сюжету» (дом, машина и т.д.)."]
[{"$nulls":9},"Конструирует несложные постройки из                  2—3 деталей.","Создаёт постройки «по сюжету» (дом, машина и т.д.)."]
[{"$nulls":9},"Конструирует несложные постройки из                  2—3 деталей.","Создаёт постройки «по сюжету» (дом, машина и т.д.)."]
[{"$nulls":9},"Конструирует несложные постройки из                  2—3 деталей.","Создаёт постройки «по сюжету» (дом, машина и т.д.)."]
[{"$nulls":9},"Конструирует несложные постройки из                  2—3 деталей.","Создаёт постройки «по сюжету» (дом, машина и т.д.)."]
[{"$nulls":9},"Конструирует несложные постройки из                  2—3 деталей.","Создаёт постройки «по сюжету» (дом, машина и т.д.)."]
[{"$nulls":9},"Конструирует несложные постройки из                  2—3 деталей.","Создаёт постройки «по сюжету» (дом, машина и т.д.)."]
[{"$nulls":9},"Конструирует несложные постройки из                  2—3 деталей.","Создаёт постройки «по сюжету» (дом, машина и т.д.)."]
[{"$nulls":9},"Конструирует несложные постройки из                  2—3 деталей.","Создаёт постройки «по сюжету» (дом, машина и т.д.)."]
[{"$nulls":9},"Конструирует несложные постройки из                  2—3 деталей.","Создаёт постройки «по сюжету» (дом, машина и т.д.)."]
[{"$nulls":9},"Конструирует несложные постройки из                  2—3 деталей.","Создаёт постройки «по сюжету» (дом, машина и т.д.)."]
[{"$nulls":9},"Конструирует несложные постройки из                  2—3 деталей.","Создаёт постройки «по сюжету» (дом, машина и т.д.)."]
[{"$nulls":9},"Конструирует несложные постройки из                  2—3 деталей.","Создаёт постройки «по сюжету» (дом, машина и т.д.)."]
[{"$nulls":9},"Конструирует несложные постройки из                  2—3 деталей.","Создаёт постройки «по сюжету» (дом, машина и т.д.)."]
[{"$nulls":9},"Конструирует несложные постройки из                  2—3 деталей.","Создаёт постройки «по сюжету» (дом, машина и т.д.)."]
[{"$nulls":9},"Конструирует несложные постройки из                  2—3 деталей.","Создаёт постройки «по сюжету» (дом, машина и т.д.)."]
[{"$nulls":9},"Конструирует несложные постройки из                  2—3 деталей.","Создаёт постройки «по сюжету» (дом, машина и т.д.)."]
[{"$nulls":9},"Конструирует несложные постройки из                  2—3 деталей.","Создаёт постройки «по сюжету» (дом, машина и т.д.)."]
[{"$nulls":9},"Конструирует несложные постройки из                  2—3 деталей.","Создаёт постройки «по сюжету» (дом, машина и т.д.)."]
[{"$nulls":9},"Конструирует несложные постройки из                  2—3 деталей.","Создаёт постройки «по сюжету» (дом, машина и т.д.)."]
[{"$nulls":9},"Конструирует несложные постройки из                  2—3 деталей.","Создаёт постройки «по сюжету» (дом, машина и т.д.)."]
[{"$nulls":9},"Конструирует несложные постройки из                  2—3 деталей.","Создаёт постройки «по сюжету» (дом, машина и т.д.)."]
[{"$nulls":9},"Конструирует несложные постройки из                  2—3 деталей.","Создаёт постройки «по сюжету» (дом, машина и т.д.)."]
[{"$nulls":9},"Конструирует несложные постройки из                  2—3 деталей.","Создаёт постройки «по сюжету» (дом, машина и т.д.)."]
[{"$nulls":9},"Конструирует несложные постройки из                  2—3 деталей.","Создаёт постройки «по сюжету» (дом, машина и т.д.)."]
[{"$nulls":9},"Конструирует несложные постройки из                  2—3 деталей.","Создаёт постройки «по сюжету» (дом, машина и т.д.)."]
[{"$nulls":9},"Конструирует несложные постройки из                  2—3 деталей.","Создаёт постройки «по сюжету» (дом, машина и т.д.)."]
[{"$nulls":9},"Конструирует несложные постройки из                  2—3 деталей.","Создаёт постройки «по сюжету» (дом, машина и т.д.)."]
[{"$nulls":9},"Конструирует несложные постройки из                  2—3 деталей.","Создаёт постройки «по сюжету» (дом, машина и т.д.)."]
[{"$nulls":9},"Конструирует несложные постройки из                  2—3 деталей.","Создаёт постройки «по сюжету» (дом, машина и т.д.)."]
[{"$nulls":9},"Конструирует несложные постройки из                  2—3 деталей.","Создаёт постройки «по сюжету» (дом, машина и т.д.)."]
[{"$nulls":9},"Конструирует несложные постройки из                  2—3 деталей.","Создаёт постройки «по сюжету» (дом, машина и т.д.)."]
[{"$nulls":9},"Конструирует несложные постройки из                  2—3 деталей.","Создаёт постройки «по сюжету» (дом, машина и т.д.)."]
[{"$nulls":9},"Конструирует несложные постройки из                  2—3 деталей.","Создаёт постройки «по сюжету» (дом, машина и т.д.)."]
[{"$nulls":9},"Конструирует несложные постройки из                  2—3 деталей.","Создаёт постройки «по сюжету» (дом, машина и т.д.)."]
[{"$nulls":9},"Конструирует несложные постройки из                  2—3 деталей.","Создаёт постройки «по сюжету» (дом, машина и т.д.)."]
[{"$nulls":9},"Конструирует несложные постройки из                  2—3 деталей.","Создаёт постройки «по сюжету» (дом, машина и т.д.)."]
[{"$nulls":9},"Конструирует несложные постройки из                  2—3 деталей.","Создаёт постройки «по сюжету» (дом, машина и т.д.)."]
[{"$nulls":9},"Конструирует несложные постройки из                  2—3 деталей.","Создаёт постройки «по сюжету» (дом, машина и т.д.)."]
[{"$nulls":9},"Конструирует несложные постройки из                  2—3 деталей.","Создаёт постройки «по сюжету» (дом, машина и т.д.)."]
[{"$nulls":9},"Конструирует несложные постройки из                  2—3 деталей.","Создаёт постройки «по сюжету» (дом, машина и т.д.)."]
[{"$nulls":9},"Конструирует несложные постройки из                  2—3 деталей.","Создаёт постройки «по сюжету» (дом, машина и т.д.)."]
[{"$nulls":9},"Конструирует несложные постройки из                  2—3 деталей.","Создаёт постройки «по сюжету» (дом, машина и т.д.)."]
[{"$nulls":9},"Конструирует несложные постройки из                  2—3 деталей.","Создаёт постройки «по сюжету» (дом, машина и т.д.)."]
[{"$nulls":9},"Конструирует несложные постройки из                  2—3 деталей.","Создаёт постройки «по сюжету» (дом, машина и т.д.)."]
[{"$nulls":9},"Конструирует несложные постройки из                  2—3 деталей.","Создаёт постройки «по сюжету» (дом, машина и т.д.)."]
[{"$nulls":9},"Конструирует несложные постройки из                  2—3 деталей.","Создаёт постройки «по сюжету» (дом, машина и т.д.)."]
[{"$nulls":9},"Конструирует несложные постройки из                  2—3 деталей.","Создаёт постройки «по сюжету» (дом, машина и т.д.)."]
[{"$nulls":9},"Конструирует несложные постройки из                  2—3 деталей.","Создаёт постройки «по сюжету» (дом, машина и т.д.)."]
[{"$nulls":9},"Конструирует несложные постройки из                  2—3 деталей.","Создаёт постройки «по сюжету» (дом, машина и т.д.)."]
[{"$nulls":9},"Конструирует несложные постройки из                  2—3 деталей.","Создаёт постройки «по сюжету» (дом, машина и т.д.)."]
[{"$nulls":9},"Конструирует несложные постройки из                  2—3 деталей.","Создаёт постройки «по сюжету» (дом, машина и т.д.)."]
[{"$nulls":9},"Конструирует несложные постройки из                  2—3 деталей.","Создаёт постройки «по сюжету» (дом, машина и т.д.)."]
[{"$nulls":9},"Конструирует несложные постройки из                  2—3 деталей.","Создаёт постройки «по сюжету» (дом, машина и т.д.)."]
[{"$nulls":9},"Конструирует несложные постройки из                  2—3 деталей.","Создаёт постройки «по сюжету» (дом, машина и т.д.)."]
[{"$nulls":9},"Конструирует несложные постройки из                  2—3 деталей.","Создаёт постройки «по сюжету» (дом, машина и т.д.)."]
[{"$nulls":9},"Конструирует несложные постройки из                  2—3 деталей.","Создаёт постройки «по сюжету» (дом, машина и т.д.)."]
[{"$nulls":9},"Конструирует несложные постройки из                  2—3 деталей.","Создаёт постройки «по сюжету» (дом, машина и т.д.)."]
[{"$nulls":9},"Конструирует несложные постройки из                  2—3 деталей.","Создаёт постройки «по сюжету» (дом, машина и т.д.)."]
[{"$nulls":9},"Конструирует несложные постройки из                  2—3 деталей.","Создаёт постройки «по сюжету» (дом, машина и т.д.)."]
[{"$nulls":9},"Конструирует несложные постройки из                  2—3 деталей.","Создаёт постройки «по сюжету» (дом, машина и т.д.)."]
[{"$nulls":9},"Конструирует несложные постройки из                  2—3 деталей.","Создаёт постройки «по сюжету» (дом, машина и т.д.)."]
[{"$nulls":9},"Конструирует несложные постройки из                  2—3 деталей.","Создаёт постройки «по сюжету» (дом, машина и т.д.)."]
[{"$nulls":9},"Конструирует несложные постройки из                  2—3 деталей.","Создаёт постройки «по сюжету» (дом, машина и т.д.)."]
[{"$nulls":9},"Конструирует несложные постройки из                  2—3 деталей.","Создаёт постройки «по сюжету» (дом, машина и т.д.)."]
[{"$nulls":9},"Конструирует несложные постройки из                  2—3 деталей.","Создаёт постройки «по сюжету» (дом, машина и т.д.)."]
[{"$nulls":9},"Конструирует несложные постройки из                  2—3 деталей.","Создаёт постройки «по сюжету» (дом, машина и т.д.)."]
[{"$nulls":9},"Конструирует несложные постройки из                  2—3 деталей.","Создаёт постройки «по сюжету» (дом, машина и т.д.)."]
[{"$nulls":9},"Конструирует несложные постройки из                  2—3 деталей.","Создаёт постройки «по сюжету» (дом, машина и т.д.)."]
[{"$nulls":9},"Конструирует несложные постройки из                  2—3 деталей.","Создаёт постройки «по сюжету» (дом, машина и т.д.)."]
[{"$nulls":9},"Конструирует несложные постройки из                  2—3 деталей.","Создаёт постройки «по сюжету» (дом, машина и т.д.)."]
[{"$nulls":9},"Конструирует несложные постройки из                  2—3 деталей.","Создаёт постройки «по сюжету» (дом, машина и т.д.)."]
[{"$nulls":9},"Конструирует несложные постройки из                  2—3 деталей.","Создаёт постройки «по сюжету» (дом, машина и т.д.)."]
[{"$nulls":9},"Конструирует несложные постройки из                  2—3 деталей.","Создаёт постройки «по сюжету» (дом, машина и т.д.)."]
[{"$nulls":9},"Конструирует несложные постройки из                  2—3 деталей.","Создаёт постройки «по сюжету» (дом, машина и т.д.)."]
[{"$nulls":9},"Конструирует несложные постройки из                  2—3 деталей.","Создаёт постройки «по сюжету» (дом, машина и т.д.)."]
[{"$nulls":9},"Конструирует несложные постройки из                  2—3 деталей.","Создаёт постройки «по сюжету» (дом, машина и т.д.)."]
[{"$nulls":9},"Конструирует несложные постройки из                  2—3 деталей.","Создаёт постройки «по сюжету» (дом, машина и т.д.)."]
[{"$nulls":9},"Конструирует несложные постройки из                  2—3 деталей.","Создаёт постройки «по сюжету» (дом, машина и т.д.)."]
[{"$nulls":9},"Конструирует несложные постройки из                  2—3 деталей.","Создаёт постройки «по сюжету» (дом, машина и т.д.)."]
[{"$nulls":9},"Конструирует несложные постройки из                  2—3 деталей.","Создаёт постройки «по сюжету» (дом, машина и т.д.)."]
[{"$nulls":9},"Конструирует несложные постройки из                  2—3 деталей.","Создаёт постройки «по сюжету» (дом, машина и т.д.)."]
[{"$nulls":9},"Конструирует несложные постройки из                  2—3 деталей.","Создаёт постройки «по сюжету» (дом, машина и т.д.)."]
[{"$nulls":9},"Конструирует несложные постройки из                  2—3 деталей.","Создаёт постройки «по сюжету» (дом, машина и т.д.)."]
[{"$nulls":9},"Конструирует несложные постройки из                  2—3 деталей.","Создаёт постройки «по сюжету» (дом, машина и т.д.)."]
[{"$nulls":9},"Конструирует несложные постройки из                  2—3 деталей.","Создаёт постройки «по сюжету» (дом, машина и т.д.)."]
[{"$nulls":9},"Конструирует несложные постройки из                  2—3 деталей.","Создаёт постройки «по сюжету» (дом, машина и т.д.)."]
[{"$nulls":9},"Конструирует несложные постройки из                  2—3 деталей.","Создаёт постройки «по сюжету» (дом, машина и т.д.)."]
[{"$nulls":9},"Конструирует несложные постройки из                  2—3 деталей.","Создаёт постройки «по сюжету» (дом, машина и т.д.)."]
[{"$nulls":9},"Конструирует несложные постройки из                  2—3 деталей.","Создаёт постройки «по сюжету» (дом, машина и т.д.)."]
[{"$nulls":9},"Конструирует несложные постройки из                  2—3 деталей.","Создаёт постройки «по сюжету» (дом, машина и т.д.)."]
[{"$nulls":9},"Конструирует несложные постройки из                  2—3 деталей.","Создаёт постройки «по сюжету» (дом, машина и т.д.)."]
[{"$nulls":9},"Конструирует несложные постройки из                  2—3 деталей.","Создаёт постройки «по сюжету» (дом, машина и т.д.)."]
[{"$nulls":9},"Конструирует несложные постройки из                  2—3 деталей.","Создаёт постройки «по сюжету» (дом, машина и т.д.)."]
[{"$nulls":9},"Конструирует несложные постройки из                  2—3 деталей.","Создаёт постройки «по сюжету» (дом, машина и т.д.)."]
[{"$nulls":9},"Конструирует несложные постройки из                  2—3 деталей.","Создаёт постройки «по сюжету» (дом, машина и т.д.)."]
[{"$nulls":9},"Конструирует несложные постройки из                  2—3 деталей.","Создаёт постройки «по сюжету» (дом, машина и т.д.)."]
[{"$nulls":9},"Конструирует несложные постройки из                  2—3 деталей.","Создаёт постройки «по сюжету» (дом, машина и т.д.)."]
[{"$nulls":9},"Конструирует несложные постройки из                  2—3 деталей.","Создаёт постройки «по сюжету» (дом, машина и т.д.)."]
[{"$nulls":9},"Конструирует несложные постройки из                  2—3 деталей.","Создаёт постройки «по сюжету» (дом, машина и т.д.)."]
[{"$nulls":9},"Конструирует несложные постройки из                  2—3 деталей.","Создаёт постройки «по сюжету» (дом, машина и т.д.)."]
[{"$nulls":9},"Конструирует несложные постройки из                  2—3 деталей.","Создаёт постройки «по сюжету» (дом, машина и т.д.)."]
[{"$nulls":9},"Конструирует несложные постройки из                  2—3 деталей.","Создаёт постройки «по сюжету» (дом, машина и т.д.)."]
[{"$nulls":9},"Конструирует несложные постройки из                  2—3 деталей.","Создаёт постройки «по сюжету» (дом, машина и т.д.)."]
[{"$nulls":9},"Конструирует несложные постройки из                  2—3 деталей.","Создаёт постройки «по сюжету» (дом, машина и т.д.)."]
[{"$nulls":9},"Конструирует несложные постройки из                  2—3 деталей.","Создаёт постройки «по сюжету» (дом, машина и т.д.)."]
[{"$nulls":9},"Конструирует несложные постройки из                  2—3 деталей.","Создаёт постройки «по сюжету» (дом, машина и т.д.)."]
[{"$nulls":9},"Конструирует несложные постройки из                  2—3 деталей.","Создаёт постройки «по сюжету» (дом, машина и т.д.)."]
[{"$nulls":9},"Конструирует несложные постройки из                  2—3 деталей.","Создаёт постройки «по сюжету» (дом, машина и т.д.)."]
[{"$nulls":9},"Конструирует несложные постройки из                  2—3 деталей.","Создаёт постройки «по сюжету» (дом, машина и т.д.)."]
[{"$nulls":9},"Конструирует несложные постройки из                  2—3 деталей.","Создаёт постройки «по сюжету» (дом, машина и т.д.)."]
[{"$nulls":9},"Конструирует несложные постройки из                  2—3 деталей.","Создаёт постройки «по сюжету» (дом, машина и т.д.)."]
[{"$nulls":9},"Конструирует несложные постройки из                  2—3 деталей.","Создаёт постройки «по сюжету» (дом, машина и т.д.)."]
[{"$nulls":9},"Конструирует несложные постройки из                  2—3 деталей.","Создаёт постройки «по сюжету» (дом, машина и т.д.)."]
[{"$nulls":9},"Конструирует несложные постройки из                  2—3 деталей.","Создаёт постройки «по сюжету» (дом, машина и т.д.)."]
[{"$nulls":9},"Конструирует несложные постройки из                  2—3 деталей.","Создаёт постройки «по сюжету» (дом, машина и т.д.)."]
[{"$nulls":9},"Конструирует несложные постройки из                  2—3 деталей.","Создаёт постройки «по сюжету» (дом, машина и т.д.)."]
[{"$nulls":9},"Конструирует несложные постройки из                  2—3 деталей.","Создаёт постройки «по сюжету» (дом, машина и т.д.)."]
[{"$nulls":9},"Конструирует несложные постройки из                  2—3 деталей.","Создаёт постройки «по сюжету» (дом, машина и т.д.)."]
[{"$nulls":9},"Конструирует несложные постройки из                  2—3 деталей.","Создаёт постройки «по сюжету» (дом, машина и т.д.)."]
[{"$nulls":9},"Конструирует несложные постройки из                  2—3 деталей.","Создаёт постройки «по сюжету» (дом, машина и т.д.)."]
[{"$nulls":9},"Конструирует несложные постройки из                  2—3 деталей.","Создаёт постройки «по сюжету» (дом, машина и т.д.)."]
[{"$nulls":9},"Конструирует несложные постройки из                  2—3 деталей.","Создаёт постройки «по сюжету» (дом, машина и т.д.)."]
[{"$nulls":9},"Конструирует несложные постройки из                  2—3 деталей.","Создаёт постройки «по сюжету» (дом, машина и т.д.)."]
[{"$nulls":9},"Конструирует несложные постройки из                  2—3 деталей.","Создаёт постройки «по сюжету» (дом, машина и т.д.)."]
[{"$nulls":9},"Конструирует несложные постройки из                  2—3 деталей.","Создаёт постройки «по сюжету» (дом, машина и т.д.)."]
[{"$nulls":9},"Конструирует несложные постройки из                  2—3 деталей.","Создаёт постройки «по сюжету» (дом, машина и т.д.)."]
[{"$nulls":9},"Конструирует несложные постройки из                  2—3 деталей.","Создаёт постройки «по сюжету» (дом, машина и т.д.)."]
[{"$nulls":9},"Конструирует несложные постройки из                  2—3 деталей.","Создаёт постройки «по сюжету» (дом, машина и т.д.)."]
[{"$nulls":9},"Конструирует несложные постройки из                  2—3 деталей.","Создаёт постройки «по сюжету» (дом, машина и т.д.)."]
[{"$nulls":9},"Конструирует несложные постройки из                  2—3 деталей.","Создаёт постройки «по сюжету» (дом, машина и т.д.)."]
[{"$nulls":9},"Конструирует несложные постройки из                  2—3 деталей.","Создаёт постройки «по сюжету» (дом, машина и т.д.)."]
[{"$nulls":9},"Конструирует несложные постройки из                  2—3 деталей.","Создаёт постройки «по сюжету» (дом, машина и т.д.)."]
[{"$nulls":9},"Конструирует несложные постройки из                  2—3 деталей.","Создаёт постройки «по сюжету» (дом, машина и т.д.)."]
[{"$nulls":9},"Конструирует несложные постройки из                  2—3 деталей.","Создаёт постройки «по сюжету» (дом, машина и т.д.)."]
[{"$nulls":9},"Конструирует несложные постройки из                  2—3 деталей.","Создаёт постройки «по сюжету» (дом, машина и т.д.)."]
[{"$nulls":9},"Конструирует несложные постройки из                  2—3 деталей.","Создаёт постройки «по сюжету» (дом, машина и т.д.)."]
[{"$nulls":9},"Конструирует несложные постройки из                  2—3 деталей.","Создаёт постройки «по сюжету» (дом, машина и т.д.)."]
[{"$nulls":9},"Конструирует несложные постройки из                  2—3 деталей.","Создаёт постройки «по сюжету» (дом, машина и т.д.)."]
[{"$nulls":9},"Конструирует несложные постройки из                  2—3 деталей.","Создаёт постройки «по сюжету» (дом, машина и т.д.)."]
[{"$nulls":9},"Конструирует несложные постройки из                  2—3 деталей.","Создаёт постройки «по сюжету» (дом, машина и т.д.)."]
[{"$nulls":9},"Конструирует несложные постройки из                  2—3 деталей.","Создаёт постройки «по сюжету» (дом, машина и т.д.)."]
[{"$nulls":9},"Конструирует несложные постройки из                  2—3 деталей.","Создаёт постройки «по сюжету» (дом, машина и т.д.)."]
[{"$nulls":9},"Конструирует несложные постройки из                  2—3 деталей.","Создаёт постройки «по сюжету» (дом, машина и т.д.)."]
[{"$nulls":9},"Конструирует несложные постройки из                  2—3 деталей.","Создаёт постройки «по сюжету» (дом, машина и т.д.)."]
[{"$nulls":9},"Конструирует несложные постройки из                  2—3 деталей.","Создаёт постройки «по сюжету» (дом, машина и т.д.)."]
[{"$nulls":9},"Конструирует несложные постройки из                  2—3 деталей.","Создаёт постройки «по сюжету» (дом, машина и т.д.)."]
[{"$nulls":9},"Конструирует несложные постройки из                  2—3 деталей.","Создаёт постройки «по сюжету» (дом, машина и т.д.)."]
[{"$nulls":9},"Конструирует несложные постройки из                  2—3 деталей.","Создаёт постройки «по сюжету» (дом, машина и т.д.)."]
[{"$nulls":9},"Конструирует несложные постройки из                  2—3 деталей.","Создаёт постройки «по сюжету» (дом, машина и т.д.)."]
[{"$nulls":9},"Конструирует несложные постройки из                  2—3 деталей.","Создаёт постройки «по сюжету» (дом, машина и т.д.)."]
[{"$nulls":9},"Конструирует несложные постройки из                  2—3 деталей.","Создаёт постройки «по сюжету» (дом, машина и т.д.)."]
[{"$nulls":9},"Конструирует несложные постройки из                  2—3 деталей.","Создаёт постройки «по сюжету» (дом, машина и т.д.)."]
[{"$nulls":9},"Конструирует несложные постройки из                  2—3 деталей.","Создаёт постройки «по сюжету» (дом, машина и т.д.)."]
[{"$nulls":9},"Конструирует несложные постройки из                  2—3 деталей.","Создаёт постройки «по сюжету» (дом, машина и т.д.)."]
[{"$nulls":9},"Конструирует несложные постройки из                  2—3 деталей.","Создаёт постройки «по сюжету» (дом, машина и т.д.)."]
[{"$nulls":9},"Конструирует несложные постройки из                  2—3 деталей.","Создаёт постройки «по сюжету» (дом, машина и т.д.)."]
[{"$nulls":9},"Конструирует несложные постройки из                  2—3 деталей.","Создаёт постройки «по сюжету» (дом, машина и т.д.)."]
[{"$nulls":9},"Конструирует несложные постройки из                  2—3 деталей.","Создаёт постройки «по сюжету» (дом, машина и т.д.)."]
[{"$nulls":9},"Конструирует несложные постройки из                  2—3 деталей.","Создаёт постройки «по сюжету» (дом, машина и т.д.)."]
[{"$nulls":9},"Конструирует несложные постройки из                  2—3 деталей.","Создаёт постройки «по сюжету» (дом, машина и т.д.)."]
[{"$nulls":9},"Конструирует несложные постройки из                  2—3 деталей.","Создаёт постройки «по сюжету» (дом, машина и т.д.)."]
[{"$nulls":9},"Конструирует несложные постройки из                  2—3 деталей.","Создаёт постройки «по сюжету» (дом, машина и т.д.)."]
[{"$nulls":9},"Конструирует несложные постройки из                  2—3 деталей.","Создаёт постройки «по сюжету» (дом, машина и т.д.)."]
[{"$nulls":9},"Конструирует несложные постройки из                  2—3 деталей.","Создаёт постройки «по сюжету» (дом, машина и т.д.)."]
[{"$nulls":9},"Конструирует несложные постройки из                  2—3 деталей.","Создаёт постройки «по сюжету» (дом, машина и т.д.)."]
[{"$nulls":9},"Конструирует несложные постройки из                  2—3 деталей.","Создаёт постройки «по сюжету» (дом, машина и т.д.)."]
[{"$nulls":9},"Конструирует несложные постройки из                  2—3 деталей.","Создаёт постройки «по сюжету» (дом, машина и т.д.)."]
[{"$nulls":9},"Конструирует несложные постройки из                  2—3 деталей.","Создаёт постройки «по сюжету» (дом, машина и т.д.)."]
[{"$nulls":9},"Конструирует несложные постройки из                  2—3 деталей.","Создаёт постройки «по сюжету» (дом, машина и т.д.)."]
[{"$nulls":9},"Конструирует несложные постройки из                  2—3 деталей.","Создаёт постройки «по сюжету» (дом, машина и т.д.)."]
[{"$nulls":9},"Конструирует несложные постройки из                  2—3 деталей.","Создаёт постройки «по сюжету» (дом, машина и т.д.)."]
[{"$nulls":9},"Конструирует несложные постройки из                  2—3 деталей.","Создаёт постройки «по сюжету» (дом, машина и т.д.)."]
[{"$nulls":9},"Конструирует несложные постройки из                  2—3 деталей.","Создаёт постройки «по сюжету» (дом, машина и т.д.)."]
[{"$nulls":9},"Конструирует несложные постройки из                  2—3 деталей.","Создаёт постройки «по сюжету» (дом, машина и т.д.)."]
[{"$nulls":9},"Конструирует несложные постройки из                  2—3 деталей.","Создаёт постройки «по сюжету» (дом, машина и т.д.)."]
[{"$nulls":9},"Конструирует несложные постройки из                  2—3 деталей.","Создаёт постройки «по сюжету» (дом, машина и т.д.)."]
[{"$nulls":9},"Конструирует несложные постройки из                  2—3 деталей.","Создаёт постройки «по сюжету» (дом, машина и т.д.)."]
[{"$nulls":9},"Конструирует несложные постройки из                  2—3 деталей.","Создаёт постройки «по сюжету» (дом, машина и т.д.)."]
[{"$nulls":9},"Конструирует несложные постройки из                  2—3 деталей.","Создаёт постройки «по сюжету» (дом, машина и т.д.)."]
[{"$nulls":9},"Конструирует несложные постройки из                  2—3 деталей.","Создаёт постройки «по сюжету» (дом, машина и т.д.)."]
[{"$nulls":9},"Конструирует несложные постройки из                  2—3 деталей.","Создаёт постройки «по сюжету» (дом, машина и т.д.)."]
[{"$nulls":9},"Конструирует несложные постройки из                  2—3 деталей.","Создаёт постройки «по сюжету» (дом, машина и т.д.)."]
[{"$nulls":9},"Конструирует несложные постройки из                  2—3 деталей.","Создаёт постройки «по сюжету» (дом, машина и т.д.)."]
[{"$nulls":9},"Конструирует несложные постройки из                  2—3 деталей.","Создаёт постройки «по сюжету» (дом, машина и т.д.)."]
[{"$nulls":9},"Конструирует несложные постройки из                  2—3 деталей.","Создаёт постройки «по сюжету» (дом, машина и т.д.)."]
[{"$nulls":9},"Конструирует несложные постройки из                  2—3 деталей.","Создаёт постройки «по сюжету» (дом, машина и т.д.)."]
[{"$nulls":9},"Конструирует несложные постройки из                  2—3 деталей.","Создаёт постройки «по сюжету» (дом, машина и т.д.)."]
[{"$nulls":9},"Конструирует несложные постройки из                  2—3 деталей.","Создаёт постройки «по сюжету» (дом, машина и т.д.)."]
[{"$nulls":9},"Конструирует несложные постройки из                  2—3 деталей.","Создаёт постройки «по сюжету» (дом, машина и т.д.)."]
[{"$nulls":9},"Конструирует несложные постройки из                  2—3 деталей.","Создаёт постройки «по сюжету» (дом, машина и т.д.)."]
[{"$nulls":9},"Конструирует несложные постройки из                  2—3 деталей.","Создаёт постройки «по сюжету» (дом, машина и т.д.)."]
[{"$nulls":9},"Конструирует несложные постройки из                  2—3 деталей.","Создаёт постройки «по сюжету» (дом, машина и т.д.)."]
[{"$nulls":9},"Конструирует несложные постройки из                  2—3 деталей.","Создаёт постройки «по сюжету» (дом, машина и т.д.)."]
[{"$nulls":9},"Конструирует несложные постройки из                  2—3 деталей.","Создаёт постройки «по сюжету» (дом, машина и т.д.)."]
[{"$nulls":9},"Конструирует несложные постройки из                  2—3 деталей.","Создаёт постройки «по сюжету» (дом, машина и т.д.)."]
[{"$nulls":9},"Конструирует несложные постройки из                  2—3 деталей.","Создаёт постройки «по сюжету» (дом, машина и т.д.)."]
[{"$nulls":9},"Конструирует несложные постройки из                  2—3 деталей.","Создаёт постройки «по сюжету» (дом, машина и т.д.)."]
[{"$nulls":9},"Конструирует несложные постройки из                  2—3 деталей.","Создаёт постройки «по сюжету» (дом, машина и т.д.)."]
[{"$nulls":9},"Конструирует несложные постройки из                  2—3 деталей.","Создаёт постройки «по сюжету» (дом, машина и т.д.)."]
[{"$nulls":9},"Конструирует несложные постройки из                  2—3 деталей.","Создаёт постройки «по сюжету» (дом, машина и т.д.)."]
[{"$nulls":9},"Конструирует несложные постройки из                  2—3 деталей.","Создаёт постройки «по сюжету» (дом, машина и т.д.)."]
[{"$nulls":9},"Конструирует несложные постройки из                  2—3 деталей.","Создаёт постройки «по сюжету» (дом, машина и т.д.)."]
[{"$nulls":9},"Конструирует несложные постройки из                  2—3 деталей.","Создаёт постройки «по сюжету» (дом, машина и т.д.)."]
[{"$nulls":9},"Конструирует несложные постройки из                  2—3 деталей.","Создаёт постройки «по сюжету» (дом, машина и т.д.)."]
[{"$nulls":9},"Конструирует несложные постройки из                  2—3 деталей.","Создаёт постройки «по сюжету» (дом, машина и т.д.)."]
[{"$nulls":9},"Конструирует несложные постройки из                  2—3 деталей.","Создаёт постройки «по сюжету» (дом, машина и т.д.)."]
[{"$nulls":9},"Конструирует несложные постройки из                  2—3 деталей.","Создаёт постройки «по сюжету» (дом, машина и т.д.)."]
[{"$nulls":9},"Конструирует несложные постройки из                  2—3 деталей.","Создаёт постройки «по сюжету» (дом, машина и т.д.)."]
[{"$nulls":9},"Конструирует несложные постройки из                  2—3 деталей.","Создаёт постройки «по сюжету» (дом, машина и т.д.)."]
[{"$nulls":9},"Конструирует несложные постройки из                  2—3 деталей.","Создаёт постройки «по сюжету» (дом, машина и т.д.)."]
[{"$nulls":9},"Конструирует несложные постройки из                  2—3 деталей.","Создаёт постройки «по сюжету» (дом, машина и т.д.)."]
[{"$nulls":9},"Конструирует несложные постройки из                  2—3 деталей.","Создаёт постройки «по сюжету» (дом, машина и т.д.)."]
[{"$nulls":9},"Конструирует несложные постройки из                  2—3 деталей.","Создаёт постройки «по сюжету» (дом, машина и т.д.)."]
[{"$nulls":9},"Конструирует несложные постройки из                  2—3 деталей.","Создаёт постройки «по сюжету» (дом, машина и т.д.)."]
[{"$nulls":9},"Конструирует несложные постройки из                  2—3 деталей.","Создаёт постройки «по сюжету» (дом, машина и т.д.)."]
[{"$nulls":9},"Конструирует несложные постройки из                  2—3 деталей.","Создаёт постройки «по сюжету» (дом, машина и т.д.)."]
[{"$nulls":9},"Конструирует несложные постройки из                  2—3 деталей.","Создаёт постройки «по сюжету» (дом, машина и т.д.)."]
[{"$nulls":9},"Конструирует несложные постройки из                  2—3 деталей.","Создаёт постройки «по сюжету» (дом, машина и т.д.)."]
[{"$nulls":9},"Конструирует несложные постройки из                  2—3 деталей.","Создаёт постройки «по сюжету» (дом, машина и т.д.)."]
[{"$nulls":9},"Конструирует несложные постройки из                  2—3 деталей.","Создаёт постройки «по сюжету» (дом, машина и т.д.)."]
[{"$nulls":9},"Конструирует несложные постройки из                  2—3 деталей.","Создаёт постройки «по сюжету» (дом, машина и т.д.)."]
[{"$nulls":9},"Конструирует несложные постройки из                  2—3 деталей.","Создаёт постройки «по сюжету» (дом, машина и т.д.)."]
[{"$nulls":9},"Конструирует несложные постройки из                  2—3 деталей.","Создаёт постройки «по сюжету» (дом, машина и т.д.)."]
[{"$nulls":9},"Конструирует несложные постройки из                  2—3 деталей.","Создаёт постройки «по сюжету» (дом, машина и т.д.)."]
[{"$nulls":9},"Конструирует несложные постройки из                  2—3 деталей.","Создаёт постройки «по сюжету» (дом, машина и т.д.)."]
[{"$nulls":9},"Конструирует несложные постройки из                  2—3 деталей.","Создаёт постройки «по сюжету» (дом, машина и т.д.)."]
[{"$nulls":9},"Конструирует несложные постройки из                  2—3 деталей.","Создаёт постройки «по сюжету» (дом, машина и т.д.)."]
[{"$nulls":9},"Конструирует несложные постройки из                  2—3 деталей.","Создаёт постройки «по сюжету» (дом, машина и т.д.)."]
[{"$nulls":9},"Конструирует несложные постройки из                  2—3 деталей.","Создаёт постройки «по сюжету» (дом, машина и т.д.)."]
[{"$nulls":9},"Конструирует несложные постройки из                  2—3 деталей.","Создаёт постройки «по сюжету» (дом, машина и т.д.)."]
[{"$nulls":9},"Конструирует несложные постройки из                  2—3 деталей.","Создаёт постройки «по сюжету» (дом, машина и т.д.)."]
[{"$nulls":9},"Конструирует несложные постройки из                  2—3 деталей.","Создаёт постройки «по сюжету» (дом, машина и т.д.)."]
[{"$nulls":9},"Конструирует несложные постройки из                  2—3 деталей.","Создаёт постройки «по сюжету» (дом, машина и т.д.)."]
[{"$nulls":9},"Конструирует несложные постройки из                  2—3 деталей.","Создаёт постройки «по сюжету» (дом, машина и т.д.)."]
[{"$nulls":9},"Конструирует несложные постройки из                  2—3 деталей.","Создаёт постройки «по сюжету» (дом, машина и т.д.)."]
[{"$nulls":9},"Конструирует несложные постройки из                  2—3 деталей.","Создаёт постройки «по сюжету» (дом, машина и т.д.)."]
[{"$nulls":9},"Конструирует несложные постройки из                  2—3 деталей.","Создаёт постройки «по сюжету» (дом, машина и т.д.)."]
[{"$nulls":9},"Конструирует несложные постройки из                  2—3 деталей.","Создаёт постройки «по сюжету» (дом, машина и т.д.)."]
[{"$nulls":9},"Конструирует несложные постройки из                  2—3 деталей.","Создаёт постройки «по сюжету» (дом, машина и т.д.)."]
[{"$nulls":9},"Конструирует несложные постройки из                  2—3 деталей.","Создаёт постройки «по сюжету» (дом, машина и т.д.)."]
[{"$nulls":9},"Конструирует несложные постройки из                  2—3 деталей.","Создаёт постройки «по сюжету» (дом, машина и т.д.)."]
[{"$nulls":9},"Конструирует несложные постройки из                  2—3 деталей.","Создаёт постройки «по сюжету» (дом, машина и т.д.)."]
[{"$nulls":9},"Конструирует несложные постройки из                  2—3 деталей.","Создаёт постройки «по сюжету» (дом, машина и т.д.)."]
[{"$nulls":9},"Конструирует несложные постройки из                  2—3 деталей.","Создаёт постройки «по сюжету» (дом, машина и т.д.)."]
[{"$nulls":9},"Конструирует несложные постройки из                  2—3 деталей.","Создаёт постройки «по сюжету» (дом, машина и т.д.)."]
[{"$nulls":9},"Конструирует несложные постройки из                  2—3 деталей.","Создаёт постройки «по сюжету» (дом, машина и т.д.)."]
[{"$nulls":9},"Конструирует несложные постройки из                  2—3 деталей.","Создаёт постройки «по сюжету» (дом, машина и т.д.)."]
[{"$nulls":9},"Конструирует несложные постройки из                  2—3 деталей.","Создаёт постройки «по сюжету» (дом, машина и т.д.)."]
[{"$nulls":9},"Конструирует несложные постройки из                  2—3 деталей.","Создаёт постройки «по сюжету» (дом, машина и т.д.)."]
[{"$nulls":9},"Конструирует несложные постройки из                  2—3 деталей.","Создаёт постройки «по сюжету» (дом, машина и т.д.)."]
[{"$nulls":9},"Конструирует несложные постройки из                  2—3 деталей.","Создаёт постройки «по сюжету» (дом, машина и т.д.)."]
[{"$nulls":9},"Конструирует несложные постройки из                  2—3 деталей.","Создаёт постройки «по сюжету» (дом, машина и т.д.)."]
[{"$nulls":9},"Конструирует несложные постройки из                  2—3 деталей.","Создаёт постройки «по сюжету» (дом, машина и т.д.)."]
[{"$nulls":9},"Конструирует несложные постройки из                  2—3 деталей.","Создаёт постройки «по сюжету» (дом, машина и т.д.)."]
[{"$nulls":9},"Конструирует несложные постройки из                  2—3 деталей.","Создаёт постройки «по сюжету» (дом, машина и т.д.)."]
[{"$nulls":9},"Конструирует несложные постройки из                  2—3 деталей.","Создаёт постройки «по сюжету» (дом, машина и т.д.)."]
[{"$nulls":9},"Конструирует несложные постройки из                  2—3 деталей.","Создаёт постройки «по сюжету» (дом, машина и т.д.)."]
[{"$nulls":9},"Конструирует несложные постройки из                  2—3 деталей.","Создаёт постройки «по сюжету» (дом, машина и т.д.)."]
[{"$nulls":9},"Конструирует несложные постройки из                  2—3 деталей.","Создаёт постройки «по сюжету» (дом, машина и т.д.)."]
[{"$nulls":9},"Конструирует несложные постройки из                  2—3 деталей.","Создаёт постройки «по сюжету» (дом, машина и т.д.)."]
[{"$nulls":9},"Конструирует несложные постройки из                  2—3 деталей.","Создаёт постройки «по сюжету» (дом, машина и т.д.)."]
[{"$nulls":9},"Конструирует несложные постройки из                  2—3 деталей.","Создаёт постройки «по сюжету» (дом, машина и т.д.)."]
[{"$nulls":9},"Конструирует несложные постройки из                  2—3 деталей.","Создаёт постройки «по сюжету» (дом, машина и т.д.)."]
[{"$nulls":9},"Конструирует несложные постройки из                  2—3 деталей.","Создаёт постройки «по сюжету» (дом, машина и т.д.)."]
[{"$nulls":9},"Конструирует несложные постройки из                  2—3 деталей.","Создаёт постройки «по сюжету» (дом, машина и т.д.)."]
[{"$nulls":9},"Конструирует несложные постройки из                  2—3 деталей.","Создаёт постройки «по сюжету» (дом, машина и т.д.)."]
[{"$nulls":9},"Конструирует несложные постройки из                  2—3 деталей.","Создаёт постройки «по сюжету» (дом, машина и т.д.)."]
[{"$nulls":9},"Конструирует несложные постройки из                  2—3 деталей.","Создаёт постройки «по сюжету» (дом, машина и т.д.)."]
[{"$nulls":9},"Конструирует несложные постройки из                  2—3 деталей.","Создаёт постройки «по сюжету» (дом, машина и т.д.)."]
[{"$nulls":9},"Конструирует несложные постройки из                  2—3 деталей.","Создаёт постройки «по сюжету» (дом, машина и т.д.)."]
[{"$nulls":9},"Конструирует несложные постройки из                  2—3 деталей.","Создаёт постройки «по сюжету» (дом, машина и т.д.)."]
[{"$nulls":9},"Конструирует несложные постройки из                  2—3 деталей.","Создаёт постройки «по сюжету» (дом, машина и т.д.)."]
[{"$nulls":9},"Конструирует несложные постройки из                  2—3 деталей.","Создаёт постройки «по сюжету» (дом, машина и т.д.)."]
[{"$nulls":9},"Конструирует несложные постройки из                  2—3 деталей.","Создаёт постройки «по сюжету» (дом, машина и т.д.)."]
[{"$nulls":9},"Конструирует несложные постройки из                  2—3 деталей.","Создаёт постройки «по сюжету» (дом, машина и т.д.)."]
[{"$nulls":9},"Конструирует несложные постройки из                  2—3 деталей.","Создаёт постройки «по сюжету» (дом, машина и т.д.)."]
[{"$nulls":9},"Конструирует несложные постройки из                  2—3 деталей.","Создаёт постройки «по сюжету» (дом, машина и т.д.)."]
[{"$nulls":9},"Конструирует несложные постройки из                  2—3 деталей.","Создаёт постройки «по сюжету» (дом, машина и т.д.)."]
[{"$nulls":9},"Конструирует несложные постройки из                  2—3 деталей.","Создаёт постройки «по сюжету» (дом, машина и т.д.)."]
[{"$nulls":9},"Конструирует несложные постройки из                  2—3 деталей.","Создаёт постройки «по сюжету» (дом, машина и т.д.)."]
[{"$nulls":9},"Конструирует несложные постройки из                  2—3 деталей.","Создаёт постройки «по сюжету» (дом, машина и т.д.)."]
[{"$nulls":9},"Конструирует несложные постройки из                  2—3 деталей.","Создаёт постройки «по сюжету» (дом, машина и т.д.)."]
[{"$nulls":9},"Конструирует несложные постройки из                  2—3 деталей.","Создаёт постройки «по сюжету» (дом, машина и т.д.)."]
[{"$nulls":9},"Конструирует несложные постройки из                  2—3 деталей.","Создаёт постройки «по сюжету» (дом, машина и т.д.)."]
[{"$nulls":9},"Конструирует несложные постройки из                  2—3 деталей.","Создаёт постройки «по сюжету» (дом, машина и т.д.)."]
[{"$nulls":9},"Конструирует несложные постройки из                  2—3 деталей.","Создаёт постройки «по сюжету» (дом, машина и т.д.)."]
[{"$nulls":9},"Конструирует несложные постройки из                  2—3 деталей.","Создаёт постройки «по сюжету» (дом, машина и т.д.)."]
[{"$nulls":9},"Конструирует несложные постройки из                  2—3 деталей.","Создаёт постройки «по сюжету» (дом, машина и т.д.)."]
[{"$nulls":9},"Конструирует несложные постройки из                  2—3 деталей.","Создаёт постройки «по сюжету» (дом, машина и т.д.)."]
[{"$nulls":9},"Конструирует несложные постройки из                  2—3 деталей.","Создаёт постройки «по сюжету» (дом, машина и т.д.)."]
[{"$nulls":9},"Конструирует несложные постройки из                  2—3 деталей.","Создаёт постройки «по сюжету» (дом, машина и т.д.)."]
[{"$nulls":9},"Конструирует несложные постройки из                  2—3 деталей.","Создаёт постройки «по сюжету» (дом, машина и т.д.)."]
[{"$nulls":9},"Конструирует несложные постройки из                  2—3 деталей.","Создаёт постройки «по сюжету» (дом, машина и т.д.)."]
[{"$nulls":9},"Конструирует несложные постройки из                  2—3 деталей.","Создаёт постройки «по сюжету» (дом, машина и т.д.)."]
[{"$nulls":9},"Конструирует несложные постройки из                  2—3 деталей.","Создаёт постройки «по сюжету» (дом, машина и т.д.)."]
[{"$nulls":9},"Конструирует несложные постройки из                  2—3 деталей.","Создаёт постройки «по сюжету» (дом, машина и т.д.)."]
[{"$nulls":9},"Конструирует несложные постройки из                  2—3 деталей.","Создаёт постройки «по сюжету» (дом, машина и т.д.)."]
[{"$nulls":9},"Конструирует несложные постройки из                  2—3 деталей.","Создаёт постройки «по сюжету» (дом, машина и т.д.)."]
[{"$nulls":9},"Конструирует несложные постройки из                  2—3 деталей.","Создаёт постройки «по сюжету» (дом, машина и т.д.)."]
[{"$nulls":9},"Конструирует несложные постройки из                  2—3 деталей.","Создаёт постройки «по сюжету» (дом, машина и т.д.)."]
[{"$nulls":9},"Конструирует несложные постройки из                  2—3 деталей.","Создаёт постройки «по сюжету» (дом, машина и т.д.)."]
[{"$nulls":9},"Конструирует несложные постройки из                  2—3 деталей.","Создаёт постройки «по сюжету» (дом, машина и т.д.)."]
[{"$nulls":9},"Конструирует несложные постройки из                  2—3 деталей.","Создаёт постройки «по сюжету» (дом, машина и т.д.)."]
[{"$nulls":9},"Конструирует несложные постройки из                  2—3 деталей.","Создаёт постройки «по сюжету» (дом, машина и т.д.)."]
[{"$nulls":9},"Конструирует несложные постройки из                  2—3 деталей.","Создаёт постройки «по сюжету» (дом, машина и т.д.)."]
[{"$nulls":9},"Конструирует несложные постройки из                  2—3 деталей.","Создаёт постройки «по сюжету» (дом, машина и т.д.)."]
[{"$nulls":9},"Конструирует несложные постройки из                  2—3 деталей.","Создаёт постройки «по сюжету» (дом, машина и т.д.)."]
[{"$nulls":9},"Конструирует несложные постройки из                  2—3 деталей.","Создаёт постройки «по сюжету» (дом, машина и т.д.)."]
[{"$nulls":9},"Конструирует несложные постройки из                  2—3 деталей.","Создаёт постройки «по сюжету» (дом, машина и т.д.)."]
[{"$nulls":9},"Конструирует несложные постройки из                  2—3 деталей.","Создаёт постройки «по сюжету» (дом, машина и т.д.)."]
[{"$nulls":9},"Конструирует несложные постройки из                  2—3 деталей.","Создаёт постройки «по сюжету» (дом, машина и т.д.)."]
[{"$nulls":9},"Конструирует несложные постройки из                  2—3 деталей.","Создаёт постройки «по сюжету» (дом, машина и т.д.)."]
[{"$nulls":9},"Конструирует несложные постройки из                  2—3 деталей.","Создаёт постройки «по сюжету» (дом, машина и т.д.)."]
[{"$nulls":9},"Конструирует несложные постройки из                  2—3 деталей.","Создаёт постройки «по сюжету» (дом, машина и т.д.)."]
[{"$nulls":9},"Конструирует несложные постройки из                  2—3 деталей.","Создаёт постройки «по сюжету» (дом, машина и т.д.)."]
[{"$nulls":9},"Конструирует несложные постройки из                  2—3 деталей.","Создаёт постройки «по сюжету» (дом, машина и т.д.)."]
[{"$nulls":9},"Конструирует несложные постройки из                  2—3 деталей.","Создаёт постройки «по сюжету» (дом, машина и т.д.)."]
[{"$nulls":9},"Конструирует несложные постройки из                  2—3 деталей.","Создаёт постройки «по сюжету» (дом, машина и т.д.)."]
[{"$nulls":9},"Конструирует несложные постройки из                  2—3 деталей.","Создаёт постройки «по сюжету» (дом, машина и т.д.)."]
[{"$nulls":9},"Конструирует несложные постройки из                  2—3 деталей.","Создаёт постройки «по сюжету» (дом, машина и т.д.)."]
[{"$nulls":9},"Конструирует несложные постройки из                  2—3 деталей.","Создаёт постройки «по сюжету» (дом, машина и т.д.)."]
[{"$nulls":9},"Конструирует несложные постройки из                  2—3 деталей.","Создаёт постройки «по сюжету» (дом, машина и т.д.)."]
[{"$nulls":9},"Конструирует несложные постройки из                  2—3 деталей.","Создаёт постройки «по сюжету» (дом, машина и т.д.)."]
[{"$nulls":9},"Конструирует несложные постройки из                  2—3 деталей.","Создаёт постройки «по сюжету» (дом, машина и т.д.)."]
[{"$nulls":9},"Конструирует несложные постройки из                  2—3 деталей.","Создаёт постройки «по сюжету» (дом, машина и т.д.)."]
[{"$nulls":9},"Конструирует несложные постройки из                  2—3 деталей.","Создаёт постройки «по сюжету» (дом, машина и т.д.)."]
[{"$nulls":9},"Конструирует несложные постройки из                  2—3 деталей.","Создаёт постройки «по сюжету» (дом, машина и т.д.)."]
[{"$nulls":9},"Конструирует несложные постройки из                  2—3 деталей.","Создаёт постройки «по сюжету» (дом, машина и т.д.)."]
[{"$nulls":9},"Конструирует несложные постройки из                  2—3 деталей.","Создаёт постройки «по сюжету» (дом, машина и т.д.)."]
[{"$nulls":9},"Конструирует несложные постройки из                  2—3 деталей.","Создаёт постройки «по сюжету» (дом, машина и т.д.)."]
[{"$nulls":9},"Конструирует несложные постройки из                  2—3 деталей.","Создаёт постройки «по сюжету» (дом, машина и т.д.)."]
[{"$nulls":9},"Конструирует несложные постройки из                  2—3 деталей.","Создаёт постройки «по сюжету» (дом, машина и т.д.)."]
[{"$nulls":9},"Конструирует несложные постройки из                  2—3 деталей.","Создаёт постройки «по сюжету» (дом, машина и т.д.)."]
[{"$nulls":9},"Конструирует несложные постройки из                  2—3 деталей.","Создаёт постройки «по сюжету» (дом, машина и т.д.)."]
[{"$nulls":9},"Конструирует несложные постройки из                  2—3 деталей.","Создаёт постройки «по сюжету» (дом, машина и т.д.)."]
[{"$nulls":9},"Конструирует несложные постройки из                  2—3 деталей.","Создаёт постройки «по сюжету» (дом, машина и т.д.)."]
[{"$nulls":9},"Конструирует несложные постройки из                  2—3 деталей.","Создаёт постройки «по сюжету» (дом, машина и т.д.)."]
[{"$nulls":9},"Конструирует несложные постройки из                  2—3 деталей.","Создаёт постройки «по сюжету» (дом, машина и т.д.)."]
[{"$nulls":9},"Конструирует несложные постройки из                  2—3 деталей.","Создаёт постройки «по сюжету» (дом, машина и т.д.)."]
[{"$nulls":9},"Конструирует несложные постройки из                  2—3 деталей.","Создаёт постройки «по сюжету» (дом, машина и т.д.)."]
[{"$nulls":9},"Конструирует несложные постройки из                  2—3 деталей.","Создаёт постройки «по сюжету» (дом, машина и т.д.)."]
[{"$nulls":9},"Конструирует несложные постройки из                  2—3 деталей.","Создаёт постройки «по сюжету» (дом, машина и т.д.)."]
[{"$nulls":9},"Конструирует несложные постройки из                  2—3 деталей.","Создаёт постройки «по сюжету» (дом, машина и т.д.)."]
[{"$nulls":9},"Конструирует несложные постройки из                  2—3 деталей.","Создаёт постройки «по сюжету» (дом, машина и т.д.)."]
[{"$nulls":9},"Конструирует несложные постройки из                  2—3 деталей.","Создаёт постройки «по сюжету» (дом, машина и т.д.)."]
[{"$nulls":9},"Конструирует несложные постройки из                  2—3 деталей.","Создаёт постройки «по сюжету» (дом, машина и т.д.)."]
[{"$nulls":9},"Конструирует несложные постройки из                  2—3 деталей.","Создаёт постройки «по сюжету» (дом, машина и т.д.)."]
[{"$nulls":9},"Конструирует несложные постройки из                  2—3 деталей.","Создаёт постройки «по сюжету» (дом, машина и т.д.)."]
[{"$nulls":9},"Конструирует несложные постройки из                  2—3 деталей.","Создаёт постройки «по сюжету» (дом, машина и т.д.)."]
[{"$nulls":9},"Конструирует несложные постройки из                  2—3 деталей.","Создаёт постройки «по сюжету» (дом, машина и т.д.)."]
[{"$nulls":9},"Конструирует несложные постройки из                  2—3 деталей.","Создаёт постройки «по сюжету» (дом, машина и т.д.)."]
[{"$nulls":9},"Конструирует несложные постройки из                  2—3 деталей.","Создаёт постройки «по сюжету» (дом, машина и т.д.)."]
[{"$nulls":9},"Конструирует несложные постройки из                  2—3 деталей.","Создаёт постройки «по сюжету» (дом, машина и т.д.)."]
[{"$nulls":9},"Конструирует несложные постройки из                  2—3 деталей.","Создаёт постройки «по сюжету» (дом, машина и т.д.)."]
[{"$nulls":9},"Конструирует несложные постройки из                  2—3 деталей.","Создаёт постройки «по сюжету» (дом, машина и т.д.)."]
[{"$nulls":9},"Конструирует несложные постройки из                  2—3 деталей.","Создаёт постройки «по сюжету» (дом, машина и т.д.)."]
[{"$nulls":9},"Конструирует несложные постройки из                  2—3 деталей.","Создаёт постройки «по сюжету» (дом, машина и т.д.)."]
[{"$nulls":9},"Конструирует несложные постройки из                  2—3 деталей.","Создаёт постройки «по сюжету» (дом, машина и т.д.)."]
[{"$nulls":9},"Конструирует несложные постройки из                  2—3 деталей.","Создаёт постройки «по сюжету» (дом, машина и т.д.)."]
[{"$nulls":9},"Конструирует несложные постройки из                  2—3 деталей.","Создаёт постройки «по сюжету» (дом, машина и т.д.)."]
[{"$nulls":9},"Конструирует несложные постройки из                  2—3 деталей.","Создаёт постройки «по сюжету» (дом, машина и т.д.)."]
[{"$nulls":9},"Конструирует несложные постройки из                  2—3 деталей.","Создаёт постройки «по сюжету» (дом, машина и т.д.)."]
[{"$nulls":9},"Конструирует несложные постройки из                  2—3 деталей.","Создаёт постройки «по сюжету» (дом, машина и т.д.)."]
[{"$nulls":9},"Конструирует несложные постройки из                  2—3 деталей.","Создаёт постройки «по сюжету» (дом, машина и т.д.)."]
[{"$nulls":9},"Конструирует несложные постройки из                  2—3 деталей.","Создаёт постройки «по сюжету» (дом, машина и т.д.)."]
[{"$nulls":9},"Конструирует несложные постройки из                  2—3 деталей.","Создаёт постройки «по сюжету» (дом, машина и т.д.)."]
[{"$nulls":9},"Конструирует несложные постройки из                  2—3 деталей.","Создаёт постройки «по сюжету» (дом, машина и т.д.)."]
[{"$nulls":9},"Конструирует несложные постройки из                  2—3 деталей.","Создаёт постройки «по сюжету» (дом, машина и т.д.)."]
[{"$nulls":9},"Конструирует несложные постройки из                  2—3 деталей.","Создаёт постройки «по сюжету» (дом, машина и т.д.)."]
[{"$nulls":9},"Конструирует несложные постройки из                  2—3 деталей.","Создаёт постройки «по сюжету» (дом, машина и т.д.)."]
[{"$nulls":9},"Конструирует несложные постройки из                  2—3 деталей.","Создаёт постройки «по сюжету» (дом, машина и т.д.)."]
[{"$nulls":9},"Конструирует несложные постройки из                  2—3 деталей.","Создаёт постройки «по сюжету» (дом, машина и т.д.)."]
[{"$nulls":9},"Конструирует несложные постройки из                  2—3 деталей.","Создаёт постройки «по сюжету» (дом, машина и т.д.)."]
[{"$nulls":9},"Конструирует несложные постройки из                  2—3 деталей.","Создаёт постройки «по сюжету» (дом, машина и т.д.)."]
[{"$nulls":9},"Конструирует несложные постройки из                  2—3 деталей.","Создаёт постройки «по сюжету» (дом, машина и т.д.)."]
[{"$nulls":9},"Конструирует несложные постройки из                  2—3 деталей.","Создаёт постройки «по сюжету» (дом, машина и т.д.)."]
[{"$nulls":9},"Конструирует несложные постройки из                  2—3 деталей.","Создаёт постройки «по сюжету» (дом, машина и т.д.)."]
[{"$nulls":9},"Конструирует несложные постройки из                  2—3 деталей.","Создаёт постройки «по сюжету» (дом, машина и т.д.)."]
[{"$nulls":9},"Конструирует несложные постройки из                  2—3 деталей.","Создаёт постройки «по сюжету» (дом, машина и т.д.)."]
[{"$nulls":9},"Конструирует несложные постройки из                  2—3 деталей.","Создаёт постройки «по сюжету» (дом, машина и т.д.)."]
[{"$nulls":9},"Конструирует несложные постройки из                  2—3 деталей.","Создаёт постройки «по сюжету» (дом, машина и т.д.)."]
[{"$nulls":9},"Конструирует несложные постройки из                  2—3 деталей.","Создаёт постройки «по сюжету» (дом, машина и т.д.)."]
[{"$nulls":9},"Конструирует несложные постройки из                  2—3 деталей.","Создаёт постройки «по сюжету» (дом, машина и т.д.)."]
[{"$nulls":9},"Конструирует несложные постройки из                  2—3 деталей.","Создаёт постройки «по сюжету» (дом, машина и т.д.)."]
[{"$nulls":9},"Конструирует несложные постройки из                  2—3 деталей.","Создаёт постройки «по сюжету» (дом, машина и т.д.)."]
[{"$nulls":9},"Конструирует несложные постройки из                  2—3 деталей.","Создаёт постройки «по сюжету» (дом, машина и т.д.)."]
[{"$nulls":9},"Конструирует несложные постройки из                  2—3 деталей.","Создаёт постройки «по сюжету» (дом, машина и т.д.)."]
[{"$nulls":9},"Конструирует несложные постройки из                  2—3 деталей.","Создаёт постройки «по сюжету» (дом, машина и т.д.)."]
[{"$nulls":9},"Конструирует несложные постройки из                  2—3 деталей.","Создаёт постройки «по сюжету» (дом, машина и т.д.)."]
[{"$nulls":9},"Конструирует несложные постройки из                  2—3 деталей.","Создаёт постройки «по сюжету» (дом, машина и т.д.)."]
[{"$nulls":9},"Конструирует несложные постройки из                  2—3 деталей.","Создаёт постройки «по сюжету» (дом, машина и т.д.)."]
[{"$nulls":9},"Конструирует несложные постройки из                  2—3 деталей.","Создаёт постройки «по сюжету» (дом, машина и т.д.)."]
[{"$nulls":9},"Конструирует несложные постройки из                  2—3 деталей.","Создаёт постройки «по сюжету» (дом, машина и т.д.)."]
[{"$nulls":9},"Конструирует несложные постройки из                  2—3 деталей.","Создаёт постройки «по сюжету» (дом, машина и т.д.)."]
[{"$nulls":9},"Конструирует несложные постройки из                  2—3 деталей.","Создаёт постройки «по сюжету» (дом, машина и т.д.)."]
[{"$nulls":9},"Конструирует несложные постройки из                  2—3 деталей.","Создаёт постройки «по сюжету» (дом, машина и т.д.)."]
[{"$nulls":9},"Конструирует несложные постройки из                  2—3 деталей.","Создаёт постройки «по сюжету» (дом, машина и т.д.)."]
[{"$nulls":9},"Конструирует несложные постройки из                  2—3 деталей.","Создаёт постройки «по сюжету» (дом, машина и т.д.)."]
[{"$nulls":9},"Конструирует несложные постройки из                  2—3 деталей.","Создаёт постройки «по сюжету» (дом, машина и т.д.)."]
[{"$nulls":9},"Конструирует несложные постройки из                  2—3 деталей.","Создаёт постройки «по сюжету» (дом, машина и т.д.)."]
[{"$nulls":9},"Конструирует несложные постройки из                  2—3 деталей.","Создаёт постройки «по сюжету» (дом, машина и т.д.)."]
[{"$nulls":9},"Конструирует несложные постройки из                  2—3 деталей.","Создаёт постройки «по сюжету» (дом, машина и т.д.)."]
[{"$nulls":9},"Конструирует несложные постройки из                  2—3 деталей.","Создаёт постройки «по сюжету» (дом, машина и т.д.)."]
[{"$nulls":9},"Конструирует несложные постройки из                  2—3 деталей.","Создаёт постройки «по сюжету» (дом, машина и т.д.)."]
[{"$nulls":9},"Конструирует несложные постройки из                  2—3 деталей.","Создаёт постройки «по сюжету» (дом, машина и т.д.)."]
[{"$nulls":9},"Конструирует несложные постройки из                  2—3 деталей.","Создаёт постройки «по сюжету» (дом, машина и т.д.)."]
[{"$nulls":9},"Конструирует несложные постройки из                  2—3 деталей.","Создаёт постройки «по сюжету» (дом, машина и т.д.)."]
[{"$nulls":9},"Конструирует несложные постройки из                  2—3 деталей.","Создаёт постройки «по сюжету» (дом, машина и т.д.)."]
[{"$nulls":9},"Конструирует несложные постройки из                  2—3 деталей.","Создаёт постройки «по сюжету» (дом, машина и т.д.)."]
[{"$nulls":9},"Конструирует несложные постройки из                  2—3 деталей.","Создаёт постройки «по сюжету» (дом, машина и т.д.)."]
[{"$nulls":9},"Конструирует несложные постройки из                  2—3 деталей.","Создаёт постройки «по сюжету» (дом, машина и т.д.)."]
[{"$nulls":9},"Конструирует несложные постройки из                  2—3 деталей.","Создаёт постройки «по сюжету» (дом, машина и т.д.)."]
[{"$nulls":9},"Конструирует несложные постройки из                  2—3 деталей.","Создаёт постройки «по сюжету» (дом, машина и т.д.)."]
[{"$nulls":9},"Конструирует несложные постройки из                  2—3 деталей.","Создаёт постройки «по сюжету» (дом, машина и т.д.)."]
[{"$nulls":9},"Конструирует несложные постройки из                  2—3 деталей.","Создаёт постройки «по сюжету» (дом, машина и т.д.)."]
[{"$nulls":9},"Конструирует несложные постройки из                  2—3 деталей.","Создаёт постройки «по сюжету» (дом, машина и т.д.)."]
[{"$nulls":9},"Конструирует несложные постройки из                  2—3 деталей.","Создаёт постройки «по сюжету» (дом, машина и т.д.)."]
[{"$nulls":9},"Конструирует несложные постройки из                  2—3 деталей.","Создаёт постройки «по сюжету» (дом, машина и т.д.)."]
[{"$nulls":9},"Конструирует несложные постройки из                  2—3 деталей.","Создаёт постройки «по сюжету» (дом, машина и т.д.)."]
[{"$nulls":9},"Конструирует несложные постройки из                  2—3 деталей.","Создаёт постройки «по сюжету» (дом, машина и т.д.)."]
[{"$nulls":9},"Конструирует несложные постройки из                  2—3 деталей.","Создаёт постройки «по сюжету» (дом, машина и т.д.)."]
[{"$nulls":9},"Конструирует несложные постройки из                  2—3 деталей.","Создаёт постройки «по сюжету» (дом, машина и т.д.)."]
[{"$nulls":9},"Конструирует несложные постройки из                  2—3 деталей.","Создаёт постройки «по сюжету» (дом, машина и т.д.)."]
[{"$nulls":9},"Конструирует несложные постройки из                  2—3 деталей.","Создаёт постройки «по сюжету» (дом, машина и т.д.)."]
[{"$nulls":9},"Конструирует несложные постройки из                  2—3 деталей.","Создаёт постройки «по сюжету» (дом, машина и т.д.)."]
[{"$nulls":9},"Конструирует несложные постройки из                  2—3 деталей.","Создаёт постройки «по сюжету» (дом, машина и т.д.)."]
[{"$nulls":9},"Конструирует несложные постройки из                  2—3 деталей.","Создаёт постройки «по сюжету» (дом, машина и т.д.)."]
[{"$nulls":9},"Конструирует несложные постройки из                  2—3 деталей.","Создаёт постройки «по сюжету» (дом, машина и т.д.)."]
[{"$nulls":9},"Конструирует несложные постройки из                  2—3 деталей.","Создаёт постройки «по сюжету» (дом, машина и т.д.)."]
[{"$nulls":9},"Конструирует несложные постройки из                  2—3 деталей.","Создаёт постройки «по сюжету» (дом, машина и т.д.)."]
[{"$nulls":9},"Конструирует несложные постройки из                  2—3 деталей.","Создаёт постройки «по сюжету» (дом, машина и т.д.)."]
[{"$nulls":9},"Конструирует несложные постройки из                  2—3 деталей.","Создаёт постройки «по сюжету» (дом, машина и т.д.)."]
[{"$nulls":9},"Конструирует несложные постройки из                  2—3 деталей.","Создаёт постройки «по сюжету» (дом, машина и т.д.)."]
[{"$nulls":9},"Конструирует несложные постройки из                  2—3 деталей.","Создаёт постройки «по сюжету» (дом, машина и т.д.)."]
[{"$nulls":9},"Конструирует несложные постройки из                  2—3 деталей.","Создаёт постройки «по сюжету» (дом, машина и т.д.)."]
[{"$nulls":9},"Конструирует несложные постройки из                  2—3 деталей.","Создаёт постройки «по сюжету» (дом, машина и т.д.)."]
[{"$nulls":9},"Конструирует несложные постройки из                  2—3 деталей.","Создаёт постройки «по сюжету» (дом, машина и т.д.)."]
[{"$nulls":9},"Конструирует несложные постройки из                  2—3 деталей.","Создаёт постройки «по сюжету» (дом, машина и т.д.)."]
[{"$nulls":9},"Конструирует несложные постройки из                  2—3 деталей.","Создаёт постройки «по сюжету» (дом, машина и т.д.)."]
[{"$nulls":9},"Конструирует несложные постройки из                  2—3 деталей.","Создаёт постройки «по сюжету» (дом, машина и т.д.)."]
[{"$nulls":9},"Конструирует несложные постройки из                  2—3 деталей.","Создаёт постройки «по сюжету» (дом, машина и т.д.)."]
[{"$nulls":9},"Конструирует несложные постройки из                  2—3 деталей.","Создаёт постройки «по сюжету» (дом, машина и т.д.)."]
[{"$nulls":9},"Конструирует несложные постройки из                  2—3 деталей.","Создаёт постройки «по сюжету» (дом, машина и т.д.)."]
[{"$nulls":9},"Конструирует несложные постройки из                  2—3 деталей.","Создаёт постройки «по сюжету» (дом, машина и т.д.)."]
[{"$nulls":9},"Конструирует несложные постройки из                  2—3 деталей.","Создаёт постройки «по сюжету» (дом, машина и т.д.)."]
[{"$nulls":9},"Конструирует несложные постройки из                  2—3 деталей.","Создаёт постройки «по сюжету» (дом, машина и т.д.)."]
[{"$nulls":9},"Конструирует несложные постройки из                  2—3 деталей.","Создаёт постройки «по сюжету» (дом, машина и т.д.)."]
[{"$nulls":9},"Конструирует несложные постройки из                  2—3 деталей.","Создаёт постройки «по сюжету» (дом, машина и т.д.)."]
[{"$nulls":9},"Конструирует несложные постройки из                  2—3 деталей.","Создаёт постройки «по сюжету» (дом, машина и т.д.)."]
[{"$nulls":9},"Конструирует несложные постройки из                  2—3 деталей.","Создаёт постройки «по сюжету» (дом, машина и т.д.)."]
[{"$nulls":9},"Конструирует несложные постройки из                  2—3 деталей.","Создаёт постройки «по сюжету» (дом, машина и т.д.)."]
[{"$nulls":9},"Конструирует несложные постройки из                  2—3 деталей.","Создаёт постройки «по сюжету» (дом, машина и т.д.)."]
[{"$nulls":9},"Конструирует несложные постройки из                  2—3 деталей.","Создаёт постройки «по сюжету» (дом, машина и т.д.)."]
[{"$nulls":9},"Конструирует несложные постройки из                  2—3 деталей.","Создаёт постройки «по сюжету» (дом, машина и т.д.)."]
[{"$nulls":9},"Конструирует несложные постройки из                  2—3 деталей.","Создаёт постройки «по сюжету» (дом, машина и т.д.)."]
[{"$nulls":9},"Конструирует несложные постройки из                  2—3 деталей.","Создаёт постройки «по сюжету» (дом, машина и т.д.)."]
[{"$nulls":9},"Конструирует несложные постройки из                  2—3 деталей.","Создаёт постройки «по сюжету» (дом, машина и т.д.)."]
[{"$nulls":9},"Конструирует несложные постройки из                  2—3 деталей.","Создаёт постройки «по сюжету» (дом, машина и т.д.)."]
[{"$nulls":9},"Конструирует несложные постройки из                  2—3 деталей.","Создаёт постройки «по сюжету» (дом, машина и т.д.)."]
[{"$nulls":9},"Конструирует несложные постройки из                  2—3 деталей.","Создаёт постройки «по сюжету» (дом, машина и т.д.)."]
[{"$nulls":9},"Конструирует несложные постройки из                  2—3 деталей.","Создаёт постройки «по сюжету» (дом, машина и т.д.)."]
[{"$nulls":9},"Конструирует несложные постройки из                  2—3 деталей.","Создаёт постройки «по сюжету» (дом, машина и т.д.)."]
[{"$nulls":9},"Конструирует несложные постройки из                  2—3 деталей.","Создаёт постройки «по сюжету» (дом, машина и т.д.)."]
[{"$nulls":9},"Конструирует несложные постройки из                  2—3 деталей.","Создаёт постройки «по сюжету» (дом, машина и т.д.)."]
[{"$nulls":9},"Конструирует несложные постройки из                  2—3 деталей.","Создаёт постройки «по сюжету» (дом, машина и т.д.)."]
[{"$nulls":9},"Конструирует несложные постройки из                  2—3 деталей.","Создаёт постройки «по сюжету» (дом, машина и т.д.)."]
[{"$nulls":9},"Конструирует несложные постройки из                  2—3 деталей.","Создаёт постройки «по сюжету» (дом, машина и т.д.)."]
[{"$nulls":9},"Конструирует несложные постройки из                  2—3 деталей.","Создаёт постройки «по сюжету» (дом, машина и т.д.)."]
[{"$nulls":9},"Конструирует несложные постройки из                  2—3 деталей.","Создаёт постройки «по сюжету» (дом, машина и т.д.)."]
[{"$nulls":9},"Конструирует несложные постройки из                  2—3 деталей.","Создаёт постройки «по сюжету» (дом, машина и т.д.)."]
[{"$nulls":9},"Конструирует несложные постройки из                  2—3 деталей.","Создаёт постройки «по сюжету» (дом, машина и т.д.)."]
[{"$nulls":9},"Конструирует несложные постройки из                  2—3 деталей.","Создаёт постройки «по сюжету» (дом, машина и т.д.)."]
[{"$nulls":9},"Конструирует несложные постройки из                  2—3 деталей.","Создаёт постройки «по сюжету» (дом, машина и т.д.)."]
[{"$nulls":9},"Конструирует несложные постройки из                  2—3 деталей.","Создаёт постройки «по сюжету» (дом, машина и т.д.)."]
[{"$nulls":9},"Конструирует несложные постройки из                  2—3 деталей.","Создаёт постройки «по сюжету» (дом, машина и т.д.)."]
[{"$nulls":9},"Конструирует несложные постройки из                  2—3 деталей.","Создаёт постройки «по сюжету» (дом, машина и т.д.)."]
[{"$nulls":9},"Конструирует несложные постройки из                  2—3 деталей.","Создаёт постройки «по сюжету» (дом, машина и т.д.)."]
[{"$nulls":9},"Конструирует несложные постройки из                  2—3 деталей.","Создаёт постройки «по сюжету» (дом, машина и т.д.)."]
[{"$nulls":9},"Конструирует несложные постройки из                  2—3 деталей.","Создаёт постройки «по сюжету» (дом, машина и т.д.)."]
[{"$nulls":9},"Конструирует несложные постройки из                  2—3 деталей.","Создаёт постройки «по сюжету» (дом, машина и т.д.)."]
[{"$nulls":9},"Конструирует несложные постройки из                  2—3 деталей.","Создаёт постройки «по сюжету» (дом, машина и т.д.)."]
[{"$nulls":9},"Конструирует несложные постройки из                  2—3 деталей.","Создаёт постройки «по сюжету» (дом, машина и т.д.)."]
[{"$nulls":9},"Конструирует несложные постройки из                  2—3 деталей.","Создаёт постройки «по сюжету» (дом, машина и т.д.)."]
[{"$nulls":9},"Конструирует несложные постройки из                  2—3 деталей.","Создаёт постройки «по сюжету» (дом, машина и т.д.)."]
[{"$nulls":9},"Конструирует несложные постройки из                  2—3 деталей.","Создаёт постройки «по сюжету» (дом, машина и т.д.)."]
[{"$nulls":9},"Конструирует несложные постройки из                  2—3 деталей.","Создаёт постройки «по сюжету» (дом, машина и т.д.)."]
[{"$nulls":9},"Конструирует несложные постройки из                  2—3 деталей.","Создаёт постройки «по сюжету» (дом, машина и т.д.)."]
[{"$nulls":9},"Конструирует несложные постройки из                  2—3 деталей.","Создаёт постройки «по сюжету» (дом, машина и т.д.)."]
[{"$nulls":9},"Конструирует несложные постройки из                  2—3 деталей.","Создаёт постройки «по сюжету» (дом, машина и т.д.)."]
[{"$nulls":9},"Конструирует несложные постройки из                  2—3 деталей.","Создаёт постройки «по сюжету» (дом, машина и т.д.)."]
[{"$nulls":9},"Конструирует несложные постройки из                  2—3 деталей.","Создаёт постройки «по сюжету» (дом, машина и т.д.)."]
[{"$nulls":9},"Конструирует несложные постройки из                  2—3 деталей.","Создаёт постройки «по сюжету» (дом, машина и т.д.)."]
[{"$nulls":9},"Конструирует несложные постройки из                  2—3 деталей.","Создаёт постройки «по сюжету» (дом, машина и т.д.)."]
[{"$nulls":9},"Конструирует несложные постройки из                  2—3 деталей.","Создаёт постройки «по сюжету» (дом, машина и т.д.)."]
[{"$nulls":9},"Конструирует несложные постройки из                  2—3 деталей.","Создаёт постройки «по сюжету» (дом, машина и т.д.)."]
[{"$nulls":9},"Конструирует несложные постройки из                  2—3 деталей.","Создаёт постройки «по сюжету» (дом, машина и т.д.)."]
[{"$nulls":9},"Конструирует несложные постройки из                  2—3 деталей.","Создаёт постройки «по сюжету» (дом, машина и т.д.)."]
[{"$nulls":9},"Конструирует несложные постройки из                  2—3 деталей.","Создаёт постройки «по сюжету» (дом, машина и т.д.)."]
[{"$nulls":9},"Конструирует несложные постройки из                  2—3 деталей.","Создаёт постройки «по сюжету» (дом, машина и т.д.)."]
[{"$nulls":9},"Конструирует несложные постройки из                  2—3 деталей.","Создаёт постройки «по сюжету» (дом, машина и т.д.)."]
[{"$nulls":9},"Конструирует несложные постройки из                  2—3 деталей.","Создаёт постройки «по сюжету» (дом, машина и т.д.)."]
[{"$nulls":9},"Конструирует несложные постройки из                  2—3 деталей.","Создаёт постройки «по сюжету» (дом, машина и т.д.)."]
[{"$nulls":9},"Конструирует несложные постройки из                  2—3 деталей.","Создаёт постройки «по сюжету» (дом, машина и т.д.)."]
[{"$nulls":9},"Конструирует несложные постройки из                  2—3 деталей.","Создаёт постройки «по сюжету» (дом, машина и т.д.)."]
[{"$nulls":9},"Конструирует несложные постройки из                  2—3 деталей.","Создаёт постройки «по сюжету» (дом, машина и т.д.)."]
[{"$nulls":9},"Конструирует несложные постройки из                  2—3 деталей.","Создаёт постройки «по сюжету» (дом, машина и т.д.)."]
[{"$nulls":9},"Конструирует несложные постройки из                  2—3 деталей.","Создаёт постройки «по сюжету» (дом, машина и т.д.)."]
[{"$nulls":9},"Конструирует несложные постройки из                  2—3 деталей.","Создаёт постройки «по сюжету» (дом, машина и т.д.)."]
[{"$nulls":9},"Конструирует несложные постройки из                  2—3 деталей.","Создаёт постройки «по сюжету» (дом, машина и т.д.)."]
[{"$nulls":9},"Конструирует несложные постройки из                  2—3 деталей.","Создаёт постройки «по сюжету» (дом, машина и т.д.)."]
[{"$nulls":9},"Конструирует несложные постройки из                  2—3 деталей.","Создаёт постройки «по сюжету» (дом, машина и т.д.)."]
[{"$nulls":9},"Конструирует несложные постройки из                  2—3 деталей.","Создаёт постройки «по сюжету» (дом, машина и т.д.)."]
[{"$nulls":9},"Конструирует несложные постройки из                  2—3 деталей.","Создаёт постройки «по сюжету» (дом, машина и т.д.)."]
[{"$nulls":9},"Конструирует несложные постройки из                  2—3 деталей.","Создаёт постройки «по сюжету» (дом, машина и т.д.)."]
[{"$nulls":9},"Конструирует несложные постройки из                  2—3 деталей.","Создаёт постройки «по сюжету» (дом, машина и т.д.)."]
[{"$nulls":9},"Конструирует несложные постройки из                  2—3 деталей.","Создаёт постройки «по сюжету» (дом, машина и т.д.)."]
[{"$nulls":9},"Конструирует несложные постройки из                  2—3 деталей.","Создаёт постройки «по сюжету» (дом, машина и т.д.)."]
[{"$nulls":9},"Конструирует несложные постройки из                  2—3 деталей.","Создаёт постройки «по сюжету» (дом, машина и т.д.)."]
[{"$nulls":9},"Конструирует несложные постройки из                  2—3 деталей.","Создаёт постройки «по сюжету» (дом, машина и т.д.)."]
[{"$nulls":9},"Конструирует несложные постройки из                  2—3 деталей.","Создаёт постройки «по сюжету» (дом, машина и т.д.)."]
[{"$nulls":9},"Конструирует несложные постройки из                  2—3 деталей.","Создаёт постройки «по сюжету» (дом, машина и т.д.)."]
[{"$nulls":9},"Конструирует несложные постройки из                  2—3 деталей.","Создаёт постройки «по сюжету» (дом, машина и т.д.)."]
[{"$nulls":9},"Конструирует несложные постройки из                  2—3 деталей.","Создаёт постройки «по сюжету» (дом, машина и т.д.)."]
[{"$nulls":9},"Конструирует несложные постройки из                  2—3 деталей.","Создаёт постройки «по сюжету» (дом, машина и т.д.)."]
[{"$nulls":9},"Конструирует несложные постройки из                  2—3 деталей.","Создаёт постройки «по сюжету» (дом, машина и т.д.)."]
[{"$nulls":9},"Конструирует несложные постройки из                  2—3 деталей.","Создаёт постройки «по сюжету» (дом, машина и т.д.)."]
[{"$nulls":9},"Конструирует несложные постройки из                  2—3 деталей.","Создаёт постройки «по сюжету» (дом, машина и т.д.)."]
[{"$nulls":9},"Конструирует несложные постройки из                  2—3 деталей.","Создаёт постройки «по сюжету» (дом, машина и т.д.)."]
[{"$nulls":9},"Конструирует несложные постройки из                  2—3 деталей.","Создаёт постройки «по сюжету» (дом, машина и т.д.)."]
[{"$nulls":9},"Конструирует несложные постройки из                  2—3 деталей.","Создаёт постройки «по сюжету» (дом, машина и т.д.)."]
[{"$nulls":9},"Конструирует несложные постройки из                  2—3 деталей.","Создаёт постройки «по сюжету» (дом, машина и т.д.)."]
[{"$nulls":9},"Конструирует несложные постройки из                  2—3 деталей.","Создаёт постройки «по сюжету» (дом, машина и т.д.)."]
[{"$nulls":9},"Конструирует несложные постройки из                  2—3 деталей.","Создаёт постройки «по сюжету» (дом, машина и т.д.)."]
[{"$nulls":9},"Конструирует несложные постройки из                  2—3 деталей.","Создаёт постройки «по сюжету» (дом, машина и т.д.)."]
[{"$nulls":9},"Конструирует несложные постройки из                  2—3 деталей.","Создаёт постройки «по сюжету» (дом, машина и т.д.)."]
[{"$nulls":9},"Конструирует несложные постройки из                  2—3 деталей.","Создаёт постройки «по сюжету» (дом, машина и т.д.)."]
[{"$nulls":9},"Конструирует несложные постройки из                  2—3 деталей.","Создаёт постройки «по сюжету» (дом, машина и т.д.)."]
[{"$nulls":9},"Конструирует несложные постройки из                  2—3 деталей.","Создаёт постройки «по сюжету» (дом, машина и т.д.)."]
[{"$nulls":9},"Конструирует несложные постройки из                  2—3 деталей.","Создаёт постройки «по сюжету» (дом, машина и т.д.)."]
[{"$nulls":9},"Конструирует несложные постройки из                  2—3 деталей.","Создаёт постройки «по сюжету» (дом, машина и т.д.)."]
[{"$nulls":9},"Конструирует несложные постройки из                  2—3 деталей.","Создаёт постройки «по сюжету» (дом, машина и т.д.)."]
[{"$nulls":9},"Конструирует несложные постройки из                  2—3 деталей.","Создаёт постройки «по сюжету» (дом, машина и т.д.)."]
[{"$nulls":9},"Конструирует несложные постройки из                  2—3 деталей.","Создаёт постройки «по сюжету» (дом, машина и т.д.)."]
[{"$nulls":9},"Конструирует несложные постройки из                  2—3 деталей.","Создаёт постройки «по сюжету» (дом, машина и т.д.)."]
[{"$nulls":9},"Конструирует несложные постройки из                  2—3 деталей.","Создаёт постройки «по сюжету» (дом, машина и т.д.)."]
[{"$nulls":9},"Конструирует несложные постройки из                  2—3 деталей.","Создаёт постройки «по сюжету» (дом, машина и т.д.)."]
[{"$nulls":9},"Конструирует несложные постройки из                  2—3 деталей.","Создаёт постройки «по сюжету» (дом, машина и т.д.)."]
[{"$nulls":9},"Конструирует несложные постройки из                  2—3 деталей.","Создаёт постройки «по сюжету» (дом, машина и т.д.)."]
[{"$nulls":9},"Конструирует несложные постройки из                  2—3 деталей.","Создаёт постройки «по сюжету» (дом, машина и т.д.)."]
[{"$nulls":9},"Конструирует несложные постройки из                  2—3 деталей.","Создаёт постройки «по сюжету» (дом, машина и т.д.)."]
[{"$nulls":9},"Конструирует несложные постройки из                  2—3 деталей.","Создаёт постройки «по сюжету» (дом, машина и т.д.)."]
[{"$nulls":9},"Конструирует несложные постройки из                  2—3 деталей.","Создаёт постройки «по сюжету» (дом, машина и т.д.)."]
[{"$nulls":9},"Конструирует несложные постройки из                  2—3 деталей.","Создаёт постройки «по сюжету» (дом, машина и т.д.)."]
[{"$nulls":9},"Конструирует несложные постройки из                  2—3 деталей.","Создаёт постройки «по сюжету» (дом, машина и т.д.)."]
[{"$nulls":9},"Конструирует несложные постройки из                  2—3 деталей.","Создаёт постройки «по сюжету» (дом, машина и т.д.)."]
[{"$nulls":9},"Конструирует несложные постройки из                  2—3 деталей.","Создаёт постройки «по сюжету» (дом, машина и т.д.)."]
[{"$nulls":9},"Конструирует несложные постройки из                  2—3 деталей.","Создаёт постройки «по сюжету» (дом, машина и т.д.)."]
[{"$nulls":9},"Конструирует несложные постройки из                  2—3 деталей.","Создаёт постройки «по сюжету» (дом, машина и т.д.)."]
[{"$nulls":9},"Конструирует несложные постройки из                  2—3 деталей.","Создаёт постройки «по сюжету» (дом, машина и т.д.)."]
[{"$nulls":9},"Конструирует несложные постройки из                  2—3 деталей.","Создаёт постройки «по сюжету» (дом, машина и т.д.)."]
[{"$nulls":9},"Конструирует несложные постройки из                  2—3 деталей.","Создаёт постройки «по сюжету» (дом, машина и т.д.)."]
[{"$nulls":9},"Конструирует несложные постройки из                  2—3 деталей.","Создаёт постройки «по сюжету» (дом, машина и т.д.)."]
[{"$nulls":9},"Конструирует несложные постройки из                  2—3 деталей.","Создаёт постройки «по сюжету» (дом, машина и т.д.)."]
[{"$nulls":9},"Конструирует несложные постройки из                  2—3 деталей.","Создаёт постройки «по сюжету» (дом, машина и т.д.)."]
[{"$nulls":9},"Конструирует несложные постройки из                  2—3 деталей.","Создаёт постройки «по сюжету» (дом, машина и т.д.)."]
[{"$nulls":9},"Конструирует несложные постройки из                  2—3 деталей.","Создаёт постройки «по сюжету» (дом, машина и т.д.)."]
[{"$nulls":9},"Конструирует несложные постройки из                  2—3 деталей.","Создаёт постройки «по сюжету» (дом, машина и т.д.)."]
[{"$nulls":9},"Конструирует несложные постройки из                  2—3 деталей.","Создаёт постройки «по сюжету» (дом, машина и т.д.)."]
[{"$nulls":9},"Конструирует несложные постройки из                  2—3 деталей.","Создаёт постройки «по сюжету» (дом, машина и т.д.)."]
[{"$nulls":9},"Конструирует несложные постройки из                  2—3 деталей.","Создаёт постройки «по сюжету» (дом, машина и т.д.)."]
[{"$nulls":9},"Конструирует несложные постройки из                  2—3 деталей.","Создаёт постройки «по сюжету» (дом, машина и т.д.)."]
[{"$nulls":9},"Конструирует несложные постройки из                  2—3 деталей.","Создаёт постройки «по сюжету» (дом, машина и т.д.)."]
[{"$nulls":9},"Конструирует несложные постройки из                  2—3 деталей.","Создаёт постройки «по сюжету» (дом, машина и т.д.)."]
[{"$nulls":9},"Конструирует несложные постройки из                  2—3 деталей.","Создаёт постройки «по сюжету» (дом, машина и т.д.)."]
[{"$nulls":9},"Конструирует несложные постройки из                  2—3 деталей.","Создаёт постройки «по сюжету» (дом, машина и т.д.)."]
[{"$nulls":9},"Конструирует несложные постройки из                  2—3 деталей.","Создаёт постройки «по сюжету» (дом, машина и т.д.)."]
[{"$nulls":9},"Конструирует несложные постройки из                  2—3 деталей.","Создаёт постройки «по сюжету» (дом, машина и т.д.)."]
[{"$nulls":9},"Конструирует несложные постройки из                  2—3 деталей.","Создаёт постройки «по сюжету» (дом, машина и т.д.)."]
[{"$nulls":9},"Конструирует несложные постройки из                  2—3 деталей.","Создаёт постройки «по сюжету» (дом, машина и т.д.)."]
[{"$nulls":9},"Конструирует несложные постройки из                  2—3 деталей.","Создаёт постройки «по сюжету» (дом, машина и т.д.)."]
[{"$nulls":9},"Конструирует несложные постройки из                  2—3 деталей.","Создаёт постройки «по сюжету» (дом, машина и т.д.)."]
[{"$nulls":9},"Конструирует несложные постройки из                  2—3 деталей.","Создаёт постройки «по сюжету» (дом, машина и т.д.)."]
[{"$nulls":9},"Конструирует несложные постройки из                  2—3 деталей.","Создаёт постройки «по сюжету» (дом, машина и т.д.)."]
[{"$nulls":9},"Конструирует несложные постройки из                  2—3 деталей.","Создаёт постройки «по сюжету» (дом, машина и т.д.)."]
[{"$nulls":9},"Конструирует несложные постройки из                  2—3 деталей.","Создаёт постройки «по сюжету» (дом, машина и т.д.)."]
[{"$nulls":9},"Конструирует несложные постройки из                  2—3 деталей.","Создаёт постройки «по сюжету» (дом, машина и т.д.)."]
[{"$nulls":9},"Конструирует несложные постройки из                  2—3 деталей.","Создаёт постройки «по сюжету» (дом, машина и т.д.)."]
[{"$nulls":9},"Конструирует несложные постройки из                  2—3 деталей.","Создаёт постройки «по сюжету» (дом, машина и т.д.)."]
[{"$nulls":9},"Конструирует несложные постройки из                  2—3 деталей.","Создаёт постройки «по сюжету» (дом, машина и т.д.)."]
[{"$nulls":9},"Конструирует несложные постройки из                  2—3 деталей.","Создаёт постройки «по сюжету» (дом, машина и т.д.)."]
[{"$nulls":9},"Конструирует несложные постройки из                  2—3 деталей.","Создаёт постройки «по сюжету» (дом, машина и т.д.)."]
[{"$nulls":9},"Конструирует несложные постройки из                  2—3 деталей.","Создаёт постройки «по сюжету» (дом, машина и т.д.)."]
[{"$nulls":9},"Конструирует несложные постройки из                  2—3 деталей.","Создаёт постройки «по сюжету» (дом, машина и т.д.)."]
[{"$nulls":9},"Конструирует несложные постройки из                  2—3 деталей.","Создаёт постройки «по сюжету» (дом, машина и т.д.)."]
[{"$nulls":9},"Конструирует несложные постройки из                  2—3 деталей.","Создаёт постройки «по сюжету» (дом, машина и т.д.)."]
[{"$nulls":9},"Конструирует несложные постройки из                  2—3 деталей.","Создаёт постройки «по сюжету» (дом, машина и т.д.)."]
[{"$nulls":9},"Конструирует несложные постройки из                  2—3 деталей.","Создаёт постройки «по сюжету» (дом, машина и т.д.)."]
[{"$nulls":9},"Конструирует несложные постройки из                  2—3 деталей.","Создаёт постройки «по сюжету» (дом, машина и т.д.)."]
[{"$nulls":9},"Конструирует несложные постройки из                  2—3 деталей.","Создаёт постройки «по сюжету» (дом, машина и т.д.)."]
[{"$nulls":9},"Конструирует несложные постройки из                  2—3 деталей.","Создаёт постройки «по сюжету» (дом, машина и т.д.)."]
[{"$nulls":9},"Конструирует несложные постройки из                  2—3 деталей.","Создаёт постройки «по сюжету» (дом, машина и т.д.)."]
[{"$nulls":9},"Конструирует несложные постройки из                  2—3 деталей.","Создаёт постройки «по сюжету» (дом, машина и т.д.)."]
[{"$nulls":9},"Конструирует несложные постройки из                  2—3 деталей.","Создаёт постройки «по сюжету» (дом, машина и т.д.)."]
[{"$nulls":9},"Конструирует несложные постройки из                  2—3 деталей.","Создаёт постройки «по сюжету» (дом, машина и т.д.)."]
[{"$nulls":9},"Конструирует несложные постройки из                  2—3 деталей.","Создаёт постройки «по сюжету» (дом, машина и т.д.)."]
[{"$nulls":9},"Конструирует несложные постройки из                  2—3 деталей.","Создаёт постройки «по сюжету» (дом, машина и т.д.)."]
[{"$nulls":9},"Конструирует несложные постройки из                  2—3 деталей.","Создаёт постройки «по сюжету» (дом, машина и т.д.)."]
[{"$nulls":9},"Конструирует несложные постройки из                  2—3 деталей.","Создаёт постройки «по сюжету» (дом, машина и т.д.)."]
[{"$nulls":9},"Конструирует несложные постройки из                  2—3 деталей.","Создаёт постройки «по сюжету» (дом, машина и т.д.)."]
[{"$nulls":9},"Конструирует несложные постройки из                  2—3 деталей.","Создаёт постройки «по сюжету» (дом, машина и т.д.)."]
[{"$nulls":9},"Конструирует несложные постройки из                  2—3 деталей.","Создаёт постройки «по сюжету» (дом, машина и т.д.)."]
[{"$nulls":9},"Конструирует несложные постройки из                  2—3 деталей.","Создаёт постройки «по сюжету» (дом, машина и т.д.)."]
[{"$nulls":9},"Конструирует несложные постройки из                  2—3 деталей.","Создаёт постройки «по сюжету» (дом, машина и т.д.)."]
[{"$nulls":9},"Конструирует несложные постройки из                  2—3 деталей.","Создаёт постройки «по сюжету» (дом, машина и т.д.)."]
[{"$nulls":9},"Конструирует несложные постройки из                  2—3 деталей.","Создаёт постройки «по сюжету» (дом, машина и т.д.)."]
[{"$nulls":9},"Конструирует несложные постройки из                  2—3 деталей.","Создаёт постройки «по сюжету» (дом, машина и т.д.)."]
[{"$nulls":9},"Конструирует несложные постройки из                  2—3 деталей.","Создаёт постройки «по сюжету» (дом, машина и т.д.)."]
[{"$nulls":9},"Конструирует несложные постройки из                  2—3 деталей.","Создаёт постройки «по сюжету» (дом, машина и т.д.)."]
[{"$nulls":9},"Конструирует несложные постройки из                  2—3 деталей.","Создаёт постройки «по сюжету» (дом, машина и т.д.)."]
[{"$nulls":9},"Конструирует несложные постройки из                  2—3 деталей.","Создаёт постройки «по сюжету» (дом, машина и т.д.)."]
[{"$nulls":9},"Конструирует несложные постройки из                  2—3 деталей.","Создаёт постройки «по сюжету» (дом, машина и т.д.)."]
[{"$nulls":9},"Конструирует несложные постройки из                  2—3 деталей.","Создаёт постройки «по сюжету» (дом, машина и т.д.)."]
[{"$nulls":9},"Конструирует несложные постройки из                  2—3 деталей.","Создаёт постройки «по сюжету» (дом, машина и т.д.)."]
[{"$nulls":9},"Конструирует несложные постройки из                  2—3 деталей.","Создаёт постройки «по сюжету» (дом, машина и т.д.)."]
[{"$nulls":9},"Конструирует несложные постройки из                  2—3 деталей.","Создаёт постройки «по сюжету» (дом, машина и т.д.)."]
[{"$nulls":9},"Конструирует несложные постройки из                  2—3 деталей.","Создаёт постройки «по сюжету» (дом, машина и т.д.)."]
[{"$nulls":9},"Конструирует несложные постройки из                  2—3 деталей.","Создаёт постройки «по сюжету» (дом, машина и т.д.)."]
[{"$nulls":9},"Конструирует несложные постройки из                  2—3 деталей.","Создаёт постройки «по сюжету» (дом, машина и т.д.)."]
[{"$nulls":9},"Конструирует несложные постройки из                  2—3 деталей.","Создаёт постройки «по сюжету» (дом, машина и т.д.)."]
[{"$nulls":9},"Конструирует несложные постройки из                  2—3 деталей.","Создаёт постройки «по сюжету» (дом, машина и т.д.)."]
[{"$nulls":9},"Конструирует несложные постройки из                  2—3 деталей.","Создаёт постройки «по сюжету» (дом, машина и т.д.)."]
[{"$nulls":9},"Конструирует несложные постройки из                  2—3 деталей.","Создаёт постройки «по сюжету» (дом, машина и т.д.)."]
[{"$nulls":9},"Конструирует несложные постройки из                  2—3 деталей.","Создаёт постройки «по сюжету» (дом, машина и т.д.)."]
[{"$nulls":9},"Конструирует несложные постройки из                  2—3 деталей.","Создаёт постройки «по сюжету» (дом, машина и т.д.)."]
[{"$nulls":9},"Конструирует несложные постройки из                  2—3 деталей.","Создаёт постройки «по сюжету» (дом, машина и т.д.)."]
[{"$nulls":9},"Конструирует несложные постройки из                  2—3 деталей.","Создаёт постройки «по сюжету» (дом, машина и т.д.)."]
[{"$nulls":9},"Конструирует несложные постройки из                  2—3 деталей.","Создаёт постройки «по сюжету» (дом, машина и т.д.)."]
[{"$nulls":9},"Конструирует несложные постройки из                  2—3 деталей.","Создаёт постройки «по сюжету» (дом, машина и т.д.)."]
[{"$nulls":9},"Конструирует несложные постройки из                  2—3 деталей.","Создаёт постройки «по сюжету» (дом, машина и т.д.)."]
[{"$nulls":9},"Конструирует несложные постройки из                  2—3 деталей.","Создаёт постройки «по сюжету» (дом, машина и т.д.)."]
[{"$nulls":9},"Конструирует несложные постройки из                  2—3 деталей.","Создаёт постройки «по сюжету» (дом, машина и т.д.)."]
[{"$nulls":9},"Конструирует несложные постройки из                  2—3 деталей.","Создаёт постройки «по сюжету» (дом, машина и т.д.)."]
[{"$nulls":9},"Конструирует несложные постройки из                  2—3 деталей.","Создаёт постройки «по сюжету» (дом, машина и т.д.)."]
[{"$nulls":9},"Конструирует несложные постройки из                  2—3 деталей.","Создаёт постройки «по сюжету» (дом, машина и т.д.)."]
[{"$nulls":9},"Конструирует несложные постройки из                  2—3 деталей.","Создаёт постройки «по сюжету» (дом, машина и т.д.)."]
[{"$nulls":9},"Конструирует несложные постройки из                  2—3 деталей.","Создаёт постройки «по сюжету» (дом, машина и т.д.)."]
[{"$nulls":9},"Конструирует несложные постройки из                  2—3 деталей.","Создаёт постройки «по сюжету» (дом, машина и т.д.)."]
[{"$nulls":9},"Конструирует несложные постройки из                  2—3 деталей.","Создаёт постройки «по сюжету» (дом, машина и т.д.)."]
[{"$nulls":9},"Конструирует несложные постройки из                  2—3 деталей.","Создаёт постройки «по сюжету» (дом, машина и т.д.)."]
[{"$nulls":9},"Конструирует несложные постройки из                  2—3 деталей.","Создаёт постройки «по сюжету» (дом, машина и т.д.)."]
[{"$nulls":9},"Конструирует несложные постройки из                  2—3 деталей.","Создаёт постройки «по сюжету» (дом, машина и т.д.)."]
[{"$nulls":9},"Конструирует несложные постройки из                  2—3 деталей.","Создаёт постройки «по сюжету» (дом, машина и т.д.)."]
[{"$nulls":9},"Конструирует несложные постройки из                  2—3 деталей.","Создаёт постройки «по сюжету» (дом, машина и т.д.)."]
[{"$nulls":9},"Конструирует несложные постройки из                  2—3 деталей.","Создаёт постройки «по сюжету» (дом, машина и т.д.)."]
[{"$nulls":9},"Конструирует несложные постройки из                  2—3 деталей.","Создаёт постройки «по сюжету» (дом, машина и т.д.)."]
[{"$nulls":9},"Конструирует несложные постройки из                  2—3 деталей.","Создаёт постройки «по сюжету» (дом, машина и т.д.)."]
[{"$nulls":9},"Конструирует несложные постройки из                  2—3 деталей.","Создаёт постройки «по сюжету» (дом, машина и т.д.)."]
[{"$nulls":9},"Конструирует несложные постройки из                  2—3 деталей.","Создаёт постройки «по сюжету» (дом, машина и т.д.)."]
[{"$nulls":9},"Конструирует несложные постройки из                  2—3 деталей.","Создаёт постройки «по сюжету» (дом, машина и т.д.)."]
[{"$nulls":9},"Конструирует несложные постройки из                  2—3 деталей.","Создаёт постройки «по сюжету» (дом, машина и т.д.)."]
[{"$nulls":9},"Конструирует несложные постройки из                  2—3 деталей.","Создаёт постройки «по сюжету» (дом, машина и т.д.)."]
[{"$nulls":9},"Конструирует несложные постройки из                  2—3 деталей.","Создаёт постройки «по сюжету» (дом, машина и т.д.)."]
[{"$nulls":9},"Конструирует несложные постройки из                  2—3 деталей.","Создаёт постройки «по сюжету» (дом, машина и т.д.)."]
[{"$nulls":9},"Конструирует несложные постройки из                  2—3 деталей.","Создаёт постройки «по сюжету» (дом, машина и т.д.)."]
[{"$nulls":9},"Конструирует несложные постройки из                  2—3 деталей.","Создаёт постройки «по сюжету» (дом, машина и т.д.)."]
[{"$nulls":9},"Конструирует несложные постройки из                  2—3 деталей.","Создаёт постройки «по сюжету» (дом, машина и т.д.)."]
[{"$nulls":9},"Конструирует несложные постройки из                  2—3 деталей.","Создаёт постройки «по сюжету» (дом, машина и т.д.)."]
[{"$nulls":9},"Конструирует несложные постройки из                  2—3 деталей.","Создаёт постройки «по сюжету» (дом, машина и т.д.)."]
[{"$nulls":9},"Конструирует несложные постройки из                  2—3 деталей.","Создаёт постройки «по сюжету» (дом, машина и т.д.)."]
[{"$nulls":9},"Конструирует несложные постройки из                  2—3 деталей.","Создаёт постройки «по сюжету» (дом, машина и т.д.)."]
[{"$nulls":9},"Конструирует несложные постройки из                  2—3 деталей.","Создаёт постройки «по сюжету» (дом, машина и т.д.)."]
[{"$nulls":9},"Конструирует несложные постройки из                  2—3 деталей.","Создаёт постройки «по сюжету» (дом, машина и т.д.)."]
[{"$nulls":9},"Конструирует несложные постройки из                  2—3 деталей.","Создаёт постройки «по сюжету» (дом, машина и т.д.)."]
[{"$nulls":9},"Конструирует несложные постройки из                  2—3 деталей.","Создаёт постройки «по сюжету» (дом, машина и т.д.)."]
[{"$nulls":9},"Конструирует несложные постройки из                  2—3 деталей.","Создаёт постройки «по сюжету» (дом, машина и т.д.)."]
[{"$nulls":9},"Конструирует несложные постройки из                  2—3 деталей.","Создаёт постройки «по сюжету» (дом, машина и т.д.)."]
[{"$nulls":9},"Конструирует несложные постройки из                  2—3 деталей.","Создаёт постройки «по сюжету» (дом, машина и т.д.)."]
[{"$nulls":9},"Конструирует несложные постройки из                  2—3 деталей.","Создаёт постройки «по сюжету» (дом, машина и т.д.)."]
[{"$nulls":9},"Конструирует несложные постройки из                  2—3 деталей.","Создаёт постройки «по сюжету» (дом, машина и т.д.)."]
[{"$nulls":9},"Конструирует несложные постройки из                  2—3 деталей.","Создаёт постройки «по сюжету» (дом, машина и т.д.)."]
[{"$nulls":9},"Конструирует несложные постройки из                  2—3 деталей.","Создаёт постройки «по сюжету» (дом, машина и т.д.)."]
[{"$nulls":9},"Конструирует несложные постройки из                  2—3 деталей.","Создаёт постройки «по сюжету» (дом, машина и т.д.)."]
[{"$nulls":9},"Конструирует несложные постройки из                  2—3 деталей.","Создаёт постройки «по сюжету» (дом, машина и т.д.)."]
[{"$nulls":9},"Конструирует несложные постройки из                  2—3 деталей.","Создаёт постройки «по сюжету» (дом, машина и т.д.)."]
[{"$nulls":9},"Конструирует несложные постройки из                  2—3 деталей.","Создаёт постройки «по сюжету» (дом, машина и т.д.)."]
[{"$nulls":9},"Конструирует несложные постройки из                  2—3 деталей.","Создаёт постройки «по сюжету» (дом, машина и т.д.)."]
[{"$nulls":9},"Конструирует несложные постройки из                  2—3 деталей.","Создаёт постройки «по сюжету» (дом, машина и т.д.)."]
[{"$nulls":9},"Конструирует несложные постройки из                  2—3 деталей.","Создаёт постройки «по сюжету» (дом, машина и т.д.)."]
[{"$nulls":9},"Конструирует несложные постройки из                  2—3 деталей.","Создаёт постройки «по сюжету» (дом, машина и т.д.)."]
[{"$nulls":9},"Конструирует несложные постройки из                  2—3 деталей.","Создаёт постройки «по сюжету» (дом, машина и т.д.)."]
[{"$nulls":9},"Конструирует несложные постройки из                  2—3 деталей.","Создаёт постройки «по сюжету» (дом, машина и т.д.)."]
[{"$nulls":9},"Конструирует несложные постройки из                  2—3 деталей.","Создаёт постройки «по сюжету» (дом, машина и т.д.)."]
[{"$nulls":9},"Конструирует несложные постройки из                  2—3 деталей.","Создаёт постройки «по сюжету» (дом, машина и т.д.)."]
[{"$nulls":9},"Конструирует несложные постройки из                  2—3 деталей.","Создаёт постройки «по сюжету» (дом, машина и т.д.)."]
[{"$nulls":9},"Конструирует несложные постройки из                  2—3 деталей.","Создаёт постройки «по сюжету» (дом, машина и т.д.)."]
[{"$nulls":9},"Конструирует несложные постройки из                  2—3 деталей.","Создаёт постройки «по сюжету» (дом, машина и т.д.)."]
[{"$nulls":9},"Конструирует несложные постройки из                  2—3 деталей.","Создаёт постройки «по сюжету» (дом, машина и т.д.)."]
[{"$nulls":9},"Конструирует несложные постройки из                  2—3 деталей.","Создаёт постройки «по сюжету» (дом, машина и т.д.)."]
[{"$nulls":9},"Конструирует несложные постройки из                  2—3 деталей.","Создаёт постройки «по сюжету» (дом, машина и т.д.)."]
[{"$nulls":9},"Конструирует несложные постройки из                  2—3 деталей.","Создаёт постройки «по сюжету» (дом, машина и т.д.)."]
[{"$nulls":9},"Конструирует несложные постройки из                  2—3 деталей.","Создаёт постройки «по сюжету» (дом, машина и т.д.)."]
[{"$nulls":9},"Конструирует несложные постройки из                  2—3 деталей.","Создаёт постройки «по сюжету» (дом, машина и т.д.)."]
[{"$nulls":9},"Конструирует несложные постройки из                  2—3 деталей.","Создаёт постройки «по сюжету» (дом, машина и т.д.)."]
[{"$nulls":9},"Конструирует несложные постройки из                  2—3 деталей.","Создаёт постройки «по сюжету» (дом, машина и т.д.)."]
[{"$nulls":9},"Конструирует несложные постройки из                  2—3 деталей.","Создаёт постройки «по сюжету» (дом, машина и т.д.)."]
[{"$nulls":9},"Конструирует несложные постройки из                  2—3 деталей.","Создаёт постройки «по сюжету» (дом, машина и т.д.)."]
[{"$nulls":9},"Конструирует несложные постройки из                  2—3 деталей.","Создаёт постройки «по сюжету» (дом, машина и т.д.)."]
[{"$nulls":9},"Конструирует несложные постройки из                  2—3 деталей.","Создаёт постройки «по сюжету» (дом, машина и т.д.)."]
[{"$nulls":9},"Конструирует несложные постройки из                  2—3 деталей.","Создаёт постройки «по сюжету» (дом, машина и т.д.)."]
[{"$nulls":9},"Конструирует несложные постройки из                  2—3 деталей.","Создаёт постройки «по сюжету» (дом, машина и т.д.)."]
[{"$nulls":9},"Конструирует несложные постройки из                  2—3 деталей.","Создаёт постройки «по сюжету» (дом, машина и т.д.)."]
[{"$nulls":9},"Конструирует несложные постройки из                  2—3 деталей.","Создаёт постройки «по сюжету» (дом, машина и т.д.)."]
[{"$nulls":9},"Конструирует несложные постройки из                  2—3 деталей.","Создаёт постройки «по сюжету» (дом, машина и т.д.)."]
[{"$nulls":9},"Конструирует несложные постройки из                  2—3 деталей.","Создаёт постройки «по сюжету» (дом, машина и т.д.)."]
[{"$nulls":9},"Конструирует несложные постройки из                  2—3 деталей.","Создаёт постройки «по сюжету» (дом, машина и т.д.)."]
[{"$nulls":9},"Конструирует несложные постройки из                  2—3 деталей.","Создаёт постройки «по сюжету» (дом, машина и т.д.)."]
[{"$nulls":9},"Конструирует несложные постройки из                  2—3 деталей.","Создаёт постройки «по сюжету» (дом, машина и т.д.)."]
[{"$nulls":9},"Конструирует несложные постройки из                  2—3 деталей.","Создаёт постройки «по сюжету» (дом, машина и т.д.)."]
[{"$nulls":9},"Конструирует несложные постройки из                  2—3 деталей.","Создаёт постройки «по сюжету» (дом, машина и т.д.)."]
[{"$nulls":9},"Конструирует несложные постройки из                  2—3 деталей.","Создаёт постройки «по сюжету» (дом, машина и т.д.)."]
[{"$nulls":9},"Конструирует несложные постройки из                  2—3 деталей.","Создаёт постройки «по сюжету» (дом, машина и т.д.)."]
[{"$nulls":9},"Конструирует несложные постройки из                  2—3 деталей.","Создаёт постройки «по сюжету» (дом, машина и т.д.)."]
[{"$nulls":9},"Конструирует несложные постройки из                  2—3 деталей.","Создаёт постройки «по сюжету» (дом, машина и т.д.)."]
[{"$nulls":9},"Конструирует несложные постройки из                  2—3 деталей.","Создаёт постройки «по сюжету» (дом, машина и т.д.)."]
[{"$nulls":9},"Конструирует несложные постройки из                  2—3 деталей.","Создаёт постройки «по сюжету» (дом, машина и т.д.)."]
[{"$nulls":9},"Конструирует несложные постройки из                  2—3 деталей.","Создаёт постройки «по сюжету» (дом, машина и т.д.)."]
[{"$nulls":9},"Конструирует несложные постройки из                  2—3 деталей.","Создаёт постройки «по сюжету» (дом, машина и т.д.)."]
[{"$nulls":9},"Конструирует несложные постройки из                  2—3 деталей.","Создаёт постройки «по сюжету» (дом, машина и т.д.)."]
[{"$nulls":9},"Конструирует несложные постройки из                  2—3 деталей.","Создаёт постройки «по сюжету» (дом, машина и т.д.)."]
[{"$nulls":9},"Конструирует несложные постройки из                  2—3 деталей.","Создаёт постройки «по сюжету» (дом, машина и т.д.)."]
[{"$nulls":9},"Конструирует несложные постройки из                  2—3 деталей.","Создаёт постройки «по сюжету» (дом, машина и т.д.)."]
[{"$nulls":9},"Конструирует несложные постройки из                  2—3 деталей.","Создаёт постройки «по сюжету» (дом, машина и т.д.)."]
[{"$nulls":9},"Конструирует несложные постройки из                  2—3 деталей.","Создаёт постройки «по сюжету» (дом, машина и т.д.)."]
[{"$nulls":9},"Конструирует несложные постройки из                  2—3 деталей.","Создаёт постройки «по сюжету» (дом, машина и т.д.)."]
[{"$nulls":9},"Конструирует несложные постройки из                  2—3 деталей.","Создаёт постройки «по сюжету» (дом, машина и т.д.)."]
[{"$nulls":9},"Конструирует несложные постройки из                  2—3 деталей.","Создаёт постройки «по сюжету» (дом, машина и т.д.)."]
[{"$nulls":9},"Конструирует несложные постройки из                  2—3 деталей.","Создаёт постройки «по сюжету» (дом, машина и т.д.)."]
[{"$nulls":9},"Конструирует несложные постройки из                  2—3 деталей.","Создаёт постройки «по сюжету» (дом, машина и т.д.)."]
[{"$nulls":9},"Конструирует несложные постройки из                  2—3 деталей.","Создаёт постройки «по сюжету» (дом, машина и т.д.)."]
[{"$nulls":9},"Конструирует несложные постройки из                  2—3 деталей.","Создаёт постройки «по сюжету» (дом, машина и т.д.)."]
[{"$nulls":9},"Конструирует несложные постройки из                  2—3 деталей.","Создаёт постройки «по сюжету» (дом, машина и т.д.)."]
[{"$nulls":9},"Конструирует несложные постройки из                  2—3 деталей.","Создаёт постройки «по сюжету» (дом, машина и т.д.)."]
[{"$nulls":9},"Конструирует несложные постройки из                  2—3 деталей.","Создаёт постройки «по сюжету» (дом, машина и т.д.)."]
[{"$nulls":9},"Конструирует несложные постройки из                  2—3 деталей.","Создаёт постройки «по сюжету» (дом, машина и т.д.)."]
[{"$nulls":9},"Конструирует несложные постройки из                  2—3 деталей.","Создаёт постройки «по сюжету» (дом, машина и т.д.)."]
[{"$nulls":9},"Конструирует несложные постройки из                  2—3 деталей.","Создаёт постройки «по сюжету» (дом, машина и т.д.)."]
[{"$nulls":9},"Конструирует несложные постройки из                  2—3 деталей.","Создаёт постройки «по сюжету» (дом, машина и т.д.)."]
[{"$nulls":9},"Конструирует несложные постройки из                  2—3 деталей.","Создаёт постройки «по сюжету» (дом, машина и т.д.)."]
[{"$nulls":9},"Конструирует несложные постройки из                  2—3 деталей.","Создаёт постройки «по сюжету» (дом, машина и т.д.)."]
[{"$nulls":9},"Конструирует несложные постройки из                  2—3 деталей.","Создаёт постройки «по сюжету» (дом, машина и т.д.)."]
[{"$nulls":9},"Конструирует несложные постройки из                  2—3 деталей.","Создаёт постройки «по сюжету» (дом, машина и т.д.)."]
[{"$nulls":9},"Конструирует несложные постройки из                  2—3 деталей.","Создаёт постройки «по сюжету» (дом, машина и т.д.)."]
[{"$nulls":9},"Конструирует несложные постройки из                  2—3 деталей.","Создаёт постройки «по сюжету» (дом, машина и т.д.)."]
[{"$nulls":9},"Конструирует несложные постройки из                  2—3 деталей.","Создаёт постройки «по сюжету» (дом, машина и т.д.)."]
[{"$nulls":9},"Конструирует несложные постройки из                  2—3 деталей.","Создаёт постройки «по сюжету» (дом, машина и т.д.)."]
[{"$nulls":9},"Конструирует несложные постройки из                  2—3 деталей.","Создаёт постройки «по сюжету» (дом, машина и т.д.)."]
[{"$nulls":9},"Конструирует несложные постройки из                  2—3 деталей.","Создаёт постройки «по сюжету» (дом, машина и т.д.)."]
[{"$nulls":9},"Конструирует несложные постройки из                  2—3 деталей.","Создаёт постройки «по сюжету» (дом, машина и т.д.)."]
[{"$nulls":9},"Конструирует несложные постройки из                  2—3 деталей.","Создаёт постройки «по сюжету» (дом, машина и т.д.)."]
[{"$nulls":9},"Конструирует несложные постройки из                  2—3 деталей.","Создаёт постройки «по сюжету» (дом, машина и т.д.)."]
[{"$nulls":9},"Конструирует несложные постройки из                  2—3 деталей.","Создаёт постройки «по сюжету» (дом, машина и т.д.)."]
[{"$nulls":9},"Конструирует несложные постройки из                  2—3 деталей.","Создаёт постройки «по сюжету» (дом, машина и т.д.)."]
[{"$nulls":9},"Конструирует несложные постройки из                  2—3 деталей.","Создаёт постройки «по сюжету» (дом, машина и т.д.)."]
[{"$nulls":9},"Конструирует несложные постройки из                  2—3 деталей.","Создаёт постройки «по сюжету» (дом, машина и т.д.)."]
[{"$nulls":9},"Конструирует несложные постройки из                  2—3 деталей.","Создаёт постройки «по сюжету» (дом, машина и т.д.)."]
[{"$nulls":9},"Конструирует несложные постройки из                  2—3 деталей.","Создаёт постройки «по сюжету» (дом, машина и т.д.)."]
[{"$nulls":9},"Конструирует несложные постройки из                  2—3 деталей.","Создаёт постройки «по сюжету» (дом, машина и т.д.)."]
[{"$nulls":9},"Конструирует несложные постройки из                  2—3 деталей.","Создаёт постройки «по сюжету» (дом, машина и т.д.)."]
[{"$nulls":9},"Конструирует несложные постройки из                  2—3 деталей.","Создаёт постройки «по сюжету» (дом, машина и т.д.)."]
[{"$nulls":9},"Конструирует несложные постройки из                  2—3 деталей.","Создаёт постройки «по сюжету» (дом, машина и т.д.)."]
[{"$nulls":9},"Конструирует несложные постройки из                  2—3 деталей.","Создаёт постройки «по сюжету» (дом, машина и т.д.)."]
[{"$nulls":9},"Конструирует несложные постройки из                  2—3 деталей.","Создаёт постройки «по сюжету» (дом, машина и т.д.)."]
[{"$nulls":9},"Конструирует несложные постройки из                  2—3 деталей.","Создаёт постройки «по сюжету» (дом, машина и т.д.)."]
[{"$nulls":9},"Конструирует несложные постройки из                  2—3 деталей.","Создаёт постройки «по сюжету» (дом, машина и т.д.)."]
[{"$nulls":9},"Конструирует несложные постройки из                  2—3 деталей.","Создаёт постройки «по сюжету» (дом, машина и т.д.)."]
[{"$nulls":9},"Конструирует несложные постройки из                  2—3 деталей.","Создаёт постройки «по сюжету» (дом, машина и т.д.)."]
[{"$nulls":9},"Конструирует несложные постройки из                  2—3 деталей.","Создаёт постройки «по сюжету» (дом, машина и т.д.)."]
[{"$nulls":9},"Конструирует несложные постройки из                  2—3 деталей.","Создаёт постройки «по сюжету» (дом, машина и т.д.)."]
[{"$nulls":9},"Конструирует несложные постройки из                  2—3 деталей.","Создаёт постройки «по сюжету» (дом, машина и т.д.)."]
[{"$nulls":9},"Конструирует несложные постройки из                  2—3 деталей.","Создаёт постройки «по сюжету» (дом, машина и т.д.)."]
[{"$nulls":9},"Конструирует несложные постройки из                  2—3 деталей.","Создаёт постройки «по сюжету» (дом, машина и т.д.)."]
[{"$nulls":9},"Конструирует несложные постройки из                  2—3 деталей.","Создаёт постройки «по сюжету» (дом, машина и т.д.)."]
[{"$nulls":9},"Конструирует несложные постройки из                  2—3 деталей.","Создаёт постройки «по сюжету» (дом, машина и т.д.)."]
[{"$nulls":9},"Конструирует несложные постройки из                  2—3 деталей.","Создаёт постройки «по сюжету» (дом, машина и т.д.)."]
[{"$nulls":9},"Конструирует несложные постройки из                  2—3 деталей.","Создаёт постройки «по сюжету» (дом, машина и т.д.)."]
[{"$nulls":9},"Конструирует несложные постройки из                  2—3 деталей.","Создаёт постройки «по сюжету» (дом, машина и т.д.)."]
[{"$nulls":9},"Конструирует несложные постройки из                  2—3 деталей.","Создаёт постройки «по сюжету» (дом, машина и т.д.)."]
[{"$nulls":9},"Конструирует несложные постройки из                  2—3 деталей.","Создаёт постройки «по сюжету» (дом, машина и т.д.)."]
[{"$nulls":9},"Конструирует несложные постройки из                  2—3 деталей.","Создаёт постройки «по сюжету» (дом, машина и т.д.)."]
[{"$nulls":9},"Конструирует несложные постройки из                  2—3 деталей.","Создаёт постройки «по сюжету» (дом, машина и т.д.)."]
[{"$nulls":9},"Конструирует несложные постройки из                  2—3 деталей.","Создаёт постройки «по сюжету» (дом, машина и т.д.)."]
[{"$nulls":9},"Конструирует несложные постройки из                  2—3 деталей.","Создаёт постройки «по сюжету» (дом, машина и т.д.)."]
[{"$nulls":9},"Конструирует несложные постройки из                  2—3 деталей.","Создаёт постройки «по сюжету» (дом, машина и т.д.)."]
[{"$nulls":9},"Конструирует несложные постройки из                  2—3 деталей.","Создаёт постройки «по сюжету» (дом, машина и т.д.)."]
[{"$nulls":9},"Конструирует несложные постройки из                  2—3 деталей.","Создаёт постройки «по сюжету» (дом, машина и т.д.)."]
[{"$nulls":9},"Конструирует несложные постройки из                  2—3 деталей.","Создаёт постройки «по сюжету» (дом, машина и т.д.)."]
[{"$nulls":9},"Конструирует несложные постройки из                  2—3 деталей.","Создаёт постройки «по сюжету» (дом, машина и т.д.)."]
[{"$nulls":9},"Конструирует несложные постройки из                  2—3 деталей.","Создаёт постройки «по сюжету» (дом, машина и т.д.)."]
[{"$nulls":9},"Конструирует несложные постройки из                  2—3 деталей.","Создаёт постройки «по сюжету» (дом, машина и т.д.)."]
[{"$nulls":9},"Конструирует несложные постройки из                  2—3 деталей.","Создаёт постройки «по сюжету» (дом, машина и т.д.)."]
[{"$nulls":9},"Конструирует несложные постройки из                  2—3 деталей.","Создаёт постройки «по сюжету» (дом, машина и т.д.)."]
[{"$nulls":9},"Конструирует несложные постройки из                  2—3 деталей.","Создаёт постройки «по сюжету» (дом, машина и т.д.)."]
[{"$nulls":9},"Конструирует несложные постройки из                  2—3 деталей.","Создаёт постройки «по сюжету» (дом, машина и т.д.)."]
[{"$nulls":9},"Конструирует несложные постройки из                  2—3 деталей.","Создаёт постройки «по сюжету» (дом, машина и т.д.)."]
[{"$nulls":9},"Конструирует несложные постройки из                  2—3 деталей.","Создаёт постройки «по сюжету» (дом, машина и т.д.)."]
[{"$nulls":9},"Конструирует несложные постройки из                  2—3 деталей.","Создаёт постройки «по сюжету» (дом, машина и т.д.)."]
[{"$nulls":9},"Конструирует несложные постройки из                  2—3 деталей.","Создаёт постройки «по сюжету» (дом, машина и т.д.)."]
[{"$nulls":9},"Конструирует несложные постройки из                  2—3 деталей.","Создаёт постройки «по сюжету» (дом, машина и т.д.)."]
[{"$nulls":9},"Конструирует несложные постройки из                  2—3 деталей.","Создаёт постройки «по сюжету» (дом, машина и т.д.)."]
[{"$nulls":9},"Конструирует несложные постройки из                  2—3 деталей.","Создаёт постройки «по сюжету» (дом, машина и т.д.)."]
[{"$nulls":9},"Конструирует несложные постройки из                  2—3 деталей.","Создаёт постройки «по сюжету» (дом, машина и т.д.)."]
[{"$nulls":9},"Конструирует несложные постройки из                  2—3 деталей.","Создаёт постройки «по сюжету» (дом, машина и т.д.)."]
[{"$nulls":9},"Конструирует несложные постройки из                  2—3 деталей.","Создаёт постройки «по сюжету» (дом, машина и т.д.)."]
[{"$nulls":9},"Конструирует несложные постройки из                  2—3 деталей.","Создаёт постройки «по сюжету» (дом, машина и т.д.)."]
[{"$nulls":9},"Конструирует несложные постройки из                  2—3 деталей.","Создаёт постройки «по сюжету» (дом, машина и т.д.)."]
[{"$nulls":9},"Конструирует несложные постройки из                  2—3 деталей.","Создаёт постройки «по сюжету» (дом, машина и т.д.)."]
[{"$nulls":9},"Конструирует несложные постройки из                  2—3 деталей.","Создаёт постройки «по сюжету» (дом, машина и т.д.)."]
[{"$nulls":9},"Конструирует несложные постройки из                  2—3 деталей.","Создаёт постройки «по сюжету» (дом, машина и т.д.)."]
[{"$nulls":9},"Конструирует несложные постройки из                  2—3 деталей.","Создаёт постройки «по сюжету» (дом, машина и т.д.)."]
[{"$nulls":9},"Конструирует несложные постройки из                  2—3 деталей.","Создаёт постройки «по сюжету» (дом, машина и т.д.)."]
[{"$nulls":9},"Конструирует несложные постройки из                  2—3 деталей.","Создаёт постройки «по сюжету» (дом, машина и т.д.)."]
[{"$nulls":9},"Конструирует несложные постройки из                  2—3 деталей.","Создаёт постройки «по сюжету» (дом, машина и т.д.)."]
[{"$nulls":9},"Конструирует несложные постройки из                  2—3 деталей.","Создаёт постройки «по сюжету» (дом, машина и т.д.)."]
[{"$nulls":9},"Конструирует несложные постройки из                  2—3 деталей.","Создаёт постройки «по сюжету» (дом, машина и т.д.)."]
[{"$nulls":9},"Конструирует несложные постройки из                  2—3 деталей.","Создаёт постройки «по сюжету» (дом, машина и т.д.)."]
[{"$nulls":9},"Конструирует несложные постройки из                  2—3 деталей.","Создаёт постройки «по сюжету» (дом, машина и т.д.)."]
[{"$nulls":9},"Конструирует несложные постройки из                  2—3 деталей.","Создаёт постройки «по сюжету» (дом, машина и т.д.)."]
[{"$nulls":9},"Конструирует несложные постройки из                  2—3 деталей.","Создаёт постройки «по сюжету» (дом, машина и т.д.)."]
[{"$nulls":9},"Конструирует несложные постройки из                  2—3 деталей.","Создаёт постройки «по сюжету» (дом, машина и т.д.)."]
[{"$nulls":9},"Конструирует несложные постройки из                  2—3 деталей.","Создаёт постройки «по сюжету» (дом, машина и т.д.)."]
[{"$nulls":9},"Конструирует несложные постройки из                  2—3 деталей.","Создаёт постройки «по сюжету» (дом, машина и т.д.)."]
[{"$nulls":9},"Конструирует несложные постройки из                  2—3 деталей.","Создаёт постройки «по сюжету» (дом, машина и т.д.)."]
[{"$nulls":9},"Конструирует несложные постройки из                  2—3 деталей.","Создаёт постройки «по сюжету» (дом, машина и т.д.)."]
[{"$nulls":9},"Конструирует несложные постройки из                  2—3 деталей.","Создаёт постройки «по сюжету» (дом, машина и т.д.)."]
[{"$nulls":9},"Конструирует несложные постройки из                  2—3 деталей.","Создаёт постройки «по сюжету» (дом, машина и т.д.)."]
[{"$nulls":9},"Конструирует несложные постройки из                  2—3 деталей.","Создаёт постройки «по сюжету» (дом, машина и т.д.)."]
[{"$nulls":9},"Конструирует несложные постройки из                  2—3 деталей.","Создаёт постройки «по сюжету» (дом, машина и т.д.)."]
[{"$nulls":9},"Конструирует несложные постройки из                  2—3 деталей.","Создаёт постройки «по сюжету» (дом, машина и т.д.)."]
[{"$nulls":9},"Конструирует несложные постройки из                  2—3 деталей.","Создаёт постройки «по сюжету» (дом, машина и т.д.)."]
[{"$nulls":9},"Конструирует несложные постройки из                  2—3 деталей.","Создаёт постройки «по сюжету» (дом, машина и т.д.)."]
[{"$nulls":9},"Конструирует несложные постройки из                  2—3 деталей.","Создаёт постройки «по сюжету» (дом, машина и т.д.)."]
[{"$nulls":9},"Конструирует несложные постройки из                  2—3 деталей.","Создаёт постройки «по сюжету» (дом, машина и т.д.)."]
[{"$nulls":9},"Конструирует несложные постройки из                  2—3 деталей.","Создаёт постройки «по сюжету» (дом, машина и т.д.)."]
[{"$nulls":9},"Конструирует несложные постройки из                  2—3 деталей.","Создаёт постройки «по сюжету» (дом, машина и т.д.)."]
[{"$nulls":9},"Конструирует несложные постройки из                  2—3 деталей.","Создаёт постройки «по сюжету» (дом, машина и т.д.)."]
[{"$nulls":9},"Конструирует несложные постройки из                  2—3 деталей.","Создаёт постройки «по сюжету» (дом, машина и т.д.)."]
[{"$nulls":9},"Конструирует несложные постройки из                  2—3 деталей.","Создаёт постройки «по сюжету» (дом, машина и т.д.)."]
[{"$nulls":9},"Конструирует несложные постройки из                  2—3 деталей.","Создаёт постройки «по сюжету» (дом, машина и т.д.)."]
[{"$nulls":9},"Конструирует несложные постройки из                  2—3 деталей.","Создаёт постройки «по сюжету» (дом, машина и т.д.)."]
[{"$nulls":9},"Конструирует несложные постройки из                  2—3 деталей.","Создаёт постройки «по сюжету» (дом, машина и т.д.)."]
[{"$nulls":9},"Конструирует несложные постройки из                  2—3 деталей.","Создаёт постройки «по сюжету» (дом, машина и т.д.)."]
[{"$nulls":9},"Конструирует несложные постройки из                  2—3 деталей.","Создаёт постройки «по сюжету» (дом, машина и т.д.)."]
[{"$nulls":9},"Конструирует несложные постройки из                  2—3 деталей.","Создаёт постройки «по сюжету» (дом, машина и т.д.)."]
[{"$nulls":9},"Конструирует несложные постройки из                  2—3 деталей.","Создаёт постройки «по сюжету» (дом, машина и т.д.)."]
[{"$nulls":9},"Конструирует несложные постройки из                  2—3 деталей.","Создаёт постройки «по сюжету» (дом, машина и т.д.)."]
[{"$nulls":9},"Конструирует несложные постройки из                  2—3 деталей.","Создаёт постройки «по сюжету» (дом, машина и т.д.)."]
[{"$nulls":9},"Конструирует несложные постройки из                  2—3 деталей.","Создаёт постройки «по сюжету» (дом, машина и т.д.)."]
[{"$nulls":9},"Конструирует несложные постройки из                  2—3 деталей.","Создаёт постройки «по сюжету» (дом, машина и т.д.)."]
[{"$nulls":9},"Конструирует несложные постройки из                  2—3 деталей.","Создаёт постройки «по сюжету» (дом, машина и т.д.)."]
[{"$nulls":9},"Конструирует несложные постройки из                  2—3 деталей.","Создаёт постройки «по сюжету» (дом, машина и т.д.)."]
[{"$nulls":9},"Конструирует несложные постройки из                  2—3 деталей.","Создаёт постройки «по сюжету» (дом, машина и т.д.)."]
[{"$nulls":9},"Конструирует несложные постройки из                  2—3 деталей.","Создаёт постройки «по сюжету» (дом, машина и т.д.)."]
[{"$nulls":9},"Конструирует несложные постройки из                  2—3 деталей.","Создаёт постройки «по сюжету» (дом, машина и т.д.)."]
[{"$nulls":9},"Конструирует несложные постройки из                  2—3 деталей.","Создаёт постройки «по сюжету» (дом, машина и т.д.)."]
[{"$nulls":9},"Конструирует несложные постройки из                  2—3 деталей.","Создаёт постройки «по сюжету» (дом, машина и т.д.)."]
[{"$nulls":9},"Конструирует несложные постройки из                  2—3 деталей.","Создаёт постройки «по сюжету» (дом, машина и т.д.)."]
[{"$nulls":9},"Конструирует несложные постройки из                  2—3 деталей.","Создаёт постройки «по сюжету» (дом, машина и т.д.)."]
[{"$nulls":9},"Конструирует несложные постройки из                  2—3 деталей.","Создаёт постройки «по сюжету» (дом, машина и т.д.)."]
[{"$nulls":9},"Конструирует несложные постройки из                  2—3 деталей.","Создаёт постройки «по сюжету» (дом, машина и т.д.)."]
[{"$nulls":9},"Конструирует несложные постройки из                  2—3 деталей.","Создаёт постройки «по сюжету» (дом, машина и т.д.)."]
[{"$nulls":9},"Конструирует несложные постройки из                  2—3 деталей.","Создаёт постройки «по сюжету» (дом, машина и т.д.)."]
[{"$nulls":9},"Конструирует несложные постройки из                  2—3 деталей.","Создаёт постройки «по сюжету» (дом, машина и т.д.)."]
[{"$nulls":9},"Конструирует несложные постройки из                  2—3 деталей.","Создаёт постройки «по сюжету» (дом, машина и т.д.)."]
[{"$nulls":9},"Конструирует несложные постройки из                  2—3 деталей.","Создаёт постройки «по сюжету» (дом, машина и т.д.)."]
[{"$nulls":9},"Конструирует несложные постройки из                  2—3 деталей.","Создаёт постройки «по сюжету» (дом, машина и т.д.)."]
[{"$nulls":9},"Конструирует несложные постройки из                  2—3 деталей.","Создаёт постройки «по сюжету» (дом, машина и т.д.)."]
[{"$nulls":9},"Конструирует несложные постройки из                  2—3 деталей.","Создаёт постройки «по сюжету» (дом, машина и т.д.)."]
[{"$nulls":9},"Конструирует несложные постройки из                  2—3 деталей.","Создаёт постройки «по сюжету» (дом, машина и т.д.)."]
[{"$nulls":9},"Конструирует несложные постройки из                  2—3 деталей.","Создаёт постройки «по сюжету» (дом, машина и т.д.)."]
[{"$nulls":9},"Конструирует несложные постройки из                  2—3 деталей.","Создаёт постройки «по сюжету» (дом, машина и т.д.)."]
[{"$nulls":9},"Конструирует несложные постройки из                  2—3 деталей.","Создаёт постройки «по сюжету» (дом, машина и т.д.)."]
[{"$nulls":9},"Конструирует несложные постройки из                  2—3 деталей.","Создаёт постройки «по сюжету» (дом, машина и т.д.)."]
[{"$nulls":9},"Конструирует несложные постройки из                  2—3 деталей.","Создаёт постройки «по сюжету» (дом, машина и т.д.)."]
[{"$nulls":9},"Конструирует несложные постройки из                  2—3 деталей.","Создаёт постройки «по сюжету» (дом, машина и т.д.)."]
[{"$nulls":9},"Конструирует несложные постройки из                  2—3 деталей.","Создаёт постройки «по сюжету» (дом, машина и т.д.)."]
[{"$nulls":9},"Конструирует несложные постройки из                  2—3 деталей.","Создаёт постройки «по сюжету» (дом, машина и т.д.)."]
[{"$nulls":9},"Конструирует несложные постройки из                  2—3 деталей.","Создаёт постройки «по сюжету» (дом, машина и т.д.)."]
[{"$nulls":9},"Конструирует несложные постройки из                  2—3 деталей.","Создаёт постройки «по сюжету» (дом, машина и т.д.)."]
[{"$nulls":9},"Конструирует несложные постройки из                  2—3 деталей.","Создаёт постройки «по сюжету» (дом, машина и т.д.)."]
[{"$nulls":9},"Конструирует несложные постройки из                  2—3 деталей.","Создаёт постройки «по сюжету» (дом, машина и т.д.)."]
[{"$nulls":9},"Конструирует несложные постройки из                  2—3 деталей.","Создаёт постройки «по сюжету» (дом, машина и т.д.)."]
[{"$nulls":9},"Конструирует несложные постройки из                  2—3 деталей.","Создаёт постройки «по сюжету» (дом, машина и т.д.)."]
[{"$nulls":9},"Конструирует несложные постройки из                  2—3 деталей.","Создаёт постройки «по сюжету» (дом, машина и т.д.)."]
[{"$nulls":9},"Конструирует несложные постройки из                  2—3 деталей.","Создаёт постройки «по сюжету» (дом, машина и т.д.)."]
[{"$nulls":9},"Конструирует несложные постройки из                  2—3 деталей.","Создаёт постройки «по сюжету» (дом, машина и т.д.)."]
[{"$nulls":9},"Конструирует несложные постройки из                  2—3 деталей.","Создаёт постройки «по сюжету» (дом, машина и т.д.)."]
[{"$nulls":9},"Конструирует несложные постройки из                  2—3 деталей.","Создаёт постройки «по сюжету» (дом, машина и т.д.)."]
[{"$nulls":9},"Конструирует несложные постройки из                  2—3 деталей.","Создаёт постройки «по сюжету» (дом, машина и т.д.)."]
[{"$nulls":9},"Конструирует несложные постройки из                  2—3 деталей.","Создаёт постройки «по сюжету» (дом, машина и т.д.)."]
[{"$nulls":9},"Конструирует несложные постройки из                  2—3 деталей.","Создаёт постройки «по сюжету» (дом, машина и т.д.)."]
[{"$nulls":9},"Конструирует несложные постройки из                  2—3 деталей.","Создаёт постройки «по сюжету» (дом, машина и т.д.)."]
[{"$nulls":9},"Конструирует несложные постройки из                  2—3 деталей.","Создаёт постройки «по сюжету» (дом, машина и т.д.)."]
[{"$nulls":9},"Конструирует несложные постройки из                  2—3 деталей.","Создаёт постройки «по сюжету» (дом, машина и т.д.)."]
[{"$nulls":9},"Конструирует несложные постройки из                  2—3 деталей.","Создаёт постройки «по сюжету» (дом, машина и т.д.)."]
[{"$nulls":9},"Конструирует несложные постройки из                  2—3 деталей.","Создаёт постройки «по сюжету» (дом, машина и т.д.)."]
[{"$nulls":9},"Конструирует несложные постройки из                  2—3 деталей.","Создаёт постройки «по сюжету» (дом, машина и т.д.)."]
[{"$nulls":9},"Конструирует несложные постройки из                  2—3 деталей.","Создаёт постройки «по сюжету» (дом, машина и т.д.)."]
[{"$nulls":9},"Конструирует несложные постройки из                  2—3 деталей.","Создаёт постройки «по сюжету» (дом, машина и т.д.)."]
[{"$nulls":9},"Конструирует несложные постройки из                  2—3 деталей.","Создаёт постройки «по сюжету» (дом, машина и т.д.)."]
[{"$nulls":9},"Конструирует несложные постройки из                  2—3 деталей.","Создаёт постройки «по сюжету» (дом, машина и т.д.)."]
[{"$nulls":9},"Конструирует несложные постройки из                  2—3 деталей.","Создаёт постройки «по сюжету» (дом, машина и т.д.)."]
[{"$nulls":9},"Конструирует несложные постройки из                  2—3 деталей.","Создаёт постройки «по сюжету» (дом, машина и т.д.)."]
[{"$nulls":9},"Конструирует несложные постройки из                  2—3 деталей.","Создаёт постройки «по сюжету» (дом, машина и т.д.)."]
[{"$nulls":9},"Конструирует несложные постройки из                  2—3 деталей.","Создаёт постройки «по сюжету» (дом, машина и т.д.)."]
[{"$nulls":9},"Конструирует несложные постройки из                  2—3 деталей.","Создаёт постройки «по сюжету» (дом, машина и т.д.)."]
[{"$nulls":9},"Конструирует несложные постройки из                  2—3 деталей.","Создаёт постройки «по сюжету» (дом, машина и т.д.)."]
[{"$nulls":9},"Конструирует несложные постройки из                  2—3 деталей.","Создаёт постройки «по сюжету» (дом, машина и т.д.)."]
[{"$nulls":9},"Конструирует несложные постройки из                  2—3 деталей.","Создаёт постройки «по сюжету» (дом, машина и т.д.)."]
[{"$nulls":9},"Конструирует несложные постройки из                  2—3 деталей.","Создаёт постройки «по сюжету» (дом, машина и т.д.)."]
[{"$nulls":9},"Конструирует несложные постройки из                  2—3 деталей.","Создаёт постройки «по сюжету» (дом, машина и т.д.)."]
[{"$nulls":9},"Конструирует несложные постройки из                  2—3 деталей.","Создаёт постройки «по сюжету» (дом, машина и т.д.)."]
[{"$nulls":9},"Конструирует несложные постройки из                  2—3 деталей.","Создаёт постройки «по сюжету» (дом, машина и т.д.)."]
[{"$nulls":9},"Конструирует несложные постройки из                  2—3 деталей.","Создаёт постройки «по сюжету» (дом, машина и т.д.)."]
[{"$nulls":9},"Конструирует несложные постройки из                  2—3 деталей.","Создаёт постройки «по сюжету» (дом, машина и т.д.)."]
[{"$nulls":9},"Конструирует несложные постройки из                  2—3 деталей.","Создаёт постройки «по сюжету» (дом, машина и т.д.)."]
[{"$nulls":9},"Конструирует несложные постройки из                  2—3 деталей.","Создаёт постройки «по сюжету» (дом, машина и т.д.)."]
[{"$nulls":9},"Конструирует несложные постройки из                  2—3 деталей.","Создаёт постройки «по сюжету» (дом, машина и т.д.)."]
[{"$nulls":9},"Конструирует несложные постройки из                  2—3 деталей.","Создаёт постройки «по сюжету» (дом, машина и т.д.)."]
[{"$nulls":9},"Конструирует несложные постройки из                  2—3 деталей.","Создаёт постройки «по сюжету» (дом, машина и т.д.)."]
[{"$nulls":9},"Конструирует несложные постройки из                  2—3 деталей.","Создаёт постройки «по сюжету» (дом, машина и т.д.)."]
[{"$nulls":9},"Конструирует несложные постройки из                  2—3 деталей.","Создаёт постройки «по сюжету» (дом, машина и т.д.)."]
[{"$nulls":9},"Конструирует несложные постройки из                  2—3 деталей.","Создаёт постройки «по сюжету» (дом, машина и т.д.)."]
[{"$nulls":9},"Конструирует несложные постройки из                  2—3 деталей.","Создаёт постройки «по сюжету» (дом, машина и т.д.)."]
[{"$nulls":9},"Конструирует несложные постройки из                  2—3 деталей.","Создаёт постройки «по сюжету» (дом, машина и т.д.)."]
[{"$nulls":9},"Конструирует несложные постройки из                  2—3 деталей.","Создаёт постройки «по сюжету» (дом, машина и т.д.)."]
[{"$nulls":9},"Конструирует несложные постройки из                  2—3 деталей.","Создаёт постройки «по сюжету» (дом, машина и т.д.)."]
[{"$nulls":9},"Конструирует несложные постройки из                  2—3 деталей.","Создаёт постройки «по сюжету» (дом, машина и т.д.)."]
[{"$nulls":9},"Конструирует несложные постройки из                  2—3 деталей.","Создаёт постройки «по сюжету» (дом, машина и т.д.)."]
[{"$nulls":9},"Конструирует несложные постройки из                  2—3 деталей.","Создаёт постройки «по сюжету» (дом, машина и т.д.)."]
[{"$nulls":9},"Конструирует несложные постройки из                  2—3 деталей.","Создаёт постройки «по сюжету» (дом, машина и т.д.)."]
[{"$nulls":9},"Конструирует несложные постройки из                  2—3 деталей.","Создаёт постройки «по сюжету» (дом, машина и т.д.)."]
[{"$nulls":9},"Конструирует несложные постройки из                  2—3 деталей.","Создаёт постройки «по сюжету» (дом, машина и т.д.)."]
[{"$nulls":9},"Конструирует несложные постройки из                  2—3 деталей.","Создаёт постройки «по сюжету» (дом, машина и т.д.)."]
[{"$nulls":9},"Конструирует несложные постройки из                  2—3 деталей.","Создаёт постройки «по сюжету» (дом, машина и т.д.)."]
[{"$nulls":9},"Конструирует несложные постройки из                  2—3 деталей.","Создаёт постройки «по сюжету» (дом, машина и т.д.)."]
[{"$nulls":9},"Конструирует несложные постройки из                  2—3 деталей.","Создаёт постройки «по сюжету» (дом, машина и т.д.)."]
[{"$nulls":9},"Конструирует несложные постройки из                  2—3 деталей.","Создаёт постройки «по сюжету» (дом, машина и т.д.)."]
[{"$nulls":9},"Конструирует несложные постройки из                  2—3 деталей.","Создаёт постройки «по сюжету» (дом, машина и т.д.)."]
[{"$nulls":9},"Конструирует несложные постройки из                  2—3 деталей.","Создаёт постройки «по сюжету» (дом, машина и т.д.)."]
[{"$nulls":9},"Конструирует несложные постройки из                  2—3 деталей.","Создаёт постройки «по сюжету» (дом, машина и т.д.)."]
[{"$nulls":9},"Конструирует несложные постройки из                  2—3 деталей.","Создаёт постройки «по сюжету» (дом, машина и т.д.)."]
[{"$nulls":9},"Конструирует несложные постройки из                  2—3 деталей.","Создаёт постройки «по сюжету» (дом, машина и т.д.)."]
[{"$nulls":9},"Конструирует несложные постройки из                  2—3 деталей.","Создаёт постройки «по сюжету» (дом, машина и т.д.)."]
[{"$nulls":9},"Конструирует несложные постройки из                  2—3 деталей.","Создаёт постройки «по сюжету» (дом, машина и т.д.)."]
[{"$nulls":9},"Конструирует несложные постройки из                  2—3 деталей.","Создаёт постройки «по сюжету» (дом, машина и т.д.)."]
[{"$nulls":9},"Конструирует несложные постройки из                  2—3 деталей.","Создаёт постройки «по сюжету» (дом, машина и т.д.)."]
[{"$nulls":9},"Конструирует несложные постройки из                  2—3 деталей.","Создаёт постройки «по сюжету» (дом, машина и т.д.)."]
[{"$nulls":9},"Конструирует несложные постройки из                  2—3 деталей.","Создаёт постройки «по сюжету» (дом, машина и т.д.)."]
[{"$nulls":9},"Конструирует несложные постройки из                  2—3 деталей.","Создаёт постройки «по сюжету» (дом, машина и т.д.)."]
[{"$nulls":9},"Конструирует несложные постройки из                  2—3 деталей.","Создаёт постройки «по сюжету» (дом, машина и т.д.)."]
[{"$nulls":9},"Конструирует несложные постройки из                  2—3 деталей.","Создаёт постройки «по сюжету» (дом, машина и т.д.)."]
[{"$nulls":9},"Конструирует несложные постройки из                  2—3 деталей.","Создаёт постройки «по сюжету» (дом, машина и т.д.)."]
[{"$nulls":9},"Конструирует несложные постройки из                  2—3 деталей.","Создаёт постройки «по сюжету» (дом, машина и т.д.)."]
[{"$nulls":9},"Конструирует несложные постройки из                  2—3 деталей.","Создаёт постройки «по сюжету» (дом, машина и т.д.)."]
[{"$nulls":9},"Конструирует несложные постройки из                  2—3 деталей.","Создаёт постройки «по сюжету» (дом, машина и т.д.)."]
[{"$nulls":9},"Конструирует несложные постройки из                  2—3 деталей.","Создаёт постройки «по сюжету» (дом, машина и т.д.)."]
[{"$nulls":9},"Конструирует несложные постройки из                  2—3 деталей.","Создаёт постройки «по сюжету» (дом, машина и т.д.)."]
[{"$nulls":9},"Конструирует несложные постройки из                  2—3 деталей.","Создаёт постройки «по сюжету» (дом, машина и т.д.)."]
[{"$nulls":9},"Конструирует несложные постройки из                  2—3 деталей.","Создаёт постройки «по сюжету» (дом, машина и т.д.)."]
[{"$nulls":9},"Конструирует несложные постройки из                  2—3 деталей.","Создаёт постройки «по сюжету» (дом, машина и т.д.)."]
[{"$nulls":9},"Конструирует несложные постройки из                  2—3 деталей.","Создаёт постройки «по сюжету» (дом, машина и т.д.)."]
[{"$nulls":9},"Конструирует несложные постройки из                  2—3 деталей.","Создаёт постройки «по сюжету» (дом, машина и т.д.)."]
[{"$nulls":9},"Конструирует несложные постройки из                  2—3 деталей.","Создаёт постройки «по сюжету» (дом, машина и т.д.)."]
[{"$nulls":9},"Конструирует несложные постройки из                  2—3 деталей.","Создаёт постройки «по сюжету» (дом, машина и т.д.)."]
[{"$nulls":9},"Конструирует несложные постройки из                  2—3 деталей.","Создаёт постройки «по сюжету» (дом, машина и т.д.)."]
[{"$nulls":9},"Конструирует несложные постройки из                  2—3 деталей.","Создаёт постройки «по сюжету» (дом, машина и т.д.)."]
[{"$nulls":9},"Конструирует несложные постройки из                  2—3 деталей.","Создаёт постройки «по сюжету» (дом, машина и т.д.)."]
[{"$nulls":9},"Конструирует несложные постройки из                  2—3 деталей.","Создаёт постройки «по сюжету» (дом, машина и т.д.)."]
[{"$nulls":9},"Конструирует несложные постройки из                  2—3 деталей.","Создаёт постройки «по сюжету» (дом, машина и т.д.)."]
[{"$nulls":9},"Конструирует несложные постройки из                  2—3 деталей.","Создаёт постройки «по сюжету» (дом, машина и т.д.)."]
[{"$nulls":9},"Конструирует несложные постройки из                  2—3 деталей.","Создаёт постройки «по сюжету» (дом, машина и т.д.)."]
[{"$nulls":9},"Конструирует несложные постройки из                  2—3 деталей.","Создаёт постройки «по сюжету» (дом, машина и т.д.)."]
[{"$nulls":9},"Конструирует несложные постройки из                  2—3 деталей.","Создаёт постройки «по сюжету» (дом, машина и т.д.)."]
[{"$nulls":9},"Конструирует несложные постройки из                  2—3 деталей.","Создаёт постройки «по сюжету» (дом, машина и т.д.)."]
[{"$nulls":9},"Конструирует несложные постройки из                  2—3 деталей.","Создаёт постройки «по сюжету» (дом, машина и т.д.)."]
[{"$nulls":9},"Конструирует несложные постройки из                  2—3 деталей.","Создаёт постройки «по сюжету» (дом, машина и т.д.)."]
[{"$nulls":9},"Конструирует несложные постройки из                  2—3 деталей.","Создаёт постройки «по сюжету» (дом, машина и т.д.)."]
[{"$nulls":9},"Конструирует несложные постройки из                  2—3 деталей.","Создаёт постройки «по сюжету» (дом, машина и т.д.)."]
[{"$nulls":9},"Конструирует несложные постройки из                  2—3 деталей.","Создаёт постройки «по сюжету» (дом, машина и т.д.)."]
[{"$nulls":9},"Конструирует несложные постройки из                  2—3 деталей.","Создаёт постройки «по сюжету» (дом, машина и т.д.)."]
[{"$nulls":9},"Конструирует несложные постройки из                  2—3 деталей.","Создаёт постройки «по сюжету» (дом, машина и т.д.)."]
[{"$nulls":9},"Конструирует несложные постройки из                  2—3 деталей.","Создаёт постройки «по сюжету» (дом, машина и т.д.)."]
[{"$nulls":9},"Конструирует несложные постройки из                  2—3 деталей.","Создаёт постройки «по сюжету» (дом, машина и т.д.)."]
[{"$nulls":9},"Конструирует несложные постройки из                  2—3 деталей.","Создаёт постройки «по сюжету» (дом, машина и т.д.)."]
[{"$nulls":9},"Конструирует несложные постройки из                  2—3 деталей.","Создаёт постройки «по сюжету» (дом, машина и т.д.)."]
[{"$nulls":9},"Конструирует несложные постройки из                  2—3 деталей.","Создаёт постройки «по сюжету» (дом, машина и т.д.)."]
[{"$nulls":9},"Конструирует несложные постройки из                  2—3 деталей.","Создаёт постройки «по сюжету» (дом, машина и т.д.)."]
[{"$nulls":9},"Конструирует несложные постройки из                  2—3 деталей.","Создаёт постройки «по сюжету» (дом, машина и т.д.)."]
[{"$nulls":9},"Конструирует несложные постройки из                  2—3 деталей.","Создаёт постройки «по сюжету» (дом, машина и т.д.)."]
[{"$nulls":9},"Конструирует несложные постройки из                  2—3 деталей.","Создаёт постройки «по сюжету» (дом, машина и т.д.)."]
[{"$nulls":9},"Конструирует несложные постройки из                  2—3 деталей.","Создаёт постройки «по сюжету» (дом, машина и т.д.)."]
[{"$nulls":9},"Конструирует несложные постройки из                  2—3 деталей.","Создаёт постройки «по сюжету» (дом, машина и т.д.)."]
[{"$nulls":9},"Конструирует несложные постройки из                  2—3 деталей.","Создаёт постройки «по сюжету» (дом, машина и т.д.)."]
[{"$nulls":9},"Конструирует несложные постройки из                  2—3 деталей.","Создаёт постройки «по сюжету» (дом, машина и т.д.)."]
[{"$nulls":9},"Конструирует несложные постройки из                  2—3 деталей.","Создаёт постройки «по сюжету» (дом, машина и т.д.)."]
[{"$nulls":9},"Конструирует несложные постройки из                  2—3 деталей.","Создаёт постройки «по сюжету» (дом, машина и т.д.)."]
[{"$nulls":9},"Конструирует несложные постройки из                  2—3 деталей.","Создаёт постройки «по сюжету» (дом, машина и т.д.)."]
[{"$nulls":9},"Конструирует несложные постройки из                  2—3 деталей.","Создаёт постройки «по сюжету» (дом, машина и т.д.)."]
[{"$nulls":9},"Конструирует несложные постройки из                  2—3 деталей.","Создаёт постройки «по сюжету» (дом, машина и т.д.)."]
[{"$nulls":9},"Конструирует несложные постройки из                  2—3 деталей.","Создаёт постройки «по сюжету» (дом, машина и т.д.)."]
[{"$nulls":9},"Конструирует несложные постройки из                  2—3 деталей.","Создаёт постройки «по сюжету» (дом, машина и т.д.)."]
[{"$nulls":9},"Конструирует несложные постройки из                  2—3 деталей.","Создаёт постройки «по сюжету» (дом, машина и т.д.)."]
[{"$nulls":9},"Конструирует несложные постройки из                  2—3 деталей.","Создаёт постройки «по сюжету» (дом, машина и т.д.)."]
[{"$nulls":9},"Конструирует несложные постройки из                  2—3 деталей.","Создаёт постройки «по сюжету» (дом, машина и т.д.)."]
[{"$nulls":9},"Конструирует несложные постройки из                  2—3 деталей.","Создаёт постройки «по сюжету» (дом, машина и т.д.)."]
[{"$nulls":9},"Конструирует несложные постройки из                  2—3 деталей.","Создаёт постройки «по сюжету» (дом, машина и т.д.)."]
[{"$nulls":9},"Конструирует несложные постройки из                  2—3 деталей.","Создаёт постройки «по сюжету» (дом, машина и т.д.)."]
[{"$nulls":9},"Конструирует несложные постройки из                  2—3 деталей.","Создаёт постройки «по сюжету» (дом, машина и т.д.)."]
[{"$nulls":9},"Конструирует несложные постройки из                  2—3 деталей.","Создаёт постройки «по сюжету» (дом, машина и т.д.)."]
[{"$nulls":9},"Конструирует несложные постройки из                  2—3 деталей.","Создаёт постройки «по сюжету» (дом, машина и т.д.)."]
[{"$nulls":9},"Конструирует несложные постройки из                  2—3 деталей.","Создаёт постройки «по сюжету» (дом, машина и т.д.)."]
[{"$nulls":9},"Конструирует несложные постройки из                  2—3 деталей.","Создаёт постройки «по сюжету» (дом, машина и т.д.)."]
[{"$nulls":9},"Конструирует несложные постройки из                  2—3 деталей.","Создаёт постройки «по сюжету» (дом, машина и т.д.)."]
[{"$nulls":9},"Конструирует несложные постройки из                  2—3 деталей.","Создаёт постройки «по сюжету» (дом, машина и т.д.)."]
[{"$nulls":9},"Конструирует несложные постройки из                  2—3 деталей.","Создаёт постройки «по сюжету» (дом, машина и т.д.)."]
[{"$nulls":9},"Конструирует несложные постройки из                  2—3 деталей.","Создаёт постройки «по сюжету» (дом, машина и т.д.)."]
[{"$nulls":9},"Конструирует несложные постройки из                  2—3 деталей.","Создаёт постройки «по сюжету» (дом, машина и т.д.)."]
[{"$nulls":9},"Конструирует несложные постройки из                  2—3 деталей.","Создаёт постройки «по сюжету» (дом, машина и т.д.)."]
[{"$nulls":9},"Конструирует несложные постройки из                  2—3 деталей.","Создаёт постройки «по сюжету» (дом, машина и т.д.)."]
[{"$nulls":9},"Конструирует несложные постройки из                  2—3 деталей.","Создаёт постройки «по сюжету» (дом, машина и т.д.)."]
[{"$nulls":9},"Конструирует несложные постройки из                  2—3 деталей.","Создаёт постройки «по сюжету» (дом, машина и т.д.)."]
[{"$nulls":9},"Конструирует несложные постройки из                  2—3 деталей.","Создаёт постройки «по сюжету» (дом, машина и т.д.)."]
[{"$nulls":9},"Конструирует несложные постройки из                  2—3 деталей.","Создаёт постройки «по сюжету» (дом, машина и т.д.)."]
[{"$nulls":9},"Конструирует несложные постройки из                  2—3 деталей.","Создаёт постройки «по сюжету» (дом, машина и т.д.)."]
[{"$nulls":9},"Конструирует несложные постройки из                  2—3 деталей.","Создаёт постройки «по сюжету» (дом, машина и т.д.)."]
[{"$nulls":9},"Конструирует несложные постройки из                  2—3 деталей.","Создаёт постройки «по сюжету» (дом, машина и т.д.)."]
[{"$nulls":9},"Конструирует несложные постройки из                  2—3 деталей.","Создаёт постройки «по сюжету» (дом, машина и т.д.)."]
[{"$nulls":9},"Конструирует несложные постройки из                  2—3 деталей.","Создаёт постройки «по сюжету» (дом, машина и т.д.)."]
[{"$nulls":9},"Конструирует несложные постройки из                  2—3 деталей.","Создаёт постройки «по сюжету» (дом, машина и т.д.)."]
[{"$nulls":9},"Конструирует несложные постройки из                  2—3 деталей.","Создаёт постройки «по сюжету» (дом, машина и т.д.)."]
[{"$nulls":9},"Конструирует несложные постройки из                  2—3 деталей.","Создаёт постройки «по сюжету» (дом, машина и т.д.)."]
[{"$nulls":9},"Конструирует несложные постройки из                  2—3 деталей.","Создаёт постройки «по сюжету» (дом, машина и т.д.)."]
[{"$nulls":9},"Конструирует несложные постройки из                  2—3 деталей.","Создаёт постройки «по сюжету» (дом, машина и т.д.)."]
[{"$nulls":9},"Конструирует несложные постройки из                  2—3 деталей.","Создаёт постройки «по сюжету» (дом, машина и т.д.)."]
[{"$nulls":9},"Конструирует несложные постройки из                  2—3 деталей.","Создаёт постройки «по сюжету» (дом, машина и т.д.)."]
[{"$nulls":9},"Конструирует несложные постройки из                  2—3 деталей.","Создаёт постройки «по сюжету» (дом, машина и т.д.)."]
[{"$nulls":9},"Конструирует несложные постройки из                  2—3 деталей.","Создаёт постройки «по сюжету» (дом, машина и т.д.)."]
[{"$nulls":9},"Конструирует несложные постройки из                  2—3 деталей.","Создаёт постройки «по сюжету» (дом, машина и т.д.)."]
[{"$nulls":9},"Конструирует несложные постройки из                  2—3 деталей.","Создаёт постройки «по сюжету» (дом, машина и т.д.)."]
[{"$nulls":9},"Конструирует несложные постройки из                  2—3 деталей.","Создаёт постройки «по сюжету» (дом, машина и т.д.)."]
[{"$nulls":9},"Конструирует несложные постройки из                  2—3 деталей.","Создаёт постройки «по сюжету» (дом, машина и т.д.)."]
[{"$nulls":9},"Конструирует несложные постройки из                  2—3 деталей.","Создаёт постройки «по сюжету» (дом, машина и т.д.)."]
[{"$nulls":9},"Конструирует несложные постройки из                  2—3 деталей.","Создаёт постройки «по сюжету» (дом, машина и т.д.)."]
[{"$nulls":9},"Конструирует несложные постройки из                  2—3 деталей.","Создаёт постройки «по сюжету» (дом, машина и т.д.)."]
[{"$nulls":9},"Конструирует несложные постройки из                  2—3 деталей.","Создаёт постройки «по сюжету» (дом, машина и т.д.)."]
[{"$nulls":9},"Конструирует несложные постройки из                  2—3 деталей.","Создаёт постройки «по сюжету» (дом, машина и т.д.)."]
[{"$nulls":9},"Конструирует несложные постройки из                  2—3 деталей.","Создаёт постройки «по сюжету» (дом, машина и т.д.)."]
[{"$nulls":9},"Конструирует несложные постройки из                  2—3 деталей.","Создаёт постройки «по сюжету» (дом, машина и т.д.)."]
[{"$nulls":9},"Конструирует несложные постройки из                  2—3 деталей.","Создаёт постройки «по сюжету» (дом, машина и т.д.)."]
[{"$nulls":9},"Конструирует несложные постройки из                  2—3 деталей.","Создаёт постройки «по сюжету» (дом, машина и т.д.)."]
[{"$nulls":9},"Конструирует несложные постройки из                  2—3 деталей.","Создаёт постройки «по сюжету» (дом, машина и т.д.)."]
[{"$nulls":9},"Конструирует несложные постройки из                  2—3 деталей.","Создаёт постройки «по сюжету» (дом, машина и т.д.)."]
[{"$nulls":9},"Конструирует несложные постройки из                  2—3 деталей.","Создаёт постройки «по сюжету» (дом, машина и т.д.)."]
[{"$nulls":9},"Конструирует несложные постройки из                  2—3 деталей.","Создаёт постройки «по сюжету» (дом, машина и т.д.)."]
[{"$nulls":9},"Конструирует несложные постройки из                  2—3 деталей.","Создаёт постройки «по сюжету» (дом, машина и т.д.)."]
[{"$nulls":9},"Конструирует несложные постройки из                  2—3 деталей.","Создаёт постройки «по сюжету» (дом, машина и т.д.)."]
[{"$nulls":9},"Конструирует несложные постройки из                  2—3 деталей.","Создаёт постройки «по сюжету» (дом, машина и т.д.)."]
[{"$nulls":9},"Конструирует несложные постройки из                  2—3 деталей.","Создаёт постройки «по сюжету» (дом, машина и т.д.)."]
[{"$nulls":9},"Конструирует несложные постройки из                  2—3 деталей.","Создаёт постройки «по сюжету» (дом, машина и т.д.)."]
[{"$nulls":9},"Конструирует несложные постройки из                  2—3 деталей.","Создаёт постройки «по сюжету» (дом, машина и т.д.)."]
[{"$nulls":9},"Конструирует несложные постройки из                  2—3 деталей.","Создаёт постройки «по сюжету» (дом, машина и т.д.)."]
[{"$nulls":9},"Конструирует несложные постройки из                  2—3 деталей.","Создаёт постройки «по сюжету» (дом, машина и т.д.)."]
[{"$nulls":9},"Конструирует несложные постройки из                  2—3 деталей.","Создаёт постройки «по сюжету» (дом, машина и т.д.)."]
[{"$nulls":9},"Конструирует несложные постройки из                  2—3 деталей.","Создаёт постройки «по сюжету» (дом, машина и т.д.)."]
[{"$nulls":9},"Конструирует несложные постройки из                  2—3 деталей.","Создаёт постройки «по сюжету» (дом, машина и т.д.)."]
[{"$nulls":9},"Конструирует несложные постройки из                  2—3 деталей.","Создаёт постройки «по сюжету» (дом, машина и т.д.)."]
[{"$nulls":9},"Конструирует несложные постройки из                  2—3 деталей.","Создаёт постройки «по сюжету» (дом, машина и т.д.)."]
[{"$nulls":9},"Конструирует несложные постройки из                  2—3 деталей.","Создаёт постройки «по сюжету» (дом, машина и т.д.)."]
[{"$nulls":9},"Конструирует несложные постройки из                  2—3 деталей.","Создаёт постройки «по сюжету» (дом, машина и т.д.)."]
[{"$nulls":9},"Конструирует несложные постройки из                  2—3 деталей.","Создаёт постройки «по сюжету» (дом, машина и т.д.)."]
[{"$nulls":9},"Конструирует несложные постройки из                  2—3 деталей.","Создаёт постройки «по сюжету» (дом, машина и т.д.)."]
[{"$nulls":9},"Конструирует несложные постройки из                  2—3 деталей.","Создаёт постройки «по сюжету» (дом, машина и т.д.)."]
[{"$nulls":9},"Конструирует несложные постройки из                  2—3 деталей.","Создаёт постройки «по сюжету» (дом, машина и т.д.)."]
[{"$nulls":9},"Конструирует несложные постройки из                  2—3 деталей.","Создаёт постройки «по сюжету» (дом, машина и т.д.)."]
[{"$nulls":9},"Конструирует несложные постройки из                  2—3 деталей.","Создаёт постройки «по сюжету» (дом, машина и т.д.)."]
[{"$nulls":9},"Конструирует несложные постройки из                  2—3 деталей.","Создаёт постройки «по сюжету» (дом, машина и т.д.)."]
[{"$nulls":9},"Конструирует несложные постройки из                  2—3 деталей.","Создаёт постройки «по сюжету» (дом, машина и т.д.)."]
[{"$nulls":9},"Конструирует несложные постройки из                  2—3 деталей.","Создаёт постройки «по сюжету» (дом, машина и т.д.)."]
[{"$nulls":9},"Конструирует несложные постройки из                  2—3 деталей.","Создаёт постройки «по сюжету» (дом, машина и т.д.)."]
[{"$nulls":9},"Конструирует несложные постройки из                  2—3 деталей.","Создаёт постройки «по сюжету» (дом, машина и т.д.)."]
[{"$nulls":9},"Конструирует несложные постройки из                  2—3 деталей.","Создаёт постройки «по сюжету» (дом, машина и т.д.)."]
[{"$nulls":9},"Конструирует несложные постройки из                  2—3 деталей.","Создаёт постройки «по сюжету» (дом, машина и т.д.)."]
[{"$nulls":9},"Конструирует несложные постройки из                  2—3 деталей.","Создаёт постройки «по сюжету» (дом, машина и т.д.)."]
[{"$nulls":9},"Конструирует несложные постройки из                  2—3 деталей.","Создаёт постройки «по сюжету» (дом, машина и т.д.)."]
[{"$nulls":9},"Конструирует несложные постройки из                  2—3 деталей.","Создаёт постройки «по сюжету» (дом, машина и т.д.)."]
[{"$nulls":9},"Конструирует несложные постройки из                  2—3 деталей.","Создаёт постройки «по сюжету» (дом, машина и т.д.)."]
[{"$nulls":9},"Конструирует несложные постройки из                  2—3 деталей.","Создаёт постройки «по сюжету» (дом, машина и т.д.)."]
[{"$nulls":9},"Конструирует несложные постройки из                  2—3 деталей.","Создаёт постройки «по сюжету» (дом, машина и т.д.)."]
[{"$nulls":9},"Конструирует несложные постройки из                  2—3 деталей.","Создаёт постройки «по сюжету» (дом, машина и т.д.)."]
[{"$nulls":9},"Конструирует несложные постройки из                  2—3 деталей.","Создаёт постройки «по сюжету» (дом, машина и т.д.)."]
[{"$nulls":9},"Конструирует несложные постройки из                  2—3 деталей.","Создаёт постройки «по сюжету» (дом, машина и т.д.)."]
[{"$nulls":9},"Конструирует несложные постройки из                  2—3 деталей.","Создаёт постройки «по сюжету» (дом, машина и т.д.)."]
[{"$nulls":9},"Конструирует несложные постройки из                  2—3 деталей.","Создаёт постройки «по сюжету» (дом, машина и т.д.)."]
[{"$nulls":9},"Конструирует несложные постройки из                  2—3 деталей.","Создаёт постройки «по сюжету» (дом, машина и т.д.)."]
[{"$nulls":9},"Конструирует несложные постройки из                  2—3 деталей.","Создаёт постройки «по сюжету» (дом, машина и т.д.)."]
[{"$nulls":9},"Конструирует несложные постройки из                  2—3 деталей.","Создаёт постройки «по сюжету» (дом, машина и т.д.)."]
[{"$nulls":9},"Конструирует несложные постройки из                  2—3 деталей.","Создаёт постройки «по сюжету» (дом, машина и т.д.)."]
[{"$nulls":9},"Конструирует несложные постройки из                  2—3 деталей.","Создаёт постройки «по сюжету» (дом, машина и т.д.)."]
[{"$nulls":9},"Конструирует несложные постройки из                  2—3 деталей.","Создаёт постройки «по сюжету» (дом, машина и т.д.)."]
[{"$nulls":9},"Конструирует несложные постройки из                  2—3 деталей.","Создаёт постройки «по сюжету» (дом, машина и т.д.)."]
[{"$nulls":9},"Конструирует несложные постройки из                  2—3 деталей.","Создаёт постройки «по сюжету» (дом, машина и т.д.)."]
[{"$nulls":9},"Конструирует несложные постройки из                  2—3 деталей.","Создаёт постройки «по сюжету» (дом, машина и т.д.)."]
[{"$nulls":9},"Конструирует несложные постройки из                  2—3 деталей.","Создаёт постройки «по сюжету» (дом, машина и т.д.)."]
[{"$nulls":9},"Конструирует несложные постройки из                  2—3 деталей.","Создаёт постройки «по сюжету» (дом, машина и т.д.)."]
[{"$nulls":9},"Конструирует несложные постройки из                  2—3 деталей.","Создаёт постройки «по сюжету» (дом, машина и т.д.)."]
[{"$nulls":9},"Конструирует несложные постройки из                  2—3 деталей.","Создаёт постройки «по сюжету» (дом, машина и т.д.)."]
[{"$nulls":9},"Конструирует несложные постройки из                  2—3 деталей.","Создаёт постройки «по сюжету» (дом, машина и т.д.)."]
[{"$nulls":9},"Конструирует несложные постройки из                  2—3 деталей.","Создаёт постройки «по сюжету» (дом, машина и т.д.)."]
[{"$nulls":9},"Конструирует несложные постройки из                  2—3 деталей.","Создаёт постройки «по сюжету» (дом, машина и т.д.)."]
[{"$nulls":9},"Конструирует несложные постройки из                  2—3 деталей.","Создаёт постройки «по сюжету» (дом, машина и т.д.)."]
[{"$nulls":9},"Конструирует несложные постройки из                  2—3 деталей.","Создаёт постройки «по сюжету» (дом, машина и т.д.)."]
[{"$nulls":9},"Конструирует несложные постройки из                  2—3 деталей.","Создаёт постройки «по сюжету» (дом, машина и т.д.)."]
[{"$nulls":9},"Конструирует несложные постройки из                  2—3 деталей.","Создаёт постройки «по сюжету» (дом, машина и т.д.)."]
[{"$nulls":9},"Конструирует несложные постройки из                  2—3 деталей.","Создаёт постройки «по сюжету» (дом, машина и т.д.)."]
[{"$nulls":9},"Конструирует несложные постройки из                  2—3 деталей.","Создаёт постройки «по сюжету» (дом, машина и т.д.)."]
[{"$nulls":9},"Конструирует несложные постройки из                  2—3 деталей.","Создаёт постройки «по сюжету» (дом, машина и т.д.)."]
[{"$nulls":9},"Конструирует несложные постройки из                  2—3 деталей.","Создаёт постройки «по сюжету» (дом, машина и т.д.)."]
[{"$nulls":9},"Конструирует несложные постройки из                  2—3 деталей.","Создаёт постройки «по сюжету» (дом, машина и т.д.)."]
[{"$nulls":9},"Конструирует несложные постройки из                  2—3 деталей.","Создаёт постройки «по сюжету» (дом, машина и т.д.)."]
[{"$nulls":9},"Конструирует несложные постройки из                  2—3 деталей.","Создаёт постройки «по сюжету» (дом, машина и т.д.)."]
[{"$nulls":9},"Конструирует несложные постройки из                  2—3 деталей.","Создаёт постройки «по сюжету» (дом, машина и т.д.)."]
[{"$nulls":9},"Конструирует несложные постройки из                  2—3 деталей.","Создаёт постройки «по сюжету» (дом, машина и т.д.)."]
[{"$nulls":9},"Конструирует несложные постройки из                  2—3 деталей.","Создаёт постройки «по сюжету» (дом, машина и т.д.)."]
[{"$nulls":9},"Конструирует несложные постройки из                  2—3 деталей.","Создаёт постройки «по сюжету» (дом, машина и т.д.)."]
[{"$nulls":9},"Конструирует несложные постройки из                  2—3 деталей.","Создаёт постройки «по сюжету» (дом, машина и т.д.)."]
[{"$nulls":9},"Конструирует несложные постройки из                  2—3 деталей.","Создаёт постройки «по сюжету» (дом, машина и т.д.)."]
[{"$nulls":9},"Конструирует несложные постройки из                  2—3 деталей.","Создаёт постройки «по сюжету» (дом, машина и т.д.)."]
[{"$nulls":9},"Конструирует несложные постройки из                  2—3 деталей.","Создаёт постройки «по сюжету» (дом, машина и т.д.)."]
[{"$nulls":9},"Конструирует несложные постройки из                  2—3 деталей.","Создаёт постройки «по сюжету» (дом, машина и т.д.)."]
[{"$nulls":9},"Конструирует несложные постройки из                  2—3 деталей.","Создаёт постройки «по сюжету» (дом, машина и т.д.)."]
[{"$nulls":9},"Конструирует несложные постройки из                  2—3 деталей.","Создаёт постройки «по сюжету» (дом, машина и т.д.)."]
[{"$nulls":9},"Конструирует несложные постройки из                  2—3 деталей.","Создаёт постройки «по сюжету» (дом, машина и т.д.)."]
[{"$nulls":9},"Конструирует несложные постройки из                  2—3 деталей.","Создаёт постройки «по сюжету» (дом, машина и т.д.)."]
[{"$nulls":9},"Конструирует несложные постройки из                  2—3 деталей.","Создаёт постройки «по сюжету» (дом, машина и т.д.)."]
[{"$nulls":9},"Конструирует несложные постройки из                  2—3 деталей.","Создаёт постройки «по сюжету» (дом, машина и т.д.)."]
[{"$nulls":9},"Конструирует несложные постройки из                  2—3 деталей.","Создаёт постройки «по сюжету» (дом, машина и т.д.)."]
[{"$nulls":9},"Конструирует несложные постройки из                  2—3 деталей.","Создаёт постройки «по сюжету» (дом, машина и т.д.)."]
[{"$nulls":9},"Конструирует несложные постройки из                  2—3 деталей.","Создаёт постройки «по сюжету» (дом, машина и т.д.)."]
[{"$nulls":9},"Конструирует несложные постройки из                  2—3 деталей.","Создаёт постройки «по сюжету» (дом, машина и т.д.)."]
[{"$nulls":9},"Конструирует несложные постройки из                  2—3 деталей.","Создаёт постройки «по сюжету» (дом, машина и т.д.)."]
[{"$nulls":9},"Конструирует несложные постройки из                  2—3 деталей.","Создаёт постройки «по сюжету» (дом, машина и т.д.)."]
[{"$nulls":9},"Конструирует несложные постройки из                  2—3 деталей.","Создаёт постройки «по сюжету» (дом, машина и т.д.)."]
[{"$nulls":9},"Конструирует несложные постройки из                  2—3 деталей.","Создаёт постройки «по сюжету» (дом, машина и т.д.)."]
[{"$nulls":9},"Конструирует несложные постройки из                  2—3 деталей.","Создаёт постройки «по сюжету» (дом, машина и т.д.)."]
[{"$nulls":9},"Конструирует несложные постройки из                  2—3 деталей.","Создаёт постройки «по сюжету» (дом, машина и т.д.)."]
[{"$nulls":9},"Конструирует несложные постройки из                  2—3 деталей.","Создаёт постройки «по сюжету» (дом, машина и т.д.)."]
[{"$nulls":9},"Конструирует несложные постройки из                  2—3 деталей.","Создаёт постройки «по сюжету» (дом, машина и т.д.)."]
[{"$nulls":9},"Конструирует несложные постройки из                  2—3 деталей.","Создаёт постройки «по сюжету» (дом, машина и т.д.)."]
[{"$nulls":9},"Конструирует несложные постройки из                  2—3 деталей.","Создаёт постройки «по сюжету» (дом, машина и т.д.)."]
[{"$nulls":9},"Конструирует несложные постройки из                  2—3 деталей.","Создаёт постройки «по сюжету» (дом, машина и т.д.)."]
[{"$nulls":9},"Конструирует несложные постройки из                  2—3 деталей.","Создаёт постройки «по сюжету» (дом, машина и т.д.)."]
[{"$nulls":9},"Конструирует несложные постройки из                  2—3 деталей.","Создаёт постройки «по сюжету» (дом, машина и т.д.)."]
[{"$nulls":9},"Конструирует несложные постройки из                  2—3 деталей.","Создаёт постройки «по сюжету» (дом, машина и т.д.)."]
[{"$nulls":9},"Конструирует несложные постройки из                  2—3 деталей.","Создаёт постройки «по сюжету» (дом, машина и т.д.)."]
[{"$nulls":9},"Конструирует несложные постройки из                  2—3 деталей.","Создаёт постройки «по сюжету» (дом, машина и т.д.)."]
[{"$nulls":9},"Конструирует несложные постройки из                  2—3 деталей.","Создаёт постройки «по сюжету» (дом, машина и т.д.)."]
[{"$nulls":9},"Конструирует несложные постройки из                  2—3 деталей.","Создаёт постройки «по сюжету» (дом, машина и т.д.)."]
[{"$nulls":9},"Конструирует несложные постройки из                  2—3 деталей.","Создаёт постройки «по сюжету» (дом, машина и т.д.)."]
[{"$nulls":9},"Конструирует несложные постройки из                  2—3 деталей.","Создаёт постройки «по сюжету» (дом, машина и т.д.)."]
[{"$nulls":9},"Конструирует несложные постройки из                  2—3 деталей.","Создаёт постройки «по сюжету» (дом, машина и т.д.)."]
[{"$nulls":9},"Конструирует несложные постройки из                  2—3 деталей.","Создаёт постройки «по сюжету» (дом, машина и т.д.)."]
[{"$nulls":9},"Конструирует несложные постройки из                  2—3 деталей.","Создаёт постройки «по сюжету» (дом, машина и т.д.)."]
[{"$nulls":9},"Конструирует несложные постройки из                  2—3 деталей.","Создаёт постройки «по сюжету» (дом, машина и т.д.)."]
[{"$nulls":9},"Конструирует несложные постройки из                  2—3 деталей.","Создаёт постройки «по сюжету» (дом, машина и т.д.)."]
[{"$nulls":9},"Конструирует несложные постройки из                  2—3 деталей.","Создаёт постройки «по сюжету» (дом, машина и т.д.)."]
[{"$nulls":9},"Конструирует несложные постройки из                  2—3 деталей.","Создаёт постройки «по сюжету» (дом, машина и т.д.)."]
[{"$nulls":9},"Конструирует несложные постройки из                  2—3 деталей.","Создаёт постройки «по сюжету» (дом, машина и т.д.)."]
[{"$nulls":9},"Конструирует несложные постройки из                  2—3 деталей.","Создаёт постройки «по сюжету» (дом, машина и т.д.)."]
[{"$nulls":9},"Конструирует несложные постройки из                  2—3 деталей.","Создаёт постройки «по сюжету» (дом, машина и т.д.)."]
[{"$nulls":9},"Конструирует несложные постройки из                  2—3 деталей.","Создаёт постройки «по сюжету» (дом, машина и т.д.)."]
[{"$nulls":9},"Конструирует несложные постройки из                  2—3 деталей.","Создаёт постройки «по сюжету» (дом, машина и т.д.)."]
[{"$nulls":9},"Конструирует несложные постройки из                  2—3 деталей.","Создаёт постройки «по сюжету» (дом, машина и т.д.)."]
[{"$nulls":9},"Конструирует несложные постройки из                  2—3 деталей.","Создаёт постройки «по сюжету» (дом, машина и т.д.)."]
[{"$nulls":9},"Конструирует несложные постройки из                  2—3 деталей.","Создаёт постройки «по сюжету» (дом, машина и т.д.)."]
[{"$nulls":9},"Конструирует несложные постройки из                  2—3 деталей.","Создаёт постройки «по сюжету» (дом, машина и т.д.)."]
[{"$nulls":9},"Конструирует несложные постройки из                  2—3 деталей.","Создаёт постройки «по сюжету» (дом, машина и т.д.)."]
[{"$nulls":9},"Конструирует несложные постройки из                  2—3 деталей.","Создаёт постройки «по сюжету» (дом, машина и т.д.)."]
[{"$nulls":9},"Конструирует несложные постройки из                  2—3 деталей.","Создаёт постройки «по сюжету» (дом, машина и т.д.)."]
[{"$nulls":9},"Конструирует несложные постройки из                  2—3 деталей.","Создаёт постройки «по сюжету» (дом, машина и т.д.)."]
[{"$nulls":9},"Конструирует несложные постройки из                  2—3 деталей.","Создаёт постройки «по сюжету» (дом, машина и т.д.)."]
[{"$nulls":9},"Конструирует несложные постройки из                  2—3 деталей.","Создаёт постройки «по сюжету» (дом, машина и т.д.)."]
[{"$nulls":9},"Конструирует несложные постройки из                  2—3 деталей.","Создаёт постройки «по сюжету» (дом, машина и т.д.)."]
[{"$nulls":9},"Конструирует несложные постройки из                  2—3 деталей.","Создаёт постройки «по сюжету» (дом, машина и т.д.)."]
[{"$nulls":9},"Конструирует несложные постройки из                  2—3 деталей.","Создаёт постройки «по сюжету» (дом, машина и т.д.)."]
[{"$nulls":9},"Конструирует несложные постройки из                  2—3 деталей.","Создаёт постройки «по сюжету» (дом, машина и т.д.)."]
[{"$nulls":9},"Конструирует несложные постройки из                  2—3 деталей.","Создаёт постройки «по сюжету» (дом, машина и т.д.)."]
[{"$nulls":9},"Конструирует несложные постройки из                  2—3 деталей.","Создаёт постройки «по сюжету» (дом, машина и т.д.)."]
[{"$nulls":9},"Конструирует несложные постройки из                  2—3 деталей.","Создаёт постройки «по сюжету» (дом, машина и т.д.)."]
[{"$nulls":9},"Конструирует несложные постройки из                  2—3 деталей.","Создаёт постройки «по сюжету» (дом, машина и т.д.)."]
[{"$nulls":9},"Конструирует несложные постройки из                  2—3 деталей.","Создаёт постройки «по сюжету» (дом, машина и т.д.)."]
[{"$nulls":9},"Конструирует несложные постройки из                  2—3 деталей.","Создаёт постройки «по сюжету» (дом, машина и т.д.)."]
[{"$nulls":9},"Конструирует несложные постройки из                  2—3 деталей.","Создаёт постройки «по сюжету» (дом, машина и т.д.)."]
[{"$nulls":9},"Конструирует несложные постройки из                  2—3 деталей.","Создаёт постройки «по сюжету» (дом, машина и т.д.)."]
[{"$nulls":9},"Конструирует несложные постройки из                  2—3 деталей.","Создаёт постройки «по сюжету» (дом, машина и т.д.)."]
[{"$nulls":9},"Конструирует несложные постройки из                  2—3 деталей.","Создаёт постройки «по сюжету» (дом, машина и т.д.)."]
[{"$nulls":9},"Конструирует несложные постройки из                  2—3 деталей.","Создаёт постройки «по сюжету» (дом, машина и т.д.)."]
[{"$nulls":9},"Конструирует несложные постройки из                  2—3 деталей.","Создаёт постройки «по сюжету» (дом, машина и т.д.)."]
[{"$nulls":9},"Конструирует несложные постройки из                  2—3 деталей.","Создаёт постройки «по сюжету» (дом, машина и т.д.)."]
[{"$nulls":9},"Конструирует несложные постройки из                  2—3 деталей.","Создаёт постройки «по сюжету» (дом, машина и т.д.)."]
[{"$nulls":9},"Конструирует несложные постройки из                  2—3 деталей.","Создаёт постройки «по сюжету» (дом, машина и т.д.)."]
[{"$nulls":9},"Конструирует несложные постройки из                  2—3 деталей.","Создаёт постройки «по сюжету» (дом, машина и т.д.)."]
[{"$nulls":9},"Конструирует несложные постройки из                  2—3 деталей.","Создаёт постройки «по сюжету» (дом, машина и т.д.)."]
[{"$nulls":9},"Конструирует несложные постройки из                  2—3 деталей.","Создаёт постройки «по сюжету» (дом, машина и т.д.)."]
[{"$nulls":9},"Конструирует несложные постройки из                  2—3 деталей.","Создаёт постройки «по сюжету» (дом, машина и т.д.)."]
[{"$nulls":9},"Конструирует несложные постройки из                  2—3 деталей.","Создаёт постройки «по сюжету» (дом, машина и т.д.)."]
[{"$nulls":9},"Конструирует несложные постройки из                  2—3 деталей.","Создаёт постройки «по сюжету» (дом, машина и т.д.)."]
[{"$nulls":9},"Конструирует несложные постройки из                  2—3 деталей.","Создаёт постройки «по сюжету» (дом, машина и т.д.)."]
[{"$nulls":9},"Конструирует несложные постройки из                  2—3 деталей.","Создаёт постройки «по сюжету» (дом, машина и т.д.)."]
[{"$nulls":9},"Конструирует несложные постройки из                  2—3 деталей.","Создаёт постройки «по сюжету» (дом, машина и т.д.)."]
[{"$nulls":9},"Конструирует несложные постройки из                  2—3 деталей.","Создаёт постройки «по сюжету» (дом, машина и т.д.)."]
[{"$nulls":9},"Конструирует несложные постройки из                  2—3 деталей.","Создаёт постройки «по сюжету» (дом, машина и т.д.)."]
[{"$nulls":9},"Конструирует несложные постройки из                  2—3 деталей.","Создаёт постройки «по сюжету» (дом, машина и т.д.)."]
[{"$nulls":9},"Конструирует несложные постройки из                  2—3 деталей.","Создаёт постройки «по сюжету» (дом, машина и т.д.)."]
[{"$nulls":9},"Конструирует несложные постройки из                  2—3 деталей.","Создаёт постройки «по сюжету» (дом, машина и т.д.)."]
[{"$nulls":9},"Конструирует несложные постройки из                  2—3 деталей.","Создаёт постройки «по сюжету» (дом, машина и т.д.)."]
[{"$nulls":9},"Конструирует несложные постройки из                  2—3 деталей.","Создаёт постройки «по сюжету» (дом, машина и т.д.)."]
[{"$nulls":9},"Конструирует несложные постройки из                  2—3 деталей.","Создаёт постройки «по сюжету» (дом, машина и т.д.)."]
[{"$nulls":9},"Конструирует несложные постройки из                  2—3 деталей.","Создаёт постройки «по сюжету» (дом, машина и т.д.)."]
[{"$nulls":9},"Конструирует несложные постройки из                  2—3 деталей.","Создаёт постройки «по сюжету» (дом, машина и т.д.)."]
[{"$nulls":9},"Конструирует несложные постройки из                  2—3 деталей.","Создаёт постройки «по сюжету» (дом, машина и т.д.)."]
[{"$nulls":9},"Конструирует несложные постройки из                  2—3 деталей.","Создаёт постройки «по сюжету» (дом, машина и т.д.)."]
[{"$nulls":9},"Конструирует несложные постройки из                  2—3 деталей.","Создаёт постройки «по сюжету» (дом, машина и т.д.)."]
[{"$nulls":9},"Конструирует несложные постройки из                  2—3 деталей.","Создаёт постройки «по сюжету» (дом, машина и т.д.)."]
[{"$nulls":9},"Конструирует несложные постройки из                  2—3 деталей.","Создаёт постройки «по сюжету» (дом, машина и т.д.)."]
[{"$nulls":9},"Конструирует несложные постройки из                  2—3 деталей.","Создаёт постройки «по сюжету» (дом, машина и т.д.)."]
[{"$nulls":9},"Конструирует несложные постройки из                  2—3 деталей.","Создаёт постройки «по сюжету» (дом, машина и т.д.)."]
[{"$nulls":9},"Конструирует несложные постройки из                  2—3 деталей.","Создаёт постройки «по сюжету» (дом, машина и т.д.)."]
[{"$nulls":9},"Конструирует несложные постройки из                  2—3 деталей.","Создаёт постройки «по сюжету» (дом, машина и т.д.)."]
[{"$nulls":9},"Конструирует несложные постройки из                  2—3 деталей.","Создаёт постройки «по сюжету» (дом, машина и т.д.)."]
[{"$nulls":9},"Конструирует несложные постройки из                  2—3 деталей.","Создаёт постройки «по сюжету» (дом, машина и т.д.)."]
[{"$nulls":9},"Конструирует несложные постройки из                  2—3 деталей.","Создаёт постройки «по сюжету» (дом, машина и т.д.)."]
[{"$nulls":9},"Конструирует несложные постройки из                  2—3 деталей.","Создаёт постройки «по сюжету» (дом, машина и т.д.)."]
[{"$nulls":9},"Конструирует несложные постройки из                  2—3 деталей.","Создаёт постройки «по сюжету» (дом, машина и т.д.)."]
[{"$nulls":9},"Конструирует несложные постройки из                  2—3 деталей.","Создаёт постройки «по сюжету» (дом, машина и т.д.)."]
[{"$nulls":9},"Конструирует несложные постройки из                  2—3 деталей.","Создаёт постройки «по сюжету» (дом, машина и т.д.)."]
[{"$nulls":9},"Конструирует несложные постройки из                  2—3 деталей.","Создаёт постройки «по сюжету» (дом, машина и т.д.)."]
[{"$nulls":9},"Конструирует несложные постройки из                  2—3 деталей.","Создаёт постройки «по сюжету» (дом, машина и т.д.)."]
[{"$nulls":9},"Конструирует несложные постройки из                  2—3 деталей.","Создаёт постройки «по сюжету» (дом, машина и т.д.)."]
[{"$nulls":9},"Конструирует несложные постройки из                  2—3 деталей.","Создаёт постройки «по сюжету» (дом, машина и т.д.)."]
[{"$nulls":9},"Конструирует несложные постройки из                  2—3 деталей.","Создаёт постройки «по сюжету» (дом, машина и т.д.)."]
[{"$nulls":9},"Конструирует несложные постройки из                  2—3 деталей.","Создаёт постройки «по сюжету» (дом, машина и т.д.)."]
[{"$nulls":9},"Конструирует несложные постройки из                  2—3 деталей.","Создаёт постройки «по сюжету» (дом, машина и т.д.)."]
[{"$nulls":9},"Конструирует несложные постройки из                  2—3 деталей.","Создаёт постройки «по сюжету» (дом, машина и т.д.)."]
[{"$nulls":9},"Конструирует несложные постройки из                  2—3 деталей.","Создаёт постройки «по сюжету» (дом, машина и т.д.)."]
[{"$nulls":9},"Конструирует несложные постройки из                  2—3 деталей.","Создаёт постройки «по сюжету» (дом, машина и т.д.)."]
[{"$nulls":9},"Конструирует несложные постройки из                  2—3 деталей.","Создаёт постройки «по сюжету» (дом, машина и т.д.)."]
[{"$nulls":9},"Конструирует несложные постройки из                  2—3 деталей.","Создаёт постройки «по сюжету» (дом, машина и т.д.)."]
[{"$nulls":9},"Конструирует несложные постройки из                  2—3 деталей.","Создаёт постройки «по сюжету» (дом, машина и т.д.)."]
[{"$nulls":9},"Конструирует несложные постройки из                  2—3 деталей.","Создаёт постройки «по сюжету» (дом, машина и т.д.)."]
[{"$nulls":9},"Конструирует несложные постройки из                  2—3 деталей.","Создаёт постройки «по сюжету» (дом, машина и т.д.)."]
[{"$nulls":9},"Конструирует несложные постройки из                  2—3 деталей.","Создаёт постройки «по сюжету» (дом, машина и т.д.)."]
[{"$nulls":9},"Конструирует несложные постройки из                  2—3 деталей.","Создаёт постройки «по сюжету» (дом, машина и т.д.)."]
[{"$nulls":9},"Конструирует несложные постройки из                  2—3 деталей.","Создаёт постройки «по сюжету» (дом, машина и т.д.)."]
[{"$nulls":9},"Конструирует несложные постройки из                  2—3 деталей.","Создаёт постройки «по сюжету» (дом, машина и т.д.)."]
[{"$nulls":9},"Конструирует несложные постройки из                  2—3 деталей.","Создаёт постройки «по сюжету» (дом, машина и т.д.)."]
[{"$nulls":9},"Конструирует несложные постройки из                  2—3 деталей.","Создаёт постройки «по сюжету» (дом, машина и т.д.)."]
[{"$nulls":9},"Конструирует несложные постройки из                  2—3 деталей.","Создаёт постройки «по сюжету» (дом, машина и т.д.)."]
[{"$nulls":9},"Конструирует несложные постройки из                  2—3 деталей.","Создаёт постройки «по сюжету» (дом, машина и т.д.)."]
[{"$nulls":9},"Конструирует несложные постройки из                  2—3 деталей.","Создаёт постройки «по сюжету» (дом, машина и т.д.)."]
[{"$nulls":9},"Конструирует несложные постройки из                  2—3 деталей.","Создаёт постройки «по сюжету» (дом, машина и т.д.)."]
[{"$nulls":9},"Конструирует несложные постройки из                  2—3 деталей.","Создаёт постройки «по сюжету» (дом, машина и т.д.)."]
[{"$nulls":9},"Конструирует несложные постройки из                  2—3 деталей.","Создаёт постройки «по сюжету» (дом, машина и т.д.)."]
[{"$nulls":9},"Конструирует несложные постройки из                  2—3 деталей.","Создаёт постройки «по сюжету» (дом, машина и т.д.)."]
[{"$nulls":9},"Конструирует несложные постройки из                  2—3 деталей.","Создаёт постройки «по сюжету» (дом, машина и т.д.)."]
[{"$nulls":9},"Конструирует несложные постройки из                  2—3 деталей.","Создаёт постройки «по сюжету» (дом, машина и т.д.)."]
[{"$nulls":9},"Конструирует несложные постройки из                  2—3 деталей.","Создаёт постройки «по сюжету» (дом, машина и т.д.)."]
[{"$nulls":9},"Конструирует несложные постройки из                  2—3 деталей.","Создаёт постройки «по сюжету» (дом, машина и т.д.)."]
[{"$nulls":9},"Конструирует несложные постройки из                  2—3 деталей.","Создаёт постройки «по сюжету» (дом, машина и т.д.)."]
[{"$nulls":9},"Конструирует несложные постройки из                  2—3 деталей.","Создаёт постройки «по сюжету» (дом, машина и т.д.)."]
[{"$nulls":9},"Конструирует несложные постройки из                  2—3 деталей.","Создаёт постройки «по сюжету» (дом, машина и т.д.)."]
[{"$nulls":9},"Конструирует несложные постройки из                  2—3 деталей.","Создаёт постройки «по сюжету» (дом, машина и т.д.)."]
[{"$nulls":9},"Конструирует несложные постройки из                  2—3 деталей.","Создаёт постройки «по сюжету» (дом, машина и т.д.)."]
[{"$nulls":9},"Конструирует несложные постройки из                  2—3 деталей.","Создаёт постройки «по сюжету» (дом, машина и т.д.)."]
[{"$nulls":9},"Конструирует несложные постройки из                  2—3 деталей.","Создаёт постройки «по сюжету» (дом, машина и т.д.)."]
[{"$nulls":9},"Конструирует несложные постройки из                  2—3 деталей.","Создаёт постройки «по сюжету» (дом, машина и т.д.)."]
[{"$nulls":9},"Конструирует несложные постройки из                  2—3 деталей.","Создаёт постройки «по сюжету» (дом, машина и т.д.)."]
[{"$nulls":9},"Конструирует несложные постройки из                  2—3 деталей.","Создаёт постройки «по сюжету» (дом, машина и т.д.)."]
[{"$nulls":9},"Конструирует несложные постройки из                  2—3 деталей.","Создаёт постройки «по сюжету» (дом, машина и т.д.)."]
[{"$nulls":9},"Конструирует несложные постройки из                  2—3 деталей.","Создаёт постройки «по сюжету» (дом, машина и т.д.)."]
[{"$nulls":9},"Конструирует несложные постройки из                  2—3 деталей.","Создаёт постройки «по сюжету» (дом, машина и т.д.)."]
[{"$nulls":9},"Конструирует несложные постройки из                  2—3 деталей.","Создаёт постройки «по сюжету» (дом, машина и т.д.)."]
[{"$nulls":9},"Конструирует несложные постройки из                  2—3 деталей.","Создаёт постройки «по сюжету» (дом, машина и т.д.)."]
[{"$nulls":9},"Конструирует несложные постройки из                  2—3 деталей.","Создаёт постройки «по сюжету» (дом, машина и т.д.)."]
[{"$nulls":9},"Конструирует несложные постройки из                  2—3 деталей.","Создаёт постройки «по сюжету» (дом, машина и т.д.)."]
[{"$nulls":9},"Конструирует несложные постройки из                  2—3 деталей.","Создаёт постройки «по сюжету» (дом, машина и т.д.)."]
[{"$nulls":9},"Конструирует несложные постройки из                  2—3 деталей.","Создаёт постройки «по сюжету» (дом, машина и т.д.)."]
[{"$nulls":9},"Конструирует несложные постройки из                  2—3 деталей.","Создаёт постройки «по сюжету» (дом, машина и т.д.)."]
[{"$nulls":9},"Конструирует несложные постройки из                  2—3 деталей.","Создаёт постройки «по сюжету» (дом, машина и т.д.)."]
[{"$nulls":9},"Конструирует несложные постройки из                  2—3 деталей.","Создаёт постройки «по сюжету» (дом, машина и т.д.)."]
[{"$nulls":9},"Конструирует несложные постройки из                  2—3 деталей.","Создаёт постройки «по сюжету» (дом, машина и т.д.)."]
[{"$nulls":9},"Конструирует несложные постройки из                  2—3 деталей.","Создаёт постройки «по сюжету» (дом, машина и т.д.)."]
[{"$nulls":9},"Конструирует несложные постройки из                  2—3 деталей.","Создаёт постройки «по сюжету» (дом, машина и т.д.)."]
[{"$nulls":9},"Конструирует несложные постройки из                  2—3 деталей.","Создаёт постройки «по сюжету» (дом, машина и т.д.)."]
[{"$nulls":9},"Конструирует несложные постройки из                  2—3 деталей.","Создаёт постройки «по сюжету» (дом, машина и т.д.)."]
[{"$nulls":9},"Конструирует несложные постройки из                  2—3 деталей.","Создаёт постройки «по сюжету» (дом, машина и т.д.)."]
[{"$nulls":9},"Конструирует несложные постройки из                  2—3 деталей.","Создаёт постройки «по сюжету» (дом, машина и т.д.)."]
[{"$nulls":9},"Конструирует несложные постройки из                  2—3 деталей.","Создаёт постройки «по сюжету» (дом, машина и т.д.)."]
[{"$nulls":9},"Конструирует несложные постройки из                  2—3 деталей.","Создаёт постройки «по сюжету» (дом, машина и т.д.)."]
[{"$nulls":9},"Конструирует несложные постройки из                  2—3 деталей.","Создаёт постройки «по сюжету» (дом, машина и т.д.)."]
[{"$nulls":9},"Конструирует несложные постройки из                  2—3 деталей.","Создаёт постройки «по сюжету» (дом, машина и т.д.)."]
[{"$nulls":9},"Конструирует несложные постройки из                  2—3 деталей.","Создаёт постройки «по сюжету» (дом, машина и т.д.)."]
[{"$nulls":9},"Конструирует несложные постройки из                  2—3 деталей.","Создаёт постройки «по сюжету» (дом, машина и т.д.)."]
[{"$nulls":9},"Конструирует несложные постройки из                  2—3 деталей.","Создаёт постройки «по сюжету» (дом, машина и т.д.)."]
[{"$nulls":9},"Конструирует несложные постройки из                  2—3 деталей.","Создаёт постройки «по сюжету» (дом, машина и т.д.)."]
[{"$nulls":9},"Конструирует несложные постройки из                  2—3 деталей.","Создаёт постройки «по сюжету» (дом, машина и т.д.)."]
[{"$nulls":9},"Конструирует несложные постройки из                  2—3 деталей.","Создаёт постройки «по сюжету» (дом, машина и т.д.)."]
[{"$nulls":9},"Конструирует несложные постройки из                  2—3 деталей.","Создаёт постройки «по сюжету» (дом, машина и т.д.)."]
[{"$nulls":9},"Конструирует несложные постройки из                  2—3 деталей.","Создаёт постройки «по сюжету» (дом, машина и т.д.)."]
[{"$nulls":9},"Конструирует несложные постройки из                  2—3 деталей.","Создаёт постройки «по сюжету» (дом, машина и т.д.)."]
[{"$nulls":9},"Конструирует несложные постройки из                  2—3 деталей.","Создаёт постройки «по сюжету» (дом, машина и т.д.)."]
[{"$nulls":9},"Конструирует несложные постройки из                  2—3 деталей.","Создаёт постройки «по сюжету» (дом, машина и т.д.)."]
[{"$nulls":9},"Конструирует несложные постройки из                  2—3 деталей.","Создаёт постройки «по сюжету» (дом, машина и т.д.)."]
[{"$nulls":9},"Конструирует несложные постройки из                  2—3 деталей.","Создаёт постройки «по сюжету» (дом, машина и т.д.)."]
[{"$nulls":9},"Конструирует несложные постройки из                  2—3 деталей.","Создаёт постройки «по сюжету» (дом, машина и т.д.)."]
[{"$nulls":9},"Конструирует несложные постройки из                  2—3 деталей.","Создаёт постройки «по сюжету» (дом, машина и т.д.)."]
[{"$nulls":9},"Конструирует несложные постройки из                  2—3 деталей.","Создаёт постройки «по сюжету» (дом, машина и т.д.)."]
[{"$nulls":9},"Конструирует несложные постройки из                  2—3 деталей.","Создаёт постройки «по сюжету» (дом, машина и т.д.)."]
[{"$nulls":9},"Конструирует несложные постройки из                  2—3 деталей.","Создаёт постройки «по сюжету» (дом, машина и т.д.)."]
[{"$nulls":9},"Конструирует несложные постройки из                  2—3 деталей.","Создаёт постройки «по сюжету» (дом, машина и т.д.)."]
[{"$nulls":9},"Конструирует несложные постройки из                  2—3 деталей.","Создаёт постройки «по сюжету» (дом, машина и т.д.)."]
[{"$nulls":9},"Конструирует несложные постройки из                  2—3 деталей.","Создаёт постройки «по сюжету» (дом, машина и т.д.)."]
[{"$nulls":9},"Конструирует несложные постройки из                  2—3 деталей.","Создаёт постройки «по сюжету» (дом, машина и т.д.)."]
[{"$nulls":9},"Конструирует несложные постройки из                  2—3 деталей.","Создаёт постройки «по сюжету» (дом, машина и т.д.)."]
[{"$nulls":9},"Конструирует несложные постройки из                  2—3 деталей.","Создаёт постройки «по сюжету» (дом, машина и т.д.)."]
[{"$nulls":9},"Конструирует несложные постройки из                  2—3 деталей.","Создаёт постройки «по сюжету» (дом, машина и т.д.)."]
[{"$nulls":9},"Конструирует несложные постройки из                  2—3 деталей.","Создаёт постройки «по сюжету» (дом, машина и т.д.)."]
[{"$nulls":9},"Конструирует несложные постройки из                  2—3 деталей.","Создаёт постройки «по сюжету» (дом, машина и т.д.)."]
[{"$nulls":9},"Конструирует несложные постройки из                  2—3 деталей.","Создаёт постройки «по сюжету» (дом, машина и т.д.)."]
[{"$nulls":9},"Конструирует несложные постройки из                  2—3 деталей.","Создаёт постройки «по сюжету» (дом, машина и т.д.)."]
[{"$nulls":9},"Конструирует несложные постройки из                  2—3 деталей.","Создаёт постройки «по сюжету» (дом, машина и т.д.)."]
[{"$nulls":9},"Конструирует несложные постройки из                  2—3 деталей.","Создаёт постройки «по сюжету» (дом, машина и т.д.)."]
[{"$nulls":9},"Конструирует несложные постройки из                  2—3 деталей.","Создаёт постройки «по сюжету» (дом, машина и т.д.)."]
[{"$nulls":9},"Конструирует несложные постройки из                  2—3 деталей.","Создаёт постройки «по сюжету» (дом, машина и т.д.)."]
[{"$nulls":9},"Конструирует несложные постройки из                  2—3 деталей.","Создаёт постройки «по сюжету» (дом, машина и т.д.)."]
[{"$nulls":9},"Конструирует несложные постройки из                  2—3 деталей.","Создаёт постройки «по сюжету» (дом, машина и т.д.)."]
[{"$nulls":9},"Конструирует несложные постройки из                  2—3 деталей.","Создаёт постройки «по сюжету» (дом, машина и т.д.)."]
[{"$nulls":9},"Конструирует несложные постройки из                  2—3 деталей.","Создаёт постройки «по сюжету» (дом, машина и т.д.)."]
[{"$nulls":9},"Конструирует несложные постройки из                  2—3 деталей.","Создаёт постройки «по сюжету» (дом, машина и т.д.)."]
[{"$nulls":9},"Конструирует несложные постройки из                  2—3 деталей.","Создаёт постройки «по сюжету» (дом, машина и т.д.)."]
[{"$nulls":9},"Конструирует несложные постройки из                  2—3 деталей.","Создаёт постройки «по сюжету» (дом, машина и т.д.)."]
[{"$nulls":9},"Конструирует несложные постройки из                  2—3 деталей.","Создаёт постройки «по сюжету» (дом, машина и т.д.)."]
[{"$nulls":9},"Конструирует несложные постройки из                  2—3 деталей.","Создаёт постройки «по сюжету» (дом, машина и т.д.)."]
[{"$nulls":9},"Конструирует несложные постройки из                  2—3 деталей.","Создаёт постройки «по сюжету» (дом, машина и т.д.)."]
[{"$nulls":9},"Конструирует несложные постройки из                  2—3 деталей.","Создаёт постройки «по сюжету» (дом, машина и т.д.)."]
[{"$nulls":9},"Конструирует несложные постройки из                  2—3 деталей.","Создаёт постройки «по сюжету» (дом, машина и т.д.)."]
[{"$nulls":9},"Конструирует несложные постройки из                  2—3 деталей.","Создаёт постройки «по сюжету» (дом, машина и т.д.)."]
[{"$nulls":9},"Конструирует несложные постройки из                  2—3 деталей.","Создаёт постройки «по сюжету» (дом, машина и т.д.)."]
[{"$nulls":9},"Конструирует несложные постройки из                  2—3 деталей.","Создаёт постройки «по сюжету» (дом, машина и т.д.)."]
[{"$nulls":9},"Конструирует несложные постройки из                  2—3 деталей.","Создаёт постройки «по сюжету» (дом, машина и т.д.)."]
[{"$nulls":9},"Конструирует несложные постройки из                  2—3 деталей.","Создаёт постройки «по сюжету» (дом, машина и т.д.)."]
[{"$nulls":9},"Конструирует несложные постройки из                  2—3 деталей.","Создаёт постройки «по сюжету» (дом, машина и т.д.)."]
[{"$nulls":9},"Конструирует несложные постройки из                  2—3 деталей.","Создаёт постройки «по сюжету» (дом, машина и т.д.)."]
[{"$nulls":9},"Конструирует несложные постройки из                  2—3 деталей.","Создаёт постройки «по сюжету» (дом, машина и т.д.)."]
[{"$nulls":9},"Конструирует несложные постройки из                  2—3 деталей.","Создаёт постройки «по сюжету» (дом, машина и т.д.)."]
[{"$nulls":9},"Конструирует несложные постройки из                  2—3 деталей.","Создаёт постройки «по сюжету» (дом, машина и т.д.)."]
[{"$nulls":9},"Конструирует несложные постройки из                  2—3 деталей.","Создаёт постройки «по сюжету» (дом, машина и т.д.)."]
[{"$nulls":9},"Конструирует несложные постройки из                  2—3 деталей.","Создаёт постройки «по сюжету» (дом, машина и т.д.)."]
[{"$nulls":9},"Конструирует несложные постройки из                  2—3 деталей.","Создаёт постройки «по сюжету» (дом, машина и т.д.)."]
[{"$nulls":9},"Конструирует несложные постройки из                  2—3 деталей.","Создаёт постройки «по сюжету» (дом, машина и т.д.)."]
[{"$nulls":9},"Конструирует несложные постройки из                  2—3 деталей.","Создаёт постройки «по сюжету» (дом, машина и т.д.)."]
[{"$nulls":9},"Конструирует несложные постройки из                  2—3 деталей.","Создаёт постройки «по сюжету» (дом, машина и т.д.)."]
[{"$nulls":9},"Конструирует несложные постройки из                  2—3 деталей.","Создаёт постройки «по сюжету» (дом, машина и т.д.)."]
[{"$nulls":9},"Конструирует несложные постройки из                  2—3 деталей.","Создаёт постройки «по сюжету» (дом, машина и т.д.)."]
[{"$nulls":9},"Конструирует несложные постройки из                  2—3 деталей.","Создаёт постройки «по сюжету» (дом, машина и т.д.)."]
[{"$nulls":9},"Конструирует несложные постройки из                  2—3 деталей.","Создаёт постройки «по сюжету» (дом, машина и т.д.)."]
[{"$nulls":9},"Конструирует несложные постройки из                  2—3 деталей.","Создаёт постройки «по сюжету» (дом, машина и т.д.)."]
[{"$nulls":9},"Конструирует несложные постройки из                  2—3 деталей.","Создаёт постройки «по сюжету» (дом, машина и т.д.)."]
[{"$nulls":9},"Конструирует несложные постройки из                  2—3 деталей.","Создаёт постройки «по сюжету» (дом, машина и т.д.)."]
[{"$nulls":9},"Конструирует несложные постройки из                  2—3 деталей.","Создаёт постройки «по сюжету» (дом, машина и т.д.)."]
[{"$nulls":9},"Конструирует несложные постройки из                  2—3 деталей.","Создаёт постройки «по сюжету» (дом, машина и т.д.)."]
[{"$nulls":9},"Конструирует несложные постройки из                  2—3 деталей.","Создаёт постройки «по сюжету» (дом, машина и т.д.)."]
[{"$nulls":9},"Конструирует несложные постройки из                  2—3 деталей.","Создаёт постройки «по сюжету» (дом, машина и т.д.)."]
[{"$nulls":9},"Конструирует несложные постройки из                  2—3 деталей.","Создаёт постройки «по сюжету» (дом, машина и т.д.)."]
[{"$nulls":9},"Конструирует несложные постройки из                  2—3 деталей.","Создаёт постройки «по сюжету» (дом, машина и т.д.)."]
[{"$nulls":9},"Конструирует несложные постройки из                  2—3 деталей.","Создаёт постройки «по сюжету» (дом, машина и т.д.)."]
[{"$nulls":9},"Конструирует несложные постройки из                  2—3 деталей.","Создаёт постройки «по сюжету» (дом, машина и т.д.)."]
[{"$nulls":9},"Конструирует несложные постройки из                  2—3 деталей.","Создаёт постройки «по сюжету» (дом, машина и т.д.)."]
[{"$nulls":9},"Конструирует несложные постройки из                  2—3 деталей.","Создаёт постройки «по сюжету» (дом, машина и т.д.)."]
[{"$nulls":9},"Конструирует несложные постройки из                  2—3 деталей.","Создаёт постройки «по сюжету» (дом, машина и т.д.)."]
[{"$nulls":9},"Конструирует несложные постройки из                  2—3 деталей.","Создаёт постройки «по сюжету» (дом, машина и т.д.)."]
[{"$nulls":9},"Конструирует несложные постройки из                  2—3 деталей.","Создаёт постройки «по сюжету» (дом, машина и т.д.)."]
[{"$nulls":9},"Конструирует несложные постройки из                  2—3 деталей.","Создаёт постройки «по сюжету» (дом, машина и т.д.)."]
[{"$nulls":9},"Конструирует несложные постройки из                  2—3 деталей.","Создаёт постройки «по сюжету» (дом, машина и т.д.)."]
[{"$nulls":9},"Конструирует несложные постройки из                  2—3 деталей.","Создаёт постройки «по сюжету» (дом, машина и т.д.)."]
[{"$nulls":9},"Конструирует несложные постройки из                  2—3 деталей.","Создаёт постройки «по сюжету» (дом, машина и т.д.)."]
[{"$nulls":9},"Конструирует несложные постройки из                  2—3 деталей.","Создаёт постройки «по сюжету» (дом, машина и т.д.)."]
[{"$nulls":9},"Конструирует несложные постройки из                  2—3 деталей.","Создаёт постройки «по сюжету» (дом, машина и т.д.)."]
[{"$nulls":9},"Конструирует несложные постройки из                  2—3 деталей.","Создаёт постройки «по сюжету» (дом, машина и т.д.)."]
[{"$nulls":9},"Конструирует несложные постройки из                  2—3 деталей.","Создаёт постройки «по сюжету» (дом, машина и т.д.)."]
[{"$nulls":9},"Конструирует несложные постройки из                  2—3 деталей.","Создаёт постройки «по сюжету» (дом, машина и т.д.)."]
[{"$nulls":9},"Конструирует несложные постройки из                  2—3 деталей.","Создаёт постройки «по сюжету» (дом, машина и т.д.)."]
[{"$nulls":9},"Конструирует несложные постройки из                  2—3 деталей.","Создаёт постройки «по сюжету» (дом, машина и т.д.)."]
[{"$nulls":9},"Конструирует несложные постройки из                  2—3 деталей.","Создаёт постройки «по сюжету» (дом, машина и т.д.)."]
[{"$nulls":9},"Конструирует несложные постройки из                  2—3 деталей.","Создаёт постройки «по сюжету» (дом, машина и т.д.)."]
[{"$nulls":9},"Конструирует несложные постройки из                  2—3 деталей.","Создаёт постройки «по сюжету» (дом, машина и т.д.)."]
[{"$nulls":9},"Конструирует несложные постройки из                  2—3 деталей.","Создаёт постройки «по сюжету» (дом, машина и т.д.)."]
[{"$nulls":9},"Конструирует несложные постройки из                  2—3 деталей.","Создаёт постройки «по сюжету» (дом, машина и т.д.)."]
[{"$nulls":9},"Конструирует несложные постройки из                  2—3 деталей.","Создаёт постройки «по сюжету» (дом, машина и т.д.)."]
[{"$nulls":9},"Конструирует несложные постройки из                  2—3 деталей.","Создаёт постройки «по сюжету» (дом, машина и т.д.)."]
[{"$nulls":9},"Конструирует несложные постройки из                  2—3 деталей.","Создаёт постройки «по сюжету» (дом, машина и т.д.)."]
[{"$nulls":9},"Конструирует несложные постройки из                  2—3 деталей.","Создаёт постройки «по сюжету» (дом, машина и т.д.)."]
[{"$nulls":9},"Конструирует несложные постройки из                  2—3 деталей.","Создаёт постройки «по сюжету» (дом, машина и т.д.)."]
[{"$nulls":9},"Конструирует несложные постройки из                  2—3 деталей.","Создаёт постройки «по сюжету» (дом, машина и т.д.)."]
[{"$nulls":9},"Конструирует несложные постройки из                  2—3 деталей.","Создаёт постройки «по сюжету» (дом, машина и т.д.)."]
[{"$nulls":9},"Конструирует несложные постройки из                  2—3 деталей.","Создаёт постройки «по сюжету» (дом, машина и т.д.)."]
[{"$nulls":9},"Конструирует несложные постройки из                  2—3 деталей.","Создаёт постройки «по сюжету» (дом, машина и т.д.)."]
[{"$nulls":9},"Конструирует несложные постройки из                  2—3 деталей.","Создаёт постройки «по сюжету» (дом, машина и т.д.)."]
[{"$nulls":9},"Конструирует несложные постройки из                  2—3 деталей.","Создаёт постройки «по сюжету» (дом, машина и т.д.)."]
[{"$nulls":9},"Конструирует несложные постройки из                  2—3 деталей.","Создаёт постройки «по сюжету» (дом, машина и т.д.)."]
[{"$nulls":9},"Конструирует несложные постройки из                  2—3 деталей.","Создаёт постройки «по сюжету» (дом, машина и т.д.)."]
[{"$nulls":9},"Конструирует несложные постройки из                  2—3 деталей.","Создаёт постройки «по сюжету» (дом, машина и т.д.)."]
[{"$nulls":9},"Конструирует несложные постройки из                  2—3 деталей.","Создаёт постройки «по сюжету» (дом, машина и т.д.)."]
[{"$nulls":9},"Конструирует несложные постройки из                  2—3 деталей.","Создаёт постройки «по сюжету» (дом, машина и т.д.)."]
[{"$nulls":9},"Конструирует несложные постройки из                  2—3 деталей.","Создаёт постройки «по сюжету» (дом, машина и т.д.)."]
[{"$nulls":9},"Конструирует несложные постройки из                  2—3 деталей.","Создаёт постройки «по сюжету» (дом, машина и т.д.)."]
[{"$nulls":9},"Конструирует несложные постройки из                  2—3 деталей.","Создаёт постройки «по сюжету» (дом, машина и т.д.)."]
[{"$nulls":9},"Конструирует несложные постройки из                  2—3 деталей.","Создаёт постройки «по сюжету» (дом, машина и т.д.)."]
[{"$nulls":9},"Конструирует несложные постройки из                  2—3 деталей.","Создаёт постройки «по сюжету» (дом, машина и т.д.)."]
[{"$nulls":9},"Конструирует несложные постройки из                  2—3 деталей.","Создаёт постройки «по сюжету» (дом, машина и т.д.)."]
[{"$nulls":9},"Конструирует несложные постройки из                  2—3 деталей.","Создаёт постройки «по сюжету» (дом, машина и т.д.)."]
[{"$nulls":9},"Конструирует несложные постройки из                  2—3 деталей.","Создаёт постройки «по сюжету» (дом, машина и т.д.)."]
[{"$nulls":9},"Конструирует несложные постройки из                  2—3 деталей.","Создаёт постройки «по сюжету» (дом, машина и т.д.)."]
[{"$nulls":9},"Конструирует несложные постройки из                  2—3 деталей.","Создаёт постройки «по сюжету» (дом, машина и т.д.)."]
[{"$nulls":9},"Конструирует несложные постройки из                  2—3 деталей.","Создаёт постройки «по сюжету» (дом, машина и т.д.)."]
[{"$nulls":9},"Конструирует несложные постройки из                  2—3 деталей.","Создаёт постройки «по сюжету» (дом, машина и т.д.)."]
[{"$nulls":9},"Конструирует несложные постройки из                  2—3 деталей.","Создаёт постройки «по сюжету» (дом, машина и т.д.)."]
[{"$nulls":9},"Конструирует несложные постройки из                  2—3 деталей.","Создаёт постройки «по сюжету» (дом, машина и т.д.)."]
[{"$nulls":9},"Конструирует несложные постройки из                  2—3 деталей.","Создаёт постройки «по сюжету» (дом, машина и т.д.)."]
[{"$nulls":9},"Конструирует несложные постройки из                  2—3 деталей.","Создаёт постройки «по сюжету» (дом, машина и т.д.)."]
[{"$nulls":9},"Конструирует несложные постройки из                  2—3 деталей.","Создаёт постройки «по сюжету» (дом, машина и т.д.)."]
[{"$nulls":9},"Конструирует несложные постройки из                  2—3 деталей.","Создаёт постройки «по сюжету» (дом, машина и т.д.)."]
[{"$nulls":9},"Конструирует несложные постройки из                  2—3 деталей.","Создаёт постройки «по сюжету» (дом, машина и т.д.)."]
[{"$nulls":9},"Конструирует несложные постройки из                  2—3 деталей.","Создаёт постройки «по сюжету» (дом, машина и т.д.)."]
[{"$nulls":9},"Конструирует несложные постройки из                  2—3 деталей.","Создаёт постройки «по сюжету» (дом, машина и т.д.)."]
[{"$nulls":9},"Конструирует несложные постройки из                  2—3 деталей.","Создаёт постройки «по сюжету» (дом, машина и т.д.)."]
[{"$nulls":9},"Конструирует несложные постройки из                  2—3 деталей.","Создаёт постройки «по сюжету» (дом, машина и т.д.)."]
[{"$nulls":9},"Конструирует несложные постройки из                  2—3 деталей.","Создаёт постройки «по сюжету» (дом, машина и т.д.)."]
[{"$nulls":9},"Конструирует несложные постройки из                  2—3 деталей.","Создаёт постройки «по сюжету» (дом, машина и т.д.)."]
[{"$nulls":9},"Конструирует несложные постройки из                  2—3 деталей.","Создаёт постройки «по сюжету» (дом, машина и т.д.)."]
[{"$nulls":9},"Конструирует несложные постройки из                  2—3 деталей.","Создаёт постройки «по сюжету» (дом, машина и т.д.)."]
[{"$nulls":9},"Конструирует несложные постройки из                  2—3 деталей.","Создаёт постройки «по сюжету» (дом, машина и т.д.)."]
[{"$nulls":9},"Конструирует несложные постройки из                  2—3 деталей.","Создаёт постройки «по сюжету» (дом, машина и т.д.)."]
[{"$nulls":9},"Конструирует несложные постройки из                  2—3 деталей.","Создаёт постройки «по сюжету» (дом, машина и т.д.)."]
[{"$nulls":9},"Конструирует несложные постройки из                  2—3 деталей.","Создаёт постройки «по сюжету» (дом, машина и т.д.)."]
[{"$nulls":9},"Конструирует несложные постройки из                  2—3 деталей.","Создаёт постройки «по сюжету» (дом, машина и т.д.)."]
[{"$nulls":9},"Конструирует несложные постройки из                  2—3 деталей.","Создаёт постройки «по сюжету» (дом, машина и т.д.)."]
[{"$nulls":9},"Конструирует несложные постройки из                  2—3 деталей.","Создаёт постройки «по сюжету» (дом, машина и т.д.)."]
[{"$nulls":9},"Конструирует несложные постройки из                  2—3 деталей.","Создаёт постройки «по сюжету» (дом, машина и т.д.)."]
[{"$nulls":9},"Конструирует несложные постройки из                  2—3 деталей.","Создаёт постройки «по сюжету» (дом, машина и т.д.)."]
[{"$nulls":9},"Конструирует несложные постройки из                  2—3 деталей.","Создаёт постройки «по сюжету» (дом, машина и т.д.)."]
[{"$nulls":9},"Конструирует несложные постройки из                  2—3 деталей.","Создаёт постройки «по сюжету» (дом, машина и т.д.)."]
[{"$nulls":9},"Конструирует несложные постройки из                  2—3 деталей.","Создаёт постройки «по сюжету» (дом, машина и т.д.)."]
[{"$nulls":9},"Конструирует несложные постройки из                  2—3 деталей.","Создаёт постройки «по сюжету» (дом, машина и т.д.)."]
[{"$nulls":9},"Конструирует несложные постройки из                  2—3 деталей.","Создаёт постройки «по сюжету» (дом, машина и т.д.)."]
[{"$nulls":9},"Конструирует несложные постройки из                  2—3 деталей.","Создаёт постройки «по сюжету» (дом, машина и т.д.)."]
[{"$nulls":9},"Конструирует несложные постройки из                  2—3 деталей.","Создаёт постройки «по сюжету» (дом, машина и т.д.)."]
[{"$nulls":9},"Конструирует несложные постройки из                  2—3 деталей.","Создаёт постройки «по сюжету» (дом, машина и т.д.)."]
[{"$nulls":9},"Конструирует несложные постройки из                  2—3 деталей.","Создаёт постройки «по сюжету» (дом, машина и т.д.)."]
[{"$nulls":9},"Конструирует несложные постройки из                  2—3 деталей.","Создаёт постройки «по сюжету» (дом, машина и т.д.)."]
[{"$nulls":9},"Конструирует несложные постройки из                  2—3 деталей.","Создаёт постройки «по сюжету» (дом, машина и т.д.)."]
[{"$nulls":9},"Конструирует несложные постройки из                  2—3 деталей.","Создаёт постройки «по сюжету» (дом, машина и т.д.)."]
[{"$nulls":9},"Конструирует несложные постройки из                  2—3 деталей.","Создаёт постройки «по сюжету» (дом, машина и т.д.)."]
[{"$nulls":9},"Конструирует несложные постройки из                  2—3 деталей.","Создаёт постройки «по сюжету» (дом, машина и т.д.)."]
[{"$nulls":9},"Конструирует несложные постройки из                  2—3 деталей.","Создаёт постройки «по сюжету» (дом, машина и т.д.)."]
[{"$nulls":9},"Конструирует несложные постройки из                  2—3 деталей.","Создаёт постройки «по сюжету» (дом, машина и т.д.)."]
[{"$nulls":9},"Конструирует несложные постройки из                  2—3 деталей.","Создаёт постройки «по сюжету» (дом, машина и т.д.)."]
[{"$nulls":9},"Конструирует несложные постройки из                  2—3 деталей.","Создаёт постройки «по сюжету» (дом, машина и т.д.)."]
[{"$nulls":9},"Конструирует несложные постройки из                  2—3 деталей.","Создаёт постройки «по сюжету» (дом, машина и т.д.)."]
[{"$nulls":9},"Конструирует несложные постройки из                  2—3 деталей.","Создаёт постройки «по сюжету» (дом, машина и т.д.)."]
[{"$nulls":9},"Конструирует несложные постройки из                  2—3 деталей.","Создаёт постройки «по сюжету» (дом, машина и т.д.)."]
[{"$nulls":9},"Конструирует несложные постройки из                  2—3 деталей.","Создаёт постройки «по сюжету» (дом, машина и т.д.)."]
[{"$nulls":9},"Конструирует несложные постройки из                  2—3 деталей.","Создаёт постройки «по сюжету» (дом, машина и т.д.)."]
[{"$nulls":9},"Конструирует несложные постройки из                  2—3 деталей.","Создаёт постройки «по сюжету» (дом, машина и т.д.)."]
[{"$nulls":9},"Конструирует несложные постройки из                  2—3 деталей.","Создаёт постройки «по сюжету» (дом, машина и т.д.)."]
[{"$nulls":9},"Конструирует несложные постройки из                  2—3 деталей.","Создаёт постройки «по сюжету» (дом, машина и т.д.)."]
[{"$nulls":9},"Конструирует несложные постройки из                  2—3 деталей.","Создаёт постройки «по сюжету» (дом, машина и т.д.)."]
[{"$nulls":9},"Конструирует несложные постройки из                  2—3 деталей.","Создаёт постройки «по сюжету» (дом, машина и т.д.)."]
[{"$nulls":9},"Конструирует несложные постройки из                  2—3 деталей.","Создаёт постройки «по сюжету» (дом, машина и т.д.)."]
[{"$nulls":9},"Конструирует несложные постройки из                  2—3 деталей.","Создаёт постройки «по сюжету» (дом, машина и т.д.)."]
[{"$nulls":9},"Конструирует несложные постройки из                  2—3 деталей.","Создаёт постройки «по сюжету» (дом, машина и т.д.)."]
[{"$nulls":9},"Конструирует несложные постройки из                  2—3 деталей.","Создаёт постройки «по сюжету» (дом, машина и т.д.)."]
[{"$nulls":9},"Конструирует несложные постройки из                  2—3 деталей.","Создаёт постройки «по сюжету» (дом, машина и т.д.)."]
[{"$nulls":9},"Конструирует несложные постройки из                  2—3 деталей.","Создаёт постройки «по сюжету» (дом, машина и т.д.)."]
[{"$nulls":9},"Конструирует несложные постройки из                  2—3 деталей.","Создаёт постройки «по сюжету» (дом, машина и т.д.)."]
[{"$nulls":9},"Конструирует несложные постройки из                  2—3 деталей.","Создаёт постройки «по сюжету» (дом, машина и т.д.)."]
[{"$nulls":9},"Конструирует несложные постройки из                  2—3 деталей.","Создаёт постройки «по сюжету» (дом, машина и т.д.)."]
[{"$nulls":9},"Конструирует несложные постройки из                  2—3 деталей.","Создаёт постройки «по сюжету» (дом, машина и т.д.)."]
[{"$nulls":9},"Конструирует несложные постройки из                  2—3 деталей.","Создаёт постройки «по сюжету» (дом, машина и т.д.)."]
[{"$nulls":9},"Конструирует несложные постройки из                  2—3 деталей.","Создаёт постройки «по сюжету» (дом, машина и т.д.)."]
[{"$nulls":9},"Конструирует несложные постройки из                  2—3 деталей.","Создаёт постройки «по сюжету» (дом, машина и т.д.)."]
[{"$nulls":9},"Конструирует несложные постройки из                  2—3 деталей.","Создаёт постройки «по сюжету» (дом, машина и т.д.)."]
[{"$nulls":9},"Конструирует несложные постройки из                  2—3 деталей.","Создаёт постройки «по сюжету» (дом, машина и т.д.)."]
[{"$nulls":9},"Конструирует несложные постройки из                  2—3 деталей.","Создаёт постройки «по сюжету» (дом, машина и т.д.)."]
[{"$nulls":9},"Конструирует несложные постройки из                  2—3 деталей.","Создаёт постройки «по сюжету» (дом, машина и т.д.)."]
[{"$nulls":9},"Конструирует несложные постройки из                  2—3 деталей.","Создаёт постройки «по сюжету» (дом, машина и т.д.)."]
[{"$nulls":9},"Конструирует несложные постройки из                  2—3 деталей.","Создаёт постройки «по сюжету» (дом, машина и т.д.)."]
[{"$nulls":9},"Конструирует несложные постройки из                  2—3 деталей.","Создаёт постройки «по сюжету» (дом, машина и т.д.)."]
[{"$nulls":9},"Конструирует несложные постройки из                  2—3 деталей.","Создаёт постройки «по сюжету» (дом, машина и т.д.)."]
[{"$nulls":9},"Конструирует несложные постройки из                  2—3 деталей.","Создаёт постройки «по сюжету» (дом, машина и т.д.)."]
[{"$nulls":9},"Конструирует несложные постройки из                  2—3 деталей.","Создаёт постройки «по сюжету» (дом, машина и т.д.)."]
[{"$nulls":9},"Конструирует несложные постройки из                  2—3 деталей.","Создаёт постройки «по сюжету» (дом, машина и т.д.)."]
[{"$nulls":9},"Конструирует несложные постройки из                  2—3 деталей.","Создаёт постройки «по сюжету» (дом, машина и т.д.)."]
[{"$nulls":9},"Конструирует несложные постройки из                  2—3 деталей.","Создаёт постройки «по сюжету» (дом, машина и т.д.)."]
[{"$nulls":9},"Конструирует несложные постройки из                  2—3 деталей.","Создаёт постройки «по сюжету» (дом, машина и т.д.)."]
[{"$nulls":9},"Конструирует несложные постройки из                  2—3 деталей.","Создаёт постройки «по сюжету» (дом, машина и т.д.)."]
[{"$nulls":9},"Конструирует несложные постройки из                  2—3 деталей.","Создаёт постройки «по сюжету» (дом, машина и т.д.)."]
[{"$nulls":9},"Конструирует несложные постройки из                  2—3 деталей.","Создаёт постройки «по сюжету» (дом, машина и т.д.)."]
[{"$nulls":9},"Конструирует несложные постройки из                  2—3 деталей.","Создаёт постройки «по сюжету» (дом, машина и т.д.)."]
[{"$nulls":9},"Конструирует несложные постройки из                  2—3 деталей.","Создаёт постройки «по сюжету» (дом, машина и т.д.)."]
[{"$nulls":9},"Конструирует несложные постройки из                  2—3 деталей.","Создаёт постройки «по сюжету» (дом, машина и т.д.)."]
[{"$nulls":9},"Конструирует несложные постройки из                  2—3 деталей.","Создаёт постройки «по сюжету» (дом, машина и т.д.)."]
[{"$nulls":9},"Конструирует несложные постройки из                  2—3 деталей.","Создаёт постройки «по сюжету» (дом, машина и т.д.)."]
[{"$nulls":9},"Конструирует несложные постройки из                  2—3 деталей.","Создаёт постройки «по сюжету» (дом, машина и т.д.)."]
[{"$nulls":9},"Конструирует несложные постройки из                  2—3 деталей.","Создаёт постройки «по сюжету» (дом, машина и т.д.)."]
[{"$nulls":9},"Конструирует несложные постройки из                  2—3 деталей.","Создаёт постройки «по сюжету» (дом, машина и т.д.)."]
[{"$nulls":9},"Конструирует несложные постройки из                  2—3 деталей.","Создаёт постройки «по сюжету» (дом, машина и т.д.)."]
[{"$nulls":9},"Конструирует несложные постройки из                  2—3 деталей.","Создаёт постройки «по сюжету» (дом, машина и т.д.)."]
[{"$nulls":9},"Конструирует несложные постройки из                  2—3 деталей.","Создаёт постройки «по сюжету» (дом, машина и т.д.)."]
[{"$nulls":9},"Конструирует несложные постройки из                  2—3 деталей.","Создаёт постройки «по сюжету» (дом, машина и т.д.)."]
[{"$nulls":9},"Конструирует несложные постройки из                  2—3 деталей.","Создаёт постройки «по сюжету» (дом, машина и т.д.)."]
[{"$nulls":9},"Конструирует несложные постройки из                  2—3 деталей.","Создаёт постройки «по сюжету» (дом, машина и т.д.)."]
[{"$nulls":9},"Конструирует несложные постройки из                  2—3 деталей.","Создаёт постройки «по сюжету» (дом, машина и т.д.)."]
[{"$nulls":9},"Конструирует несложные постройки из                  2—3 деталей.","Создаёт постройки «по сюжету» (дом, машина и т.д.)."]
[{"$nulls":9},"Конструирует несложные постройки из                  2—3 деталей.","Создаёт постройки «по сюжету» (дом, машина и т.д.)."]
[{"$nulls":9},"Конструирует несложные постройки из                  2—3 деталей.","Создаёт постройки «по сюжету» (дом, машина и т.д.)."]
[{"$nulls":9},"Конструирует несложные постройки из                  2—3 деталей.","Создаёт постройки «по сюжету» (дом, машина и т.д.)."]
[{"$nulls":9},"Конструирует несложные постройки из                  2—3 деталей.","Создаёт постройки «по сюжету» (дом, машина и т.д.)."]
[{"$nulls":9},"Конструирует несложные постройки из                  2—3 деталей.","Создаёт постройки «по сюжету» (дом, машина и т.д.)."]
[{"$nulls":9},"Конструирует несложные постройки из                  2—3 деталей.","Создаёт постройки «по сюжету» (дом, машина и т.д.)."]
[{"$nulls":9},"Конструирует несложные постройки из                  2—3 деталей.","Создаёт постройки «по сюжету» (дом, машина и т.д.)."]
[{"$nulls":9},"Конструирует несложные постройки из                  2—3 деталей.","Создаёт постройки «по сюжету» (дом, машина и т.д.)."]
[{"$nulls":9},"Конструирует несложные постройки из                  2—3 деталей.","Создаёт постройки «по сюжету» (дом, машина и т.д.)."]
[{"$nulls":9},"Конструирует несложные постройки из                  2—3 деталей.","Создаёт постройки «по сюжету» (дом, машина и т.д.)."]
[{"$nulls":9},"Конструирует несложные постройки из                  2—3 деталей.","Создаёт постройки «по сюжету» (дом, машина и т.д.)."]
[{"$nulls":9},"Конструирует несложные постройки из                  2—3 деталей.","Создаёт постройки «по сюжету» (дом, машина и т.д.)."]
[{"$nulls":9},"Конструирует несложные постройки из                  2—3 деталей.","Создаёт постройки «по сюжету» (дом, машина и т.д.)."]
[{"$nulls":9},"Конструирует несложные постройки из                  2—3 деталей.","Создаёт постройки «по сюжету» (дом, машина и т.д.)."]
[{"$nulls":9},"Конструирует несложные постройки из                  2—3 деталей.","Создаёт постройки «по сюжету» (дом, машина и т.д.)."]
[{"$nulls":9},"Конструирует несложные постройки из                  2—3 деталей.","Создаёт постройки «по сюжету» (дом, машина и т.д.)."]
[{"$nulls":9},"Конструирует несложные постройки из                  2—3 деталей.","Создаёт постройки «по сюжету» (дом, машина и т.д.)."]
[{"$nulls":9},"Конструирует несложные постройки из                  2—3 деталей.","Создаёт постройки «по сюжету» (дом, машина и т.д.)."]
[{"$nulls":9},"Конструирует несложные постройки из                  2—3 деталей.","Создаёт постройки «по сюжету» (дом, машина и т.д.)."]
[{"$nulls":9},"Конструирует несложные постройки из                  2—3 деталей.","Создаёт постройки «по сюжету» (дом, машина и т.д.)."]
[{"$nulls":9},"Конструирует несложные постройки из                  2—3 деталей.","Создаёт постройки «по сюжету» (дом, машина и т.д.)."]
[{"$nulls":9},"Конструирует несложные постройки из                  2—3 деталей.","Создаёт постройки «по сюжету» (дом, машина и т.д.)."]
[{"$nulls":9},"Конструирует несложные постройки из                  2—3 деталей.","Создаёт постройки «по сюжету» (дом, машина и т.д.)."]
[{"$nulls":9},"Конструирует несложные постройки из                  2—3 деталей.","Создаёт постройки «по сюжету» (дом, машина и т.д.)."]
[{"$nulls":9},"Конструирует несложные постройки из                  2—3 деталей.","Создаёт постройки «по сюжету» (дом, машина и т.д.)."]
[{"$nulls":9},"Конструирует несложные постройки из                  2—3 деталей.","Создаёт постройки «по сюжету» (дом, машина и т.д.)."]
[{"$nulls":9},"Конструирует несложные постройки из                  2—3 деталей.","Создаёт постройки «по сюжету» (дом, машина и т.д.)."]
[{"$nulls":9},"Конструирует несложные постройки из                  2—3 деталей.","Создаёт постройки «по сюжету» (дом, машина и т.д.)."]
[{"$nulls":9},"Конструирует несложные постройки из                  2—3 деталей.","Создаёт постройки «по сюжету» (дом, машина и т.д.)."]
[{"$nulls":9},"Конструирует несложные постройки из                  2—3 деталей.","Создаёт постройки «по сюжету» (дом, машина и т.д.)."]
[{"$nulls":9},"Конструирует несложные постройки из                  2—3 деталей.","Создаёт постройки «по сюжету» (дом, машина и т.д.)."]
[{"$nulls":9},"Конструирует несложные постройки из                  2—3 деталей.","Создаёт постройки «по сюжету» (дом, машина и т.д.)."]
[{"$nulls":9},"Конструирует несложные постройки из                  2—3 деталей.","Создаёт постройки «по сюжету» (дом, машина и т.д.)."]
[{"$nulls":9},"Конструирует несложные постройки из                  2—3 деталей.","Создаёт постройки «по сюжету» (дом, машина и т.д.)."]
[{"$nulls":9},"Конструирует несложные постройки из                  2—3 деталей.","Создаёт постройки «по сюжету» (дом, машина и т.д.)."]
[{"$nulls":9},"Конструирует несложные постройки из                  2—3 деталей.","Создаёт постройки «по сюжету» (дом, машина и т.д.)."]
[{"$nulls":9},"Конструирует несложные постройки из                  2—3 деталей.","Создаёт постройки «по сюжету» (дом, машина и т.д.)."]
[{"$nulls":9},"Конструирует несложные постройки из                  2—3 деталей.","Создаёт постройки «по сюжету» (дом, машина и т.д.)."]
[{"$nulls":9},"Конструирует несложные постройки из                  2—3 деталей.","Создаёт постройки «по сюжету» (дом, машина и т.д.)."]
[{"$nulls":9},"Конструирует несложные постройки из                  2—3 деталей.","Создаёт постройки «по сюжету» (дом, машина и т.д.)."]
[{"$nulls":9},"Конструирует несложные постройки из                  2—3 деталей.","Создаёт постройки «по сюжету» (дом, машина и т.д.)."]
[{"$nulls":9},"Конструирует несложные постройки из                  2—3 деталей.","Создаёт постройки «по сюжету» (дом, машина и т.д.)."]
[{"$nulls":9},"Конструирует несложные постройки из                  2—3 деталей.","Создаёт постройки «по сюжету» (дом, машина и т.д.)."]
[{"$nulls":9},"Конструирует несложные постройки из                  2—3 деталей.","Создаёт постройки «по сюжету» (дом, машина и т.д.)."]
[{"$nulls":9},"Конструирует несложные постройки из                  2—3 деталей.","Создаёт постройки «по сюжету» (дом, машина и т.д.)."]
[{"$nulls":9},"Конструирует несложные постройки из                  2—3 деталей.","Создаёт постройки «по сюжету» (дом, машина и т.д.)."]
[{"$nulls":9},"Конструирует несложные постройки из                  2—3 деталей.","Создаёт постройки «по сюжету» (дом, машина и т.д.)."]
[{"$nulls":9},"Конструирует несложные постройки из                  2—3 деталей.","Создаёт постройки «по сюжету» (дом, машина и т.д.)."]
[{"$nulls":9},"Конструирует несложные постройки из                  2—3 деталей.","Создаёт постройки «по сюжету» (дом, машина и т.д.)."]
[{"$nulls":9},"Конструирует несложные постройки из                  2—3 деталей.","Создаёт постройки «по сюжету» (дом, машина и т.д.)."]
[{"$nulls":9},"Конструирует несложные постройки из                  2—3 деталей.","Создаёт постройки «по сюжету» (дом, машина и т.д.)."]
[{"$nulls":9},"Конструирует несложные постройки из                  2—3 деталей.","Создаёт постройки «по сюжету» (дом, машина и т.д.)."]
[{"$nulls":9},"Конструирует несложные постройки из                  2—3 деталей.","Создаёт постройки «по сюжету» (дом, машина и т.д.)."]
[{"$nulls":9},"Конструирует несложные постройки из                  2—3 деталей.","Создаёт постройки «по сюжету» (дом, машина и т.д.)."]
[{"$nulls":9},"Конструирует несложные постройки из                  2—3 деталей.","Создаёт постройки «по сюжету» (дом, машина и т.д.)."]
[{"$nulls":9},"Конструирует несложные постройки из                  2—3 деталей.","Создаёт постройки «по сюжету» (дом, машина и т.д.)."]
[{"$nulls":9},"Конструирует несложные постройки из                  2—3 деталей.","Создаёт постройки «по сюжету» (дом, машина и т.д.)."]
[{"$nulls":9},"Конструирует несложные постройки из                  2—3 деталей.","Создаёт постройки «по сюжету» (дом, машина и т.д.)."]
[{"$nulls":9},"Конструирует несложные постройки из                  2—3 деталей.","Создаёт постройки «по сюжету» (дом, машина и т.д.)."]
[{"$nulls":9},"Конструирует несложные постройки из                  2—3 деталей.","Создаёт постройки «по сюжету» (дом, машина и т.д.)."]
[{"$nulls":9},"Конструирует несложные постройки из                  2—3 деталей.","Создаёт постройки «по сюжету» (дом, машина и т.д.)."]
[{"$nulls":9},"Конструирует несложные постройки из                  2—3 деталей.","Создаёт постройки «по сюжету» (дом, машина и т.д.)."]
[{"$nulls":9},"Конструирует несложные постройки из                  2—3 деталей.","Создаёт постройки «по сюжету» (дом, машина и т.д.)."]
[{"$nulls":9},"Конструирует несложные постройки из                  2—3 деталей.","Создаёт постройки «по сюжету» (дом, машина и т.д.)."]
[{"$nulls":9},"Конструирует несложные постройки из                  2—3 деталей.","Создаёт постройки «по сюжету» (дом, машина и т.д.)."]
[{"$nulls":9},"Конструирует несложные постройки из                  2—3 деталей.","Создаёт постройки «по сюжету» (дом, машина и т.д.)."]
[{"$nulls":9},"Конструирует несложные постройки из                  2—3 деталей.","Создаёт постройки «по сюжету» (дом, машина и т.д.)."]
[{"$nulls":9},"Конструирует несложные постройки из                  2—3 деталей.","Создаёт постройки «по сюжету» (дом, машина и т.д.)."]
[{"$nulls":9},"Конструирует несложные постройки из                  2—3 деталей.","Создаёт постройки «по сюжету» (дом, машина и т.д.)."]
[{"$nulls":9},"Конструирует несложные постройки из                  2—3 деталей.","Создаёт постройки «по сюжету» (дом, машина и т.д.)."]
[{"$nulls":9},"Конструирует несложные постройки из                  2—3 деталей.","Создаёт постройки «по сюжету» (дом, машина и т.д.)."]
[{"$nulls":9},"Конструирует несложные постройки из                  2—3 деталей.","Создаёт постройки «по сюжету» (дом, машина и т.д.)."]
[{"$nulls":9},"Конструирует несложные постройки из                  2—3 деталей.","Создаёт постройки «по сюжету» (дом, машина и т.д.)."]
[{"$nulls":9},"Конструирует несложные постройки из                  2—3 деталей.","Создаёт постройки «по сюжету» (дом, машина и т.д.)."]
[{"$nulls":9},"Конструирует несложные постройки из                  2—3 деталей.","Создаёт постройки «по сюжету» (дом, машина и т.д.)."]
[{"$nulls":9},"Конструирует несложные постройки из                  2—3 деталей.","Создаёт постройки «по сюжету» (дом, машина и т.д.)."]
[{"$nulls":9},"Конструирует несложные постройки из                  2—3 деталей.","Создаёт постройки «по сюжету» (дом, машина и т.д.)."]
[{"$nulls":9},"Конструирует несложные постройки из                  2—3 деталей.","Создаёт постройки «по сюжету» (дом, машина и т.д.)."]
[{"$nulls":9},"Конструирует несложные постройки из                  2—3 деталей.","Создаёт постройки «по сюжету» (дом, машина и т.д.)."]
[{"$nulls":9},"Конструирует несложные постройки из                  2—3 деталей.","Создаёт постройки «по сюжету» (дом, машина и т.д.)."]
[{"$nulls":9},"Конструирует несложные постройки из                  2—3 деталей.","Создаёт постройки «по сюжету» (дом, машина и т.д.)."]
[{"$nulls":9},"Конструирует несложные постройки из                  2—3 деталей.","Создаёт постройки «по сюжету» (дом, машина и т.д.)."]
[{"$nulls":9},"Конструирует несложные постройки из                  2—3 деталей.","Создаёт постройки «по сюжету» (дом, машина и т.д.)."]
[{"$nulls":9},"Конструирует несложные постройки из                  2—3 деталей.","Создаёт постройки «по сюжету» (дом, машина и т.д.)."]
[{"$nulls":9},"Конструирует несложные постройки из                  2—3 деталей.","Создаёт постройки «по сюжету» (дом, машина и т.д.)."]
[{"$nulls":9},"Конструирует несложные постройки из                  2—3 деталей.","Создаёт постройки «по сюжету» (дом, машина и т.д.)."]
[{"$nulls":9},"Конструирует несложные постройки из                  2—3 деталей.","Создаёт постройки «по сюжету» (дом, машина и т.д.)."]
[{"$nulls":9},"Конструирует несложные постройки из                  2—3 деталей.","Создаёт постройки «по сюжету» (дом, машина и т.д.)."]
[{"$nulls":9},"Конструирует несложные постройки из                  2—3 деталей.","Создаёт постройки «по сюжету» (дом, машина и т.д.)."]
[{"$nulls":9},"Конструирует несложные постройки из                  2—3 деталей.","Создаёт постройки «по сюжету» (дом, машина и т.д.)."]
[{"$nulls":9},"Конструирует несложные постройки из                  2—3 деталей.","Создаёт постройки «по сюжету» (дом, машина и т.д.)."]
[{"$nulls":9},"Конструирует несложные постройки из                  2—3 деталей.","Создаёт постройки «по сюжету» (дом, машина и т.д.)."]
[{"$nulls":9},"Конструирует несложные постройки из                  2—3 деталей.","Создаёт постройки «по сюжету» (дом, машина и т.д.)."]
[{"$nulls":9},"Конструирует несложные постройки из                  2—3 деталей.","Создаёт постройки «по сюжету» (дом, машина и т.д.)."]
[{"$nulls":9},"Конструирует несложные постройки из                  2—3 деталей.","Создаёт постройки «по сюжету» (дом, машина и т.д.)."]
[{"$nulls":9},"Конструирует несложные постройки из                  2—3 деталей.","Создаёт постройки «по сюжету» (дом, машина и т.д.)."]
[{"$nulls":9},"Конструирует несложные постройки из                  2—3 деталей.","Создаёт постройки «по сюжету» (дом, машина и т.д.)."]
[{"$nulls":9},"Конструирует несложные постройки из                  2—3 деталей.","Создаёт постройки «по сюжету» (дом, машина и т.д.)."]
[{"$nulls":9},"Конструирует несложные постройки из                  2—3 деталей.","Создаёт постройки «по сюжету» (дом, машина и т.д.)."]
[{"$nulls":9},"Конструирует несложные постройки из                  2—3 деталей.","Создаёт постройки «по сюжету» (дом, машина и т.д.)."]
[{"$nulls":9},"Конструирует несложные постройки из                  2—3 деталей.","Создаёт постройки «по сюжету» (дом, машина и т.д.)."]
[{"$nulls":9},"Конструирует несложные постройки из                  2—3 деталей.","Создаёт постройки «по сюжету» (дом, машина и т.д.)."]
[{"$nulls":9},"Конструирует несложные постройки из                  2—3 деталей.","Создаёт постройки «по сюжету» (дом, машина и т.д.)."]
[{"$nulls":9},"Конструирует несложные постройки из                  2—3 деталей.","Создаёт постройки «по сюжету» (дом, машина и т.д.)."]
[{"$nulls":9},"Конструирует несложные постройки из                  2—3 деталей.","Создаёт постройки «по сюжету» (дом, машина и т.д.)."]
[{"$nulls":9},"Конструирует несложные постройки из                  2—3 деталей.","Создаёт постройки «по сюжету» (дом, машина и т.д.)."]
[{"$nulls":9},"Конструирует несложные постройки из                  2—3 деталей.","Создаёт постройки «по сюжету» (дом, машина и т.д.)."]
[{"$nulls":9},"Конструирует несложные постройки из                  2—3 деталей.","Создаёт постройки «по сюжету» (дом, машина и т.д.)."]
[{"$nulls":9},"Конструирует несложные постройки из                  2—3 деталей.","Создаёт постройки «по сюжету» (дом, машина и т.д.)."]
[{"$nulls":9},"Конструирует несложные постройки из                  2—3 деталей.","Создаёт постройки «по сюжету» (дом, машина и т.д.)."]
[{"$nulls":9},"Конструирует несложные постройки из                  2—3 деталей.","Создаёт постройки «по сюжету» (дом, машина и т.д.)."]
[{"$nulls":9},"Конструирует несложные постройки из                  2—3 деталей.","Создаёт постройки «по сюжету» (дом, машина и т.д.)."]
[{"$nulls":9},"Конструирует несложные постройки из                  2—3 деталей.","Создаёт постройки «по сюжету» (дом, машина и т.д.)."]
[{"$nulls":9},"Конструирует несложные постройки из                  2—3 деталей.","Создаёт постройки «по сюжету» (дом, машина и т.д.)."]
[{"$nulls":9},"Конструирует несложные постройки из                  2—3 деталей.","Создаёт постройки «по сюжету» (дом, машина и т.д.)."]
[{"$nulls":9},"Конструирует несложные постройки из                  2—3 деталей.","Создаёт постройки «по сюжету» (дом, машина и т.д.)."]
[{"$nulls":9},"Конструирует несложные постройки из                  2—3 деталей.","Создаёт постройки «по сюжету» (дом, машина и т.д.)."]
[{"$nulls":9},"Конструирует несложные постройки из                  2—3 деталей.","Создаёт постройки «по сюжету» (дом, машина и т.д.)."]
[{"$nulls":9},"Конструирует несложные постройки из                  2—3 деталей.","Создаёт постройки «по сюжету» (дом, машина и т.д.)."]
[{"$nulls":9},"Конструирует несложные постройки из                  2—3 деталей.","Создаёт постройки «по сюжету» (дом, машина и т.д.)."]
[{"$nulls":9},"Конструирует несложные постройки из                  2—3 деталей.","Создаёт постройки «по сюжету» (дом, машина и т.д.)."]
[{"$nulls":9},"Конструирует несложные постройки из                  2—3 деталей.","Создаёт постройки «по сюжету» (дом, машина и т.д.)."]
[{"$nulls":9},"Конструирует несложные постройки из                  2—3 деталей.","Создаёт постройки «по сюжету» (дом, машина и т.д.)."]
[{"$nulls":9},"Конструирует несложные постройки из                  2—3 деталей.","Создаёт постройки «по сюжету» (дом, машина и т.д.)."]
[{"$nulls":9},"Конструирует несложные постройки из                  2—3 деталей.","Создаёт постройки «по сюжету» (дом, машина и т.д.)."]
[{"$nulls":9},"Конструирует несложные постройки из                  2—3 деталей.","Создаёт постройки «по сюжету» (дом, машина и т.д.)."]
[{"$nulls":9},"Конструирует несложные постройки из                  2—3 деталей.","Создаёт постройки «по сюжету» (дом, машина и т.д.)."]
[{"$nulls":9},"Конструирует несложные постройки из                  2—3 деталей.","Создаёт постройки «по сюжету» (дом, машина и т.д.)."]
[{"$nulls":9},"Конструирует несложные постройки из                  2—3 деталей.","Создаёт постройки «по сюжету» (дом, машина и т.д.)."]
[{"$nulls":9},"Конструирует несложные постройки из                  2—3 деталей.","Создаёт постройки «по сюжету» (дом, машина и т.д.)."]
[{"$nulls":9},"Конструирует несложные постройки из                  2—3 деталей.","Создаёт постройки «по сюжету» (дом, машина и т.д.)."]
[{"$nulls":9},"Конструирует несложные постройки из                  2—3 деталей.","Создаёт постройки «по сюжету» (дом, машина и т.д.)."]
[{"$nulls":9},"Конструирует несложные постройки из                  2—3 деталей.","Создаёт постройки «по сюжету» (дом, машина и т.д.)."]
[{"$nulls":9},"Конструирует несложные постройки из                  2—3 деталей.","Создаёт постройки «по сюжету» (дом, машина и т.д.)."]
[{"$nulls":9},"Конструирует несложные постройки из                  2—3 деталей.","Создаёт постройки «по сюжету» (дом, машина и т.д.)."]
[{"$nulls":9},"Конструирует несложные постройки из                  2—3 деталей.","Создаёт постройки «по сюжету» (дом, машина и т.д.)."]
[{"$nulls":9},"Конструирует несложные постройки из                  2—3 деталей.","Создаёт постройки «по сюжету» (дом, машина и т.д.)."]
[{"$nulls":9},"Конструирует несложные постройки из                  2—3 деталей.","Создаёт постройки «по сюжету» (дом, машина и т.д.)."]
[{"$nulls":9},"Конструирует несложные постройки из                  2—3 деталей.","Создаёт постройки «по сюжету» (дом, машина и т.д.)."]
[{"$nulls":9},"Конструирует несложные постройки из                  2—3 деталей.","Создаёт постройки «по сюжету» (дом, машина и т.д.)."]
[{"$nulls":9},"Конструирует несложные постройки из                  2—3 деталей.","Создаёт постройки «по сюжету» (дом, машина и т.д.)."]
[{"$nulls":9},"Конструирует несложные постройки из                  2—3 деталей.","Создаёт постройки «по сюжету» (дом, машина и т.д.)."]
[{"$nulls":9},"Конструирует несложные постройки из                  2—3 деталей.","Создаёт постройки «по сюжету» (дом, машина и т.д.)."]
[{"$nulls":9},"Конструирует несложные постройки из                  2—3 деталей.","Создаёт постройки «по сюжету» (дом, машина и т.д.)."]
[{"$nulls":9},"Конструирует несложные постройки из                  2—3 деталей.","Создаёт постройки «по сюжету» (дом, машина и т.д.)."]
[{"$nulls":9},"Конструирует несложные постройки из                  2—3 деталей.","Создаёт постройки «по сюжету» (дом, машина и т.д.)."]
[{"$nulls":9},"Конструирует несложные постройки из                  2—3 деталей.","Создаёт постройки «по сюжету» (дом, машина и т.д.)."]
[{"$nulls":9},"Конструирует несложные постройки из                  2—3 деталей.","Создаёт постройки «по сюжету» (дом, машина и т.д.)."]
[{"$nulls":9},"Конструирует несложные постройки из                  2—3 деталей.","Создаёт постройки «по сюжету» (дом, машина и т.д.)."]
[{"$nulls":9},"Конструирует несложные постройки из                  2—3 деталей.","Создаёт постройки «по сюжету» (дом, машина и т.д.)."]
[{"$nulls":9},"Конструирует несложные постройки из                  2—3 деталей.","Создаёт постройки «по сюжету» (дом, машина и т.д.)."]
[{"$nulls":9},"Конструирует несложные постройки из                  2—3 деталей.","Создаёт постройки «по сюжету» (дом, машина и т.д.)."]
[{"$nulls":9},"Конструирует несложные постройки из                  2—3 деталей.","Создаёт постройки «по сюжету» (дом, машина и т.д.)."]
[{"$nulls":9},"Конструирует несложные постройки из                  2—3 деталей.","Создаёт постройки «по сюжету» (дом, машина и т.д.)."]
[{"$nulls":9},"Конструирует несложные постройки из                  2—3 деталей.","Создаёт постройки «по сюжету» (дом, машина и т.д.)."]
[{"$nulls":9},"Конструирует несложные постройки из                  2—3 деталей.","Создаёт постройки «по сюжету» (дом, машина и т.д.)."]
[{"$nulls":9},"Конструирует несложные постройки из                  2—3 деталей.","Создаёт постройки «по сюжету» (дом, машина и т.д.)."]
[{"$nulls":9},"Конструирует несложные постройки из                  2—3 деталей.","Создаёт постройки «по сюжету» (дом, машина и т.д.)."]
[{"$nulls":9},"Конструирует несложные постройки из                  2—3 деталей.","Создаёт постройки «по сюжету» (дом, машина и т.д.)."]
[{"$nulls":9},"Конструирует несложные постройки из                  2—3 деталей.","Создаёт постройки «по сюжету» (дом, машина и т.д.)."]
[{"$nulls":9},"Конструирует несложные постройки из                  2—3 деталей.","Создаёт постройки «по сюжету» (дом, машина и т.д.)."]
[{"$nulls":9},"Конструирует несложные постройки из                  2—3 деталей.","Создаёт постройки «по сюжету» (дом, машина и т.д.)."]
[{"$nulls":9},"Конструирует несложные постройки из                  2—3 деталей.","Создаёт постройки «по сюжету» (дом, машина и т.д.)."]
[{"$nulls":9},"Конструирует несложные постройки из                  2—3 деталей.","Создаёт постройки «по сюжету» (дом, машина и т.д.)."]
[{"$nulls":9},"Конструирует несложные постройки из                  2—3 деталей.","Создаёт постройки «по сюжету» (дом, машина и т.д.)."]
[{"$nulls":9},"Конструирует несложные постройки из                  2—3 деталей.","Создаёт постройки «по сюжету» (дом, машина и т.д.)."]
[{"$nulls":9},"Конструирует несложные постройки из                  2—3 деталей.","Создаёт постройки «по сюжету» (дом, машина и т.д.)."]
[{"$nulls":9},"Конструирует несложные постройки из                  2—3 деталей.","Создаёт постройки «по сюжету» (дом, машина и т.д.)."]
[{"$nulls":9},"Конструирует несложные постройки из                  2—3 деталей.","Создаёт постройки «по сюжету» (дом, машина и т.д.)."]
[{"$nulls":9},"Конструирует несложные постройки из                  2—3 деталей.","Создаёт постройки «по сюжету» (дом, машина и т.д.)."]
[{"$nulls":9},"Конструирует несложные постройки из                  2—3 деталей.","Создаёт постройки «по сюжету» (дом, машина и т.д.)."]
[{"$nulls":9},"Конструирует несложные постройки из                  2—3 деталей.","Создаёт постройки «по сюжету» (дом, машина и т.д.)."]
[{"$nulls":9},"Конструирует несложные постройки из                  2—3 деталей.","Создаёт постройки «по сюжету» (дом, машина и т.д.)."]
[{"$nulls":9},"Конструирует несложные постройки из                  2—3 деталей.","Создаёт постройки «по сюжету» (дом, машина и т.д.)."]
[{"$nulls":9},"Конструирует несложные постройки из                  2—3 деталей.","Создаёт постройки «по сюжету» (дом, машина и т.д.)."]
[{"$nulls":9},"Конструирует несложные постройки из                  2—3 деталей.","Создаёт постройки «по сюжету» (дом, машина и т.д.)."]
[{"$nulls":9},"Конструирует несложные постройки из                  2—3 деталей.","Создаёт постройки «по сюжету» (дом, машина и т.д.)."]
[{"$nulls":9},"Конструирует несложные постройки из                  2—3 деталей.","Создаёт постройки «по сюжету» (дом, машина и т.д.)."]
[{"$nulls":9},"Конструирует несложные постройки из                  2—3 деталей.","Создаёт постройки «по сюжету» (дом, машина и т.д.)."]
[{"$nulls":9},"Конструирует несложные постройки из                  2—3 деталей.","Создаёт постройки «по сюжету» (дом, машина и т.д.)."]
[{"$nulls":9},"Конструирует несложные постройки из                  2—3 деталей.","Создаёт постройки «по сюжету» (дом, машина и т.д.)."]
[{"$nulls":9},"Конструирует несложные постройки из                  2—3 деталей.","Создаёт постройки «по сюжету» (дом, машина и т.д.)."]
[{"$nulls":9},"Конструирует несложные постройки из                  2—3 деталей.","Создаёт постройки «по сюжету» (дом, машина и т.д.)."]
[{"$nulls":9},"Конструирует несложные постройки из                  2—3 деталей.","Создаёт постройки «по сюжету» (дом, машина и т.д.)."]
[{"$nulls":9},"Конструирует несложные постройки из                  2—3 деталей.","Создаёт постройки «по сюжету» (дом, машина и т.д.)."]
[{"$nulls":9},"Конструирует несложные постройки из                  2—3 деталей.","Создаёт постройки «по сюжету» (дом, машина и т.д.)."]
[{"$nulls":9},"Конструирует несложные постройки из                  2—3 деталей.","Создаёт постройки «по сюжету» (дом, машина и т.д.)."]
[{"$nulls":9},"Конструирует несложные постройки из                  2—3 деталей.","Создаёт постройки «по сюжету» (дом, машина и т.д.)."]
[{"$nulls":9},"Конструирует несложные постройки из                  2—3 деталей.","Создаёт постройки «по сюжету» (дом, машина и т.д.)."]
[{"$nulls":9},"Конструирует несложные постройки из                  2—3 деталей.","Создаёт постройки «по сюжету» (дом, машина и т.д.)."]
[{"$nulls":9},"Конструирует несложные постройки из                  2—3 деталей.","Создаёт постройки «по сюжету» (дом, машина и т.д.)."]
[{"$nulls":9},"Конструирует несложные постройки из                  2—3 деталей.","Создаёт постройки «по сюжету» (дом, машина и т.д.)."]
[{"$nulls":9},"Конструирует несложные постройки из                  2—3 деталей.","Создаёт постройки «по сюжету» (дом, машина и т.д.)."]
[{"$nulls":9},"Конструирует несложные постройки из                  2—3 деталей.","Создаёт постройки «по сюжету» (дом, машина и т.д.)."]
[{"$nulls":9},"Конструирует несложные постройки из                  2—3 деталей.","Создаёт постройки «по сюжету» (дом, машина и т.д.)."]
[{"$nulls":9},"Конструирует несложные постройки из                  2—3 деталей.","Создаёт постройки «по сюжету» (дом, машина и т.д.)."]
[{"$nulls":9},"Конструирует несложные постройки из                  2—3 деталей.","Создаёт постройки «по сюжету» (дом, машина и т.д.)."]
[{"$nulls":9},"Конструирует несложные постройки из                  2—3 деталей.","Создаёт постройки «по сюжету» (дом, машина и т.д.)."]
[{"$nulls":9},"Конструирует несложные постройки из                  2—3 деталей.","Создаёт постройки «по сюжету» (дом, машина и т.д.)."]
[{"$nulls":9},"Конструирует несложные постройки из                  2—3 деталей.","Создаёт постройки «по сюжету» (дом, машина и т.д.)."]
[{"$nulls":9},"Конструирует несложные постройки из                  2—3 деталей.","Создаёт постройки «по сюжету» (дом, машина и т.д.)."]
[{"$nulls":9},"Конструирует несложные постройки из                  2—3 деталей.","Создаёт постройки «по сюжету» (дом, машина и т.д.)."]
[{"$nulls":9},"Конструирует несложные постройки из                  2—3 деталей.","Создаёт постройки «по сюжету» (дом, машина и т.д.)."]
[{"$nulls":9},"Конструирует несложные постройки из                  2—3 деталей.","Создаёт постройки «по сюжету» (дом, машина и т.д.)."]
[{"$nulls":9},"Конструирует несложные постройки из                  2—3 деталей.","Создаёт постройки «по сюжету» (дом, машина и т.д.)."]
[{"$nulls":9},"Конструирует несложные постройки из                  2—3 деталей.","Создаёт постройки «по сюжету» (дом, машина и т.д.)."]
[{"$nulls":9},"Конструирует несложные постройки из                  2—3 деталей.","Создаёт постройки «по сюжету» (дом, машина и т.д.)."]
[{"$nulls":9},"Конструирует несложные постройки из                  2—3 деталей.","Создаёт постройки «по сюжету» (дом, машина и т.д.)."]
[{"$nulls":9},"Конструирует несложные постройки из                  2—3 деталей.","Создаёт постройки «по сюжету» (дом, машина и т.д.)."]
[{"$nulls":9},"Конструирует несложные постройки из                  2—3 деталей.","Создаёт постройки «по сюжету» (дом, машина и т.д.)."]
[{"$nulls":9},"Конструирует несложные постройки из                  2—3 деталей.","Создаёт постройки «по сюжету» (дом, машина и т.д.)."]
[{"$nulls":9},"Конструирует несложные постройки из                  2—3 деталей.","Создаёт постройки «по сюжету» (дом, машина и т.д.)."]
[{"$nulls":9},"Конструирует несложные постройки из                  2—3 деталей.","Создаёт постройки «по сюжету» (дом, машина и т.д.)."]
[{"$nulls":9},"Конструирует несложные постройки из                  2—3 деталей.","Создаёт постройки «по сюжету» (дом, машина и т.д.)."]
[{"$nulls":9},"Конструирует несложные постройки из                  2—3 деталей.","Создаёт постройки «по сюжету» (дом, машина и т.д.)."]
[{"$nulls":9},"Конструирует несложные постройки из                  2—3 деталей.","Создаёт постройки «по сюжету» (дом, машина и т.д.)."]
[{"$nulls":9},"Конструирует несложные постройки из                  2—3 деталей.","Создаёт постройки «по сюжету» (дом, машина и т.д.)."]
[{"$nulls":9},"Конструирует несложные постройки из                  2—3 деталей.","Создаёт постройки «по сюжету» (дом, машина и т.д.)."]
[{"$nulls":9},"Конструирует несложные постройки из                  2—3 деталей.","Создаёт постройки «по сюжету» (дом, машина и т.д.)."]
[{"$nulls":9},"Конструирует несложные постройки из                  2—3 деталей.","Создаёт постройки «по сюжету» (дом, машина и т.д.)."]
[{"$nulls":9},"Конструирует несложные постройки из                  2—3 деталей.","Создаёт постройки «по сюжету» (дом, машина и т.д.)."]
[{"$nulls":9},"Конструирует несложные постройки из                  2—3 деталей.","Создаёт постройки «по сюжету» (дом, машина и т.д.)."]
[{"$nulls":9},"Конструирует несложные постройки из                  2—3 деталей.","Создаёт постройки «по сюжету» (дом, машина и т.д.)."]
[{"$nulls":9},"Конструирует несложные постройки из                  2—3 деталей.","Создаёт постройки «по сюжету» (дом, машина и т.д.)."]
[{"$nulls":9},"Конструирует несложные постройки из                  2—3 деталей.","Создаёт постройки «по сюжету» (дом, машина и т.д.)."]
[{"$nulls":9},"Конструирует несложные постройки из                  2—3 деталей.","Создаёт постройки «по сюжету» (дом, машина и т.д.)."]
[{"$nulls":9},"Конструирует несложные постройки из                  2—3 деталей.","Создаёт постройки «по сюжету» (дом, машина и т.д.)."]
[{"$nulls":9},"Конструирует несложные постройки из                  2—3 деталей.","Создаёт постройки «по сюжету» (дом, машина и т.д.)."]
[{"$nulls":9},"Конструирует несложные постройки из                  2—3 деталей.","Создаёт постройки «по сюжету» (дом, машина и т.д.)."]
[{"$nulls":9},"Конструирует несложные постройки из                  2—3 деталей.","Создаёт постройки «по сюжету» (дом, машина и т.д.)."]
[{"$nulls":9},"Конструирует несложные постройки из                  2—3 деталей.","Создаёт постройки «по сюжету» (дом, машина и т.д.)."]
[{"$nulls":9},"Конструирует несложные постройки из                  2—3 деталей.","Создаёт постройки «по сюжету» (дом, машина и т.д.)."]
[{"$nulls":9},"Конструирует несложные постройки из                  2—3 деталей.","Создаёт постройки «по сюжету» (дом, машина и т.д.)."]
[{"$nulls":9},"Конструирует несложные постройки из                  2—3 деталей.","Создаёт постройки «по сюжету» (дом, машина и т.д.)."]
[{"$nulls":9},"Конструирует несложные постройки из                  2—3 деталей.","Создаёт постройки «по сюжету» (дом, машина и т.д.)."]
[{"$nulls":9},"Конструирует несложные постройки из                  2—3 деталей.","Создаёт постройки «по сюжету» (дом, машина и т.д.)."]
[{"$nulls":9},"Конструирует несложные постройки из                  2—3 деталей.","Создаёт постройки «по сюжету» (дом, машина и т.д.)."]
[{"$nulls":9},"Конструирует несложные постройки из                  2—3 деталей.","Создаёт постройки «по сюжету» (дом, машина и т.д.)."]
[{"$nulls":9},"Конструирует несложные постройки из                  2—3 деталей.","Создаёт постройки «по сюжету» (дом, машина и т.д.)."]
[{"$nulls":9},"Конструирует несложные постройки из                  2—3 деталей.","Создаёт постройки «по сюжету» (дом, машина и т.д.)."]
[{"$nulls":9},"Конструирует несложные постройки из                  2—3 деталей.","Создаёт постройки «по сюжету» (дом, машина и т.д.)."]
[{"$nulls":9},"Конструирует несложные постройки из                  2—3 деталей.","Создаёт постройки «по сюжету» (дом, машина и т.д.)."]
[{"$nulls":9},"Конструирует несложные постройки из                  2—3 деталей.","Создаёт постройки «по сюжету» (дом, машина и т.д.)."]
[{"$nulls":9},"Конструирует несложные постройки из                  2—3 деталей.","Создаёт постройки «по сюжету» (дом, машина и т.д.)."]
[{"$nulls":9},"Конструирует несложные постройки из                  2—3 деталей.","Создаёт постройки «по сюжету» (дом, машина и т.д.)."]
[{"$nulls":9},"Конструирует несложные постройки из                  2—3 деталей.","Создаёт постройки «по сюжету» (дом, машина и т.д.)."]
[{"$nulls":9},"Конструирует несложные постройки из                  2—3 деталей.","Создаёт постройки «по сюжету» (дом, машина и т.д.)."]
[{"$nulls":9},"Конструирует несложные постройки из                  2—3 деталей.","Создаёт постройки «по сюжету» (дом, машина и т.д.)."]
[{"$nulls":9},"Конструирует несложные постройки из                  2—3 деталей.","Создаёт постройки «по сюжету» (дом, машина и т.д.)."]
[{"$nulls":9},"Конструирует несложные постройки из                  2—3 деталей.","Создаёт постройки «по сюжету» (дом, машина и т.д.)."]
[{"$nulls":9},"Конструирует несложные постройки из                  2—3 деталей.","Создаёт постройки «по сюжету» (дом, машина и т.д.)."]
[{"$nulls":9},"Конструирует несложные постройки из                  2—3 деталей.","Создаёт постройки «по сюжету» (дом, машина и т.д.)."]
[{"$nulls":9},"Конструирует несложные постройки из                  2—3 деталей.","Создаёт постройки «по сюжету» (дом, машина и т.д.)."]
[{"$nulls":9},"Конструирует несложные постройки из                  2—3 деталей.","Создаёт постройки «по сюжету» (дом, машина и т.д.)."]
[{"$nulls":9},"Конструирует несложные постройки из                  2—3 деталей.","Создаёт постройки «по сюжету» (дом, машина и т.д.)."]
[{"$nulls":9},"Конструирует несложные постройки из                  2—3 деталей.","Создаёт постройки «по сюжету» (дом, машина и т.д.)."]
[{"$nulls":9},"Конструирует несложные постройки из                  2—3 деталей.","Создаёт постройки «по сюжету» (дом, машина и т.д.)."]
[{"$nulls":9},"Конструирует несложные постройки из                  2—3 деталей.","Создаёт постройки «по сюжету» (дом, машина и т.д.)."]
[{"$nulls":9},"Конструирует несложные постройки из                  2—3 деталей.","Создаёт постройки «по сюжету» (дом, машина и т.д.)."]
[{"$nulls":9},"Конструирует несложные постройки из                  2—3 деталей.","Создаёт постройки «по сюжету» (дом, машина и т.д.)."]
[{"$nulls":9},"Конструирует несложные постройки из                  2—3 деталей.","Создаёт постройки «по сюжету» (дом, машина и т.д.)."]
[{"$nulls":9},"Конструирует несложные постройки из                  2—3 деталей.","Создаёт постройки «по сюжету» (дом, машина и т.д.)."]
[{"$nulls":9},"Конструирует несложные постройки из                  2—3 деталей.","Создаёт постройки «по сюжету» (дом, машина и т.д.)."]
[{"$nulls":9},"Конструирует несложные постройки из                  2—3 деталей.","Создаёт постройки «по сюжету» (дом, машина и т.д.)."]
[{"$nulls":9},"Конструирует несложные постройки из                  2—3 деталей.","Создаёт постройки «по сюжету» (дом, машина и т.д.)."]
[{"$nulls":9},"Конструирует несложные постройки из                  2—3 деталей.","Создаёт постройки «по сюжету» (дом, машина и т.д.)."]
[{"$nulls":9},"Конструирует несложные постройки из                  2—3 деталей.","Создаёт постройки «по сюжету» (дом, машина и т.д.)."]
[{"$nulls":9},"Конструирует несложные постройки из                  2—3 деталей.","Создаёт постройки «по сюжету» (дом, машина и т.д.)."]
[{"$nulls":9},"Конструирует несложные постройки из                  2—3 деталей.","Создаёт постройки «по сюжету» (дом, машина и т.д.)."]
[{"$nulls":9},"Конструирует несложные постройки из                  2—3 деталей.","Создаёт постройки «по сюжету» (дом, машина и т.д.)."]
[{"$nulls":9},"Конструирует несложные постройки из                  2—3 деталей.","Создаёт постройки «по сюжету» (дом, машина и т.д.)."]
[{"$nulls":9},"Конструирует несложные постройки из                  2—3 деталей.","Создаёт постройки «по сюжету» (дом, машина и т.д.)."]
[{"$nulls":9},"Конструирует несложные постройки из                  2—3 деталей.","Создаёт постройки «по сюжету» (дом, машина и т.д.)."]
[{"$nulls":9},"Конструирует несложные постройки из                  2—3 деталей.","Создаёт постройки «по сюжету» (дом, машина и т.д.)."]
[{"$nulls":9},"Конструирует несложные постройки из                  2—3 деталей.","Создаёт постройки «по сюжету» (дом, машина и т.д.)."]
[{"$nulls":9},"Конструирует несложные постройки из                  2—3 деталей.","Создаёт постройки «по сюжету» (дом, машина и т.д.)."]
[{"$nulls":9},"Конструирует несложные постройки из                  2—3 деталей.","Создаёт постройки «по сюжету» (дом, машина и т.д.)."]
[{"$nulls":9},"Конструирует несложные постройки из                  2—3 деталей.","Создаёт постройки «по сюжету» (дом, машина и т.д.)."]
[{"$nulls":9},"Конструирует несложные постройки из                  2—3 деталей.","Создаёт постройки «по сюжету» (дом, машина и т.д.)."]
[{"$nulls":9},"Конструирует несложные постройки из                  2—3 деталей.","Создаёт постройки «по сюжету» (дом, машина и т.д.)."]
[{"$nulls":9},"Конструирует несложные постройки из                  2—3 деталей.","Создаёт постройки «по сюжету» (дом, машина и т.д.)."]
[{"$nulls":9},"Конструирует несложные постройки из                  2—3 деталей.","Создаёт постройки «по сюжету» (дом, машина и т.д.)."]
[{"$nulls":9},"Конструирует несложные постройки из                  2—3 деталей.","Создаёт постройки «по сюжету» (дом, машина и т.д.)."]
[{"$nulls":9},"Конструирует несложные постройки из                  2—3 деталей.","Создаёт постройки «по сюжету» (дом, машина и т.д.)."]
[{"$nulls":9},"Конструирует несложные постройки из                  2—3 деталей.","Создаёт постройки «по сюжету» (дом, машина и т.д.)."]
[{"$nulls":9},"Конструирует несложные постройки из                  2—3 деталей.","Создаёт постройки «по сюжету» (дом, машина и т.д.)."]
[{"$nulls":9},"Конструирует несложные постройки из                  2—3 деталей.","Создаёт постройки «по сюжету» (дом, машина и т.д.)."]
[{"$nulls":9},"Конструирует несложные постройки из                  2—3 деталей.","Создаёт постройки «по сюжету» (дом, машина и т.д.)."]
[{"$nulls":9},"Конструирует несложные постройки из                  2—3 деталей.","Создаёт постройки «по сюжету» (дом, машина и т.д.)."]
[{"$nulls":9},"Конструирует несложные постройки из                  2—3 деталей.","Создаёт постройки «по сюжету» (дом, машина и т.д.)."]
[{"$nulls":9},"Конструирует несложные постройки из                  2—3 деталей.","Создаёт постройки «по сюжету» (дом, машина и т.д.)."]
[{"$nulls":9},"Конструирует несложные постройки из                  2—3 деталей.","Создаёт постройки «по сюжету» (дом, машина и т.д.)."]
[{"$nulls":9},"Конструирует несложные постройки из                  2—3 деталей.","Создаёт постройки «по сюжету» (дом, машина и т.д.)."]
[{"$nulls":9},"Конструирует несложные постройки из                  2—3 деталей.","Создаёт постройки «по сюжету» (дом, машина и т.д.)."]
[{"$nulls":9},"Конструирует несложные постройки из                  2—3 деталей.","Создаёт постройки «по сюжету» (дом, машина и т.д.)."]
[{"$nulls":9},"Конструирует несложные постройки из                  2—3 деталей.","Создаёт постройки «по сюжету» (дом, машина и т.д.)."]
[{"$nulls":9},"Конструирует несложные постройки из                  2—3 деталей.","Создаёт постройки «по сюжету» (дом, машина и т.д.)."]
[{"$nulls":9},"Конструирует несложные постройки из                  2—3 деталей.","Создаёт постройки «по сюжету» (дом, машина и т.д.)."]
[{"$nulls":9},"Конструирует несложные постройки из                  2—3 деталей.","Создаёт постройки «по сюжету» (дом, машина и т.д.)."]
[{"$nulls":9},"Конструирует несложные постройки из                  2—3 деталей.","Создаёт постройки «по сюжету» (дом, машина и т.д.)."]
[{"$nulls":9},"Конструирует несложные постройки из                  2—3 деталей.","Создаёт постройки «по сюжету» (дом, машина и т.д.)."]
[{"$nulls":9},"Конструирует несложные постройки из                  2—3 деталей.","Создаёт постройки «по сюжету» (дом, машина и т.д.)."]
[{"$nulls":9},"Конструирует несложные постройки из                  2—3 деталей.","Создаёт постройки «по сюжету» (дом, машина и т.д.)."]
[{"$nulls":9},"Конструирует несложные постройки из                  2—3 деталей.","Создаёт постройки «по сюжету» (дом, машина и т.д.)."]
[{"$nulls":9},"Конструирует несложные постройки из                  2—3 деталей.","Создаёт постройки «по сюжету» (дом, машина и т.д.)."]
[{"$nulls":9},"Конструирует несложные постройки из                  2—3 деталей.","Создаёт постройки «по сюжету» (дом, машина и т.д.)."]
[{"$nulls":9},"Конструирует несложные постройки из                  2—3 деталей.","Создаёт постройки «по сюжету» (дом, машина и т.д.)."]
[{"$nulls":9},"Конструирует несложные постройки из                  2—3 деталей.","Создаёт постройки «по сюжету» (дом, машина и т.д.)."]
[{"$nulls":9},"Конструирует несложные постройки из                  2—3 деталей.","Создаёт постройки «по сюжету» (дом, машина и т.д.)."]
[{"$nulls":9},"Конструирует несложные постройки из                  2—3 деталей.","Создаёт постройки «по сюжету» (дом, машина и т.д.)."]
[{"$nulls":9},"Конструирует несложные постройки из                  2—3 деталей.","Создаёт постройки «по сюжету» (дом, машина и т.д.)."]
[{"$nulls":9},"Конструирует несложные постройки из                  2—3 деталей.","Создаёт постройки «по сюжету» (дом, машина и т.д.)."]
[{"$nulls":9},"Конструирует несложные постройки из                  2—3 деталей.","Создаёт постройки «по сюжету» (дом, машина и т.д.)."]
[{"$nulls":9},"Конструирует несложные постройки из                  2—3 деталей.","Создаёт постройки «по сюжету» (дом, машина и т.д.)."]
[{"$nulls":9},"Конструирует несложные постройки из                  2—3 деталей.","Создаёт постройки «по сюжету» (дом, машина и т.д.)."]
[{"$nulls":9},"Конструирует несложные постройки из                  2—3 деталей.","Создаёт постройки «по сюжету» (дом, машина и т.д.)."]
[{"$nulls":9},"Конструирует несложные постройки из                  2—3 деталей.","Создаёт постройки «по сюжету» (дом, машина и т.д.)."]
[{"$nulls":9},"Конструирует несложные постройки из                  2—3 деталей.","Создаёт постройки «по сюжету» (дом, машина и т.д.)."]
[{"$nulls":9},"Конструирует несложные постройки из                  2—3 деталей.","Создаёт постройки «по сюжету» (дом, машина и т.д.)."]
[{"$nulls":9},"Конструирует несложные постройки из                  2—3 деталей.","Создаёт постройки «по сюжету» (дом, машина и т.д.)."]
[{"$nulls":9},"Конструирует несложные постройки из                  2—3 деталей.","Создаёт постройки «по сюжету» (дом, машина и т.д.)."]
[{"$nulls":9},"Конструирует несложные постройки из                  2—3 деталей.","Создаёт постройки «по сюжету» (дом, машина и т.д.)."]
[{"$nulls":9},"Конструирует несложные постройки из                  2—3 деталей.","Создаёт постройки «по сюжету» (дом, машина и т.д.)."]
[{"$nulls":9},"Конструирует несложные постройки из                  2—3 деталей.","Создаёт постройки «по сюжету» (дом, машина и т.д.)."]
[{"$nulls":9},"Конструирует несложные постройки из                  2—3 деталей.","Создаёт постройки «по сюжету» (дом, машина и т.д.)."]
[{"$nulls":9},"Конструирует несложные постройки из                  2—3 деталей.","Создаёт постройки «по сюжету» (дом, машина и т.д.)."]
[{"$nulls":9},"Конструирует несложные постройки из                  2—3 деталей.","Создаёт постройки «по сюжету» (дом, машина и т.д.)."]
[{"$nulls":9},"Конструирует несложные постройки из                  2—3 деталей.","Создаёт постройки «по сюжету» (дом, машина и т.д.)."]
[{"$nulls":9},"Конструирует несложные постройки из                  2—3 деталей.","Создаёт постройки «по сюжету» (дом, машина и т.д.)."]
[{"$nulls":9},"Конструирует несложные постройки из                  2—3 деталей.","Создаёт постройки «по сюжету» (дом, машина и т.д.)."]
[{"$nulls":9},"Конструирует несложные постройки из                  2—3 деталей.","Создаёт постройки «по сюжету» (дом, машина и т.д.)."]
[{"$nulls":9},"Конструирует несложные постройки из                  2—3 деталей.","Создаёт постройки «по сюжету» (дом, машина и т.д.)."]
[{"$nulls":9},"Конструирует несложные постройки из                  2—3 деталей.","Создаёт постройки «по сюжету» (дом, машина и т.д.)."]
[{"$nulls":9},"Конструирует несложные постройки из                  2—3 деталей.","Создаёт постройки «по сюжету» (дом, машина и т.д.)."]
[{"$nulls":9},"Конструирует несложные постройки из                  2—3 деталей.","Создаёт постройки «по сюжету» (дом, машина и т.д.)."]
[{"$nulls":9},"Конструирует несложные постройки из                  2—3 деталей.","Создаёт постройки «по сюжету» (дом, машина и т.д.)."]
[{"$nulls":9},"Конструирует несложные постройки из                  2—3 деталей.","Создаёт постройки «по сюжету» (дом, машина и т.д.)."]
[{"$nulls":9},"Конструирует несложные постройки из                  2—3 деталей.","Создаёт постройки «по сюжету» (дом, машина и т.д.)."]
[{"$nulls":9},"Конструирует несложные постройки из                  2—3 деталей.","Создаёт постройки «по сюжету» (дом, машина и т.д.)."]
[{"$nulls":9},"Конструирует несложные постройки из                  2—3 деталей.","Создаёт постройки «по сюжету» (дом, машина и т.д.)."]
[{"$nulls":9},"Конструирует несложные постройки из                  2—3 деталей.","Создаёт постройки «по сюжету» (дом, машина и т.д.)."]
[{"$nulls":9},"Конструирует несложные постройки из                  2—3 деталей.","Создаёт постройки «по сюжету» (дом, машина и т.д.)."]
[{"$nulls":9},"Конструирует несложные постройки из                  2—3 деталей.","Создаёт постройки «по сюжету» (дом, машина и т.д.)."]
[{"$nulls":9},"Конструирует несложные постройки из                  2—3 деталей.","Создаёт постройки «по сюжету» (дом, машина и т.д.)."]
[{"$nulls":9},"Конструирует несложные постройки из                  2—3 деталей.","Создаёт постройки «по сюжету» (дом, машина и т.д.)."]
[{"$nulls":9},"Конструирует несложные постройки из                  2—3 деталей.","Создаёт постройки «по сюжету» (дом, машина и т.д.)."]
[{"$nulls":9},"Конструирует несложные постройки из                  2—3 деталей.","Создаёт постройки «по сюжету» (дом, машина и т.д.)."]
[{"$nulls":9},"Конструирует несложные постройки из                  2—3 деталей.","Создаёт постройки «по сюжету» (дом, машина и т.д.)."]
[{"$nulls":9},"Конструирует несложные постройки из                  2—3 деталей.","Создаёт постройки «по сюжету» (дом, машина и т.д.)."]
[{"$nulls":9},"Конструирует несложные постройки из                  2—3 деталей.","Создаёт постройки «по сюжету» (дом, машина и т.д.)."]
[{"$nulls":9},"Конструирует несложные постройки из                  2—3 деталей.","Создаёт постройки «по сюжету» (дом, машина и т.д.)."]
[{"$nulls":9},"Конструирует несложные постройки из                  2—3 деталей.","Создаёт постройки «по сюжету» (дом, машина и т.д.)."]
[{"$nulls":9},"Конструирует несложные постройки из                  2—3 деталей.","Создаёт постройки «по сюжету» (дом, машина и т.д.)."]
[{"$nulls":9},"Конструирует несложные постройки из                  2—3 деталей.","Создаёт постройки «по сюжету» (дом, машина и т.д.)."]
[{"$nulls":9},"Конструирует несложные постройки из                  2—3 деталей.","Создаёт постройки «по сюжету» (дом, машина и т.д.)."]
[{"$nulls":9},"Конструирует несложные постройки из                  2—3 деталей.","Создаёт постройки «по сюжету» (дом, машина и т.д.)."]
[{"$nulls":9},"Конструирует несложные постройки из                  2—3 деталей.","Создаёт постройки «по сюжету» (дом, машина и т.д.)."]
[{"$nulls":9},"Конструирует несложные постройки из                  2—3 деталей.","Создаёт постройки «по сюжету» (дом, машина и т.д.)."]
[{"$nulls":9},"Конструирует несложные постройки из                  2—3 деталей.","Создаёт постройки «по сюжету» (дом, машина и т.д.)."]
[{"$nulls":9},"Конструирует несложные постройки из                  2—3 деталей.","Создаёт постройки «по сюжету» (дом, машина и т.д.)."]
[{"$nulls":9},"Конструирует несложные постройки из                  2—3 деталей.","Создаёт постройки «по сюжету» (дом, машина и т.д.)."]
[{"$nulls":9},"Конструирует несложные постройки из                  2—3 деталей.","Создаёт постройки «по сюжету» (дом, машина и т.д.)."]
[{"$nulls":9},"Конструирует несложные постройки из                  2—3 деталей.","Создаёт постройки «по сюжету» (дом, машина и т.д.)."]
[{"$nulls":9},"Конструирует несложные постройки из                  2—3 деталей.","Создаёт постройки «по сюжету» (дом, машина и т.д.)."]
[{"$nulls":9},"Конструирует несложные постройки из                  2—3 деталей.","Создаёт постройки «по сюжету» (дом, машина и т.д.)."]
[{"$nulls":9},"Конструирует несложные постройки из                  2—3 деталей.","Создаёт постройки «по сюжету» (дом, машина и т.д.)."]
[{"$nulls":9},"Конструирует несложные постройки из                  2—3 деталей.","Создаёт постройки «по сюжету» (дом, машина и т.д.)."]
[{"$nulls":9},"Конструирует несложные постройки из                  2—3 деталей.","Создаёт постройки «по сюжету» (дом, машина и т.д.)."]
[{"$nulls":9},"Конструирует несложные постройки из                  2—3 деталей.","Создаёт постройки «по сюжету» (дом, машина и т.д.)."]
[{"$nulls":9},"Конструирует несложные постройки из                  2—3 деталей.","Создаёт постройки «по сюжету» (дом, машина и т.д.)."]
[{"$nulls":9},"Конструирует несложные постройки из                  2—3 деталей.","Создаёт постройки «по сюжету» (дом, машина и т.д.)."]
[{"$nulls":9},"Конструирует несложные постройки из                  2—3 деталей.","Создаёт постройки «по сюжету» (дом, машина и т.д.)."]
[{"$nulls":9},"Конструирует несложные постройки из                  2—3 деталей.","Создаёт постройки «по сюжету» (дом, машина и т.д.)."]
[{"$nulls":9},"Конструирует несложные постройки из                  2—3 деталей.","Создаёт постройки «по сюжету» (дом, машина и т.д.)."]
[{"$nulls":9},"Конструирует несложные постройки из                  2—3 деталей.","Создаёт постройки «по сюжету» (дом, машина и т.д.)."]
[{"$nulls":9},"Конструирует несложные постройки из                  2—3 деталей.","Создаёт постройки «по сюжету» (дом, машина и т.д.)."]
[{"$nulls":9},"Конструирует несложные постройки из                  2—3 деталей.","Создаёт постройки «по сюжету» (дом, машина и т.д.)."]
[{"$nulls":9},"Конструирует несложные постройки из                  2—3 деталей.","Создаёт постройки «по сюжету» (дом, машина и т.д.)."]
[{"$nulls":9},"Конструирует несложные постройки из                  2—3 деталей.","Создаёт постройки «по сюжету» (дом, машина и т.д.)."]
[{"$nulls":9},"Конструирует несложные постройки из                  2—3 деталей.","Создаёт постройки «по сюжету» (дом, машина и т.д.)."]
[{"$nulls":9},"Конструирует несложные постройки из                  2—3 деталей.","Создаёт постройки «по сюжету» (дом, машина и т.д.)."]
[{"$nulls":9},"Конструирует несложные постройки из                  2—3 деталей.","Создаёт постройки «по сюжету» (дом, машина и т.д.)."]
[{"$nulls":9},"Конструирует несложные постройки из                  2—3 деталей.","Создаёт постройки «по сюжету» (дом, машина и т.д.)."]
[{"$nulls":9},"Конструирует несложные постройки из                  2—3 деталей.","Создаёт постройки «по сюжету» (дом, машина и т.д.)."]
[{"$nulls":9},"Конструирует несложные постройки из                  2—3 деталей.","Создаёт постройки «по сюжету» (дом, машина и т.д.)."]
[{"$nulls":9},"Конструирует несложные постройки из                  2—3 деталей.","Создаёт постройки «по сюжету» (дом, машина и т.д.)."]
[{"$nulls":9},"Конструирует несложные постройки из                  2—3 деталей.","Создаёт постройки «по сюжету» (дом, машина и т.д.)."]
[{"$nulls":9},"Конструирует несложные постройки из                  2—3 деталей.","Создаёт постройки «по сюжету» (дом, машина и т.д.)."]
[{"$nulls":9},"Конструирует несложные постройки из                  2—3 деталей.","Создаёт постройки «по сюжету» (дом, машина и т.д.)."]
[{"$nulls":9},"Конструирует несложные постройки из                  2—3 деталей.","Создаёт постройки «по сюжету» (дом, машина и т.д.)."]
[{"$nulls":9},"Конструирует несложные постройки из                  2—3 деталей.","Создаёт постройки «по сюжету» (дом, машина и т.д.)."]
[{"$nulls":9},"Конструирует несложные постройки из                  2—3 деталей.","Создаёт постройки «по сюжету» (дом, машина и т.д.)."]
[{"$nulls":9},"Конструирует несложные постройки из                  2—3 деталей.","Создаёт постройки «по сюжету» (дом, машина и т.д.)."]
[{"$nulls":9},"Конструирует несложные постройки из                  2—3 деталей.","Создаёт постройки «по сюжету» (дом, машина и т.д.)."]
[{"$nulls":9},"Конструирует несложные постройки из                  2—3 деталей.","Создаёт постройки «по сюжету» (дом, машина и т.д.)."]
[{"$nulls":9},"Конструирует несложные постройки из                  2—3 деталей.","Создаёт постройки «по сюжету» (дом, машина и т.д.)."]
[{"$nulls":9},"Конструирует несложные постройки из                  2—3 деталей.","Создаёт постройки «по сюжету» (дом, машина и т.д.)."]
[{"$nulls":9},"Конструирует несложные постройки из                  2—3 деталей.","Создаёт постройки «по сюжету» (дом, машина и т.д.)."]
[{"$nulls":9},"Конструирует несложные постройки из                  2—3 деталей.","Создаёт постройки «по сюжету» (дом, машина и т.д.)."]
[{"$nulls":9},"Конструирует несложные постройки из                  2—3 деталей.","Создаёт постройки «по сюжету» (дом, машина и т.д.)."]
[{"$nulls":9},"Конструирует несложные постройки из                  2—3 деталей.","Создаёт постройки «по сюжету» (дом, машина и т.д.)."]
[{"$nulls":9},"Конструирует несложные постройки из                  2—3 деталей.","Создаёт постройки «по сюжету» (дом, машина и т.д.)."]
[{"$nulls":9},"Конструирует несложные постройки из                  2—3 деталей.","Создаёт постройки «по сюжету» (дом, машина и т.д.)."]
[{"$nulls":9},"Конструирует несложные постройки из                  2—3 деталей.","Создаёт постройки «по сюжету» (дом, машина и т.д.)."]
[{"$nulls":9},"Конструирует несложные постройки из                  2—3 деталей.","Создаёт постройки «по сюжету» (дом, машина и т.д.)."]
[{"$nulls":9},"Конструирует несложные постройки из                  2—3 деталей.","Создаёт постройки «по сюжету» (дом, машина и т.д.)."]
[{"$nulls":9},"Конструирует несложные постройки из                  2—3 деталей.","Создаёт постройки «по сюжету» (дом, машина и т.д.)."]
[{"$nulls":9},"Конструирует несложные постройки из                  2—3 деталей.","Создаёт постройки «по сюжету» (дом, машина и т.д.)."]
[{"$nulls":9},"Конструирует несложные постройки из                  2—3 деталей.","Создаёт постройки «по сюжету» (дом, машина и т.д.)."]
[{"$nulls":9},"Конструирует несложные постройки из                  2—3 деталей.","Создаёт постройки «по сюжету» (дом, машина и т.д.)."]
[{"$nulls":9},"Конструирует несложные постройки из                  2—3 деталей.","Создаёт постройки «по сюжету» (дом, машина и т.д.)."]
[{"$nulls":9},"Конструирует несложные постройки из                  2—3 деталей.","Создаёт постройки «по сюжету» (дом, машина и т.д.)."]
[{"$nulls":9},"Конструирует несложные постройки из                  2—3 деталей.","Создаёт постройки «по сюжету» (дом, машина и т.д.)."]
[{"$nulls":9},"Конструирует несложные постройки из                  2—3 деталей.","Создаёт постройки «по сюжету» (дом, машина и т.д.)."]
[{"$nulls":9},"Конструирует несложные постройки из                  2—3 деталей.","Создаёт постройки «по сюжету» (дом, машина и т.д.)."]
[{"$nulls":9},"Конструирует несложные постройки из                  2—3 деталей.","Создаёт постройки «по сюжету» (дом, машина и т.д.)."]
[{"$nulls":9},"Конструирует несложные постройки из                  2—3 деталей.","Создаёт постройки «по сюжету» (дом, машина и т.д.)."]
[{"$nulls":9},"Конструирует несложные постройки из                  2—3 деталей.","Создаёт постройки «по сюжету» (дом, машина и т.д.)."]
[{"$nulls":9},"Конструирует несложные постройки из                  2—3 деталей.","Создаёт постройки «по сюжету» (дом, машина и т.д.)."]
[{"$nulls":9},"Конструирует несложные постройки из                  2—3 деталей.","Создаёт постройки «по сюжету» (дом, машина и т.д.)."]
[{"$nulls":9},"Конструирует несложные постройки из                  2—3 деталей.","Создаёт постройки «по сюжету» (дом, машина и т.д.)."]
[{"$nulls":9},"Конструирует несложные постройки из                  2—3 деталей.","Создаёт постройки «по сюжету» (дом, машина и т.д.)."]
[{"$nulls":9},"Конструирует несложные постройки из                  2—3 деталей.","Создаёт постройки «по сюжету» (дом, машина и т.д.)."]
[{"$nulls":9},"Конструирует несложные постройки из                  2—3 деталей.","Создаёт постройки «по сюжету» (дом, машина и т.д.)."]
[{"$nulls":9},"Конструирует несложные постройки из                  2—3 деталей.","Создаёт постройки «по сюжету» (дом, машина и т.д.)."]
[{"$nulls":9},"Конструирует несложные постройки из                  2—3 деталей.","Создаёт постройки «по сюжету» (дом, машина и т.д.)."]
[{"$nulls":9},"Конструирует несложные постройки из                  2—3 деталей.","Создаёт постройки «по сюжету» (дом, машина и т.д.)."]
[{"$nulls":9},"Конструирует несложные постройки из                  2—3 деталей.","Создаёт постройки «по сюжету» (дом, машина и т.д.)."]
[{"$nulls":9},"Конструирует несложные постройки из                  2—3 деталей.","Создаёт постройки «по сюжету» (дом, машина и т.д.)."]
[{"$nulls":9},"Конструирует несложные постройки из                  2—3 деталей.","Создаёт постройки «по сюжету» (дом, машина и т.д.)."]
[{"$nulls":9},"Конструирует несложные постройки из                  2—3 деталей.","Создаёт постройки «по сюжету» (дом, машина и т.д.)."]
[{"$nulls":9},"Конструирует несложные постройки из                  2—3 деталей.","Создаёт постройки «по сюжету» (дом, машина и т.д.)."]
[{"$nulls":9},"Конструирует несложные постройки из                  2—3 деталей.","Создаёт постройки «по сюжету» (дом, машина и т.д.)."]
[{"$nulls":9},"Конструирует несложные постройки из                  2—3 деталей.","Создаёт постройки «по сюжету» (дом, машина и т.д.)."]
[{"$nulls":9},"Конструирует несложные постройки из                  2—3 деталей.","Создаёт постройки «по сюжету» (дом, машина и т.д.)."]
[{"$nulls":9},"Конструирует несложные постройки из                  2—3 деталей.","Создаёт постройки «по сюжету» (дом, машина и т.д.)."]
[{"$nulls":9},"Конструирует несложные постройки из                  2—3 деталей.","Создаёт постройки «по сюжету» (дом, машина и т.д.)."]
[{"$nulls":9},"Конструирует несложные постройки из                  2—3 деталей.","Создаёт постройки «по сюжету» (дом, машина и т.д.)."]
[{"$nulls":9},"Конструирует несложные постройки из                  2—3 деталей.","Создаёт постройки «по сюжету» (дом, машина и т.д.)."]
[{"$nulls":9},"Конструирует несложные постройки из                  2—3 деталей.","Создаёт постройки «по сюжету» (дом, машина и т.д.)."]
[{"$nulls":9},"Конструирует несложные постройки из                  2—3 деталей.","Создаёт постройки «по сюжету» (дом, машина и т.д.)."]
[{"$nulls":9},"Конструирует несложные постройки из                  2—3 деталей.","Создаёт постройки «по сюжету» (дом, машина и т.д.)."]
[{"$nulls":9},"Конструирует несложные постройки из                  2—3 деталей.","Создаёт постройки «по сюжету» (дом, машина и т.д.)."]
[{"$nulls":9},"Конструирует несложные постройки из                  2—3 деталей.","Создаёт постройки «по сюжету» (дом, машина и т.д.)."]
[{"$nulls":9},"Конструирует несложные постройки из                  2—3 деталей.","Создаёт постройки «по сюжету» (дом, машина и т.д.)."]
[{"$nulls":9},"Конструирует несложные постройки из                  2—3 деталей.","Создаёт постройки «по сюжету» (дом, машина и т.д.)."]
[{"$nulls":9},"Конструирует несложные постройки из                  2—3 деталей.","Создаёт постройки «по сюжету» (дом, машина и т.д.)."]
[{"$nulls":9},"Конструирует несложные постройки из                  2—3 деталей.","Создаёт постройки «по сюжету» (дом, машина и т.д.)."]
[{"$nulls":9},"Конструирует несложные постройки из                  2—3 деталей.","Создаёт постройки «по сюжету» (дом, машина и т.д.)."]
[{"$nulls":9},"Конструирует несложные постройки из                  2—3 деталей.","Создаёт постройки «по сюжету» (дом, машина и т.д.)."]
[{"$nulls":9},"Конструирует несложные постройки из                  2—3 деталей.","Создаёт постройки «по сюжету» (дом, машина и т.д.)."]
[{"$nulls":9},"Конструирует несложные постройки из                  2—3 деталей.","Создаёт постройки «по сюжету» (дом, машина и т.д.)."]
[{"$nulls":9},"Конструирует несложные постройки из                  2—3 деталей.","Создаёт постройки «по сюжету» (дом, машина и т.д.)."]
[{"$nulls":9},"Конструирует несложные постройки из                  2—3 деталей.","Создаёт постройки «по сюжету» (дом, машина и т.д.)."]
[{"$nulls":9},"Конструирует несложные постройки из                  2—3 деталей.","Создаёт постройки «по сюжету» (дом, машина и т.д.)."]
[{"$nulls":9},"Конструирует несложные постройки из                  2—3 деталей.","Создаёт постройки «по сюжету» (дом, машина и т.д.)."]
[{"$nulls":9},"Конструирует несложные постройки из                  2—3 деталей.","Создаёт постройки «по сюжету» (дом, машина и т.д.)."]
[{"$nulls":9},"Конструирует несложные постройки из                  2—3 деталей.","Создаёт постройки «по сюжету» (дом, машина и т.д.)."]
[{"$nulls":9},"Конструирует несложные постройки из                  2—3 деталей.","Создаёт постройки «по сюжету» (дом, машина и т.д.)."]
[{"$nulls":9},"Конструирует несложные постройки из                  2—3 деталей.","Создаёт постройки «по сюжету» (дом, машина и т.д.)."]
[{"$nulls":9},"Конструирует несложные постройки из                  2—3 деталей.","Создаёт постройки «по сюжету» (дом, машина и т.д.)."]
[{"$nulls":9},"Конструирует несложные постройки из                  2—3 деталей.","Создаёт постройки «по сюжету» (дом, машина и т.д.)."]
[{"$nulls":9},"Конструирует несложные постройки из                  2—3 деталей.","Создаёт постройки «по сюжету» (дом, машина и т.д.)."]
[{"$nulls":9},"Конструирует несложные постройки из                  2—3 деталей.","Создаёт постройки «по сюжету» (дом, машина и т.д.)."]
[{"$nulls":9},"Конструирует несложные постройки из                  2—3 деталей.","Создаёт постройки «по сюжету» (дом, машина и т.д.)."]
[{"$nulls":9},"Конструирует несложные постройки из                  2—3 деталей.","Создаёт постройки «по сюжету» (дом, машина и т.д.)."]
[{"$nulls":9},"Конструирует несложные постройки из                  2—3 деталей.","Создаёт постройки «по сюжету» (дом, машина и т.д.)."]
[{"$nulls":9},"Конструирует несложные постройки из                  2—3 деталей.","Создаёт постройки «по сюжету» (дом, машина и т.д.)."]
[{"$nulls":9},"Конструирует несложные постройки из                  2—3 деталей.","Создаёт постройки «по сюжету» (дом, машина и т.д.)."]
[{"$nulls":9},"Конструирует несложные постройки из                  2—3 деталей.","Создаёт постройки «по сюжету» (дом, машина и т.д.)."]
[{"$nulls":9},"Конструирует несложные постройки из                  2—3 деталей.","Создаёт постройки «по сюжету» (дом, машина и т.д.)."]
[{"$nulls":9},"Конструирует несложные постройки из                  2—3 деталей.","Создаёт постройки «по сюжету» (дом, машина и т.д.)."]
[{"$nulls":9},"Конструирует несложные постройки из                  2—3 деталей.","Создаёт постройки «по сюжету» (дом, машина и т.д.)."]
[{"$nulls":9},"Конструирует несложные постройки из                  2—3 деталей.","Создаёт постройки «по сюжету» (дом, машина и т.д.)."]
[{"$nulls":9},"Конструирует несложные постройки из                  2—3 деталей.","Создаёт постройки «по сюжету» (дом, машина и т.д.)."]
[{"$nulls":9},"Конструирует несложные постройки из                  2—3 деталей.","Создаёт постройки «по сюжету» (дом, машина и т.д.)."]
[{"$nulls":9},"Конструирует несложные постройки из                  2—3 деталей.","Создаёт постройки «по сюжету» (дом, машина и т.д.)."]
[{"$nulls":9},"Конструирует несложные постройки из                  2—3 деталей.","Создаёт постройки «по сюжету» (дом, машина и т.д.)."]
[{"$nulls":9},"Конструирует несложные постройки из                  2—3 деталей.","Создаёт постройки «по сюжету» (дом, машина и т.д.)."]
[{"$nulls":9},"Конструирует несложные постройки из                  2—3 деталей.","Создаёт постройки «по сюжету» (дом, машина и т.д.)."]
[{"$nulls":9},"Конструирует несложные постройки из                  2—3 деталей.","Создаёт постройки «по сюжету» (дом, машина и т.д.)."]
[{"$nulls":9},"Конструирует несложные постройки из                  2—3 деталей.","Создаёт постройки «по сюжету» (дом, машина и т.д.)."]
[{"$nulls":9},"Конструирует несложные постройки из                  2—3 деталей.","Создаёт постройки «по сюжету» (дом, машина и т.д.)."]
[{"$nulls":9},"Конструирует несложные постройки из                  2—3 деталей.","Создаёт постройки «по сюжету» (дом, машина и т.д.)."]
[{"$nulls":9},"Конструирует несложные постройки из                  2—3 деталей.","Создаёт постройки «по сюжету» (дом, машина и т.д.)."]
[{"$nulls":9},"Конструирует несложные постройки из                  2—3 деталей.","Создаёт постройки «по сюжету» (дом, машина и т.д.)."]
[{"$nulls":9},"Конструирует несложные постройки из                  2—3 деталей.","Создаёт постройки «по сюжету» (дом, машина и т.д.)."]
[{"$nulls":9},"Конструирует несложные постройки из                  2—3 деталей.","Создаёт постройки «по сюжету» (дом, машина и т.д.)."]
[{"$nulls":9},"Конструирует несложные постройки из                  2—3 деталей.","Создаёт постройки «по сюжету» (дом, машина и т.д.)."]
[{"$nulls":9},"Конструирует несложные постройки из                  2—3 деталей.","Создаёт постройки «по сюжету» (дом, машина и т.д.)."]
[{"$nulls":9},"Конструирует несложные постройки из                  2—3 деталей.","Создаёт постройки «по сюжету» (дом, машина и т.д.)."]
[{"$nulls":9},"Конструирует несложные постройки из                  2—3 деталей.","Создаёт постройки «по сюжету» (дом, машина и т.д.)."]
[{"$nulls":9},"Конструирует несложные постройки из                  2—3 деталей.","Создаёт постройки «по сюжету» (дом, машина и т.д.)."]
[{"$nulls":9},"Конструирует несложные постройки из                  2—3 деталей.","Создаёт постройки «по сюжету» (дом, машина и т.д.)."]
[{"$nulls":9},"Конструирует несложные постройки из                  2—3 деталей.","Создаёт постройки «по сюжету» (дом, машина и т.д.)."]
[{"$nulls":9},"Конструирует несложные постройки из                  2—3 деталей.","Создаёт постройки «по сюжету» (дом, машина и т.д.)."]
[{"$nulls":9},"Конструирует несложные постройки из                  2—3 деталей.","Создаёт постройки «по сюжету» (дом, машина и т.д.)."]
[{"$nulls":9},"Конструирует несложные постройки из                  2—3 деталей.","Создаёт постройки «по сюжету» (дом, машина и т.д.)."]
[{"$nulls":9},"Конструирует несложные постройки из                  2—3 деталей.","Создаёт постройки «по сюжету» (дом, машина и т.д.)."]
[{"$nulls":9},"Конструирует несложные постройки из                  2—3 деталей.","Создаёт постройки «по сюжету» (дом, машина и т.д.)."]
[{"$nulls":9},"Конструирует несложные постройки из                  2—3 деталей.","Создаёт постройки «по сюжету» (дом, машина и т.д.)."]
[{"$nulls":9},"Конструирует несложные постройки из                  2—3 деталей.","Создаёт постройки «по сюжету» (дом, машина и т.д.)."]
[{"$nulls":9},"Конструирует несложные постройки из                  2—3 деталей.","Создаёт постройки «по сюжету» (дом, машина и т.д.)."]
[{"$nulls":9},"Конструирует несложные постройки из                  2—3 деталей.","Создаёт постройки «по сюжету» (дом, машина и т.д.)."]
[{"$nulls":9},"Конструирует несложные постройки из                  2—3 деталей.","Создаёт постройки «по сюжету» (дом, машина и т.д.)."]
[{"$nulls":9},"Конструирует несложные постройки из                  2—3 деталей.","Создаёт постройки «по сюжету» (дом, машина и т.д.)."]
[{"$nulls":9},"Конструирует несложные постройки из                  2—3 деталей.","Создаёт постройки «по сюжету» (дом, машина и т.д.)."]
[{"$nulls":9},"Конструирует несложные постройки из                  2—3 деталей.","Создаёт постройки «по сюжету» (дом, машина и т.д.)."]
[{"$nulls":9},"Конструирует несложные постройки из                  2—3 деталей.","Создаёт постройки «по сюжету» (дом, машина и т.д.)."]
[{"$nulls":9},"Конструирует несложные постройки из                  2—3 деталей.","Создаёт постройки «по сюжету» (дом, машина и т.д.)."]
[{"$nulls":9},"Конструирует несложные постройки из                  2—3 деталей.","Создаёт постройки «по сюжету» (дом, машина и т.д.)."]
[{"$nulls":9},"Конструирует несложные постройки из                  2—3 деталей.","Создаёт постройки «по сюжету» (дом, машина и т.д.)."]
[{"$nulls":9},"Конструирует несложные постройки из                  2—3 деталей.","Создаёт постройки «по сюжету» (дом, машина и т.д.)."]
[{"$nulls":9},"Конструирует несложные постройки из                  2—3 деталей.","Создаёт постройки «по сюжету» (дом, машина и т.д.)."]
[{"$nulls":9},"Конструирует несложные постройки из                  2—3 деталей.","Создаёт постройки «по сюжету» (дом, машина и т.д.)."]
[{"$nulls":9},"Конструирует несложные постройки из                  2—3 деталей.","Создаёт постройки «по сюжету» (дом, машина и т.д.)."]
[{"$nulls":9},"Конструирует несложные постройки из                  2—3 деталей.","Создаёт постройки «по сюжету» (дом, машина и т.д.)."]
[{"$nulls":9},"Конструирует несложные постройки из                  2—3 деталей.","Создаёт постройки «по сюжету» (дом, машина и т.д.)."]
[{"$nulls":9},"Конструирует несложные постройки из                  2—3 деталей.","Создаёт постройки «по сюжету» (дом, машина и т.д.)."]
[{"$nulls":9},"Конструирует несложные постройки из                  2—3 деталей.","Создаёт постройки «по сюжету» (дом, машина и т.д.)."]
[{"$nulls":9},"Конструирует несложные постройки из                  2—3 деталей.","Создаёт постройки «по сюжету» (дом, машина и т.д.)."]
[{"$nulls":9},"Конструирует несложные постройки из                  2—3 деталей.","Создаёт постройки «по сюжету» (дом, машина и т.д.)."]
[{"$nulls":9},"Конструирует несложные постройки из                  2—3 деталей.","Создаёт постройки «по сюжету» (дом, машина и т.д.)."]
[{"$nulls":9},"Конструирует несложные постройки из                  2—3 деталей.","Создаёт постройки «по сюжету» (дом, машина и т.д.)."]
[{"$nulls":9},"Конструирует несложные постройки из                  2—3 деталей.","Создаёт постройки «по сюжету» (дом, машина и т.д.)."]
[{"$nulls":9},"Конструирует несложные постройки из                  2—3 деталей.","Создаёт постройки «по сюжету» (дом, машина и т.д.)."]
[{"$nulls":9},"Конструирует несложные постройки из                  2—3 деталей.","Создаёт постройки «по сюжету» (дом, машина и т.д.)."]
[{"$nulls":9},"Конструирует несложные постройки из                  2—3 деталей.","Создаёт постройки «по сюжету» (дом, машина и т.д.)."]
[{"$nulls":9},"Конструирует несложные постройки из                  2—3 деталей.","Создаёт постройки «по сюжету» (дом, машина и т.д.)."]
[{"$nulls":9},"Конструирует несложные постройки из                  2—3 деталей.","Создаёт постройки «по сюжету» (дом, машина и т.д.)."]
[{"$nulls":9},"Конструирует несложные постройки из                  2—3 деталей.","Создаёт постройки «по сюжету» (дом, машина и т.д.)."]
[{"$nulls":9},"Конструирует несложные постройки из                  2—3 деталей.","Создаёт постройки «по сюжету» (дом, машина и т.д.)."]
[{"$nulls":9},"Конструирует несложные постройки из                  2—3 деталей.","Создаёт постройки «по сюжету» (дом, машина и т.д.)."]
[{"$nulls":9},"Конструирует несложные постройки из                  2—3 деталей.","Создаёт постройки «по сюжету» (дом, машина и т.д.)."]
[{"$nulls":9},"Конструирует несложные постройки из                  2—3 деталей.","Создаёт постройки «по сюжету» (дом, машина и т.д.)."]
[{"$nulls":9},"Конструирует несложные постройки из                  2—3 деталей.","Создаёт постройки «по сюжету» (дом, машина и т.д.)."]
[{"$nulls":9},"Конструирует несложные постройки из                  2—3 деталей.","Создаёт постройки «по сюжету» (дом, машина и т.д.)."]
[{"$nulls":9},"Конструирует несложные постройки из                  2—3 деталей.","Создаёт постройки «по сюжету» (дом, машина и т.д.)."]
[{"$nulls":9},"Конструирует несложные постройки из                  2—3 деталей.","Создаёт постройки «по сюжету» (дом, машина и т.д.)."]
[{"$nulls":9},"Конструирует несложные постройки из                  2—3 деталей.","Создаёт постройки «по сюжету» (дом, машина и т.д.)."]
[{"$nulls":9},"Конструирует несложные постройки из                  2—3 деталей.","Создаёт постройки «по сюжету» (дом, машина и т.д.)."]
[{"$nulls":9},"Конструирует несложные постройки из                  2—3 деталей.","Создаёт постройки «по сюжету» (дом, машина и т.д.)."]
[{"$nulls":9},"Конструирует несложные постройки из                  2—3 деталей.","Создаёт постройки «по сюжету» (дом, машина и т.д.)."]
[{"$nulls":9},"Конструирует несложные постройки из                  2—3 деталей.","Создаёт постройки «по сюжету» (дом, машина и т.д.)."]
[{"$nulls":9},"Конструирует несложные постройки из                  2—3 деталей.","Создаёт постройки «по сюжету» (дом, машина и т.д.)."]
[{"$nulls":9},"Конструирует несложные постройки из                  2—3 деталей.","Создаёт постройки «по сюжету» (дом, машина и т.д.)."]
[{"$nulls":9},"Конструирует несложные постройки из                  2—3 деталей.","Создаёт постройки «по сюжету» (дом, машина и т.д.)."]
[{"$nulls":9},"Конструирует несложные постройки из                  2—3 деталей.","Создаёт постройки «по сюжету» (дом, машина и т.д.)."]
[{"$nulls":9},"Конструирует несложные постройки из                  2—3 деталей.","Создаёт постройки «по сюжету» (дом, машина и т.д.)."]
[{"$nulls":9},"Конструирует несложные постройки из                  2—3 деталей.","Создаёт постройки «по сюжету» (дом, машина и т.д.)."]
[{"$nulls":9},"Конструирует несложные постройки из                  2—3 деталей.","Создаёт постройки «по сюжету» (дом, машина и т.д.)."]
[{"$nulls":9},"Конструирует несложные постройки из                  2—3 деталей.","Создаёт постройки «по сюжету» (дом, машина и т.д.)."]
[{"$nulls":9},"Конструирует несложные постройки из                  2—3 деталей.","Создаёт постройки «по сюжету» (дом, машина и т.д.)."]
[{"$nulls":9},"Конструирует несложные постройки из                  2—3 деталей.","Создаёт постройки «по сюжету» (дом, машина и т.д.)."]
[{"$nulls":9},"Конструирует несложные постройки из                  2—3 деталей.","Создаёт постройки «по сюжету» (дом, машина и т.д.)."]
[{"$nulls":9},"Конструирует несложные постройки из                  2—3 деталей.","Создаёт постройки «по сюжету» (дом, машина и т.д.)."]
[{"$nulls":9},"Конструирует несложные постройки из                  2—3 деталей.","Создаёт постройки «по сюжету» (дом, машина и т.д.)."]
[{"$nulls":9},"Конструирует несложные постройки из                  2—3 деталей.","Создаёт постройки «по сюжету» (дом, машина и т.д.)."]
[{"$nulls":9},"Конструирует несложные постройки из                  2—3 деталей.","Создаёт постройки «по сюжету» (дом, машина и т.д.)."]
[{"$nulls":9},"Конструирует несложные постройки из                  2—3 деталей.","Создаёт постройки «по сюжету» (дом, машина и т.д.)."]
[{"$nulls":9},"Конструирует несложные постройки из                  2—3 деталей.","Создаёт постройки «по сюжету» (дом, машина и т.д.)."]
[{"$nulls":9},"Конструирует несложные постройки из                  2—3 деталей.","Создаёт постройки «по сюжету» (дом, машина и т.д.)."]
[{"$nulls":9},"Конструирует несложные постройки из                  2—3 деталей.","Создаёт постройки «по сюжету» (дом, машина и т.д.)."]
[{"$nulls":9},"Конструирует несложные постройки из                  2—3 деталей.","Создаёт постройки «по сюжету» (дом, машина и т.д.)."]
[{"$nulls":9},"Конструирует несложные постройки из                  2—3 деталей.","Создаёт постройки «по сюжету» (дом, машина и т.д.)."]
[{"$nulls":9},"Конструирует несложные постройки из                  2—3 деталей.","Создаёт постройки «по сюжету» (дом, машина и т.д.)."]
[{"$nulls":9},"Конструирует несложные постройки из                  2—3 деталей.","Создаёт постройки «по сюжету» (дом, машина и т.д.)."]
[{"$nulls":9},"Конструирует несложные постройки из                  2—3 деталей.","Создаёт постройки «по сюжету» (дом, машина и т.д.)."]
[{"$nulls":9},"Конструирует несложные постройки из                  2—3 деталей.","Создаёт постройки «по сюжету» (дом, машина и т.д.)."]
[{"$nulls":9},"Конструирует несложные постройки из                  2—3 деталей.","Создаёт постройки «по сюжету» (дом, машина и т.д.)."]
[{"$nulls":9},"Конструирует несложные постройки из                  2—3 деталей.","Создаёт постройки «по сюжету» (дом, машина и т.д.)."]
[{"$nulls":9},"Конструирует несложные постройки из                  2—3 деталей.","Создаёт постройки «по сюжету» (дом, машина и т.д.)."]
[{"$nulls":9},"Конструирует несложные постройки из                  2—3 деталей.","Создаёт постройки «по сюжету» (дом, машина и т.д.)."]
[{"$nulls":9},"Конструирует несложные постройки из                  2—3 деталей.","Создаёт постройки «по сюжету» (дом, машина и т.д.)."]
[{"$nulls":9},"Конструирует несложные постройки из                  2—3 деталей.","Создаёт постройки «по сюжету» (дом, машина и т.д.)."]
[{"$nulls":9},"Конструирует несложные постройки из                  2—3 деталей.","Создаёт постройки «по сюжету» (дом, машина и т.д.)."]
[{"$nulls":9},"Конструирует несложные постройки из                  2—3 деталей.","Создаёт постройки «по сюжету» (дом, машина и т.д.)."]
[{"$nulls":9},"Конструирует несложные постройки из                  2—3 деталей.","Создаёт постройки «по сюжету» (дом, машина и т.д.)."]
[{"$nulls":9},"Конструирует несложные постройки из                  2—3 деталей.","Создаёт постройки «по сюжету» (дом, машина и т.д.)."]
[{"$nulls":9},"Конструирует несложные постройки из                  2—3 деталей.","Создаёт постройки «по сюжету» (дом, машина и т.д.)."]
[{"$nulls":9},"Конструирует несложные постройки из                  2—3 деталей.","Создаёт постройки «по сюжету» (дом, машина и т.д.)."]
[{"$nulls":9},"Конструирует несложные постройки из                  2—3 деталей.","Создаёт постройки «по сюжету» (дом, машина и т.д.)."]
[{"$nulls":9},"Конструирует несложные постройки из                  2—3 деталей.","Создаёт постройки «по сюжету» (дом, машина и т.д.)."]
[{"$nulls":9},"Конструирует несложные постройки из                  2—3 деталей.","Создаёт постройки «по сюжету» (дом, машина и т.д.)."]
[{"$nulls":9},"Конструирует несложные постройки из                  2—3 деталей.","Создаёт постройки «по сюжету» (дом, машина и т.д.)."]
[{"$nulls":9},"Конструирует несложные постройки из                  2—3 деталей.","Создаёт постройки «по сюжету» (дом, машина и т.д.)."]
[{"$nulls":9},"Конструирует несложные постройки из                  2—3 деталей.","Создаёт постройки «по сюжету» (дом, машина и т.д.)."]
[{"$nulls":9},"Конструирует несложные постройки из                  2—3 деталей.","Создаёт постройки «по сюжету» (дом, машина и т.д.)."]
[{"$nulls":9},"Конструирует несложные постройки из                  2—3 деталей.","Создаёт постройки «по сюжету» (дом, машина и т.д.)."]
[{"$nulls":9},"Конструирует несложные постройки из                  2—3 деталей.","Создаёт постройки «по сюжету» (дом, машина и т.д.)."]
[{"$nulls":9},"Конструирует несложные постройки из                  2—3 деталей.","Создаёт постройки «по сюжету» (дом, машина и т.д.)."]
[{"$nulls":9},"Конструирует несложные постройки из                  2—3 деталей.","Создаёт постройки «по сюжету» (дом, машина и т.д.)."]
[{"$nulls":9},"Конструирует несложные постройки из                  2—3 деталей.","Создаёт постройки «по сюжету» (дом, машина и т.д.)."]
[{"$nulls":9},"Конструирует несложные постройки из                  2—3 деталей.","Создаёт постройки «по сюжету» (дом, машина и т.д.)."]
[{"$nulls":9},"Конструирует несложные постройки из                  2—3 деталей.","Создаёт постройки «по сюжету» (дом, машина и т.д.)."]
[{"$nulls":9},"Конструирует несложные постройки из                  2—3 деталей.","Создаёт постройки «по сюжету» (дом, машина и т.д.)."]
[{"$nulls":9},"Конструирует несложные постройки из                  2—3 деталей.","Создаёт постройки «по сюжету» (дом, машина и т.д.)."]
[{"$nulls":9},"Конструирует несложные постройки из                  2—3 деталей.","Создаёт постройки «по сюжету» (дом, машина и т.д.)."]
[{"$nulls":9},"Конструирует несложные постройки из                  2—3 деталей.","Создаёт постройки «по сюжету» (дом, машина и т.д.)."]
[{"$nulls":9},"Конструирует несложные постройки из                  2—3 деталей.","Создаёт постройки «по сюжету» (дом, машина и т.д.)."]
[{"$nulls":9},"Конструирует несложные постройки из                  2—3 деталей.","Создаёт постройки «по сюжету» (дом, машина и т.д.)."]
[{"$nulls":9},"Конструирует несложные постройки из                  2—3 деталей.","Создаёт постройки «по сюжету» (дом, машина и т.д.)."]
[{"$nulls":9},"Конструирует несложные постройки из                  2—3 деталей.","Создаёт постройки «по сюжету» (дом, машина и т.д.)."]
[{"$nulls":9},"Конструирует несложные постройки из                  2—3 деталей.","Создаёт постройки «по сюжету» (дом, машина и т.д.)."]
[{"$nulls":9},"Конструирует несложные постройки из                  2—3 деталей.","Создаёт постройки «по сюжету» (дом, машина и т.д.)."]
[{"$nulls":9},"Конструирует несложные постройки из                  2—3 деталей.","Создаёт постройки «по сюжету» (дом, машина и т.д.)."]
[{"$nulls":9},"Конструирует несложные постройки из                  2—3 деталей.","Создаёт постройки «по сюжету» (дом, машина и т.д.)."]
[{"$nulls":9},"Конструирует несложные постройки из                  2—3 деталей.","Создаёт постройки «по сюжету» (дом, машина и т.д.)."]
[{"$nulls":9},"Конструирует несложные постройки из                  2—3 деталей.","Создаёт постройки «по сюжету» (дом, машина и т.д.)."]
[{"$nulls":9},"Конструирует несложные постройки из                  2—3 деталей.","Создаёт постройки «по сюжету» (дом, машина и т.д.)."]
[{"$nulls":9},"Конструирует несложные постройки из                  2—3 деталей.","Создаёт постройки «по сюжету» (дом, машина и т.д.)."]
[{"$nulls":9},"Конструирует несложные постройки из                  2—3 деталей.","Создаёт постройки «по сюжету» (дом, машина и т.д.)."]
[{"$nulls":9},"Конструирует несложные постройки из                  2—3 деталей.","Создаёт постройки «по сюжету» (дом, машина и т.д.)."]
[{"$nulls":9},"Конструирует несложные постройки из                  2—3 деталей.","Создаёт постройки «по сюжету» (дом, машина и т.д.)."]
[{"$nulls":9},"Конструирует несложные постройки из                  2—3 деталей.","Создаёт постройки «по сюжету» (дом, машина и т.д.)."]
[{"$nulls":9},"Конструирует несложные постройки из                  2—3 деталей.","Создаёт постройки «по сюжету» (дом, машина и т.д.)."]
[{"$nulls":9},"Конструирует несложные постройки из                  2—3 деталей.","Создаёт постройки «по сюжету» (дом, машина и т.д.)."]
[{"$nulls":9},"Конструирует несложные постройки из                  2—3 деталей.","Создаёт постройки «по сюжету» (дом, машина и т.д.)."]
[{"$nulls":9},"Конструирует несложные постройки из                  2—3 деталей.","Создаёт постройки «по сюжету» (дом, машина и т.д.)."]
[{"$nulls":9},"Конструирует несложные постройки из                  2—3 деталей.","Создаёт постройки «по сюжету» (дом, машина и т.д.)."]
[{"$nulls":9},"Конструирует несложные постройки из                  2—3 деталей.","Создаёт постройки «по сюжету» (дом, машина и т.д.)."]
[{"$nulls":9},"Конструирует несложные постройки из                  2—3 деталей.","Создаёт постройки «по сюжету» (дом, машина и т.д.)."]
[{"$nulls":9},"Конструирует несложные постройки из                  2—3 деталей.","Создаёт постройки «по сюжету» (дом, машина и т.д.)."]
[{"$nulls":9},"Конструирует несложные постройки из                  2—3 деталей.","Создаёт постройки «по сюжету» (дом, машина и т.д.)."]
[{"$nulls":9},"Конструирует несложные постройки из                  2—3 деталей.","Создаёт постройки «по сюжету» (дом, машина и т.д.)."]
[{"$nulls":9},"Конструирует несложные постройки из                  2—3 деталей.","Создаёт постройки «по сюжету» (дом, машина и т.д.)."]
[{"$nulls":9},"Конструирует несложные постройки из                  2—3 деталей.","Создаёт постройки «по сюжету» (дом, машина и т.д.)."]
[{"$nulls":9},"Конструирует несложные постройки из                  2—3 деталей.","Создаёт постройки «по сюжету» (дом, машина и т.д.)."]
[{"$nulls":9},"Конструирует несложные постройки из                  2—3 деталей.","Создаёт постройки «по сюжету» (дом, машина и т.д.)."]
[{"$nulls":9},"Конструирует несложные постройки из                  2—3 деталей.","Создаёт постройки «по сюжету» (дом, машина и т.д.)."]
[{"$nulls":9},"Конструирует несложные постройки из                  2—3 деталей.","Создаёт постройки «по сюжету» (дом, машина и т.д.)."]
[{"$nulls":9},"Конструирует несложные постройки из                  2—3 деталей.","Создаёт постройки «по сюжету» (дом, машина и т.д.)."]
[{"$nulls":9},"Конструирует несложные постройки из                  2—3 деталей.","Создаёт постройки «по сюжету» (дом, машина и т.д.)."]
[{"$nulls":9},"Конструирует несложные постройки из                  2—3 деталей.","Создаёт постройки «по сюжету» (дом, машина и т.д.)."]
[{"$nulls":9},"Конструирует несложные постройки из                  2—3 деталей.","Создаёт постройки «по сюжету» (дом, машина и т.д.)."]
[{"$nulls":9},"Конструирует несложные постройки из                  2—3 деталей.","Создаёт постройки «по сюжету» (дом, машина и т.д.)."]
[{"$nulls":9},"Конструирует несложные постройки из                  2—3 деталей.","Создаёт постройки «по сюжету» (дом, машина и т.д.)."]
[{"$nulls":9},"Конструирует несложные постройки из                  2—3 деталей.","Создаёт постройки «по сюжету» (дом, машина и т.д.)."]
[{"$nulls":9},"Конструирует несложные постройки из                  2—3 деталей.","Создаёт постройки «по сюжету» (дом, машина и т.д.)."]
[{"$nulls":9},"Конструирует несложные постройки из                  2—3 деталей.","Создаёт постройки «по сюжету» (дом, машина и т.д.)."]
[{"$nulls":9},"Конструирует несложные постройки из                  2—3 деталей.","Создаёт постройки «по сюжету» (дом, машина и т.д.)."]
[{"$nulls":9},"Конструирует несложные постройки из                  2—3 деталей.","Создаёт постройки «по сюжету» (дом, машина и т.д.)."]
[{"$nulls":9},"Конструирует несложные постройки из                  2—3 деталей.","Создаёт постройки «по сюжету» (дом, машина и т.д.)."]
[{"$nulls":9},"Конструирует несложные постройки из                  2—3 деталей.","Создаёт постройки «по сюжету» (дом, машина и т.д.)."]
[{"$nulls":9},"Конструирует несложные постройки из                  2—3 деталей.","Создаёт постройки «по сюжету» (дом, машина и т.д.)."]
[{"$nulls":9},"Конструирует несложные постройки из                  2—3 деталей.","Создаёт постройки «по сюжету» (дом, машина и т.д.)."]
[{"$nulls":9},"Конструирует несложные постройки из                  2—3 деталей.","Создаёт постройки «по сюжету» (дом, машина и т.д.)."]
[{"$nulls":9},"Конструирует несложные постройки из                  2—3 деталей.","Создаёт постройки «по сюжету» (дом, машина и т.д.)."]
[{"$nulls":9},"Конструирует несложные постройки из                  2—3 деталей.","Создаёт постройки «по сюжету» (дом, машина и т.д.)."]
[{"$nulls":9},"Конструирует несложные постройки из                  2—3 деталей.","Создаёт постройки «по сюжету» (дом, машина и т.д.)."]
[{"$nulls":9},"Конструирует несложные постройки из                  2—3 деталей.","Создаёт постройки «по сюжету» (дом, машина и т.д.)."]
[{"$nulls":9},"Конструирует несложные постройки из                  2—3 деталей.","Создаёт постройки «по сюжету» (дом, машина и т.д.)."]
[{"$nulls":9},"Конструирует несложные постройки из                  2—3 деталей.","Создаёт постройки «по сюжету» (дом, машина и т.д.)."]
[{"$nulls":9},"Конструирует несложные постройки из                  2—3 деталей.","Создаёт постройки «по сюжету» (дом, машина и т.д.)."]
[{"$nulls":9},"Конструирует несложные постройки из                  2—3 деталей.","Создаёт постройки «по сюжету» (дом, машина и т.д.)."]
[{"$nulls":9},"Конструирует несложные постройки из                  2—3 деталей.","Создаёт постройки «по сюжету» (дом, машина и т.д.)."]
[{"$nulls":9},"Конструирует несложные постройки из                  2—3 деталей.","Создаёт постройки «по сюжету» (дом, машина и т.д.)."]
[{"$nulls":9},"Конструирует несложные постройки из                  2—3 деталей.","Создаёт постройки «по сюжету» (дом, машина и т.д.)."]
[{"$nulls":9},"Конструирует несложные постройки из                  2—3 деталей.","Создаёт постройки «по сюжету» (дом, машина и т.д.)."]
[{"$nulls":9},"Конструирует несложные постройки из                  2—3 деталей.","Создаёт постройки «по сюжету» (дом, машина и т.д.)."]
[{"$nulls":9},"Конструирует несложные постройки из                  2—3 деталей.","Создаёт постройки «по сюжету» (дом, машина и т.д.)."]
[{"$nulls":9},"Конструирует несложные постройки из                  2—3 деталей.","Создаёт постройки «по сюжету» (дом, машина и т.д.)."]
[{"$nulls":9},"Конструирует несложные постройки из                  2—3 деталей.","Создаёт постройки «по сюжету» (дом, машина и т.д.)."]
[{"$nulls":9},"Конструирует несложные постройки из                  2—3 деталей.","Создаёт постройки «по сюжету» (дом, машина и т.д.)."]
[{"$nulls":9},"Конструирует несложные постройки из                  2—3 деталей.","Создаёт постройки «по сюжету» (дом, машина и т.д.)."]
[{"$nulls":9},"Конструирует несложные постройки из                  2—3 деталей.","Создаёт постройки «по сюжету» (дом, машина и т.д.)."]
[{"$nulls":9},"Конструирует несложные постройки из                  2—3 деталей.","Создаёт постройки «по сюжету» (дом, машина и т.д.)."]
[{"$nulls":9},"Конструирует несложные постройки из                  2—3 деталей.","Создаёт постройки «по сюжету» (дом, машина и т.д.)."]
[{"$nulls":9},"Конструирует несложные постройки из                  2—3 деталей.","Создаёт постройки «по сюжету» (дом, машина и т.д.)."]
[{"$nulls":9},"Конструирует несложные постройки из                  2—3 деталей.","Создаёт постройки «по сюжету» (дом, машина и т.д.)."]
[{"$nulls":9},"Конструирует несложные постройки из                  2—3 деталей.","Создаёт постройки «по сюжету» (дом, машина и т.д.)."]
[{"$nulls":9},"Конструирует несложные постройки из                  2—3 деталей.","Создаёт постройки «по сюжету» (дом, машина и т.д.)."]
[{"$nulls":9},"Конструирует несложные постройки из                  2—3 деталей.","Создаёт постройки «по сюжету» (дом, машина и т.д.)."]
[{"$nulls":9},"Конструирует несложные постройки из                  2—3 деталей.","Создаёт постройки «по сюжету» (дом, машина и т.д.)."]
[{"$nulls":9},"Конструирует несложные постройки из                  2—3 деталей.","Создаёт постройки «по сюжету» (дом, машина и т.д.)."]
[{"$nulls":9},"Конструирует несложные постройки из                  2—3 деталей.","Создаёт постройки «по сюжету» (дом, машина и т.д.)."]
[{"$nulls":9},"Конструирует несложные постройки из                  2—3 деталей.","Создаёт постройки «по сюжету» (дом, машина и т.д.)."]
[{"$nulls":9},"Конструирует несложные постройки из                  2—3 деталей.","Создаёт постройки «по сюжету» (дом, машина и т.д.)."]
[{"$nulls":9},"Конструирует несложные постройки из                  2—3 деталей.","Создаёт постройки «по сюжету» (дом, машина и т.д.)."]
[{"$nulls":9},"Конструирует несложные постройки из                  2—3 деталей.","Создаёт постройки «по сюжету» (дом, машина и т.д.)."]
[{"$nulls":9},"Конструирует несложные постройки из                  2—3 деталей.","Создаёт постройки «по сюжету» (дом, машина и т.д.)."]
[{"$nulls":9},"Конструирует несложные постройки из                  2—3 деталей.","Создаёт постройки «по сюжету» (дом, машина и т.д.)."]
[{"$nulls":9},"Конструирует несложные постройки из                  2—3 деталей.","Создаёт постройки «по сюжету» (дом, машина и т.д.)."]
[{"$nulls":9},"Конструирует несложные постройки из                  2—3 деталей.","Создаёт постройки «по сюжету» (дом, машина и т.д.)."]
[{"$nulls":9},"Конструирует несложные постройки из                  2—3 деталей.","Создаёт постройки «по сюжету» (дом, машина и т.д.)."]
[{"$nulls":9},"Конструирует несложные постройки из                  2—3 деталей.","Создаёт постройки «по сюжету» (дом, машина и т.д.)."]
[{"$nulls":9},"Конструирует несложные постройки из                  2—3 деталей.","Создаёт постройки «по сюжету» (дом, машина и т.д.)."]
[{"$nulls":9},"Конструирует несложные постройки из                  2—3 деталей.","Создаёт постройки «по сюжету» (дом, машина и т.д.)."]
[{"$nulls":9},"Конструирует несложные постройки из                  2—3 деталей.","Создаёт постройки «по сюжету» (дом, машина и т.д.)."]
[{"$nulls":9},"Конструирует несложные постройки из                  2—3 деталей.","Создаёт постройки «по сюжету» (дом, машина и т.д.)."]
[{"$nulls":9},"Конструирует несложные постройки из                  2—3 деталей.","Создаёт постройки «по сюжету» (дом, машина и т.д.)."]
[{"$nulls":9},"Конструирует несложные постройки из                  2—3 деталей.","Создаёт постройки «по сюжету» (дом, машина и т.д.)."]
[{"$nulls":9},"Конструирует несложные постройки из                  2—3 деталей.","Создаёт постройки «по сюжету» (дом, машина и т.д.)."]
[{"$nulls":9},"Конструирует несложные постройки из                  2—3 деталей.","Создаёт постройки «по сюжету» (дом, машина и т.д.)."]
[{"$nulls":9},"Конструирует несложные постройки из                  2—3 деталей.","Создаёт постройки «по сюжету» (дом, машина и т.д.)."]
[{"$nulls":9},"Конструирует несложные постройки из                  2—3 деталей.","Создаёт постройки «по сюжету» (дом, машина и т.д.)."]
[{"$nulls":9},"Конструирует несложные постройки из                  2—3 деталей.","Создаёт постройки «по сюжету» (дом, машина и т.д.)."]
[{"$nulls":9},"Конструирует несложные постройки из                  2—3 деталей.","Создаёт постройки «по сюжету» (дом, машина и т.д.)."]
[{"$nulls":9},"Конструирует несложные постройки из                  2—3 деталей.","Создаёт постройки «по сюжету» (дом, машина и т.д.)."]
[{"$nulls":9},"Конструирует несложные постройки из                  2—3 деталей.","Создаёт постройки «по сюжету» (дом, машина и т.д.)."]
[{"$nulls":9},"Конструирует несложные постройки из                  2—3 деталей.","Создаёт постройки «по сюжету» (дом, машина и т.д.)."]
[{"$nulls":9},"Конструирует несложные постройки из                  2—3 деталей.","Создаёт постройки «по сюжету» (дом, машина и т.д.)."]
[{"$nulls":9},"Конструирует несложные постройки из                  2—3 деталей.","Создаёт постройки «по сюжету» (дом, машина и т.д.)."]
[{"$nulls":9},"Конструирует несложные постройки из                  2—3 деталей.","Создаёт постройки «по сюжету» (дом, машина и т.д.)."]
[{"$nulls":9},"Конструирует несложные постройки из                  2—3 деталей.","Создаёт постройки «по сюжету» (дом, машина и т.д.)."]
[{"$nulls":9},"Конструирует несложные постройки из                  2—3 деталей.","Создаёт постройки «по сюжету» (дом, машина и т.д.)."]
[{"$nulls":9},"Конструирует несложные постройки из                  2—3 деталей.","Создаёт постройки «по сюжету» (дом, машина и т.д.)."]
[{"$nulls":9},"Конструирует несложные постройки из                  2—3 деталей.","Создаёт постройки «по сюжету» (дом, машина и т.д.)."]
[{"$nulls":9},"Конструирует несложные постройки из                  2—3 деталей.","Создаёт постройки «по сюжету» (дом, машина и т.д.)."]
[{"$nulls":9},"Конструирует несложные постройки из                  2—3 деталей.","Создаёт постройки «по сюжету» (дом, машина и т.д.)."]
[{"$nulls":9},"Конструирует несложные постройки из                  2—3 деталей.","Создаёт постройки «по сюжету» (дом, машина и т.д.)."]
[{"$nulls":9},"Конструирует несложные постройки из                  2—3 деталей.","Создаёт постройки «по сюжету» (дом, машина и т.д.)."]
[{"$nulls":9},"Конструирует несложные постройки из                  2—3 деталей.","Создаёт постройки «по сюжету» (дом, машина и т.д.)."]
[{"$nulls":9},"Конструирует несложные постройки из                  2—3 деталей.","Создаёт постройки «по сюжету» (дом, машина и т.д.)."]
[{"$nulls":9},"Конструирует несложные постройки из                  2—3 деталей.","Создаёт постройки «по сюжету» (дом, машина и т.д.)."]
[{"$nulls":9},"Конструирует несложные постройки из                  2—3 деталей.","Создаёт постройки «по сюжету» (дом, машина и т.д.)."]
[{"$nulls":9},"Конструирует несложные постройки из                  2—3 деталей.","Создаёт постройки «по сюжету» (дом, машина и т.д.)."]
[{"$nulls":9},"Конструирует несложные постройки из                  2—3 деталей.","Создаёт постройки «по сюжету» (дом, машина и т.д.)."]
[{"$nulls":9},"Конструирует несложные постройки из                  2—3 деталей.","Создаёт постройки «по сюжету» (дом, машина и т.д.)."]
[{"$nulls":9},"Конструирует несложные постройки из                  2—3 деталей.","Создаёт постройки «по сюжету» (дом, машина и т.д.)."]
[{"$nulls":9},"Конструирует несложные постройки из                  2—3 деталей.","Создаёт постройки «по сюжету» (дом, машина и т.д.)."]
[{"$nulls":9},"Конструирует несложные постройки из                  2—3 деталей.","Создаёт постройки «по сюжету» (дом, машина и т.д.)."]
[{"$nulls":9},"Конструирует несложные постройки из                  2—3 деталей.","Создаёт постройки «по сюжету» (дом, машина и т.д.)."]
[{"$nulls":9},"Конструирует несложные постройки из                  2—3 деталей.","Создаёт постройки «по сюжету» (дом, машина и т.д.)."]
[{"$nulls":9},"Конструирует несложные постройки из                  2—3 деталей.","Создаёт постройки «по сюжету» (дом, машина и т.д.)."]
[{"$nulls":9},"Конструирует несложные постройки из                  2—3 деталей.","Создаёт постройки «по сюжету» (дом, машина и т.д.)."]
[{"$nulls":9},"Конструирует несложные постройки из                  2—3 деталей.","Создаёт постройки «по сюжету» (дом, машина и т.д.)."]
[{"$nulls":9},"Конструирует несложные постройки из                  2—3 деталей.","Создаёт постройки «по сюжету» (дом, машина и т.д.)."]
[{"$nulls":9},"Конструирует несложные постройки из                  2—3 деталей.","Создаёт постройки «по сюжету» (дом, машина и т.д.)."]
[{"$nulls":9},"Конструирует несложные постройки из                  2—3 деталей.","Создаёт постройки «по сюжету» (дом, машина и т.д.)."]
[{"$nulls":9},"Конструирует несложные постройки из                  2—3 деталей.","Создаёт постройки «по сюжету» (дом, машина и т.д.)."]
[{"$nulls":9},"Конструирует несложные постройки из                  2—3 деталей.","Создаёт постройки «по сюжету» (дом, машина и т.д.)."]
[{"$nulls":9},"Конструирует несложные постройки из                  2—3 деталей.","Создаёт постройки «по сюжету» (дом, машина и т.д.)."]
[{"$nulls":9},"Конструирует несложные постройки из                  2—3 деталей.","Создаёт постройки «по сюжету» (дом, машина и т.д.)."]
[{"$nulls":9},"Конструирует несложные постройки из                  2—3 деталей.","Создаёт постройки «по сюжету» (дом, машина и т.д.)."]
[{"$nulls":9},"Конструирует несложные постройки из                  2—3 деталей.","Создаёт постройки «по сюжету» (дом, машина и т.д.)."]
[{"$nulls":9},"Конструирует несложные постройки из                  2—3 деталей.","Создаёт постройки «по сюжету» (дом, машина и т.д.)."]
[{"$nulls":9},"Конструирует несложные постройки из                  2—3 деталей.","Создаёт постройки «по сюжету» (дом, машина и т.д.)."]
[{"$nulls":9},"Конструирует несложные постройки из                  2—3 деталей.","Создаёт постройки «по сюжету» (дом, машина и т.д.)."]
[{"$nulls":9},"Конструирует несложные постройки из                  2—3 деталей.","Создаёт постройки «по сюжету» (дом, машина и т.д.)."]
[{"$nulls":9},"Конструирует несложные постройки из                  2—3 деталей.","Создаёт постройки «по сюжету» (дом, машина и т.д.)."]
[{"$nulls":9},"Конструирует несложные постройки из                  2—3 деталей.","Создаёт постройки «по сюжету» (дом, машина и т.д.)."]
[{"$nulls":9},"Конструирует несложные постройки из                  2—3 деталей.","Создаёт постройки «по сюжету» (дом, машина и т.д.)."]
[{"$nulls":9},"Конструирует несложные постройки из                  2—3 деталей.","Создаёт постройки «по сюжету» (дом, машина и т.д.)."]
[{"$nulls":9},"Конструирует несложные постройки из                  2—3 деталей.","Создаёт постройки «по сюжету» (дом, машина и т.д.)."]
[{"$nulls":9},"Конструирует несложные постройки из                  2—3 деталей.","Создаёт постройки «по сюжету» (дом, машина и т.д.)."]
[{"$nulls":9},"Конструирует несложные постройки из                  2—3 деталей.","Создаёт постройки «по сюжету» (дом, машина и т.д.)."]
[{"$nulls":9},"Конструирует несложные постройки из                  2—3 деталей.","Создаёт постройки «по сюжету» (дом, машина и т.д.)."]
[{"$nulls":9},"Конструирует несложные постройки из                  2—3 деталей.","Создаёт постройки «по сюжету» (дом, машина и т.д.)."]
[{"$nulls":9},"Конструирует несложные постройки из                  2—3 деталей.","Создаёт постройки «по сюжету» (дом, машина и т.д.)."]
[{"$nulls":9},"Конструирует несложные постройки из                  2—3 деталей.","Создаёт постройки «по сюжету» (дом, машина и т.д.)."]
[{"$nulls":9},"Конструирует несложные постройки из                  2—3 деталей.","Создаёт постройки «по сюжету» (дом, машина и т.д.)."]
[{"$nulls":9},"Конструирует несложные постройки из                  2—3 деталей.","Создаёт постройки «по сюжету» (дом, машина и т.д.)."]
[{"$nulls":9},"Конструирует несложные постройки из                  2—3 деталей.","Создаёт постройки «по сюжету» (дом, машина и т.д.)."]
[{"$nulls":9},"Конструирует несложные постройки из                  2—3 деталей.","Создаёт постройки «по сюжету» (дом, машина и т.д.)."]
[{"$nulls":9},"Конструирует несложные постройки из                  2—3 деталей.","Создаёт постройки «по сюжету» (дом, машина и т.д.)."]
[{"$nulls":9},"Конструирует несложные постройки из                  2—3 деталей.","Создаёт постройки «по сюжету» (дом, машина и т.д.)."]
[{"$nulls":9},"Конструирует несложные постройки из                  2—3 деталей.","Создаёт постройки «по сюжету» (дом, машина и т.д.)."]
[{"$nulls":9},"Конструирует несложные постройки из                  2—3 деталей.","Создаёт постройки «по сюжету» (дом, машина и т.д.)."]
[{"$nulls":9},"Конструирует несложные постройки из                  2—3 деталей.","Создаёт постройки «по сюжету» (дом, машина и т.д.)."]
[{"$nulls":9},"Конструирует несложные постройки из                  2—3 деталей.","Создаёт постройки «по сюжету» (дом, машина и т.д.)."]
[{"$nulls":9},"Конструирует несложные постройки из                  2—3 деталей.","Создаёт постройки «по сюжету» (дом, машина и т.д.)."]
[{"$nulls":9},"Конструирует несложные постройки из                  2—3 деталей.","Создаёт постройки «по сюжету» (дом, машина и т.д.)."]
[{"$nulls":9},"Конструирует несложные постройки из                  2—3 деталей.","Создаёт постройки «по сюжету» (дом, машина и т.д.)."]
[{"$nulls":9},"Конструирует несложные постройки из                  2—3 деталей.","Создаёт постройки «по сюжету» (дом, машина и т.д.)."]
[{"$nulls":9},"Конструирует несложные постройки из                  2—3 деталей.","Создаёт постройки «по сюжету» (дом, машина и т.д.)."]
[{"$nulls":9},"Конструирует несложные постройки из                  2—3 деталей.","Создаёт постройки «по сюжету» (дом, машина и т.д.)."]
[{"$nulls":9},"Конструирует несложные постройки из                  2—3 деталей.","Создаёт постройки «по сюжету» (дом, машина и т.д.)."]
[{"$nulls":9},"Конструирует несложные постройки из                  2—3 деталей.","Создаёт постройки «по сюжету» (дом, машина и т.д.)."]
[{"$nulls":9},"Конструирует несложные постройки из                  2—3 деталей.","Создаёт постройки «по сюжету» (дом, машина и т.д.)."]
[{"$nulls":9},"Конструирует несложные постройки из                  2—3 деталей.","Создаёт постройки «по сюжету» (дом, машина и т.д.)."]
[{"$nulls":9},"Конструирует несложные постройки из                  2—3 деталей.","Создаёт постройки «по сюжету» (дом, машина и т.д.)."]
[{"$nulls":9},"Конструирует несложные постройки из                  2—3 деталей.","Создаёт постройки «по сюжету» (дом, машина и т.д.)."]
[{"$nulls":9},"Конструирует несложные постройки из                  2—3 деталей.","Создаёт постройки «по сюжету» (дом, машина и т.д.)."]
[{"$nulls":9},"Конструирует несложные постройки из                  2—3 деталей.","Создаёт постройки «по сюжету» (дом, машина и т.д.)."]
[{"$nulls":9},"Конструирует несложные постройки из                  2—3 деталей.","Создаёт постройки «по сюжету» (дом, машина и т.д.)."]
[{"$nulls":9},"Конструирует несложные постройки из                  2—3 деталей.","Создаёт постройки «по сюжету» (дом, машина и т.д.)."]
[{"$nulls":9},"Конструирует несложные постройки из                  2—3 деталей.","Создаёт постройки «по сюжету» (дом, машина и т.д.)."]
[{"$nulls":9},"Конструирует несложные постройки из                  2—3 деталей.","Создаёт постройки «по сюжету» (дом, машина и т.д.)."]
[{"$nulls":9},"Конструирует несложные постройки из                  2—3 деталей.","Создаёт постройки «по сюжету» (дом, машина и т.д.)."]
[{"$nulls":9},"Конструирует несложные постройки из                  2—3 деталей.","Создаёт постройки «по сюжету» (дом, машина и т.д.)."]
[{"$nulls":9},"Конструирует несложные постройки из                  2—3 деталей.","Создаёт постройки «по сюжету» (дом, машина и т.д.)."]
[{"$nulls":9},"Конструирует несложные постройки из                  2—3 деталей.","Создаёт постройки «по сюжету» (дом, машина и т.д.)."]
[{"$nulls":9},"Конструирует несложные постройки из                  2—3 деталей.","Создаёт постройки «по сюжету» (дом, машина и т.д.)."]
[{"$nulls":9},"Конструирует несложные постройки из                  2—3 деталей.","Создаёт постройки «по сюжету» (дом, машина и т.д.)."]
[{"$nulls":9},"Конструирует несложные постройки из                  2—3 деталей.","Создаёт постройки «по сюжету» (дом, машина и т.д.)."]
[{"$nulls":9},"Конструирует несложные постройки из                  2—3 деталей.","Создаёт постройки «по сюжету» (дом, машина и т.д.)."]
[{"$nulls":9},"Конструирует несложные постройки из                  2—3 деталей.","Создаёт постройки «по сюжету» (дом, машина и т.д.)."]
[{"$nulls":9},"Конструирует несложные постройки из                  2—3 деталей.","Создаёт постройки «по сюжету» (дом, машина и т.д.)."]
[{"$nulls":9},"Конструирует несложные постройки из                  2—3 деталей.","Создаёт постройки «по сюжету» (дом, машина и т.д.)."]
[{"$nulls":9},"Конструирует несложные постройки из                  2—3 деталей.","Создаёт постройки «по сюжету» (дом, машина и т.д.)."]
[{"$nulls":9},"Конструирует несложные постройки из                  2—3 деталей.","Создаёт постройки «по сюжету» (дом, машина и т.д.)."]
[{"$nulls":9},"Конструирует несложные постройки из                  2—3 деталей.","Создаёт постройки «по сюжету» (дом, машина и т.д.)."]
[{"$nulls":9},"Конструирует несложные постройки из                  2—3 деталей.","Создаёт постройки «по сюжету» (дом, машина и т.д.)."]
[{"$nulls":9},"Конструирует несложные постройки из                  2—3 деталей.","Создаёт постройки «по сюжету» (дом, машина и т.д.)."]
[{"$nulls":9},"Конструирует несложные постройки из                  2—3 деталей.","Создаёт постройки «по сюжету» (дом, машина и т.д.)."]
[{"$nulls":9},"Конструирует несложные постройки из                  2—3 деталей.","Создаёт постройки «по сюжету» (дом, машина и т.д.)."]
[{"$nulls":9},"Конструирует несложные постройки из                  2—3 деталей.","Создаёт постройки «по сюжету» (дом, машина и т.д.)."]
[{"$nulls":9},"Конструирует несложные постройки из                  2—3 деталей.","Создаёт постройки «по сюжету» (дом, машина и т.д.)."]
[{"$nulls":9},"Конструирует несложные постройки из                  2—3 деталей.","Создаёт постройки «по сюжету» (дом, машина и т.д.)."]
[{"$nulls":9},"Конструирует несложные постройки из                  2—3 деталей.","Создаёт постройки «по сюжету» (дом, машина и т.д.)."]
[{"$nulls":9},"Конструирует несложные постройки из                  2—3 деталей.","Создаёт постройки «по сюжету» (дом, машина и т.д.)."]
[{"$nulls":9},"Конструирует несложные постройки из                  2—3 деталей.","Создаёт постройки «по сюжету» (дом, машина и т.д.)."]
[{"$nulls":9},"Конструирует несложные постройки из                  2—3 деталей.","Создаёт постройки «по сюжету» (дом, машина и т.д.)."]
[{"$nulls":9},"Конструирует несложные постройки из                  2—3 деталей.","Создаёт постройки «по сюжету» (дом, машина и т.д.)."]
[{"$nulls":9},"Конструирует несложные постройки из                  2—3 деталей.","Создаёт постройки «по сюжету» (дом, машина и т.д.)."]
[{"$nulls":9},"Конструирует несложные постройки из                  2—3 деталей.","Создаёт постройки «по сюжету» (дом, машина и т.д.)."]
[{"$nulls":9},"Конструирует несложные постройки из                  2—3 деталей.","Создаёт постройки «по сюжету» (дом, машина и т.д.)."]
[{"$nulls":9},"Конструирует несложные постройки из                  2—3 деталей.","Создаёт постройки «по сюжету» (дом, машина и т.д.)."]
[{"$nulls":9},"Конструирует несложные постройки из                  2—3 деталей.","Создаёт постройки «по сюжету» (дом, машина и т.д.)."]
[{"$nulls":9},"Конструирует несложные постройки из                  2—3 деталей.","Создаёт постройки «по сюжету» (дом, машина и т.д.)."]
[{"$nulls":9},"Конструирует несложные постройки из                  2—3 деталей.","Создаёт постройки «по сюжету» (дом, машина и т.д.)."]
[{"$nulls":9},"Конструирует несложные постройки из                  2—3 деталей.","Создаёт постройки «по сюжету» (дом, машина и т.д.)."]
[{"$nulls":9},"Конструирует несложные постройки из                  2—3 деталей.","Создаёт постройки «по сюжету» (дом, машина и т.д.)."]
[{"$nulls":9},"Конструирует несложные постройки из                  2—3 деталей.","Создаёт постройки «по сюжету» (дом, машина и т.д.)."]
[{"$nulls":9},"Конструирует несложные постройки из                  2—3 деталей.","Создаёт постройки «по сюжету» (дом, машина и т.д.)."]
[{"$nulls":9},"Конструирует несложные постройки из                  2—3 деталей.","Создаёт постройки «по сюжету» (дом, машина и т.д.)."]
[{"$nulls":9},"Конструирует несложные постройки из                  2—3 деталей.","Создаёт постройки «по сюжету» (дом, машина и т.д.)."]
[{"$nulls":9},"Конструирует несложные постройки из                  2—3 деталей.","Создаёт постройки «по сюжету» (дом, машина и т.д.)."]
[{"$nulls":9},"Конструирует несложные постройки из                  2—3 деталей.","Создаёт постройки «по сюжету» (дом, машина и т.д.)."]
[{"$nulls":9},"Конструирует несложные постройки из                  2—3 деталей.","Создаёт постройки «по сюжету» (дом, машина и т.д.)."]
[{"$nulls":9},"Конструирует несложные постройки из                  2—3 деталей.","Создаёт постройки «по сюжету» (дом, машина и т.д.)."]
[{"$nulls":9},"Конструирует несложные постройки из                  2—3 деталей.","Создаёт постройки «по сюжету» (дом, машина и т.д.)."]
[{"$nulls":9},"Конструирует несложные постройки из                  2—3 деталей.","Создаёт постройки «по сюжету» (дом, машина и т.д.)."]
[{"$nulls":9},"Конструирует несложные постройки из                  2—3 деталей.","Создаёт постройки «по сюжету» (дом, машина и т.д.)."]
[{"$nulls":9},"Конструирует несложные постройки из                  2—3 деталей.","Создаёт постройки «по сюжету» (дом, машина и т.д.)."]
[{"$nulls":9},"Конструирует несложные постройки из                  2—3 деталей.","Создаёт постройки «по сюжету» (дом, машина и т.д.)."]
[{"$nulls":9},"Конструирует несложные постройки из                  2—3 деталей.","Создаёт постройки «по сюжету» (дом, машина и т.д.)."]
[{"$nulls":9},"Конструирует несложные постройки из                  2—3 деталей.","Создаёт постройки «по сюжету» (дом, машина и т.д.)."]
[{"$nulls":9},"Конструирует несложные постройки из                  2—3 деталей.","Создаёт постройки «по сюжету» (дом, машина и т.д.)."]
[{"$nulls":9},"Конструирует несложные постройки из                  2—3 деталей.","Создаёт постройки «по сюжету» (дом, машина и т.д.)."]
[{"$nulls":9},"Конструирует несложные постройки из                  2—3 деталей.","Создаёт постройки «по сюжету» (дом, машина и т.д.)."]
[{"$nulls":9},"Конструирует несложные постройки из                  2—3 деталей.","Создаёт постройки «по сюжету» (дом, машина и т.д.)."]
[{"$nulls":9},"Конструирует несложные постройки из                  2—3 деталей.","Создаёт постройки «по сюжету» (дом, машина и т.д.)."]
[{"$nulls":9},"Конструирует несложные постройки из                  2—3 деталей.","Создаёт постройки «по сюжету» (дом, машина и т.д.)."]
[{"$nulls":9},"Конструирует несложные постройки из                  2—3 деталей.","Создаёт постройки «по сюжету» (дом, машина и т.д.)."]
[{"$nulls":9},"Конструирует несложные постройки из                  2—3 деталей.","Создаёт постройки «по сюжету» (дом, машина и т.д.)."]
[{"$nulls":9},"Конструирует несложные постройки из                  2—3 деталей.","Создаёт постройки «по сюжету» (дом, машина и т.д.)."]
[{"$nulls":9},"Конструирует несложные постройки из                  2—3 деталей.","Создаёт постройки «по сюжету» (дом, машина и т.д.)."]
[{"$nulls":9},"Конструирует несложные постройки из                  2—3 деталей.","Создаёт постройки «по сюжету» (дом, машина и т.д.)."]
[{"$nulls":9},"Конструирует несложные постройки из                  2—3 деталей.","Создаёт постройки «по сюжету» (дом, машина и т.д.)."]
[{"$nulls":9},"Конструирует несложные постройки из                  2—3 деталей.","Создаёт постройки «по сюжету» (дом, машина и т.д.)."]
[{"$nulls":9},"Конструирует несложные постройки из                  2—3 деталей.","Создаёт постройки «по сюжету» (дом, машина и т.д.)."]
[{"$nulls":9},"Конструирует несложные постройки из                  2—3 деталей.","Создаёт постройки «по сюжету» (дом, машина и т.д.)."]
[{"$nulls":9},"Конструирует несложные постройки из                  2—3 деталей.","Создаёт постройки «по сюжету» (дом, машина и т.д.)."]
[{"$nulls":9},"Конструирует несложные постройки из                  2—3 деталей.","Создаёт постройки «по сюжету» (дом, машина и т.д.)."]
[{"$nulls":9},"Конструирует несложные постройки из                  2—3 деталей.","Создаёт постройки «по сюжету» (дом, машина и т.д.)."]
[{"$nulls":9},"Конструирует несложные постройки из                  2—3 деталей.","Создаёт постройки «по сюжету» (дом, машина и т.д.)."]
[{"$nulls":9},"Конструирует несложные постройки из                  2—3 деталей.","Создаёт постройки «по сюжету» (дом, машина и т.д.)."]
[{"$nulls":9},"Конструирует несложные постройки из                  2—3 деталей.","Создаёт постройки «по сюжету» (дом, машина и т.д.)."]
[{"$nulls":9},"Конструирует несложные постройки из                  2—3 деталей.","Создаёт постройки «по сюжету» (дом, машина и т.д.)."]
[{"$nulls":9},"Конструирует несложные постройки из                  2—3 деталей.","Создаёт постройки «по сюжету» (дом, машина и т.д.)."]
[{"$nulls":9},"Конструирует несложные постройки из                  2—3 деталей.","Создаёт постройки «по сюжету» (дом, машина и т.д.)."]
[{"$nulls":9},"Конструирует несложные постройки из                  2—3 деталей.","Создаёт постройки «по сюжету» (дом, машина и т.д.)."]
[{"$nulls":9},"Конструирует несложные постройки из                  2—3 деталей.","Создаёт постройки «по сюжету» (дом, машина и т.д.)."]
[{"$nulls":9},"Конструирует несложные постройки из                  2—3 деталей.","Создаёт постройки «по сюжету» (дом, машина и т.д.)."]
[{"$nulls":9},"Конструирует несложные постройки из                  2—3 деталей.","Создаёт постройки «по сюжету» (дом, машина и т.д.)."]
[{"$nulls":9},"Конструирует несложные постройки из                  2—3 деталей.","Создаёт постройки «по сюжету» (дом, машина и т.д.)."]
[{"$nulls":9},"Конструирует несложные постройки из                  2—3 деталей.","Создаёт постройки «по сюжету» (дом, машина и т.д.)."]
[{"$nulls":9},"Конструирует несложные постройки из                  2—3 деталей.","Создаёт постройки «по сюжету» (дом, машина и т.д.)."]
[{"$nulls":9},"Конструирует несложные постройки из                  2—3 деталей.","Создаёт постройки «по сюжету» (дом, машина и т.д.)."]
[{"$nulls":9},"Конструирует несложные постройки из                  2—3 деталей.","Создаёт постройки «по сюжету» (дом, машина и т.д.)."]
[{"$nulls":9},"Конструирует несложные постройки из                  2—3 деталей.","Создаёт постройки «по сюжету» (дом, машина и т.д.)."]
[{"$nulls":9},"Конструирует несложные постройки из                  2—3 деталей.","Создаёт постройки «по сюжету» (дом, машина и т.д.)."]
[{"$nulls":9},"Конструирует несложные постройки из                  2—3 деталей.","Создаёт постройки «по сюжету» (дом, машина и т.д.)."]
[{"$nulls":9},"Конструирует несложные постройки из                  2—3 деталей.","Создаёт постройки «по сюжету» (дом, машина и т.д.)."]
[{"$nulls":9},"Конструирует несложные постройки из                  2—3 деталей.","Создаёт постройки «по сюжету» (дом, машина и т.д.)."]
[{"$nulls":9},"Конструирует несложные постройки из                  2—3 деталей.","Создаёт постройки «по сюжету» (дом, машина и т.д.)."]
[{"$nulls":9},"Конструирует несложные постройки из                  2—3 деталей.","Создаёт постройки «по сюжету» (дом, машина и т.д.)."]
[{"$nulls":9},"Конструирует несложные постройки из                  2—3 деталей.","Создаёт постройки «по сюжету» (дом, машина и т.д.)."]
[{"$nulls":9},"Конструирует несложные постройки из                  2—3 деталей.","Создаёт постройки «по сюжету» (дом, машина и т.д.)."]
[{"$nulls":9},"Конструирует несложные постройки из                  2—3 деталей.","Создаёт постройки «по сюжету» (дом, машина и т.д.)."]
[{"$nulls":9},"Конструирует несложные постройки из                  2—3 деталей.","Создаёт постройки «по сюжету» (дом, машина и т.д.)."]
[{"$nulls":9},"Конструирует несложные постройки из                  2—3 деталей.","Создаёт постройки «по сюжету» (дом, машина и т.д.)."]
[{"$nulls":9},"Конструирует несложные постройки из                  2—3 деталей.","Создаёт постройки «по сюжету» (дом, машина и т.д.)."]
[{"$nulls":9},"Конструирует несложные постройки из                  2—3 деталей.","Создаёт постройки «по сюжету» (дом, машина и т.д.)."]
[{"$nulls":9},"Конструирует несложные постройки из                  2—3 деталей.","Создаёт постройки «по сюжету» (дом, машина и т.д.)."]
[{"$nulls":9},"Конструирует несложные постройки из                  2—3 деталей.","Создаёт постройки «по сюжету» (дом, машина и т.д.)."]
[{"$nulls":9},"Конструирует несложные постройки из                  2—3 деталей.","Создаёт постройки «по сюжету» (дом, машина и т.д.)."]
[{"$nulls":9},"Конструирует несложные постройки из                  2—3 деталей.","Создаёт постройки «по сюжету» (дом, машина и т.д.)."]
[{"$nulls":9},"Конструирует несложные постройки из                  2—3 деталей.","Создаёт постройки «по сюжету» (дом, машина и т.д.)."]
[{"$nulls":9},"Конструирует несложные постройки из                  2—3 деталей.","Создаёт постройки «по сюжету» (дом, машина и т.д.)."]
[{"$nulls":9},"Конструирует несложные постройки из                  2—3 деталей.","Создаёт постройки «по сюжету» (дом, машина и т.д.)."]
[{"$nulls":9},"Конструирует несложные постройки из                  2—3 деталей.","Создаёт постройки «по сюжету» (дом, машина и т.д.)."]
[{"$nulls":9},"Конструирует несложные постройки из                  2—3 деталей.","Создаёт постройки «по сюжету» (дом, машина и т.д.)."]
[{"$nulls":9},"Конструирует несложные постройки из                  2—3 деталей.","Создаёт постройки «по сюжету» (дом, машина и т.д.)."]
[{"$nulls":9},"Конструирует несложные постройки из                  2—3 деталей.","Создаёт постройки «по сюжету» (дом, машина и т.д.)."]
[{"$nulls":9},"Конструирует несложные постройки из                  2—3 деталей.","Создаёт постройки «по сюжету» (дом, машина и т.д.)."]
[{"$nulls":9},"Конструирует несложные постройки из                  2—3 деталей.","Создаёт постройки «по сюжету» (дом, машина и т.д.)."]
[{"$nulls":9},"Конструирует несложные постройки из                  2—3 деталей.","Создаёт постройки «по сюжету» (дом, машина и т.д.)."]
[{"$nulls":9},"Конструирует несложные постройки из                  2—3 деталей.","Создаёт постройки «по сюжету» (дом, машина и т.д.)."]
[{"$nulls":9},"Конструирует несложные постройки из                  2—3 деталей.","Создаёт постройки «по сюжету» (дом, машина и т.д.)."]
[{"$nulls":9},"Конструирует несложные постройки из                  2—3 деталей.","Создаёт постройки «по сюжету» (дом, машина и т.д.)."]
[{"$nulls":9},"Конструирует несложные постройки из                  2—3 деталей.","Создаёт постройки «по сюжету» (дом, машина и т.д.)."]
[{"$nulls":9},"Конструирует несложные постройки из                  2—3 деталей.","Создаёт постройки «по сюжету» (дом, машина и т.д.)."]
[{"$nulls":9},"Конструирует несложные постройки из                  2—3 деталей.","Создаёт постройки «по сюжету» (дом, машина и т.д.)."]
[{"$nulls":9},"Конструирует несложные постройки из                  2—3 деталей.","Создаёт постройки «по сюжету» (дом, машина и т.д.)."]
[{"$nulls":9},"Конструирует несложные постройки из                  2—3 деталей.","Создаёт постройки «по сюжету» (дом, машина и т.д.)."]
[{"$nulls":9},"Конструирует несложные постройки из                  2—3 деталей.","Создаёт постройки «по сюжету» (дом, машина и т.д.)."]
[{"$nulls":9},"Конструирует несложные постройки из                  2—3 деталей.","Создаёт постройки «по сюжету» (дом, машина и т.д.)."]
[{"$nulls":9},"Конструирует несложные постройки из                  2—3 деталей.","Создаёт постройки «по сюжету» (дом, машина и т.д.)."]
[{"$nulls":9},"Конструирует несложные постройки из                  2—3 деталей.","Создаёт постройки «по сюжету» (дом, машина и т.д.)."]
[{"$nulls":9},"Конструирует несложные постройки из                  2—3 деталей.","Создаёт постройки «по сюжету» (дом, машина и т.д.)."]
[{"$nulls":9},"Конструирует несложные постройки из                  2—3 деталей.","Создаёт постройки «по сюжету» (дом, машина и т.д.)."]
[{"$nulls":9},"Конструирует несложные постройки из                  2—3 деталей.","Создаёт постройки «по сюжету» (дом, машина и т.д.)."]
[{"$nulls":9},"Конструирует несложные постройки из                  2—3 деталей.","Создаёт постройки «по сюжету» (дом, машина и т.д.)."]
[{"$nulls":9},"Конструирует несложные постройки из                  2—3 деталей.","Создаёт постройки «по сюжету» (дом, машина и т.д.)."]
[{"$nulls":9},"Конструирует несложные постройки из                  2—3 деталей.","Создаёт постройки «по сюжету» (дом, машина и т.д.)."]
[{"$nulls":9},"Конструирует несложные постройки из                  2—3 деталей.","Создаёт постройки «по сюжету» (дом, машина и т.д.)."]
[{"$nulls":9},"Конструирует несложные постройки из                  2—3 деталей.","Создаёт постройки «по сюжету» (дом, машина и т.д.)."]
[{"$nulls":9},"Конструирует несложные постройки из                  2—3 деталей.","Создаёт постройки «по сюжету» (дом, машина и т.д.)."]
[{"$nulls":9},"Конструирует несложные постройки из                  2—3 деталей.","Создаёт постройки «по сюжету» (дом, машина и т.д.)."]
[{"$nulls":9},"Конструирует несложные постройки из                  2—3 деталей.","Создаёт постройки «по сюжету» (дом, машина и т.д.)."]
[{"$nulls":9},"Конструирует несложные постройки из                  2—3 деталей.","Создаёт постройки «по сюжету» (дом, машина и т.д.)."]
[{"$nulls":9},"Конструирует несложные постройки из                  2—3 деталей.","Создаёт постройки «по сюжету» (дом, машина и т.д.)."]
[{"$nulls":9},"Конструирует несложные постройки из                  2—3 деталей.","Создаёт постройки «по сюжету» (дом, машина и т.д.)."]
[{"$nulls":9},"Конструирует несложные постройки из                  2—3 деталей.","Создаёт постройки «по сюжету» (дом, машина и т.д.)."]
[{"$nulls":9},"Конструирует несложные постройки из                  2—3 деталей.","Создаёт постройки «по сюжету» (дом, машина и т.д.)."]
[{"$nulls":9},"Конструирует несложные постройки из                  2—3 деталей.","Создаёт постройки «по сюжету» (дом, машина и т.д.)."]
[{"$nulls":9},"Конструирует несложные постройки из                  2—3 деталей.","Создаёт постройки «по сюжету» (дом, машина и т.д.)."]
[{"$nulls":9},"Конструирует несложные постройки из                  2—3 деталей.","Создаёт постройки «по сюжету» (дом, машина и т.д.)."]
[{"$nulls":9},"Конструирует несложные постройки из                  2—3 деталей.","Создаёт постройки «по сюжету» (дом, машина и т.д.)."]
[{"$nulls":9},"Конструирует несложные постройки из                  2—3 деталей.","Создаёт постройки «по сюжету» (дом, машина и т.д.)."]
[{"$nulls":9},"Конструирует несложные постройки из                  2—3 деталей.","Создаёт постройки «по сюжету» (дом, машина и т.д.)."]
[{"$nulls":9},"Конструирует несложные постройки из                  2—3 деталей.","Создаёт постройки «по сюжету» (дом, машина и т.д.)."]
[{"$nulls":9},"Конструирует несложные постройки из                  2—3 деталей.","Создаёт постройки «по сюжету» (дом, машина и т.д.)."]
[{"$nulls":9},"Конструирует несложные постройки из                  2—3 деталей.","Создаёт постройки «по сюжету» (дом, машина и т.д.)."]
[{"$nulls":9},"Конструирует несложные постройки из                  2—3 деталей.","Создаёт постройки «по сюжету» (дом, машина и т.д.)."]
[{"$nulls":9},"Конструирует несложные постройки из                  2—3 деталей.","Создаёт постройки «по сюжету» (дом, машина и т.д.)."]
[{"$nulls":9},"Конструирует несложные постройки из                  2—3 деталей.","Создаёт постройки «по сюжету» (дом, машина и т.д.)."]
[{"$nulls":9},"Конструирует несложные постройки из                  2—3 деталей.","Создаёт постройки «по сюжету» (дом, машина и т.д.)."]
[{"$nulls":9},"Конструирует несложные постройки из                  2—3 деталей.","Создаёт постройки «по сюжету» (дом, машина и т.д.)."]
[{"$nulls":9},"Конструирует несложные постройки из                  2—3 деталей.","Создаёт постройки «по сюжету» (дом, машина и т.д.)."]
[{"$nulls":9},"Конструирует несложные постройки из                  2—3 деталей.","Создаёт постройки «по сюжету» (дом, машина и т.д.)."]
[{"$nulls":9},"Конструирует несложные постройки из                  2—3 деталей.","Создаёт постройки «по сюжету» (дом, машина и т.д.)."]
[{"$nulls":9},"Конструирует несложные постройки из                  2—3 деталей.","Создаёт постройки «по сюжету» (дом, машина и т.д.)."]
[{"$nulls":9},"Конструирует несложные постройки из                  2—3 деталей.","Создаёт постройки «по сюжету» (дом, машина и т.д.)."]
[{"$nulls":9},"Конструирует несложные постройки из                  2—3 деталей.","Создаёт постройки «по сюжету» (дом, машина и т.д.)."]
[{"$nulls":9},"Конструирует несложные постройки из                  2—3 деталей.","Создаёт постройки «по сюжету» (дом, машина и т.д.)."]
[{"$nulls":9},"Конструирует несложные постройки из                  2—3 деталей.","Создаёт постройки «по сюжету» (дом, машина и т.д.)."]
[{"$nulls":9},"Конструирует несложные постройки из                  2—3 деталей.","Создаёт постройки «по сюжету» (дом, машина и т.д.)."]
[{"$nulls":9},"Конструирует несложные постройки из                  2—3 деталей.","Создаёт постройки «по сюжету» (дом, машина и т.д.)."]
[{"$nulls":9},"Конструирует несложные постройки из                  2—3 деталей.","Создаёт постройки «по сюжету» (дом, машина и т.д.)."]
[{"$nulls":9},"Конструирует несложные постройки из                  2—3 деталей.","Создаёт постройки «по сюжету» (дом, машина и т.д.)."]
[{"$nulls":9},"Конструирует несложные постройки из                  2—3 деталей.","Создаёт постройки «по сюжету» (дом, машина и т.д.)."]
[{"$nulls":9},"Конструирует несложные постройки из                  2—3 деталей.","Создаёт постройки «по сюжету» (дом, машина и т.д.)."]
[{"$nulls":9},"Конструирует несложные постройки из                  2—3 деталей.","Создаёт постройки «по сюжету» (дом, машина и т.д.)."]
[{"$nulls":9},"Конструирует несложные постройки из                  2—3 деталей.","Создаёт постройки «по сюжету» (дом, машина и т.д.)."]
[{"$nulls":9},"Конструирует несложные постройки из                  2—3 деталей.","Создаёт постройки «по сюжету» (дом, машина и т.д.)."]
[{"$nulls":9},"Конструирует несложные постройки из                  2—3 деталей.","Создаёт постройки «по сюжету» (дом, машина и т.д.)."]
[{"$nulls":9},"Конструирует несложные постройки из                  2—3 деталей.","Создаёт постройки «по сюжету» (дом, машина и т.д.)."]
[{"$nulls":9},"Конструирует несложные постройки из                  2—3 деталей.","Создаёт постройки «по сюжету» (дом, машина и т.д.)."]
[{"$nulls":9},"Конструирует несложные постройки из                  2—3 деталей.","Создаёт постройки «по сюжету» (дом, машина и т.д.)."]
[{"$nulls":9},"Конструирует несложные постройки из                  2—3 деталей.","Создаёт постройки «по сюжету» (дом, машина и т.д.)."]
[{"$nulls":9},"Конструирует несложные постройки из                  2—3 деталей.","Создаёт постройки «по сюжету» (дом, машина и т.д.)."]
[{"$nulls":9},"Конструирует несложные постройки из                  2—3 деталей.","Создаёт постройки «по сюжету» (дом, машина и т.д.)."]
[{"$nulls":9},"Конструирует несложные постройки из                  2—3 деталей.","Создаёт постройки «по сюжету» (дом, машина и т.д.)."]
[{"$nulls":9},"Конструирует несложные постройки из                  2—3 деталей.","Создаёт постройки «по сюжету» (дом, машина и т.д.)."]
[{"$nulls":9},"Конструирует несложные постройки из                  2—3 деталей.","Создаёт постройки «по сюжету» (дом, машина и т.д.)."]
[{"$nulls":9},"Конструирует несложные постройки из                  2—3 деталей.","Создаёт постройки «по сюжету» (дом, машина и т.д.)."]
[{"$nulls":9},"Конструирует несложные постройки из                  2—3 деталей.","Создаёт постройки «по сюжету» (дом, машина и т.д.)."]
[{"$nulls":9},"Конструирует несложные постройки из                  2—3 деталей.","Создаёт постройки «по сюжету» (дом, машина и т.д.)."]
[{"$nulls":9},"Конструирует несложные постройки из                  2—3 деталей.","Создаёт постройки «по сюжету» (дом, машина и т.д.)."]
[{"$nulls":9},"Конструирует несложные постройки из                  2—3 деталей.","Создаёт постройки «по сюжету» (дом, машина и т.д.)."]
[{"$nulls":9},"Конструирует несложные постройки из                  2—3 деталей.","Создаёт постройки «по сюжету» (дом, машина и т.д.)."]
[{"$nulls":9},"Конструирует несложные постройки из                  2—3 деталей.","Создаёт постройки «по сюжету» (дом, машина и т.д.)."]
[{"$nulls":9},"Конструирует несложные постройки из                  2—3 деталей.","Создаёт постройки «по сюжету» (дом, машина и т.д.)."]
[{"$nulls":9},"Конструирует несложные постройки из                  2—3 деталей.","Создаёт постройки «по сюжету» (дом, машина и т.д.)."]
[{"$nulls":9},"Конструирует несложные постройки из                  2—3 деталей.","Создаёт постройки «по сюжету» (дом, машина и т.д.)."]
[{"$nulls":9},"Конструирует несложные постройки из                  2—3 деталей.","Создаёт постройки «по сюжету» (дом, машина и т.д.)."]
[{"$nulls":9},"Конструирует несложные постройки из                  2—3 деталей.","Создаёт постройки «по сюжету» (дом, машина и т.д.)."]
[{"$nulls":9},"Конструирует несложные постройки из                  2—3 деталей.","Создаёт постройки «по сюжету» (дом, машина и т.д.)."]
[{"$nulls":9},"Конструирует несложные постройки из                  2—3 деталей.","Создаёт постройки «по сюжету» (дом, машина и т.д.)."]
[{"$nulls":9},"Конструирует несложные постройки из                  2—3 деталей.","Создаёт постройки «по сюжету» (дом, машина и т.д.)."]
[{"$nulls":9},"Конструирует несложные постройки из                  2—3 деталей.","Создаёт постройки «по сюжету» (дом, машина и т.д.)."]
[{"$nulls":9},"Конструирует несложные постройки из                  2—3 деталей.","Создаёт постройки «по сюжету» (дом, машина и т.д.)."]
[{"$nulls":9},"Конструирует несложные постройки из                  2—3 деталей.","Создаёт постройки «по сюжету» (дом, машина и т.д.)."]
[{"$nulls":9},"Конструирует несложные постройки из                  2—3 деталей.","Создаёт постройки «по сюжету» (дом, машина и т.д.)."]
[{"$nulls":9},"Конструирует несложные постройки из                  2—3 деталей.","Создаёт постройки «по сюжету» (дом, машина и т.д.)."]
[{"$nulls":9},"Конструирует несложные постройки из                  2—3 деталей.","Создаёт постройки «по сюжету» (дом, машина и т.д.)."]
[{"$nulls":9},"Конструирует несложные постройки из                  2—3 деталей.","Создаёт постройки «по сюжету» (дом, машина и т.д.)."]
[{"$nulls":9},"Конструирует несложные постройки из                  2—3 деталей.","Создаёт постройки «по сюжету» (дом, машина и т.д.)."]
[{"$nulls":9},"Конструирует несложные постройки из                  2—3 деталей.","Создаёт постройки «по сюжету» (дом, машина и т.д.)."]
[{"$nulls":9},"Конструирует несложные постройки из                  2—3 деталей.","Создаёт постройки «по сюжету» (дом, машина и т.д.)."]
[{"$nulls":9},"Конструирует несложные постройки из                  2—3 деталей.","Создаёт постройки «по сюжету» (дом, машина и т.д.)."]
[{"$nulls":9},"Конструирует несложные постройки из                  2—3 деталей.","Создаёт постройки «по сюжету» (дом, машина и т.д.)."]
[{"$nulls":9},"Конструирует несложные постройки из                  2—3 деталей.","Создаёт постройки «по сюжету» (дом, машина и т.д.)."]
[{"$nulls":9},"Конструирует несложные постройки из                  2—3 деталей.","Создаёт постройки «по сюжету» (дом, машина и т.д.)."]
[{"$nulls":9},"Конструирует несложные постройки из                  2—3 деталей.","Создаёт постройки «по сюжету» (дом, машина и т.д.)."]
[{"$nulls":9},"Конструирует несложные постройки из                  2—3 деталей.","Создаёт постройки «по сюжету» (дом, машина и т.д.)."]
[{"$nulls":9},"Конструирует несложные постройки из                  2—3 деталей.","Создаёт постройки «по сюжету» (дом, машина и т.д.)."]
[{"$nulls":9},"Конструирует несложные постройки из                  2—3 деталей.","Создаёт постройки «по сюжету» (дом, машина и т.д.)."]
[{"$nulls":9},"Конструирует несложные постройки из                  2—3 деталей.","Создаёт постройки «по сюжету» (дом, машина и т.д.)."]
[{"$nulls":9},"Конструирует несложные постройки из                  2—3 деталей.","Создаёт постройки «по сюжету» (дом, машина и т.д.)."]
[{"$nulls":9},"Конструирует несложные постройки из                  2—3 деталей.","Создаёт постройки «по сюжету» (дом, машина и т.д.)."]
[{"$nulls":9},"Конструирует несложные постройки из                  2—3 деталей.","Создаёт постройки «по сюжету» (дом, машина и т.д.)."]
[{"$nulls":9},"Конструирует несложные постройки из                  2—3 деталей.","Создаёт постройки «по сюжету» (дом, машина и т.д.)."]
[{"$nulls":9},"Конструирует несложные постройки из                  2—3 деталей.","Создаёт постройки «по сюжету» (дом, машина и т.д.)."]
[{"$nulls":9},"Конструирует несложные постройки из                  2—3 деталей.","Создаёт постройки «по сюжету» (дом, машина и т.д.)."]
[{"$nulls":9},"Конструирует несложные постройки из                  2—3 деталей.","Создаёт постройки «по сюжету» (дом, машина и т.д.)."]
[{"$nulls":9},"Конструирует несложные постройки из                  2—3 деталей.","Создаёт постройки «по сюжету» (дом, машина и т.д.)."]
[{"$nulls":9},"Конструирует несложные постройки из                  2—3 деталей.","Создаёт постройки «по сюжету» (дом, машина и т.д.)."]
[{"$nulls":9},"Конструирует несложные постройки из                  2—3 деталей.","Создаёт постройки «по сюжету» (дом, машина и т.д.)."]
[{"$nulls":9},"Конструирует несложные постройки из                  2—3 деталей.","Создаёт постройки «по сюжету» (дом, машина и т.д.)."]
[{"$nulls":9},"Конструирует несложные постройки из                  2—3 деталей.","Создаёт постройки «по сюжету» (дом, машина и т.д.)."]
[{"$nulls":9},"Конструирует несложные постройки из                  2—3 деталей.","Создаёт постройки «по сюжету» (дом, машина и т.д.)."]
[{"$nulls":9},"Конструирует несложные постройки из                  2—3 деталей.","Создаёт постройки «по сюжету» (дом, машина и т.д.)."]
[{"$nulls":9},"Конструирует несложные постройки из                  2—3 деталей.","Создаёт постройки «по сюжету» (дом, машина и т.д.)."]
[{"$nulls":9},"Конструирует несложные постройки из                  2—3 деталей.","Создаёт постройки «по сюжету» (дом, машина и т.д.)."]
[{"$nulls":9},"Конструирует несложные постройки из                  2—3 деталей.","Создаёт постройки «по сюжету» (дом, машина и т.д.)."]
[{"$nulls":9},"Конструирует несложные постройки из                  2—3 деталей.","Создаёт постройки «по сюжету» (дом, машина и т.д.)."]
[{"$nulls":9},"Конструирует несложные постройки из                  2—3 деталей.","Создаёт постройки «по сюжету» (дом, машина и т.д.)."]
[{"$nulls":9},"Конструирует несложные постройки из                  2—3 деталей.","Создаёт постройки «по сюжету» (дом, машина и т.д.)."]
[{"$nulls":9},"Конструирует несложные постройки из                  2—3 деталей.","Создаёт постройки «по сюжету» (дом, машина и т.д.)."]
[{"$nulls":9},"Конструирует несложные постройки из                  2—3 деталей.","Создаёт постройки «по сюжету» (дом, машина и т.д.)."]
[{"$nulls":9},"Конструирует несложные постройки из                  2—3 деталей.","Создаёт постройки «по сюжету» (дом, машина и т.д.)."]
[{"$nulls":9},"Конструирует несложные постройки из                  2—3 деталей.","Создаёт постройки «по сюжету» (дом, машина и т.д.)."]
[{"$nulls":9},"Конструирует несложные постройки из                  2—3 деталей.","Создаёт постройки «по сюжету» (дом, машина и т.д.)."]
[{"$nulls":9},"Конструирует несложные постройки из                  2—3 деталей.","Создаёт постройки «по сюжету» (дом, машина и т.д.)."]
[{"$nulls":9},"Конструирует несложные постройки из                  2—3 деталей.","Создаёт постройки «по сюжету» (дом, машина и т.д.)."]
[{"$nulls":9},"Конструирует несложные постройки из                  2—3 деталей.","Создаёт постройки «по сюжету» (дом, машина и т.д.)."]
[{"$nulls":9},"Конструирует несложные постройки из                  2—3 деталей.","Создаёт постройки «по сюжету» (дом, машина и т.д.)."]
[{"$nulls":9},"Конструирует несложные постройки из                  2—3 деталей.","Создаёт постройки «по сюжету» (дом, машина и т.д.)."]
[{"$nulls":9},"Конструирует несложные постройки из                  2—3 деталей.","Создаёт постройки «по сюжету» (дом, машина и т.д.)."]
[{"$nulls":9},"Конструирует несложные постройки из                  2—3 деталей.","Создаёт постройки «по сюжету» (дом, машина и т.д.)."]
[{"$nulls":9},"Конструирует несложные постройки из                  2—3 деталей.","Создаёт постройки «по сюжету» (дом, машина и т.д.)."]
[{"$nulls":9},"Конструирует несложные постройки из                  2—3 деталей.","Создаёт постройки «по сюжету» (дом, машина и т.д.)."]
[{"$nulls":9},"Конструирует несложные постройки из                  2—3 деталей.","Создаёт постройки «по сюжету» (дом, машина и т.д.)."]
[{"$nulls":9},"Конструирует несложные постройки из                  2—3 деталей.","Создаёт постройки «по сюжету» (дом, машина и т.д.)."]
[{"$nulls":9},"Конструирует несложные постройки из                  2—3 деталей.","Создаёт постройки «по сюжету» (дом, машина и т.д.)."]
[{"$nulls":9},"Конструирует несложные постройки из                  2—3 деталей.","Создаёт постройки «по сюжету» (дом, машина и т.д.)."]
[{"$nulls":9},"Конструирует несложные постройки из                  2—3 деталей.","Создаёт постройки «по сюжету» (дом, машина и т.д.)."]
[{"$nulls":9},"Конструирует несложные постройки из                  2—3 деталей.","Создаёт постройки «по сюжету» (дом, машина и т.д.)."]
[{"$nulls":9},"Конструирует несложные постройки из                  2—3 деталей.","Создаёт постройки «по сюжету» (дом, машина и т.д.)."]
[{"$nulls":9},"Конструирует несложные постройки из                  2—3 деталей.","Создаёт постройки «по сюжету» (дом, машина и т.д.)."]
[{"$nulls":9},"Конструирует несложные постройки из                  2—3 деталей.","Создаёт постройки «по сюжету» (дом, машина и т.д.)."]
[{"$nulls":9},"Конструирует несложные постройки из                  2—3 деталей.","Создаёт постройки «по сюжету» (дом, машина и т.д.)."]
[{"$nulls":9},"Конструирует несложные постройки из                  2—3 деталей.","Создаёт постройки «по сюжету» (дом, машина и т.д.)."]
[{"$nulls":9},"Конструирует несложные постройки из                  2—3 деталей.","Создаёт постройки «по сюжету» (дом, машина и т.д.)."]
[{"$nulls":9},"Конструирует несложные постройки из                  2—3 деталей.","Создаёт постройки «по сюжету» (дом, машина и т.д.)."]
[{"$nulls":9},"Конструирует несложные постройки из                  2—3 деталей.","Создаёт постройки «по сюжету» (дом, машина и т.д.)."]
[{"$nulls":9},"Конструирует несложные постройки из                  2—3 деталей.","Создаёт постройки «по сюжету» (дом, машина и т.д.)."]
[{"$nulls":9},"Конструирует несложные постройки из                  2—3 деталей.","Создаёт постройки «по сюжету» (дом, машина и т.д.)."]
[{"$nulls":9},"Конструирует несложные постройки из                  2—3 деталей.","Создаёт постройки «по сюжету» (дом, машина и т.д.)."]
[{"$nulls":9},"Конструирует несложные постройки из                  2—3 деталей.","Создаёт постройки «по сюжету» (дом, машина и т.д.)."]
[{"$nulls":9},"Конструирует несложные постройки из                  2—3 деталей.","Создаёт постройки «по сюжету» (дом, машина и т.д.)."]
[{"$nulls":9},"Конструирует несложные постройки из                  2—3 деталей.","Создаёт постройки «по сюжету» (дом, машина и т.д.)."]
[{"$nulls":9},"Конструирует несложные постройки из                  2—3 деталей.","Создаёт постройки «по сюжету» (дом, машина и т.д.)."]
[{"$nulls":9},"Конструирует несложные постройки из                  2—3 деталей.","Создаёт постройки «по сюжету» (дом, машина и т.д.)."]
[{"$nulls":9},"Конструирует несложные постройки из                  2—3 деталей.","Создаёт постройки «по сюжету» (дом, машина и т.д.)."]
[{"$nulls":9},"Конструирует несложные постройки из                  2—3 деталей.","Создаёт постройки «по сюжету» (дом, машина и т.д.)."]
[{"$nulls":9},"Конструирует несложные постройки из                  2—3 деталей.","Создаёт постройки «по сюжету» (дом, машина и т.д.)."]
[{"$nulls":9},"Конструирует несложные постройки из                  2—3 деталей.","Создаёт постройки «по сюжету» (дом, машина и т.д.)."]
[{"$nulls":9},"Конструирует несложные постройки из                  2—3 деталей.","Создаёт постройки «по сюжету» (дом, машина и т.д.)."]
[{"$nulls":9},"Конструирует несложные постройки из                  2—3 деталей.","Создаёт постройки «по сюжету» (дом, машина и т.д.)."]
[{"$nulls":9},"Конструирует несложные постройки из                  2—3 деталей.","Создаёт постройки «по сюжету» (дом, машина и т.д.)."]
[{"$nulls":9},"Конструирует несложные постройки из                  2—3 деталей.","Создаёт постройки «по сюжету» (дом, машина и т.д.)."]
[{"$nulls":9},"Конструирует несложные постройки из                  2—3 деталей.","Создаёт постройки «по сюжету» (дом, машина и т.д.)."]
[{"$nulls":9},"Конструирует несложные постройки из                  2—3 деталей.","Создаёт постройки «по сюжету» (дом, машина и т.д.)."]
[{"$nulls":9},"Конструирует несложные постройки из                  2—3 деталей.","Создаёт постройки «по сюжету» (дом, машина и т.д.)."]
[{"$nulls":9},"Конструирует несложные постройки из                  2—3 деталей.","Создаёт постройки «по сюжету» (дом, машина и т.д.)."]
[{"$nulls":9},"Конструирует несложные постройки из                  2—3 деталей.","Создаёт постройки «по сюжету» (дом, машина и т.д.)."]
[{"$nulls":9},"Конструирует несложные постройки из                  2—3 деталей.","Создаёт постройки «по сюжету» (дом, машина и т.д.)."]
[{"$nulls":9},"Конструирует несложные постройки из                  2—3 деталей.","Создаёт постройки «по сюжету» (дом, машина и т.д.)."]
[{"$nulls":9},"Конструирует несложные постройки из                  2—3 деталей.","Создаёт постройки «по сюжету» (дом, машина и т.д.)."]
[{"$nulls":9},"Конструирует несложные постройки из                  2—3 деталей.","Создаёт постройки «по сюжету» (дом, машина и т.д.)."]
[{"$nulls":9},"Конструирует несложные постройки из                  2—3 деталей.","Создаёт постройки «по сюжету» (дом, машина и т.д.)."]
[{"$nulls":9},"Конструирует несложные постройки из                  2—3 деталей.","Создаёт постройки «по сюжету» (дом, машина и т.д.)."]
[{"$nulls":9},"Конструирует несложные постройки из                  2—3 деталей.","Создаёт постройки «по сюжету» (дом, машина и т.д.)."]
[{"$nulls":9},"Конструирует несложные постройки из                  2—3 деталей.","Создаёт постройки «по сюжету» (дом, машина и т.д.)."]
[{"$nulls":9},"Конструирует несложные постройки из                  2—3 деталей.","Создаёт постройки «по сюжету» (дом, машина и т.д.)."]
[{"$nulls":9},"Конструирует несложные постройки из                  2—3 деталей.","Создаёт постройки «по сюжету» (дом, машина и т.д.)."]
[{"$nulls":9},"Конструирует несложные постройки из                  2—3 деталей.","Создаёт постройки «по сюжету» (дом, машина и т.д.)."]
[{"$nulls":9},"Конструирует несложные постройки из                  2—3 деталей.","Создаёт постройки «по сюжету» (дом, машина и т.д.)."]
[{"$nulls":9},"Конструирует несложные постройки из                  2—3 деталей.","Создаёт постройки «по сюжету» (дом, машина и т.д.)."]
[{"$nulls":9},"Конструирует несложные постройки из                  2—3 деталей.","Создаёт постройки «по сюжету» (дом, машина и т.д.)."]
[{"$nulls":9},"Конструирует несложные постройки из                  2—3 деталей.","Создаёт постройки «по сюжету» (дом, машина и т.д.)."]
[{"$nulls":9},"Конструирует несложные постройки из                  2—3 деталей.","Создаёт постройки «по сюжету» (дом, машина и т.д.)."]
[{"$nulls":9},"Конструирует несложные постройки из                  2—3 деталей.","Создаёт постройки «по сюжету» (дом, машина и т.д.)."]
[{"$nulls":9},"Конструирует несложные постройки из                  2—3 деталей.","Создаёт постройки «по сюжету» (дом, машина и т.д.)."]
[{"$nulls":9},"Конструирует несложные постройки из                  2—3 деталей.","Создаёт постройки «по сюжету» (дом, машина и т.д.)."]
[{"$nulls":9},"Конструирует несложные постройки из                  2—3 деталей.","Создаёт постройки «по сюжету» (дом, машина и т.д.)."]
[{"$nulls":9},"Конструирует несложные постройки из                  2—3 деталей.","Создаёт постройки «по сюжету» (дом, машина и т.д.)."]
[{"$nulls":9},"Конструирует несложные постройки из                  2—3 деталей.","Создаёт постройки «по сюжету» (дом, машина и т.д.)."]
[{"$nulls":9},"Конструирует несложные постройки из                  2—3 деталей.","Создаёт постройки «по сюжету» (дом, машина и т.д.)."]
[{"$nulls":9},"Конструирует несложные постройки из                  2—3 деталей.","Создаёт постройки «по сюжету» (дом, машина и т.д.)."]
[{"$nulls":9},"Конструирует несложные постройки из                  2—3 деталей.","Создаёт постройки «по сюжету» (дом, машина и т.д.)."]
[{"$nulls":9},"Конструирует несложные постройки из                  2—3 деталей.","Создаёт постройки «по сюжету» (дом, машина и т.д.)."]
[{"$nulls":9},"Конструирует несложные постройки из                  2—3 деталей.","Создаёт постройки «по сюжету» (дом, машина и т.д.)."]
[{"$nulls":9},"Конструирует несложные постройки из                  2—3 деталей.","Создаёт постройки «по сюжету» (дом, машина и т.д.)."]
[{"$nulls":9},"Конструирует несложные постройки из                  2—3 деталей.","Создаёт постройки «по сюжету» (дом, машина и т.д.)."]
[{"$nulls":9},"Конструирует несложные постройки из                  2—3 деталей.","Создаёт постройки «по сюжету» (дом, машина и т.д.)."]
[{"$nulls":9},"Конструирует несложные постройки из                  2—3 деталей.","Создаёт постройки «по сюжету» (дом, машина и т.д.)."]
[{"$nulls":9},"Конструирует несложные постройки из                  2—3 деталей.","Создаёт постройки «по сюжету» (дом, машина и т.д.)."]
[{"$nulls":9},"Конструирует несложные постройки из                  2—3 деталей.","Создаёт постройки «по сюжету» (дом, машина и т.д.)."]
[{"$nulls":9},"Конструирует несложные постройки из                  2—3 деталей.","Создаёт постройки «по сюжету» (дом, машина и т.д.)."]
[{"$nulls":9},"Конструирует несложные постройки из                  2—3 деталей.","Создаёт постройки «по сюжету» (дом, машина и т.д.)."]
[{"$nulls":9},"Конструирует несложные постройки из                  2—3 деталей.","Создаёт постройки «по сюжету» (дом, машина и т.д.)."]
[{"$nulls":9},"Конструирует несложные постройки из                  2—3 деталей.","Создаёт постройки «по сюжету» (дом, машина и т.д.)."]
[{"$nulls":9},"Конструирует несложные постройки из                  2—3 деталей.","Создаёт постройки «по сюжету» (дом, машина и т.д.)."]
[{"$nulls":9},"Конструирует несложные постройки из                  2—3 деталей.","Создаёт постройки «по сюжету» (дом, машина и т.д.)."]
[{"$nulls":9},"Конструирует несложные постройки из                  2—3 деталей.","Создаёт постройки «по сюжету» (дом, машина и т.д.)."]
[{"$nulls":9},"Конструирует несложные постройки из                  2—3 деталей.","Создаёт постройки «по сюжету» (дом, машина и т.д.)."]
[{"$nulls":9},"Конструирует несложные постройки из                  2—3 деталей.","Создаёт постройки «по сюжету» (дом, машина и т.д.)."]
[{"$nulls":9},"Конструирует несложные постройки из                  2—3 деталей.","Создаёт постройки «по сюжету» (дом, машина и т.д.)."]
[{"$nulls":9},"Конструирует несложные постройки из                  2—3 деталей.","Создаёт постройки «по сюжету» (дом, машина и т.д.)."]
[{"$nulls":9},"Конструирует несложные постройки из                  2—3 деталей.","Создаёт постройки «по сюжету» (дом, машина и т.д.)."]
[{"$nulls":9},"Конструирует несложные постройки из                  2—3 деталей.","Создаёт постройки «по сюжету» (дом, машина и т.д.)."]
[{"$nulls":9},"Конструирует несложные постройки из                  2—3 деталей.","Создаёт постройки «по сюжету» (дом, машина и т.д.)."]
[{"$nulls":9},"Конструирует несложные постройки из                  2—3 деталей.","Создаёт постройки «по сюжету» (дом, машина и т.д.)."]
[{"$nulls":9},"Конструирует несложные постройки из                  2—3 деталей.","Создаёт постройки «по сюжету» (дом, машина и т.д.)."]
[{"$nulls":9},"Конструирует несложные постройки из                  2—3 деталей.","Создаёт постройки «по сюжету» (дом, машина и т.д.)."]
[{"$nulls":9},"Конструирует несложные постройки из                  2—3 деталей.","Создаёт постройки «по сюжету» (дом, машина и т.д.)."]
[{"$nulls":9},"Конструирует несложные постройки из                  2—3 деталей.","Создаёт постройки «по сюжету» (дом, машина и т.д.)."]
[{"$nulls":9},"Конструирует несложные постройки из                  2—3 деталей.","Создаёт постройки «по сюжету» (дом, машина и т.д.)."]
[{"$nulls":9},"Конструирует несложные постройки из                  2—3 деталей.","Создаёт постройки «по сюжету» (дом, машина и т.д.)."]
[{"$nulls":9},"Конструирует несложные постройки из                  2—3 деталей.","Создаёт постройки «по сюжету» (дом, машина и т.д.)."]
[{"$nulls":9},"Конструирует несложные постройки из                  2—3 деталей.","Создаёт постройки «по сюжету» (дом, машина и т.д.)."]
[{"$nulls":9},"Конструирует несложные постройки из                  2—3 деталей.","Создаёт постройки «по сюжету» (дом, машина и т.д.)."]
[{"$nulls":9},"Конструирует несложные постройки из                  2—3 деталей.","Создаёт постройки «по сюжету» (дом, машина и т.д.)."]
[{"$nulls":9},"Конструирует несложные постройки из                  2—3 деталей.","Создаёт постройки «по сюжету» (дом, машина и т.д.)."]
[{"$nulls":9},"Конструирует несложные постройки из                  2—3 деталей.","Создаёт постройки «по сюжету» (дом, машина и т.д.)."]
[{"$nulls":9},"Конструирует несложные постройки из                  2—3 деталей.","Создаёт постройки «по сюжету» (дом, машина и т.д.)."]
[{"$nulls":9},"Конструирует несложные постройки из                  2—3 деталей.","Создаёт постройки «по сюжету» (дом, машина и т.д.)."]
[{"$nulls":9},"Конструирует несложные постройки из                  2—3 деталей.","Создаёт постройки «по сюжету» (дом, машина и т.д.)."]
[{"$nulls":9},"Конструирует несложные постройки из                  2—3 деталей.","Создаёт постройки «по сюжету» (дом, машина и т.д.)."]
[{"$nulls":9},"Конструирует несложные постройки из                  2—3 деталей.","Создаёт постройки «по сюжету» (дом, машина и т.д.)."]
[{"$nulls":9},"Конструирует несложные постройки из                  2—3 деталей.","Создаёт постройки «по сюжету» (дом, машина и т.д.)."]
[{"$nulls":9},"Конструирует несложные постройки из                  2—3 деталей.","Создаёт постройки «по сюжету» (дом, машина и т.д.)."]
[{"$nulls":9},"Конструирует несложные постройки из                  2—3 деталей.","Создаёт постройки «по сюжету» (дом, машина и т.д.)."]
[{"$nulls":9},"Конструирует несложные постройки из                  2—3 деталей.","Создаёт постройки «по сюжету» (дом, машина и т.д.)."]
[{"$nulls":9},"Конструирует несложные постройки из                  2—3 деталей.","Создаёт постройки «по сюжету» (дом, машина и т.д.)."]
[{"$nulls":9},"Конструирует несложные постройки из                  2—3 деталей.","Создаёт постройки «по сюжету» (дом, машина и т.д.)."]
[{"$nulls":9},"Конструирует несложные постройки из                  2—3 деталей.","Создаёт постройки «по сюжету» (дом, машина и т.д.)."]
[{"$nulls":9},"Конструирует несложные постройки из                  2—3 деталей.","Создаёт постройки «по сюжету» (дом, машина и т.д.)."]
[{"$nulls":9},"Конструирует несложные постройки из                  2—3 деталей.","Создаёт постройки «по сюжету» (дом, машина и т.д.)."]
[{"$nulls":9},"Конструирует несложные постройки из                  2—3 деталей.","Создаёт постройки «по сюжету» (дом, машина и т.д.)."]
[{"$nulls":9},"Конструирует несложные постройки из                  2—3 деталей.","Создаёт постройки «по сюжету» (дом, машина и т.д.)."]
[{"$nulls":9},"Конструирует несложные постройки из                  2—3 деталей.","Создаёт постройки «по сюжету» (дом, машина и т.д.)."]
[{"$nulls":9},"Конструирует несложные постройки из                  2—3 деталей.","Создаёт постройки «по сюжету» (дом, машина и т.д.)."]
[{"$nulls":9},"Конструирует несложные постройки из                  2—3 деталей.","Создаёт постройки «по сюжету» (дом, машина и т.д.)."]
[{"$nulls":9},"Конструирует несложные постройки из                  2—3 деталей.","Создаёт постройки «по сюжету» (дом, машина и т.д.)."]
[{"$nulls":9},"Конструирует несложные постройки из                  2—3 деталей.","Создаёт постройки «по сюжету» (дом, машина и т.д.)."]
[{"$nulls":9},"Конструирует несложные постройки из                  2—3 деталей.","Создаёт постройки «по сюжету» (дом, машина и т.д.)."]
[{"$nulls":9},"Конструирует несложные постройки из                  2—3 деталей.","Создаёт постройки «по сюжету» (дом, машина и т.д.)."]
[{"$nulls":9},"Конструирует несложные постройки из                  2—3 деталей.","Создаёт постройки «по сюжету» (дом, машина и т.д.)."]
[{"$nulls":9},"Конструирует несложные постройки из                  2—3 деталей.","Создаёт постройки «по сюжету» (дом, машина и т.д.)."]
[{"$nulls":9},"Конструирует несложные постройки из                  2—3 деталей.","Создаёт постройки «по сюжету» (дом, машина и т.д.)."]
[{"$nulls":9},"Конструирует несложные постройки из                  2—3 деталей.","Создаёт постройки «по сюжету» (дом, машина и т.д.)."]
[{"$nulls":9},"Конструирует несложные постройки из                  2—3 деталей.","Создаёт постройки «по сюжету» (дом, машина и т.д.)."]
[{"$nulls":9},"Конструирует несложные постройки из                  2—3 деталей.","Создаёт постройки «по сюжету» (дом, машина и т.д.)."]
[{"$nulls":9},"Конструирует несложные постройки из                  2—3 деталей.","Создаёт постройки «по сюжету» (дом, машина и т.д.)."]
[{"$nulls":9},"Конструирует несложные постройки из                  2—3 деталей.","Создаёт постройки «по сюжету» (дом, машина и т.д.)."]
[{"$nulls":9},"Конструирует несложные постройки из                  2—3 деталей.","Создаёт постройки «по сюжету» (дом, машина и т.д.)."]
[{"$nulls":9},"Конструирует несложные постройки из                  2—3 деталей.","Создаёт постройки «по сюжету» (дом, машина и т.д.)."]
[{"$nulls":9},"Конструирует несложные постройки из                  2—3 деталей.","Создаёт постройки «по сюжету» (дом, машина и т.д.)."]
[{"$nulls":9},"Конструирует несложные постройки из                  2—3 деталей.","Создаёт постройки «по сюжету» (дом, машина и т.д.)."]
[{"$nulls":9},"Конструирует несложные постройки из                  2—3 деталей.","Создаёт постройки «по сюжету» (дом, машина и т.д.)."]
[{"$nulls":9},"Конструирует несложные постройки из                  2—3 деталей.","Создаёт постройки «по сюжету» (дом, машина и т.д.)."]
[{"$nulls":9},"Конструирует несложные постройки из                  2—3 деталей.","Создаёт постройки «по сюжету» (дом, машина и т.д.)."]
[{"$nulls":9},"Конструирует несложные постройки из                  2—3 деталей.","Создаёт постройки «по сюжету» (дом, машина и т.д.)."]
[{"$nulls":9},"Конструирует несложные постройки из                  2—3 деталей.","Создаёт постройки «по сюжету» (дом, машина и т.д.)."]
[{"$nulls":9},"Конструирует несложные постройки из                  2—3 деталей.","Создаёт постройки «по сюжету» (дом, машина и т.д.)."]
[{"$nulls":9},"Конструирует несложные постройки из                  2—3 деталей.","Создаёт постройки «по сюжету» (дом, машина и т.д.)."]
[{"$nulls":9},"Конструирует несложные постройки из                  2—3 деталей.","Создаёт постройки «по сюжету» (дом, машина и т.д.)."]
[{"$nulls":9},"Конструирует несложные постройки из                  2—3 деталей.","Создаёт постройки «по сюжету» (дом, машина и т.д.)."]
[{"$nulls":9},"Конструирует несложные постройки из                  2—3 деталей.","Создаёт постройки «по сюжету» (дом, машина и т.д.)."]
[{"$nulls":9},"Конструирует несложные постройки из                  2—3 деталей.","Создаёт постройки «по сюжету» (дом, машина и т.д.)."]
[{"$nulls":9},"Конструирует несложные постройки из                  2—3 деталей.","Создаёт постройки «по сюжету» (дом, машина и т.д.)."]
[{"$nulls":9},"Конструирует несложные постройки из                  2—3 деталей.","Создаёт постройки «по сюжету» (дом, машина и т.д.)."]
[{"$nulls":9},"Конструирует несложные постройки из                  2—3 деталей.","Создаёт постройки «по сюжету» (дом, машина и т.д.)."]
[{"$nulls":9},"Конструирует несложные постройки из                  2—3 деталей.","Создаёт постройки «по сюжету» (дом, машина и т.д.)."]
[{"$nulls":9},"Конструирует несложные постройки из                  2—3 деталей.","Создаёт постройки «по сюжету» (дом, машина и т.д.)."]
[{"$nulls":9},"Конструирует несложные постройки из                  2—3 деталей.","Создаёт постройки «по сюжету» (дом, машина и т.д.)."]
[{"$nulls":9},"Конструирует несложные постройки из                  2—3 деталей.","Создаёт постройки «по сюжету» (дом, машина и т.д.)."]
[{"$nulls":9},"Конструирует несложные постройки из                  2—3 деталей.","Создаёт постройки «по сюжету» (дом, машина и т.д.)."]
[{"$nulls":9},"Конструирует несложные постройки из                  2—3 деталей.","Создаёт постройки «по сюжету» (дом, машина и т.д.)."]
[{"$nulls":9},"Конструирует несложные постройки из                  2—3 деталей.","Создаёт постройки «по сюжету» (дом, машина и т.д.)."]
[{"$nulls":9},"Конструирует несложные постройки из                  2—3 деталей.","Создаёт постройки «по сюжету» (дом, машина и т.д.)."]
[{"$nulls":9},"Конструирует несложные постройки из                  2—3 деталей.","Создаёт постройки «по сюжету» (дом, машина и т.д.)."]
[{"$nulls":9},"Конструирует несложные постройки из                  2—3 деталей.","Создаёт постройки «по сюжету» (дом, машина и т.д.)."]
[{"$nulls":9},"Конструирует несложные постройки из                  2—3 деталей.","Создаёт постройки «по сюжету» (дом, машина и т.д.)."]
[{"$nulls":9},"Конструирует несложные постройки из                  2—3 деталей.","Создаёт постройки «по сюжету» (дом, машина и т.д.)."]
[{"$nulls":9},"Конструирует несложные постройки из                  2—3 деталей.","Создаёт постройки «по сюжету» (дом, машина и т.д.)."]
[{"$nulls":9},"Конструирует несложные постройки из                  2—3 деталей.","Создаёт постройки «по сюжету» (дом, машина и т.д.)."]
[{"$nulls":9},"Конструирует несложные постройки из                  2—3 деталей.","Создаёт постройки «по сюжету» (дом, машина и т.д.)."]
[{"$nulls":9},"Конструирует несложные постройки из                  2—3 деталей.","Создаёт постройки «по сюжету» (дом, машина и т.д.)."]
[{"$nulls":9},"Конструирует несложные постройки из                  2—3 деталей.","Создаёт постройки «по сюжету» (дом, машина и т.д.)."]
[{"$nulls":9},"Конструирует несложные постройки из                  2—3 деталей.","Создаёт постройки «по сюжету» (дом, машина и т.д.)."]
[{"$nulls":9},"Конструирует несложные постройки из                  2—3 деталей.","Создаёт постройки «по сюжету» (дом, машина и т.д.)."]
[{"$nulls":9},"Конструирует несложные постройки из                  2—3 деталей.","Создаёт постройки «по сюжету» (дом, машина и т.д.)."]
[{"$nulls":9},"Конструирует несложные постройки из                  2—3 деталей.","Создаёт постройки «по сюжету» (дом, машина и т.д.)."]
[{"$nulls":9},"Конструирует несложные постройки из                  2—3 деталей.","Создаёт постройки «по сюжету» (дом, машина и т.д.)."]
[{"$nulls":9},"Конструирует несложные постройки из                  2—3 деталей.","Создаёт постройки «по сюжету» (дом, машина и т.д.)."]
[{"$nulls":9},"Конструирует несложные постройки из                  2—3 деталей.","Создаёт постройки «по сюжету» (дом, машина и т.д.)."]
[{"$nulls":9},"Конструирует несложные постройки из                  2—3 деталей.","Создаёт постройки «по сюжету» (дом, машина и т.д.)."]
[{"$nulls":9},"Конструирует несложные постройки из                  2—3 деталей.","Создаёт постройки «по сюжету» (дом, машина и т.д.)."]
[{"$nulls":9},"Конструирует несложные постройки из                  2—3 деталей.","Создаёт постройки «по сюжету» (дом, машина и т.д.)."]
[{"$nulls":9},"Конструирует несложные постройки из                  2—3 деталей.","Создаёт постройки «по сюжету» (дом, машина и т.д.)."]
[{"$nulls":9},"Конструирует несложные постройки из                  2—3 деталей.","Создаёт постройки «по сюжету» (дом, машина и т.д.)."]
[{"$nulls":9},"Конструирует несложные постройки из                  2—3 деталей.","Создаёт постройки «по сюжету» (дом, машина и т.д.)."]
[{"$nulls":9},"Конструирует несложные постройки из                  2—3 деталей.","Создаёт постройки «по сюжету» (дом, машина и т.д.)."]
[{"$nulls":9},"Конструирует несложные постройки из                  2—3 деталей.","Создаёт постройки «по сюжету» (дом, машина и т.д.)."]
[{"$nulls":9},"Конструирует несложные постройки из                  2—3 деталей.","Создаёт постройки «по сюжету» (дом, машина и т.д.)."]
[{"$nulls":9},"Конструирует несложные постройки из                  2—3 деталей.","Создаёт постройки «по сюжету» (дом, машина и т.д.)."]
[{"$nulls":9},"Конструирует несложные постройки из                  2—3 деталей.","Создаёт постройки «по сюжету» (дом, машина и т.д.)."]
[{"$nulls":9},"Конструирует несложные постройки из                  2—3 деталей.","Создаёт постройки «по сюжету» (дом, машина и т.д.)."]
[{"$nulls":9},"Конструирует несложные постройки из                  2—3 деталей.","Создаёт постройки «по сюжету» (дом, машина и т.д.)."]
[{"$nulls":9},"Конструирует несложные постройки из                  2—3 деталей.","Создаёт постройки «по сюжету» (дом, машина и т.д.)."]
[{"$nulls":9},"Конструирует несложные постройки из                  2—3 деталей.","Создаёт постройки «по сюжету» (дом, машина и т.д.)."]
[{"$nulls":9},"Конструирует несложные постройки из                  2—3 деталей.","Создаёт постройки «по сюжету» (дом, машина и т.д.)."]
[{"$nulls":9},"Конструирует несложные постройки из                  2—3 деталей.","Создаёт постройки «по сюжету» (дом, машина и т.д.)."]
[{"$nulls":9},"Конструирует несложные постройки из                  2—3 деталей.","Создаёт постройки «по сюжету» (дом, машина и т.д.)."]
[{"$nulls":9},"Конструирует несложные постройки из                  2—3 деталей.","Создаёт постройки «по сюжету» (дом, машина и т.д.)."]
[{"$nulls":9},"Конструирует несложные постройки из                  2—3 деталей.","Создаёт постройки «по сюжету» (дом, машина и т.д.)."]
[{"$nulls":9},"Конструирует несложные постройки из                  2—3 деталей.","Создаёт постройки «по сюжету» (дом, машина и т.д.)."]
[{"$nulls":9},"Конструирует несложные постройки из                  2—3 деталей.","Создаёт постройки «по сюжету» (дом, машина и т.д.)."]
[{"$nulls":9},"Конструирует несложные постройки из                  2—3 деталей.","Создаёт постройки «по сюжету» (дом, машина и т.д.)."]
[{"$nulls":9},"Конструирует несложные постройки из                  2—3 деталей.","Создаёт постройки «по сюжету» (дом, машина и т.д.)."]
[{"$nulls":9},"Конструирует несложные постройки из                  2—3 деталей.","Создаёт постройки «по сюжету» (дом, машина и т.д.)."]
[{"$nulls":9},"Конструирует несложные постройки из                  2—3 деталей.","Создаёт постройки «по сюжету» (дом, машина и т.д.)."]
[{"$nulls":9},"Конструирует несложные постройки из                  2—3 деталей.","Создаёт постройки «по сюжету» (дом, машина и т.д.)."]
[{"$nulls":9},"Конструирует несложные постройки из                  2—3 деталей.","Создаёт постройки «по сюжету» (дом, машина и т.д.)."]
[{"$nulls":9},"Конструирует несложные постройки из                  2—3 деталей.","Создаёт постройки «по сюжету» (дом, машина и т.д.)."]
[{"$nulls":9},"Конструирует несложные постройки из                  2—3 деталей.","Создаёт постройки «по сюжету» (дом, машина и т.д.)."]
[{"$nulls":9},"Конструирует несложные постройки из                  2—3 деталей.","Создаёт постройки «по сюжету» (дом, машина и т.д.)."]
[{"$nulls":9},"Конструирует несложные постройки из                  2—3 деталей.","Создаёт постройки «по сюжету» (дом, машина и т.д.)."]
[{"$nulls":9},"Конструирует несложные постройки из                  2—3 деталей.","Создаёт постройки «по сюжету» (дом, машина и т.д.)."]
[{"$nulls":9},"Конструирует несложные постройки из                  2—3 деталей.","Создаёт постройки «по сюжету» (дом, машина и т.д.)."]
[{"$nulls":9},"Конструирует несложные постройки из                  2—3 деталей.","Создаёт постройки «по сюжету» (дом, машина и т.д.)."]
[{"$nulls":9},"Конструирует несложные постройки из                  2—3 деталей.","Создаёт постройки «по сюжету» (дом, машина и т.д.)."]
[{"$nulls":9},"Конструирует несложные постройки из                  2—3 деталей.","Создаёт постройки «по сюжету» (дом, машина и т.д.)."]
[{"$nulls":9},"Конструирует несложные постройки из                  2—3 деталей.","Создаёт постройки «по сюжету» (дом, машина и т.д.)."]
[{"$nulls":9},"Конструирует несложные постройки из                  2—3 деталей.","Создаёт постройки «по сюжету» (дом, машина и т.д.)."]
[{"$nulls":9},"Конструирует несложные постройки из                  2—3 деталей.","Создаёт постройки «по сюжету» (дом, машина и т.д.)."]
[{"$nulls":9},"Конструирует несложные постройки из                  2—3 деталей.","Создаёт постройки «по сюжету» (дом, машина и т.д.)."]
[{"$nulls":9},"Конструирует несложные постройки из                  2—3 деталей.","Создаёт постройки «по сюжету» (дом, машина и т.д.)."]
[{"$nulls":9},"Конструирует несложные постройки из                  2—3 деталей.","Создаёт постройки «по сюжету» (дом, машина и т.д.)."]
[{"$nulls":9},"Конструирует несложные постройки из                  2—3 деталей.","Создаёт постройки «по сюжету» (дом, машина и т.д.)."]
[{"$nulls":9},"Конструирует несложные постройки из                  2—3 деталей.","Создаёт постройки «по сюжету» (дом, машина и т.д.)."]
[{"$nulls":9},"Конструирует несложные постройки из                  2—3 деталей.","Создаёт постройки «по сюжету» (дом, машина и т.д.)."]
[{"$nulls":9},"Конструирует несложные постройки из                  2—3 деталей.","Создаёт постройки «по сюжету» (дом, машина и т.д.)."]
[{"$nulls":9},"Конструирует несложные постройки из                  2—3 деталей.","Создаёт постройки «по сюжету» (дом, машина и т.д.)."]
[{"$nulls":9},"Конструирует несложные постройки из                  2—3 деталей.","Создаёт постройки «по сюжету» (дом, машина и т.д.)."]
[{"$nulls":9},"Конструирует несложные постройки из                  2—3 деталей.","Создаёт постройки «по сюжету» (дом, машина и т.д.)."]
[{"$nulls":9},"Конструирует несложные постройки из                  2—3 деталей.","Создаёт постройки «по сюжету» (дом, машина и т.д.)."]
[{"$nulls":9},"Конструирует несложные постройки из                  2—3 деталей.","Создаёт постройки «по сюжету» (дом, машина и т.д.)."]
[{"$nulls":9},"Конструирует несложные постройки из                  2—3 деталей.","Создаёт постройки «по сюжету» (дом, машина и т.д.)."]
[{"$nulls":9},"Конструирует несложные постройки из                  2—3 деталей.","Создаёт постройки «по сюжету» (дом, машина и т.д.)."]
[{"$nulls":9},"Конструирует несложные постройки из                  2—3 деталей.","Создаёт постройки «по сюжету» (дом, машина и т.д.)."]
[{"$nulls":9},"Конструирует несложные постройки из                  2—3 деталей.","Создаёт постройки «по сюжету» (дом, машина и т.д.)."]
[{"$nulls":9},"Конструирует несложные постройки из                  2—3 деталей.","Создаёт постройки «по сюжету» (дом, машина и т.д.)."]
[{"$nulls":9},"Конструирует несложные постройки из                  2—3 деталей.","Создаёт постройки «по сюжету» (дом, машина и т.д.)."]
[{"$nulls":9},"Конструирует несложные постройки из                  2—3 деталей.","Создаёт постройки «по сюжету» (дом, машина и т.д.)."]
[{"$nulls":9},"Конструирует несложные постройки из                  2—3 деталей.","Создаёт постройки «по сюжету» (дом, машина и т.д.)."]
[{"$nulls":9},"Конструирует несложные постройки из                  2—3 деталей.","Создаёт постройки «по сюжету» (дом, машина и т.д.)."]
[{"$nulls":9},"Конструирует несложные постройки из                  2—3 деталей.","Создаёт постройки «по сюжету» (дом, машина и т.д.)."]
[{"$nulls":9},"Конструирует несложные постройки из                  2—3 деталей.","Создаёт постройки «по сюжету» (дом, машина и т.д.)."]
[{"$nulls":9},"Конструирует несложные постройки из                  2—3 деталей.","Создаёт постройки «по сюжету» (дом, машина и т.д.)."]
[{"$nulls":9},"Конструирует несложные постройки из                  2—3 деталей.","Создаёт постройки «по сюжету» (дом, машина и т.д.)."]
[{"$nulls":9},"Конструирует несложные постройки из                  2—3 деталей.","Создаёт постройки «по сюжету» (дом, машина и т.д.)."]
[{"$nulls":9},"Конструирует несложные постройки из                  2—3 деталей.","Создаёт постройки «по сюжету» (дом, машина и т.д.)."]
[{"$nulls":9},"Конструирует несложные постройки из                  2—3 деталей.","Создаёт постройки «по сюжету» (дом, машина и т.д.)."]
[{"$nulls":9},"Конструирует несложные постройки из                  2—3 деталей.","Создаёт постройки «по сюжету» (дом, машина и т.д.)."]
[{"$nulls":9},"Конструирует несложные постройки из                  2—3 деталей.","Создаёт постройки «по сюжету» (дом, машина и т.д.)."]
[{"$nulls":9},"Конструирует несложные постройки из                  2—3 деталей.","Создаёт постройки «по сюжету» (дом, машина и т.д.)."]
[{"$nulls":9},"Конструирует несложные постройки из                  2—3 деталей.","Создаёт постройки «по сюжету» (дом, машина и т.д.)."]
[{"$nulls":9},"Конструирует несложные постройки из                  2—3 деталей.","Создаёт постройки «по сюжету» (дом, машина и т.д.)."]
[{"$nulls":9},"Конструирует несложные постройки из                  2—3 деталей.","Создаёт постройки «по сюжету» (дом, машина и т.д.)."]
[{"$nulls":9},"Конструирует несложные постройки из                  2—3 деталей.","Создаёт постройки «по сюжету» (дом, машина и т.д.)."]
[{"$nulls":9},"Конструирует несложные постройки из                  2—3 деталей.","Создаёт постройки «по сюжету» (дом, машина и т.д.)."]
[{"$nulls":9},"Конструирует несложные постройки из                  2—3 деталей.","Создаёт постройки «по сюжету» (дом, машина и т.д.)."]
[{"$nulls":9},"Конструирует несложные постройки из                  2—3 деталей.","Создаёт постройки «по сюжету» (дом, машина и т.д.)."]
[{"$nulls":9},"Конструирует несложные постройки из                  2—3 деталей.","Создаёт постройки «по сюжету» (дом, машина и т.д.)."]
[{"$nulls":9},"Конструирует несложные постройки из                  2—3 деталей.","Создаёт постройки «по сюжету» (дом, машина и т.д.)."]
[{"$nulls":9},"Конструирует несложные постройки из                  2—3 деталей.","Создаёт постройки «по сюжету» (дом, машина и т.д.)."]
[{"$nulls":9},"Конструирует несложные постройки из                  2—3 деталей.","Создаёт постройки «по сюжету» (дом, машина и т.д.)."]
[{"$nulls":9},"Конструирует несложные постройки из                  2—3 деталей.","Создаёт постройки «по сюжету» (дом, машина и т.д.)."]
[{"$nulls":9},"Конструирует несложные постройки из                  2—3 деталей.","Создаёт постройки «по сюжету» (дом, машина и т.д.)."]
[{"$nulls":9},"Конструирует несложные постройки из                  2—3 деталей.","Создаёт постройки «по сюжету» (дом, машина и т.д.)."]
[{"$nulls":9},"Конструирует несложные постройки из                  2—3 деталей.","Создаёт постройки «по сюжету» (дом, машина и т.д.)."]
[{"$nulls":9},"Конструирует несложные постройки из                  2—3 деталей.","Создаёт постройки «по сюжету» (дом, машина и т.д.)."]
[{"$nulls":9},"Конструирует несложные постройки из                  2—3 деталей.","Создаёт постройки «по сюжету» (дом, машина и т.д.)."]
[{"$nulls":9},"Конструирует несложные постройки из                  2—3 деталей.","Создаёт постройки «по сюжету» (дом, машина и т.д.)."]
[{"$nulls":9},"Конструирует несложные постройки из                  2—3 деталей.","Создаёт постройки «по сюжету» (дом, машина и т.д.)."]
[{"$nulls":9},"Конструирует несложные постройки из                  2—3 деталей.","Создаёт постройки «по сюжету» (дом, машина и т.д.)."]
[{"$nulls":9},"Конструирует несложные постройки из                  2—3 деталей.","Создаёт постройки «по сюжету» (дом, машина и т.д.)."]
[{"$nulls":9},"Конструирует несложные постройки из                  2—3 деталей.","Создаёт постройки «по сюжету» (дом, машина и т.д.)."]
[{"$nulls":9},"Конструирует несложные постройки из                  2—3 деталей.","Создаёт постройки «по сюжету» (дом, машина и т.д.)."]
[{"$nulls":9},"Конструирует несложные постройки из                  2—3 деталей.","Создаёт постройки «по сюжету» (дом, машина и т.д.)."]
[{"$nulls":9},"Конструирует несложные постройки из                  2—3 деталей.","Создаёт постройки «по сюжету» (дом, машина и т.д.)."]
[{"$nulls":9},"Конструирует несложные постройки из                  2—3 деталей.","Создаёт постройки «по сюжету» (дом, машина и т.д.)."]
[{"$nulls":9},"Конструирует несложные постройки из                  2—3 деталей.","Создаёт постройки «по сюжету» (дом, машина и т.д.)."]
[{"$nulls":9},"Конструирует несложные постройки из                  2—3 деталей.","Создаёт постройки «по сюжету» (дом, машина и т.д.)."]
[{"$nulls":9},"Конструирует несложные постройки из                  2—3 деталей.","Создаёт постройки «по сюжету» (дом, машина и т.д.)."]
[{"$nulls":9},"Конструирует несложные постройки из                  2—3 деталей.","Создаёт постройки «по сюжету» (дом, машина и т.д.)."]
[{"$nulls":9},"Конструирует несложные постройки из                  2—3 деталей.","Создаёт постройки «по сюжету» (дом, машина и т.д.)."]
[{"$nulls":9},"Конструирует несложные постройки из                  2—3 деталей.","Создаёт постройки «по сюжету» (дом, машина и т.д.)."]
[{"$nulls":9},"Конструирует несложные постройки из                  2—3 деталей.","Создаёт постройки «по сюжету» (дом, машина и т.д.)."]
[{"$nulls":9},"Конструирует несложные постройки из                  2—3 деталей.","Создаёт постройки «по сюжету» (дом, машина и т.д.)."]
[{"$nulls":9},"Конструирует несложные постройки из                  2—3 деталей.","Создаёт постройки «по сюжету» (дом, машина и т.д.)."]
[{"$nulls":9},"Конструирует несложные постройки из                  2—3 деталей.","Создаёт постройки «по сюжету» (дом, машина и т.д.)."]
[{"$nulls":9},"Конструирует несложные постройки из                  2—3 деталей.","Создаёт постройки «по сюжету» (дом, машина и т.д.)."]
[{"$nulls":9},"Конструирует несложные постройки из                  2—3 деталей.","Создаёт постройки «по сюжету» (дом, машина и т.д.)."]
[{"$nulls":9},"Конструирует несложные постройки из                  2—3 деталей.","Создаёт постройки «по сюжету» (дом, машина и т.д.)."]
[{"$nulls":9},"Конструирует несложные постройки из                  2—3 деталей.","Создаёт постройки «по сюжету» (дом, машина и т.д.)."]
[{"$nulls":9},"Конструирует несложные постройки из                  2—3 деталей.","Создаёт постройки «по сюжету» (дом, машина и т.д.)."]
[{"$nulls":9},"Конструирует несложные постройки из                  2—3 деталей.","Создаёт постройки «по сюжету» (дом, машина и т.д.)."]
[{"$nulls":9},"Конструирует несложные постройки из                  2—3 деталей.","Создаёт постройки «по сюжету» (дом, машина и т.д.)."]
[{"$nulls":9},"Конструирует несложные постройки из                  2—3 деталей.","Создаёт постройки «по сюжету» (дом, машина и т.д.)."]
[{"$nulls":9},"Конструирует несложные постройки из                  2—3 деталей.","Создаёт постройки «по сюжету» (дом, машина и т.д.)."]
[{"$nulls":9},"Конструирует несложные постройки из                  2—3 деталей.","Создаёт постройки «по сюжету» (дом, машина и т.д.)."]
[{"$nulls":9},"Конструирует несложные постройки из                  2—3 деталей.","Создаёт постройки «по сюжету» (дом, машина и т.д.)."]
[{"$nulls":9},"Конструирует несложные постройки из                  2—3 деталей.","Создаёт постройки «по сюжету» (дом, машина и т.д.)."]
[{"$nulls":9},"Конструирует несложные постройки из                  2—3 деталей.","Создаёт постройки «по сюжету» (дом, машина и т.д.)."]
[{"$nulls":9},"Конструирует несложные постройки из                  2—3 деталей.","Создаёт постройки «по сюжету» (дом, машина и т.д.)."]
[{"$nulls":9},"Конструирует несложные постройки из                  2—3 деталей.","Создаёт постройки «по сюжету» (дом, машина и т.д.)."]
[{"$nulls":9},"Конструирует несложные постройки из                  2—3 деталей.","Создаёт постройки «по сюжету» (дом, машина и т.д.)."]
[{"$nulls":9},"Конструирует несложные постройки из                  2—3 деталей.","Создаёт постройки «по сюжету» (дом, машина и т.д.)."]
[{"$nulls":9},"Конструирует несложные постройки из                  2—3 деталей.","Создаёт постройки «по сюжету» (дом, машина и т.д.)."]
[{"$nulls":9},"Конструирует несложные постройки из                  2—3 деталей.","Создаёт постройки «по сюжету» (дом, машина и т.д.)."]
[{"$nulls":9},"Конструирует несложные постройки из                  2—3 деталей.","Создаёт постройки «по сюжету» (дом, машина и т.д.)."]
[{"$nulls":9},"Конструирует несложные постройки из                  2—3 деталей.","Создаёт постройки «по сюжету» (дом, машина и т.д.)."]
[{"$nulls":9},"Конструирует несложные постройки из                  2—3 деталей.","Создаёт постройки «по сюжету» (дом, машина и т.д.)."]
[{"$nulls":9},"Конструирует несложные постройки из                  2—3 деталей.","Создаёт постройки «по сюжету» (дом, машина и т.д.)."]
[{"$nulls":9},"Конструирует несложные постройки из                  2—3 деталей.","Создаёт постройки «по сюжету» (дом, машина и т.д.)."]
[{"$nulls":9},"Конструирует несложные постройки из                  2—3 деталей.","Создаёт постройки «по сюжету» (дом, машина и т.д.)."]
[{"$nulls":9},"Конструирует несложные постройки из                  2—3 деталей.","Создаёт постройки «по сюжету» (дом, машина и т.д.)."]
[{"$nulls":9},"Конструирует несложные постройки из                  2—3 деталей.","Создаёт постройки «по сюжету» (дом, машина и т.д.)."]
[{"$nulls":9},"Конструирует несложные постройки из                  2—3 деталей.","Создаёт постройки «по сюжету» (дом, машина и т.д.)."]
[{"$nulls":9},"Конструирует несложные постройки из                  2—3 деталей.","Создаёт постройки «по сюжету» (дом, машина и т.д.)."]
[{"$nulls":9},"Конструирует несложные постройки из                  2—3 деталей.","Создаёт постройки «по сюжету» (дом, машина и т.д.)."]
[{"$nulls":9},"Конструирует несложные постройки из                  2—3 деталей.","Создаёт постройки «по сюжету» (дом, машина и т.д.)."]
[{"$nulls":9},"Конструирует несложные постройки из                  2—3 деталей.","Создаёт постройки «по сюжету» (дом, машина и т.д.)."]
[{"$nulls":9},"Конструирует несложные постройки из                  2—3 деталей.","Создаёт постройки «по сюжету» (дом, машина и т.д.)."]
[{"$nulls":9},"Конструирует несложные постройки из                  2—3 деталей.","Создаёт постройки «по сюжету» (дом, машина и т.д.)."]
[{"$nulls":9},"Конструирует несложные постройки из                  2—3 деталей.","Создаёт постройки «по сюжету» (дом, машина и т.д.)."]
[{"$nulls":9},"Конструирует несложные постройки из                  2—3 деталей.","Создаёт постройки «по сюжету» (дом, машина и т.д.)."]
[{"$nulls":9},"Конструирует несложные постройки из                  2—3 деталей.","Создаёт постройки «по сюжету» (дом, машина и т.д.)."]
[{"$nulls":9},"Конструирует несложные постройки из                  2—3 деталей.","Создаёт постройки «по сюжету» (дом, машина и т.д.)."]
[{"$nulls":9},"Конструирует несложные постройки из                  2—3 деталей.","Создаёт постройки «по сюжету» (дом, машина и т.д.)."]
[{"$nulls":9},"Конструирует несложные постройки из                  2—3 деталей.","Создаёт постройки «по сюжету» (дом, машина и т.д.)."]
[{"$nulls":9},"Конструирует несложные постройки из                  2—3 деталей.","Создаёт постройки «по сюжету» (дом, машина и т.д.)."]
[{"$nulls":9},"Конструирует несложные постройки из                  2—3 деталей.","Создаёт постройки «по сюжету» (дом, машина и т.д.)."]
[{"$nulls":9},"Конструирует несложные постройки из                  2—3 деталей.","Создаёт постройки «по сюжету» (дом, машина и т.д.)."]
[{"$nulls":9},"Конструирует несложные постройки из                  2—3 деталей.","Создаёт постройки «по сюжету» (дом, машина и т.д.)."]
[{"$nulls":9},"Конструирует несложные постройки из                  2—3 деталей.","Создаёт постройки «по сюжету» (дом, машина и т.д.)."]
[{"$nulls":9},"Конструирует несложные постройки из                  2—3 деталей.","Создаёт постройки «по сюжету» (дом, машина и т.д.)."]
[{"$nulls":9},"Конструирует несложные постройки из                  2—3 деталей.","Создаёт постройки «по сюжету» (дом, машина и т.д.)."]
[{"$nulls":9},"Конструирует несложные постройки из                  2—3 деталей.","Создаёт постройки «по сюжету» (дом, машина и т.д.)."]
[{"$nulls":9},"Конструирует несложные постройки из                  2—3 деталей.","Создаёт постройки «по сюжету» (дом, машина и т.д.)."]
[{"$nulls":9},"Конструирует несложные постройки из                  2—3 деталей.","Создаёт постройки «по сюжету» (дом, машина и т.д.)."]
[{"$nulls":9},"Конструирует несложные постройки из                  2—3 деталей.","Создаёт постройки «по сюжету» (дом, машина и т.д.)."]
[{"$nulls":9},"Конструирует несложные постройки из                  2—3 деталей.","Создаёт постройки «по сюжету» (дом, машина и т.д.)."]
[{"$nulls":9},"Конструирует несложные постройки из                  2—3 деталей.","Создаёт постройки «по сюжету» (дом, машина и т.д.)."]
[{"$nulls":9},"Конструирует несложные постройки из                  2—3 деталей.","Создаёт постройки «по сюжету» (дом, машина и т.д.)."]
[{"$nulls":9},"Конструирует несложные постройки из                  2—3 деталей.","Создаёт постройки «по сюжету» (дом, машина и т.д.)."]
[{"$nulls":9},"Конструирует несложные постройки из                  2—3 деталей.","Создаёт постройки «по сюжету» (дом, машина и т.д.)."]
[{"$nulls":9},"Конструирует несложные постройки из                  2—3 деталей.","Создаёт постройки «по сюжету» (дом, машина и т.д.)."]
[{"$nulls":9},"Конструирует несложные постройки из                  2—3 деталей.","Создаёт постройки «по сюжету» (дом, машина и т.д.)."]
[{"$nulls":9},"Конструирует несложные постройки из                  2—3 деталей.","Создаёт постройки «по сюжету» (дом, машина и т.д.)."]
[{"$nulls":9},"Конструирует несложные постройки из                  2—3 деталей.","Создаёт постройки «по сюжету» (дом, машина и т.д.)."]
[{"$nulls":9},"Конструирует несложные постройки из                  2—3 деталей.","Создаёт постройки «по сюжету» (дом, машина и т.д.)."]
[{"$nulls":9},"Конструирует несложные постройки из                  2—3 деталей.","Создаёт постройки «по сюжету» (дом, машина и т.д.)."]
[{"$nulls":9},"Конструирует несложные постройки из                  2—3 деталей.","Создаёт постройки «по сюжету» (дом, машина и т.д.)."]
[{"$nulls":9},"Конструирует несложные постройки из                  2—3 деталей.","Создаёт постройки «по сюжету» (дом, машина и т.д.)."]
[{"$nulls":9},"Конструирует несложные постройки из                  2—3 деталей.","Создаёт постройки «по сюжету» (дом, машина и т.д.)."]
[{"$nulls":9},"Конструирует несложные постройки из                  2—3 деталей.","Создаёт постройки «по сюжету» (дом, машина и т.д.)."]
[{"$nulls":9},"Конструирует несложные постройки из                  2—3 деталей.","Создаёт постройки «по сюжету» (дом, машина и т.д.)."]
[{"$nulls":9},"Конструирует несложные постройки из                  2—3 деталей.","Создаёт постройки «по сюжету» (дом, машина и т.д.)."]
[{"$nulls":9},"Конструирует несложные постройки из                  2—3 деталей.","Создаёт постройки «по сюжету» (дом, машина и т.д.)."]
[{"$nulls":9},"Конструирует несложные постройки из                  2—3 деталей.","Создаёт постройки «по сюжету» (дом, машина и т.д.)."]
[{"$nulls":9},"Конструирует несложные постройки из                  2—3 деталей.","Создаёт постройки «по сюжету» (дом, машина и т.д.)."]
[{"$nulls":9},"Конструирует несложные постройки из                  2—3 деталей.","Создаёт постройки «по сюжету» (дом, машина и т.д.)."]
[{"$nulls":9},"Конструирует несложные постройки из                  2—3 деталей.","Создаёт постройки «по сюжету» (дом, машина и т.д.)."]
[{"$nulls":9},"Конструирует несложные постройки из                  2—3 деталей.","Создаёт постройки «по сюжету» (дом, машина и т.д.)."]
[{"$nulls":9},"Конструирует несложные постройки из                  2—3 деталей.","Создаёт постройки «по сюжету» (дом, машина и т.д.)."]
[{"$nulls":9},"Конструирует несложные постройки из                  2—3 деталей.","Создаёт постройки «по сюжету» (дом, машина и т.д.)."]
[{"$nulls":9},"Конструирует несложные постройки из                  2—3 деталей.","Создаёт постройки «по сюжету» (дом, машина и т.д.)."]
[{"$nulls":9},"Конструирует несложные постройки из                  2—3 деталей.","Создаёт постройки «по сюжету» (дом, машина и т.д.)."]
[{"$nulls":9},"Конструирует несложные постройки из                  2—3 деталей.","Создаёт постройки «по сюжету» (дом, машина и т.д.)."]
[{"$nulls":9},"Конструирует несложные постройки из                  2—3 деталей.","Создаёт постройки «по сюжету» (дом, машина и т.д.)."]
[{"$nulls":9},"Конструирует несложные постройки из                  2—3 деталей.","Создаёт постройки «по сюжету» (дом, машина и т.д.)."]
[{"$nulls":9},"Конструирует несложные постройки из                  2—3 деталей.","Создаёт постройки «по сюжету» (дом, машина и т.д.)."]
[{"$nulls":9},"Конструирует несложные постройки из                  2—3 деталей.","Создаёт постройки «по сюжету» (дом, машина и т.д.)."]
[{"$nulls":9},"Конструирует несложные постройки из                  2—3 деталей.","Создаёт постройки «по сюжету» (дом, машина и т.д.)."]
[{"$nulls":9},"Конструирует несложные постройки из                  2—3 деталей.","Создаёт постройки «по сюжету» (дом, машина и т.д.)."]
[{"$nulls":9},"Конструирует несложные постройки из                  2—3 деталей.","Создаёт постройки «по сюжету» (дом, машина и т.д.)."]
[{"$nulls":9},"Конструирует несложные постройки из                  2—3 деталей.","Создаёт постройки «по сюжету» (дом, машина и т.д.)."]
[{"$nulls":9},"Конструирует несложные постройки из                  2—3 деталей.","Создаёт постройки «по сюжету» (дом, машина и т.д.)."]
[{"$nulls":9},"Конструирует несложные постройки из                  2—3 деталей.","Создаёт постройки «по сюжету» (дом, машина и т.д.)."]
[{"$nulls":9},"Конструирует несложные постройки из                  2—3 деталей.","Создаёт постройки «по сюжету» (дом, машина и т.д.)."]
[{"$nulls":9},"Конструирует несложные постройки из                  2—3 деталей.","Создаёт постройки «по сюжету» (дом, машина и т.д.)."]
[{"$nulls":9},"Конструирует несложные постройки из                  2—3 деталей.","Создаёт постройки «по сюжету» (дом, машина и т.д.)."]
[{"$nulls":9},"Конструирует несложные постройки из                  2—3 деталей.","Создаёт постройки «по сюжету» (дом, машина и т.д.)."]
[{"$nulls":9},"Конструирует несложные постройки из                  2—3 деталей.","Создаёт постройки «по сюжету» (дом, машина и т.д.)."]
[{"$nulls":9},"Конструирует несложные постройки из                  2—3 деталей.","Создаёт постройки «по сюжету» (дом, машина и т.д.)."]
[{"$nulls":9},"Конструирует несложные постройки из                  2—3 деталей.","Создаёт постройки «по сюжету» (дом, машина и т.д.)."]
[{"$nulls":9},"Конструирует несложные постройки из                  2—3 деталей.","Создаёт постройки «по сюжету» (дом, машина и т.д.)."]
[{"$nulls":9},"Конструирует несложные постройки из                  2—3 деталей.","Создаёт постройки «по сюжету» (дом, машина и т.д.)."]
[{"$nulls":9},"Конструирует несложные постройки из                  2—3 деталей.","Создаёт постройки «по сюжету» (дом, машина и т.д.)."]
[{"$nulls":9},"Конструирует несложные постройки из                  2—3 деталей.","Создаёт постройки «по сюжету» (дом, машина и т.д.)."]
[{"$nulls":9},"Конструирует несложные постройки из                  2—3 деталей.","Создаёт постройки «по сюжету» (дом, машина и т.д.)."]
[{"$nulls":9},"Конструирует несложные постройки из                  2—3 деталей.","Создаёт постройки «по сюжету» (дом, машина и т.д.)."]
[{"$nulls":9},"Конструирует несложные постройки из                  2—3 деталей.","Создаёт постройки «по сюжету» (дом, машина и т.д.)."]
[{"$nulls":9},"Конструирует несложные постройки из                  2—3 деталей.","Создаёт постройки «по сюжету» (дом, машина и т.д.)."]
[{"$nulls":9},"Конструирует несложные постройки из                  2—3 деталей.","Создаёт постройки «по сюжету» (дом, машина и т.д.)."]
[{"$nulls":9},"Конструирует несложные постройки из                  2—3 деталей.","Создаёт постройки «по сюжету» (дом, машина и т.д.)."]
[{"$nulls":9},"Конструирует несложные постройки из                  2—3 деталей.","Создаёт постройки «по сюжету» (дом, машина и т.д.)."]
[{"$nulls":9},"Конструирует несложные постройки из                  2—3 деталей.","Создаёт постройки «по сюжету» (дом, машина и т.д.)."]
[{"$nulls":9},"Конструирует несложные постройки из                  2—3 деталей.","Создаёт постройки «по сюжету» (дом, машина и т.д.)."]
[{"$nulls":9},"Конструирует несложные постройки из                  2—3 деталей.","Создаёт постройки «по сюжету» (дом, машина и т.д.)."]
[{"$nulls":9},"Конструирует несложные постройки из                  2—3 деталей.","Создаёт постройки «по сюжету» (дом, машина и т.д.)."]
[{"$nulls":9},"Конструирует несложные постройки из                  2—3 деталей.","Создаёт постройки «по сюжету» (дом, машина и т.д.)."]
[{"$nulls":9},"Конструирует несложные постройки из                  2—3 деталей.","Создаёт постройки «по сюжету» (дом, машина и т.д.)."]
[{"$nulls":9},"Конструирует несложные постройки из                  2—3 деталей.","Создаёт постройки «по сюжету» (дом, машина и т.д.)."]
[{"$nulls":9},"Конструирует несложные постройки из                  2—3 деталей.","Создаёт постройки «по сюжету» (дом, машина и т.д.)."]
[{"$nulls":9},"Конструирует несложные постройки из                  2—3 деталей.","Создаёт постройки «по сюжету» (дом, машина и т.д.)."]
[{"$nulls":9},"Конструирует несложные постройки из                  2—3 деталей.","Создаёт постройки «по сюжету» (дом, машина и т.д.)."]
[{"$nulls":9},"Конструирует несложные постройки из                  2—3 деталей.","Создаёт постройки «по сюжету» (дом, машина и т.д.)."]
[{"$nulls":9},"Конструирует несложные постройки из                  2—3 деталей.","Создаёт постройки «по сюжету» (дом, машина и т.д.)."]
[{"$nulls":9},"Конструирует несложные постройки из                  2—3 деталей.","Создаёт постройки «по сюжету» (дом, машина и т.д.)."]
[{"$nulls":9},"Конструирует несложные постройки из                  2—3 деталей.","Создаёт постройки «по сюжету» (дом, машина и т.д.)."]
[{"$nulls":9},"Конструирует несложные постройки из                  2—3 деталей.","Создаёт постройки «по сюжету» (дом, машина и т.д.)."]
[{"$nulls":9},"Конструирует несложные постройки из                  2—3 деталей.","Создаёт постройки «по сюжету» (дом, машина и т.д.)."]
[{"$nulls":9},"Конструирует несложные постройки из                  2—3 деталей.","Создаёт постройки «по сюжету» (дом, машина и т.д.)."]
[{"$nulls":9},"Конструирует несложные постройки из                  2—3 деталей.","Создаёт постройки «по сюжету» (дом, машина и т.д.)."]
[{"$nulls":9},"Конструирует несложные постройки из                  2—3 деталей.","Создаёт постройки «по сюжету» (дом, машина и т.д.)."]
[{"$nulls":9},"Конструирует несложные постройки из                  2—3 деталей.","Создаёт постройки «по сюжету» (дом, машина и т.д.)."]
[{"$nulls":9},"Конструирует несложные постройки из                  2—3 деталей.","Создаёт постройки «по сюжету» (дом, машина и т.д.)."]
[{"$nulls":9},"Конструирует несложные постройки из                  2—3 деталей.","Создаёт постройки «по сюжету» (дом, машина и т.д.)."]
[{"$nulls":9},"Конструирует несложные постройки из                  2—3 деталей.","Создаёт постройки «по сюжету» (дом, машина и т.д.)."]
[{"$nulls":9},"Конструирует несложные постройки из                  2—3 деталей.","Создаёт постройки «по сюжету» (дом, машина и т.д.)."]
[{"$nulls":9},"Конструирует несложные постройки из                  2—3 деталей.","Создаёт постройки «по сюжету» (дом, машина и т.д.)."]
[{"$nulls":9},"Конструирует несложные постройки из                  2—3 деталей.","Создаёт постройки «по сюжету» (дом, машина и т.д.)."]
[{"$nulls":9},"Конструирует несложные постройки из                  2—3 деталей.","Создаёт постройки «по сюжету» (дом, машина и т.д.)."]
[{"$nulls":9},"Конструирует несложные постройки из                  2—3 деталей.","Создаёт постройки «по сюжету» (дом, машина и т.д.)."]
[{"$nulls":9},"Конструирует несложные постройки из                  2—3 деталей.","Создаёт постройки «по сюжету» (дом, машина и т.д.)."]
[{"$nulls":9},"Конструирует несложные постройки из                  2—3 деталей.","Создаёт постройки «по сюжету» (дом, машина и т.д.)."]
[{"$nulls":9},"Конструирует несложные постройки из                  2—3 деталей.","Создаёт постройки «по сюжету» (дом, машина и т.д.)."]
[{"$nulls":9},"Конструирует несложные постройки из                  2—3 деталей.","Создаёт постройки «по сюжету» (дом, машина и т.д.)."]
[{"$nulls":9},"Конструирует несложные постройки из                  2—3 деталей.","Создаёт постройки «по сюжету» (дом, машина и т.д.)."]
[{"$nulls":9},"Конструирует несложные постройки из                  2—3 деталей.","Создаёт постройки «по сюжету» (дом, машина и т.д.)."]
[{"$nulls":9},"Конструирует несложные постройки из                  2—3 деталей.","Создаёт постройки «по сюжету» (дом, машина и т.д.)."]
[{"$nulls":9},"Конструирует несложные постройки из                  2—3 деталей.","Создаёт постройки «по сюжету» (дом, машина и т.д.)."]
[{"$nulls":9},"Конструирует несложные постройки из                  2—3 деталей.","Создаёт постройки «по сюжету» (дом, машина и т.д.)."]
[{"$nulls":9},"Конструирует несложные постройки из                  2—3 деталей.","Создаёт постройки «по сюжету» (дом, машина и т.д.)."]
[{"$nulls":9},"Конструирует несложные постройки из                  2—3 деталей.","Создаёт постройки «по сюжету» (дом, машина и т.д.)."]
[{"$nulls":9},"Конструирует несложные постройки из                  2—3 деталей.","Создаёт постройки «по сюжету» (дом, машина и т.д.)."]
[{"$nulls":9},"Конструирует несложные постройки из                  2—3 деталей.","Создаёт постройки «по сюжету» (дом, машина и т.д.)."]
[{"$nulls":9},"Конструирует несложные постройки из                  2—3 деталей.","Создаёт постройки «по сюжету» (дом, машина и т.д.)."]
[{"$nulls":9},"Конструирует несложные постройки из                  2—3 деталей.","Создаёт постройки «по сюжету» (дом, машина и т.д.)."]
[{"$nulls":9},"Конструирует несложные постройки из                  2—3 деталей.","Создаёт постройки «по сюжету» (дом, машина и т.д.)."]
[{"$nulls":9},"Конструирует несложные постройки из                  2—3 деталей.","Создаёт постройки «по сюжету» (дом, машина и т.д.)."]
[{"$nulls":9},"Конструирует несложные постройки из                  2—3 деталей.","Создаёт постройки «по сюжету» (дом, машина и т.д.)."]
[{"$nulls":9},"Конструирует несложные постройки из                  2—3 деталей.","Создаёт постройки «по сюжету» (дом, машина и т.д.)."]
[{"$nulls":9},"Конструирует несложные постройки из                  2—3 деталей.","Создаёт постройки «по сюжету» (дом, машина и т.д.)."]
[{"$nulls":9},"Конструирует несложные постройки из                  2—3 деталей.","Создаёт постройки «по сюжету» (дом, машина и т.д.)."]
[{"$nulls":9},"Конструирует несложные постройки из                  2—3 деталей.","Создаёт постройки «по сюжету» (дом, машина и т.д.)."]
[{"$nulls":9},"Конструирует несложные постройки из                  2—3 деталей.","Создаёт постройки «по сюжету» (дом, машина и т.д.)."]
[{"$nulls":9},"Конструирует несложные постройки из                  2—3 деталей.","Создаёт постройки «по сюжету» (дом, машина и т.д.)."]
[{"$nulls":9},"Конструирует несложные постройки из                  2—3 деталей.","Создаёт постройки «по сюжету» (дом, машина и т.д.)."]
[{"$nulls":9},"Конструирует несложные постройки из                  2—3 деталей.","Создаёт постройки «по сюжету» (дом, машина и т.д.)."]
[{"$nulls":9},"Конструирует несложные постройки из                  2—3 деталей.","Создаёт постройки «по сюжету» (дом, машина и т.д.)."]
[{"$nulls":9},"Конструирует несложные постройки из                  2—3 деталей.","Создаёт постройки «по сюжету» (дом, машина и т.д.)."]
[{"$nulls":9},"Конструирует несложные постройки из                  2—3 деталей.","Создаёт постройки «по сюжету» (дом, машина и т.д.)."]
[{"$nulls":9},"Конструирует несложные постройки из                  2—3 деталей.","Создаёт постройки «по сюжету» (дом, машина и т.д.)."]
[{"$nulls":9},"Конструирует несложные постройки из                  2—3 деталей.","Создаёт постройки «по сюжету» (дом, машина и т.д.)."]
[{"$nulls":9},"Конструирует несложные постройки из                  2—3 деталей.","Создаёт постройки «по сюжету» (дом, машина и т.д.)."]
[{"$nulls":9},"Конструирует несложные постройки из                  2—3 деталей.","Создаёт постройки «по сюжету» (дом, машина и т.д.)."]
[{"$nulls":9},"Конструирует несложные постройки из                  2—3 деталей.","Создаёт постройки «по сюжету» (дом, машина и т.д.)."]
[{"$nulls":9},"Конструирует несложные постройки из                  2—3 деталей.","Создаёт постройки «по сюжету» (дом, машина и т.д.)."]
[{"$nulls":9},"Конструирует несложные постройки из                  2—3 деталей.","Создаёт постройки «по сюжету» (дом, машина и т.д.)."]
[{"$nulls":9},"Конструирует несложные постройки из                  2—3 деталей.","Создаёт постройки «по сюжету» (дом, машина и т.д.)."]
[{"$nulls":9},"Конструирует несложные постройки из                  2—3 деталей.","Создаёт постройки «по сюжету» (дом, машина и т.д.)."]
[{"$nulls":9},"Конструирует несложные постройки из                  2—3 деталей.","Создаёт постройки «по сюжету» (дом, машина и т.д.)."]
[{"$nulls":9},"Конструирует несложные постройки из                  2—3 деталей.","Создаёт постройки «по сюжету» (дом, машина и т.д.)."]
[{"$nulls":9},"Конструирует несложные постройки из                  2—3 деталей.","Создаёт постройки «по сюжету» (дом, машина и т.д.)."]
[{"$nulls":9},"Конструирует несложные постройки из                  2—3 деталей.","Создаёт постройки «по сюжету» (дом, машина и т.д.)."]
[{"$nulls":9},"Конструирует несложные постройки из                  2—3 деталей.","Создаёт постройки «по сюжету» (дом, машина и т.д.)."]
[{"$nulls":9},"Конструирует несложные постройки из                  2—3 деталей.","Создаёт постройки «по сюжету» (дом, машина и т.д.)."]
[{"$nulls":9},"Конструирует несложные постройки из                  2—3 деталей.","Создаёт постройки «по сюжету» (дом, машина и т.д.)."]
[{"$nulls":9},"Конструирует несложные постройки из                  2—3 деталей.","Создаёт постройки «по сюжету» (дом, машина и т.д.)."]
[{"$nulls":9},"Конструирует несложные постройки из                  2—3 деталей.","Создаёт постройки «по сюжету» (дом, машина и т.д.)."]
[{"$nulls":9},"Конструирует несложные постройки из                  2—3 деталей.","Создаёт постройки «по сюжету» (дом, машина и т.д.)."]
[{"$nulls":9},"Конструирует несложные постройки из                  2—3 деталей.","Создаёт постройки «по сюжету» (дом, машина и т.д.)."]
[{"$nulls":9},"Конструирует несложные постройки из                  2—3 деталей.","Создаёт постройки «по сюжету» (дом, машина и т.д.)."]
[{"$nulls":9},"Конструирует несложные постройки из                  2—3 деталей.","Создаёт постройки «по сюжету» (дом, машина и т.д.)."]
[{"$nulls":9},"Конструирует несложные постройки из                  2—3 деталей.","Создаёт постройки «по сюжету» (дом, машина и т.д.)."]
[{"$nulls":9},"Конструирует несложные постройки из                  2—3 деталей.","Создаёт постройки «по сюжету» (дом, машина и т.д.)."]
[{"$nulls":9},"Конструирует несложные постройки из                  2—3 деталей.","Создаёт постройки «по сюжету» (дом, машина и т.д.)."]
[{"$nulls":9},"Конструирует несложные постройки из                  2—3 деталей.","Создаёт постройки «по сюжету» (дом, машина и т.д.)."]
[{"$nulls":9},"Конструирует несложные постройки из                  2—3 деталей.","Создаёт постройки «по сюжету» (дом, машина и т.д.)."]
[{"$nulls":9},"Конструирует несложные постройки из                  2—3 деталей.","Создаёт постройки «по сюжету» (дом, машина и т.д.)."]
[{"$nulls":9},"Конструирует несложные постройки из                  2—3 деталей.","Создаёт постройки «по сюжету» (дом, машина и т.д.)."]
[{"$nulls":9},"Конструирует несложные постройки из                  2—3 деталей.","Создаёт постройки «по сюжету» (дом, машина и т.д.)."]
[{"$nulls":9},"Конструирует несложные постройки из                  2—3 деталей.","Создаёт постройки «по сюжету» (дом, машина и т.д.)."]
[{"$nulls":9},"Конструирует несложные постройки из                  2—3 деталей.","Создаёт постройки «по сюжету» (дом, машина и т.д.)."]
[{"$nulls":9},"Конструирует несложные постройки из                  2—3 деталей.","Создаёт постройки «по сюжету» (дом, машина и т.д.)."]
[{"$nulls":9},"Конструирует несложные постройки из                  2—3 деталей.","Создаёт постройки «по сюжету» (дом, машина и т.д.)."]
[{"$nulls":9},"Конструирует несложные постройки из                  2—3 деталей.","Создаёт постройки «по сюжету» (дом, машина и т.д.)."]
[{"$nulls":9},"Конструирует несложные постройки из                  2—3 деталей.","Создаёт постройки «по сюжету» (дом, машина и т.д.)."]
[{"$nulls":9},"Конструирует несложные постройки из                  2—3 деталей.","Создаёт постройки «по сюжету» (дом, машина и т.д.)."]
[{"$nulls":9},"Конструирует несложные постройки из                  2—3 деталей.","Создаёт постройки «по сюжету» (дом, машина и т.д.)."]
[{"$nulls":9},"Конструирует несложные постройки из                  2—3 деталей.","Создаёт постройки «по сюжету» (дом, машина и т.д.)."]
[{"$nulls":9},"Конструирует несложные постройки из                  2—3 деталей.","Создаёт постройки «по сюжету» (дом, машина и т.д.)."]
[{"$nulls":9},"Конструирует несложные постройки из                  2—3 деталей.","Создаёт постройки «по сюжету» (дом, машина и т.д.)."]
[{"$nulls":9},"Конструирует несложные постройки из                  2—3 деталей.","Создаёт постройки «по сюжету» (дом, машина и т.д.)."]
[{"$nulls":9},"Конструирует несложные постройки из                  2—3 деталей.","Создаёт постройки «по сюжету» (дом, машина и т.д.)."]
[{"$nulls":9},"Конструирует несложные постройки из                  2—3 деталей.","Создаёт постройки «по сюжету» (дом, машина и т.д.)."]
[{"$nulls":9},"Конструирует несложные постройки из                  2—3 деталей.","Создаёт постройки «по сюжету» (дом, машина и т.д.)."]
[{"$nulls":9},"Конструирует несложные постройки из                  2—3 деталей.","Создаёт постройки «по сюжету» (дом, машина и т.д.)."]
[{"$nulls":9},"Конструирует несложные постройки из                  2—3 деталей.","Создаёт постройки «по сюжету» (дом, машина и т.д.)."]
[{"$nulls":9},"Конструирует несложные постройки из                  2—3 деталей.","Создаёт постройки «по сюжету» (дом, машина и т.д.)."]
[{"$nulls":9},"Конструирует несложные постройки из                  2—3 деталей.","Создаёт постройки «по сюжету» (дом, машина и т.д.)."]
[{"$nulls":9},"Конструирует несложные постройки из                  2—3 деталей.","Создаёт постройки «по сюжету» (дом, машина и т.д.)."]
[{"$nulls":9},"Конструирует несложные постройки из                  2—3 деталей.","Создаёт постройки «по сюжету» (дом, машина и т.д.)."]
[{"$nulls":9},"Конструирует несложные постройки из                  2—3 деталей.","Создаёт постройки «по сюжету» (дом, машина и т.д.)."]
[{"$nulls":9},"Конструирует несложные постройки из                  2—3 деталей.","Создаёт постройки «по сюжету» (дом, машина и т.д.)."]
[{"$nulls":9},"Конструирует несложные постройки из                  2—3 деталей.","Создаёт постройки «по сюжету» (дом, машина и т.д.)."]
[{"$nulls":9},"Конструирует несложные постройки из                  2—3 деталей.","Создаёт постройки «по сюжету» (дом, машина и т.д.)."]
[{"$nulls":9},"Конструирует несложные постройки из                  2—3 деталей.","Создаёт постройки «по сюжету» (дом, машина и т.д.)."]
[{"$nulls":9},"Конструирует несложные постройки из                  2—3 деталей.","Создаёт постройки «по сюжету» (дом, машина и т.д.)."]
[{"$nulls":9},"Конструирует несложные постройки из                  2—3 деталей.","Создаёт постройки «по сюжету» (дом, машина и т.д.)."]
[{"$nulls":9},"Конструирует несложные постройки из                  2—3 деталей.","Создаёт постройки «по сюжету» (дом, машина и т.д.)."]
[{"$nulls":9},"Конструирует несложные постройки из                  2—3 деталей.","Создаёт постройки «по сюжету» (дом, машина и т.д.)."]
[{"$nulls":9},"Конструирует несложные постройки из                  2—3 деталей.","Создаёт постройки «по сюжету» (дом, машина и т.д.)."]
[{"$nulls":9},"Конструирует несложные постройки из                  2—3 деталей.","Создаёт постройки «по сюжету» (дом, машина и т.д.)."]
[{"$nulls":9},"Конструирует несложные постройки из                  2—3 деталей.","Создаёт постройки «по сюжету» (дом, машина и т.д.)."]
[{"$nulls":9},"Конструирует несложные постройки из                  2—3 деталей.","Создаёт постройки «по сюжету» (дом, машина и т.д.)."]
[{"$nulls":9},"Конструирует несложные постройки из                  2—3 деталей.","Создаёт постройки «по сюжету» (дом, машина и т.д.)."]
[{"$nulls":9},"Конструирует несложные постройки из                  2—3 деталей.","Создаёт постройки «по сюжету» (дом, машина и т.д.)."]
[{"$nulls":9},"Конструирует несложные постройки из                  2—3 деталей.","Создаёт постройки «по сюжету» (дом, машина и т.д.)."]
[{"$nulls":9},"Конструирует несложные постройки из                  2—3 деталей.","Создаёт постройки «по сюжету» (дом, машина и т.д.)."]
[{"$nulls":9},"Конструирует несложные постройки из                  2—3 деталей.","Создаёт постройки «по сюжету» (дом, машина и т.д.)."]
[{"$nulls":9},"Конструирует несложные постройки из                  2—3 деталей.","Создаёт постройки «по сюжету» (дом, машина и т.д.)."]
[{"$nulls":9},"Конструирует несложные постройки из                  2—3 деталей.","Создаёт постройки «по сюжету» (дом, машина и т.д.)."]
[{"$nulls":9},"Конструирует несложные постройки из                  2—3 деталей.","Создаёт постройки «по сюжету» (дом, машина и т.д.)."]
[{"$nulls":9},"Конструирует несложные постройки из                  2—3 деталей.","Создаёт постройки «по сюжету» (дом, машина и т.д.)."]
[{"$nulls":9},"Конструирует несложные постройки из                  2—3 деталей.","Создаёт постройки «по сюжету» (дом, машина и т.д.)."]
[{"$nulls":9},"Конструирует несложные постройки из                  2—3 деталей.","Создаёт постройки «по сюжету» (дом, машина и т.д.)."]
[{"$nulls":9},"Конструирует несложные постройки из                  2—3 деталей.","Создаёт постройки «по сюжету» (дом, машина и т.д.)."]
[{"$nulls":9},"Конструирует несложные постройки из                  2—3 деталей.","Создаёт постройки «по сюжету» (дом, машина и т.д.)."]
[{"$nulls":9},"Конструирует несложные постройки из                  2—3 деталей.","Создаёт постройки «по сюжету» (дом, машина и т.д.)."]
[{"$nulls":9},"Конструирует несложные постройки из                  2—3 деталей.","Создаёт постройки «по сюжету» (дом, машина и т.д.)."]
[{"$nulls":9},"Конструирует несложные постройки из                  2—3 деталей.","Создаёт постройки «по сюжету» (дом, машина и т.д.)."]
[{"$nulls":9},"Конструирует несложные постройки из                  2—3 деталей.","Создаёт постройки «по сюжету» (дом, машина и т.д.)."]
[{"$nulls":9},"Конструирует несложные постройки из                  2—3 деталей.","Создаёт постройки «по сюжету» (дом, машина и т.д.)."]
[{"$nulls":9},"Конструирует несложные постройки из                  2—3 деталей.","Создаёт постройки «по сюжету» (дом, машина и т.д.)."]
[{"$nulls":9},"Конструирует несложные постройки из                  2—3 деталей.","Создаёт постройки «по сюжету» (дом, машина и т.д.)."]
[{"$nulls":9},"Конструирует несложные постройки из                  2—3 деталей.","Создаёт постройки «по сюжету» (дом, машина и т.д.)."]
[{"$nulls":9},"Конструирует несложные постройки из                  2—3 деталей.","Создаёт постройки «по сюжету» (дом, машина и т.д.)."]
[{"$nulls":9},"Конструирует несложные постройки из                  2—3 деталей.","Создаёт постройки «по сюжету» (дом, машина и т.д.)."]
[{"$nulls":9},"Конструирует несложные постройки из                  2—3 деталей.","Создаёт постройки «по сюжету» (дом, машина и т.д.)."]
[{"$nulls":9},"Конструирует несложные постройки из                  2—3 деталей.","Создаёт постройки «по сюжету» (дом, машина и т.д.)."]
[{"$nulls":9},"Конструирует несложные постройки из                  2—3 деталей.","Создаёт постройки «по сюжету» (дом, машина и т.д.)."]
[{"$nulls":9},"Конструирует несложные постройки из                  2—3 деталей.","Создаёт постройки «по сюжету» (дом, машина и т.д.)."]
[{"$nulls":9},"Конструирует несложные постройки из                  2—3 деталей.","Создаёт постройки «по сюжету» (дом, машина и т.д.)."]
[{"$nulls":9},"Конструирует несложные постройки из                  2—3 деталей.","Создаёт постройки «по сюжету» (дом, машина и т.д.)."]
[{"$nulls":9},"Конструирует несложные постройки из                  2—3 деталей.","Создаёт постройки «по сюжету» (дом, машина и т.д.)."]
[{"$nulls":9},"Конструирует несложные постройки из                  2—3 деталей.","Создаёт постройки «по сюжету» (дом, машина и т.д.)."]
[{"$nulls":9},"Конструирует несложные постройки из                  2—3 деталей.","Создаёт постройки «по сюжету» (дом, машина и т.д.)."]
[{"$nulls":9},"Конструирует несложные постройки из                  2—3 деталей.","Создаёт постройки «по сюжету» (дом, машина и т.д.)."]
[{"$nulls":9},"Конструирует несложные постройки из                  2—3 деталей.","Создаёт постройки «по сюжету» (дом, машина и т.д.)."]
[{"$nulls":9},"Конструирует несложные постройки из                  2—3 деталей.","Создаёт постройки «по сюжету» (дом, машина и т.д.)."]
[{"$nulls":9},"Конструирует несложные постройки из                  2—3 деталей.","Создаёт постройки «по сюжету» (дом, машина и т.д.)."]
[{"$nulls":9},"Конструирует несложные постройки из                  2—3 деталей.","Создаёт постройки «по сюжету» (дом, машина и т.д.)."]
[{"$nulls":9},"Конструирует несложные постройки из                  2—3 деталей.","Создаёт постройки «по сюжету» (дом, машина и т.д.)."]
[{"$nulls":9},"Конструирует несложные постройки из                  2—3 деталей.","Создаёт постройки «по сюжету» (дом, машина и т.д.)."]
[{"$nulls":9},"Конструирует несложные постройки из                  2—3 деталей.","Создаёт постройки «по сюжету» (дом, машина и т.д.)."]
[{"$nulls":9},"Конструирует несложные постройки из                  2—3 деталей.","Создаёт постройки «по сюжету» (дом, машина и т.д.)."]
[{"$nulls":9},"Конструирует несложные постройки из                  2—3 деталей.","Создаёт постройки «по сюжету» (дом, машина и т.д.)."]
[{"$nulls":9},"Конструирует несложные постройки из                  2—3 деталей.","Создаёт постройки «по сюжету» (дом, машина и т.д.)."]
[{"$nulls":9},"Конструирует несложные постройки из                  2—3 деталей.","Создаёт постройки «по сюжету» (дом, машина и т.д.)."]
[{"$nulls":9},"Конструирует несложные постройки из                  2—3 деталей.","Создаёт постройки «по сюжету» (дом, машина и т.д.)."]
[{"$nulls":9},"Конструирует несложные постройки из                  2—3 деталей.","Создаёт постройки «по сюжету» (дом, машина и т.д.)."]
[{"$nulls":9},"Конструирует несложные постройки из                  2—3 деталей.","Создаёт постройки «по сюжету» (дом, машина и т.д.)."]
[{"$nulls":9},"Конструирует несложные постройки из                  2—3 деталей.","Создаёт постройки «по сюжету» (дом, машина и т.д.)."]
[{"$nulls":9},"Конструирует несложные постройки из                  2—3 деталей.","Создаёт постройки «по сюжету» (дом, машина и т.д.)."]
[{"$nulls":9},"Конструирует несложные постройки из                  2—3 деталей.","Создаёт постройки «по сюжету» (дом, машина и т.д.)."]
[{"$nulls":9},"Конструирует несложные постройки из                  2—3 деталей.","Создаёт постройки «по сюжету» (дом, машина и т.д.)."]
[{"$nulls":9},"Конструирует несложные постройки из                  2—3 деталей.","Создаёт постройки «по сюжету» (дом, машина и т.д.)."]
[{"$nulls":9},"Конструирует несложные постройки из                  2—3 деталей.","Создаёт постройки «по сюжету» (дом, машина и т.д.)."]
[{"$nulls":9},"Конструирует несложные постройки из                  2—3 деталей.","Создаёт постройки «по сюжету» (дом, машина и т.д.)."]
[{"$nulls":9},"Конструирует несложные постройки из                  2—3 деталей.","Создаёт постройки «по сюжету» (дом, машина и т.д.)."]
[{"$nulls":9},"Конструирует несложные постройки из                  2—3 деталей.","Создаёт постройки «по сюжету» (дом, машина и т.д.)."]
[{"$nulls":9},"Конструирует несложные постройки из                  2—3 деталей.","Создаёт постройки «по сюжету» (дом, машина и т.д.)."]
[{"$nulls":9},"Конструирует несложные постройки из                  2—3 деталей.","Создаёт постройки «по сюжету» (дом, машина и т.д.)."]
[{"$nulls":9},"Конструирует несложные постройки из                  2—3 деталей.","Создаёт постройки «по сюжету» (дом, машина и т.д.)."]
[{"$nulls":9},"Конструирует несложные постройки из                  2—3 деталей.","Создаёт постройки «по сюжету» (дом, машина и т.д.)."]
[{"$nulls":9},"Конструирует несложные постройки из                  2—3 деталей.","Создаёт постройки «по сюжету» (дом, машина и т.д.)."]
[{"$nulls":9},"Конструирует несложные постройки из                  2—3 деталей.","Создаёт постройки «по сюжету» (дом, машина и т.д.)."]
[{"$nulls":9},"Конструирует несложные постройки из                  2—3 деталей.","Создаёт постройки «по сюжету» (дом, машина и т.д.)."]
[{"$nulls":9},"Конструирует несложные постройки из                  2—3 деталей.","Создаёт постройки «по сюжету» (дом, машина и т.д.)."]
[{"$nulls":9},"Конструирует несложные постройки из                  2—3 деталей.","Создаёт постройки «по сюжету» (дом, машина и т.д.)."]
[{"$nulls":9},"Конструирует несложные постройки из                  2—3 деталей.","Создаёт постройки «по сюжету» (дом, машина и т.д.)."]
[{"$nulls":9},"Конструирует несложные постройки из                  2—3 деталей.","Создаёт постройки «по сюжету» (дом, машина и т.д.)."]
[{"$nulls":9},"Конструирует несложные постройки из                  2—3 деталей.","Создаёт постройки «по сюжету» (дом, машина и т.д.)."]
[{"$nulls":9},"Конструирует несложные постройки из                  2—3 деталей.","Создаёт постройки «по сюжету» (дом, машина и т.д.)."]
[{"$nulls":9},"Конструирует несложные постройки из                  2—3 деталей.","Создаёт постройки «по сюжету» (дом, машина и т.д.)."]
[{"$nulls":9},"Конструирует несложные постройки из                  2—3 деталей.","Создаёт постройки «по сюжету» (дом, машина и т.д.)."]
[{"$nulls":9},"Конструирует несложные постройки из                  2—3 деталей.","Создаёт постройки «по сюжету» (дом, машина и т.д.)."]
[{"$nulls":9},"Конструирует несложные постройки из                  2—3 деталей.","Создаёт постройки «по сюжету» (дом, машина и т.д.)."]
[{"$nulls":9},"Конструирует несложные постройки из                  2—3 деталей.","Создаёт постройки «по сюжету» (дом, машина и т.д.)."]
[{"$nulls":9},"Конструирует несложные постройки из                  2—3 деталей.","Создаёт постройки «по сюжету» (дом, машина и т.д.)."]
[{"$nulls":9},"Конструирует несложные постройки из                  2—3 деталей.","Создаёт постройки «по сюжету» (дом, машина и т.д.)."]
[{"$nulls":9},"Конструирует несложные постройки из                  2—3 деталей.","Создаёт постройки «по сюжету» (дом, машина и т.д.)."]
[{"$nulls":9},"Конструирует несложные постройки из                  2—3 деталей.","Создаёт постройки «по сюжету» (дом, машина и т.д.)."]
[{"$nulls":9},"Конструирует несложные постройки из                  2—3 деталей.","Создаёт постройки «по сюжету» (дом, машина и т.д.)."]
[{"$nulls":9},"Конструирует несложные постройки из                  2—3 деталей.","Создаёт постройки «по сюжету» (дом, машина и т.д.)."]
[{"$nulls":9},"Конструирует несложные постройки из                  2—3 деталей.","Создаёт постройки «по сюжету» (дом, машина и т.д.)."]
[{"$nulls":9},"Конструирует несложные постройки из                  2—3 деталей.","Создаёт постройки «по сюжету» (дом, машина и т.д.)."]
[{"$nulls":9},"Конструирует несложные постройки из                  2—3 деталей.","Создаёт постройки «по сюжету» (дом, машина и т.д.)."]
[{"$nulls":9},"Конструирует несложные постройки из                  2—3 деталей.","Создаёт постройки «по сюжету» (дом, машина и т.д.)."]
[{"$nulls":9},"Конструирует несложные постройки из                  2—3 деталей.","Создаёт постройки «по сюжету» (дом, машина и т.д.)."]
[{"$nulls":9},"Конструирует несложные постройки из                  2—3 деталей.","Создаёт постройки «по сюжету» (дом, машина и т.д.)."]
[{"$nulls":9},"Конструирует несложные постройки из                  2—3 деталей.","Создаёт постройки «по сюжету» (дом, машина и т.д.)."]
[{"$nulls":9},"Конструирует несложные постройки из                  2—3 деталей.","Создаёт постройки «по сюжету» (дом, машина и т.д.)."]
[{"$nulls":9},"Конструирует несложные постройки из                  2—3 деталей.","Создаёт постройки «по сюжету» (дом, машина и т.д.)."]
[{"$nulls":9},"Конструирует несложные постройки из                  2—3 деталей.","Создаёт постройки «по сюжету» (дом, машина и т.д.)."]
[{"$nulls":9},"Конструирует несложные постройки из                  2—3 деталей.","Создаёт постройки «по сюжету» (дом, машина и т.д.)."]
[{"$nulls":9},"Конструирует несложные постройки из                  2—3 деталей.","Создаёт постройки «по сюжету» (дом, машина и т.д.)."]
[{"$nulls":9},"Конструирует несложные постройки из                  2—3 деталей.","Создаёт постройки «по сюжету» (дом, машина и т.д.)."]
[{"$nulls":9},"Конструирует несложные постройки из                  2—3 деталей.","Создаёт постройки «по сюжету» (дом, машина и т.д.)."]
[{"$nulls":9},"Конструирует несложные постройки из                  2—3 деталей.","Создаёт постройки «по сюжету» (дом, машина и т.д.)."]
[{"$nulls":9},"Конструирует несложные постройки из                  2—3 деталей.","Создаёт постройки «по сюжету» (дом, машина и т.д.)."]
[{"$nulls":9},"Конструирует несложные постройки из                  2—3 деталей.","Создаёт постройки «по сюжету» (дом, машина и т.д.)."]
[{"$nulls":9},"Конструирует несложные постройки из                  2—3 деталей.","Создаёт постройки «по сюжету» (дом, машина и т.д.)."]
[{"$nulls":9},"Конструирует несложные постройки из                  2—3 деталей.","Создаёт постройки «по сюжету» (дом, машина и т.д.)."]
[{"$nulls":9},"Конструирует несложные постройки из                  2—3 деталей.","Создаёт постройки «по сюжету» (дом, машина и т.д.)."]
[{"$nulls":9},"Конструирует несложные постройки из                  2—3 деталей.","Создаёт постройки «по сюжету» (дом, машина и т.д.)."]
[{"$nulls":9},"Конструирует несложные постройки из                  2—3 деталей.","Создаёт постройки «по сюжету» (дом, машина и т.д.)."]
[{"$nulls":9},"Конструирует несложные постройки из                  2—3 деталей.","Создаёт постройки «по сюжету» (дом, машина и т.д.)."]
[{"$nulls":9},"Конструирует несложные постройки из                  2—3 деталей.","Создаёт постройки «по сюжету» (дом, машина и т.д.)."]
[{"$nulls":9},"Конструирует несложные постройки из                  2—3 деталей.","Создаёт постройки «по сюжету» (дом, машина и т.д.)."]
[{"$nulls":9},"Конструирует несложные постройки из                  2—3 деталей.","Создаёт постройки «по сюжету» (дом, машина и т.д.)."]
[{"$nulls":9},"Конструирует несложные постройки из                  2—3 деталей.","Создаёт постройки «по сюжету» (дом, машина и т.д.)."]
[{"$nulls":9},"Конструирует несложные постройки из                  2—3 деталей.","Создаёт постройки «по сюжету» (дом, машина и т.д.)."]
[{"$nulls":9},"Конструирует несложные постройки из                  2—3 деталей.","Создаёт постройки «по сюжету» (дом, машина и т.д.)."]
[{"$nulls":9},"Конструирует несложные постройки из                  2—3 деталей.","Создаёт постройки «по сюжету» (дом, машина и т.д.)."]
[{"$nulls":9},"Конструирует несложные постройки из                  2—3 деталей.","Создаёт постройки «по сюжету» (дом, машина и т.д.)."]
[{"$nulls":9},"Конструирует несложные постройки из                  2—3 деталей.","Создаёт постройки «по сюжету» (дом, машина и т.д.)."]
[{"$nulls":9},"Конструирует несложные постройки из                  2—3 деталей.","Создаёт постройки «по сюжету» (дом, машина и т.д.)."]
[{"$nulls":9},"Конструирует несложные постройки из                  2—3 деталей.","Создаёт постройки «по сюжету» (дом, машина и т.д.)."]
[{"$nulls":9},"Конструирует несложные постройки из                  2—3 деталей.","Создаёт постройки «по сюжету» (дом, машина и т.д.)."]
[{"$nulls":9},"Конструирует несложные постройки из                  2—3 деталей.","Создаёт постройки «по сюжету» (дом, машина и т.д.)."]
[{"$nulls":9},"Конструирует несложные постройки из                  2—3 деталей.","Создаёт постройки «по сюжету» (дом, машина и т.д.)."]
[{"$nulls":9},"Конструирует несложные постройки из                  2—3 деталей.","Создаёт постройки «по сюжету» (дом, машина и т.д.)."]
[{"$nulls":9},"Конструирует несложные постройки из                  2—3 деталей.","Создаёт постройки «по сюжету» (дом, машина и т.д.)."]
[{"$nulls":9},"Конструирует несложные постройки из                  2—3 деталей.","Создаёт постройки «по сюжету» (дом, машина и т.д.)."]
[{"$nulls":9},"Конструирует несложные постройки из                  2—3 деталей.","Создаёт постройки «по сюжету» (дом, машина и т.д.)."]
[{"$nulls":9},"Конструирует несложные постройки из                  2—3 деталей.","Создаёт постройки «по сюжету» (дом, машина и т.д.)."]
[{"$nulls":9},"Конструирует несложные постройки из                  2—3 деталей.","Создаёт постройки «по сюжету» (дом, машина и т.д.)."]
[{"$nulls":9},"Конструирует несложные постройки из                  2—3 деталей.","Создаёт постройки «по сюжету» (дом, машина и т.д.)."]
[{"$nulls":9},"Конструирует несложные постройки из                  2—3 деталей.","Создаёт постройки «по сюжету» (дом, машина и т.д.)."]
[{"$nulls":9},"Конструирует несложные постройки из                  2—3 деталей.","Создаёт постройки «по сюжету» (дом, машина и т.д.)."]
[{"$nulls":9},"Конструирует несложные постройки из                  2—3 деталей.","Создаёт постройки «по сюжету» (дом, машина и т.д.)."]
[{"$nulls":9},"Конструирует несложные постройки из                  2—3 деталей.","Создаёт постройки «по сюжету» (дом, машина и т.д.)."]
[{"$nulls":9},"Конструирует несложные постройки из                  2—3 деталей.","Создаёт постройки «по сюжету» (дом, машина и т.д.)."]
[{"$nulls":9},"Конструирует несложные постройки из                  2—3 деталей.","Создаёт постройки «по сюжету» (дом, машина и т.д.)."]
[{"$nulls":9},"Конструирует несложные постройки из                  2—3 деталей.","Создаёт постройки «по сюжету» (дом, машина и т.д.)."]
[{"$nulls":9},"Конструирует несложные постройки из                  2—3 деталей.","Создаёт постройки «по сюжету» (дом, машина и т.д.)."]
[{"$nulls":9},"Конструирует несложные постройки из                  2—3 деталей.","Создаёт постройки «по сюжету» (дом, машина и т.д.)."]
[{"$nulls":9},"Конструирует несложные постройки из                  2—3 деталей.","Создаёт постройки «по сюжету» (дом, машина и т.д.)."]
[{"$nulls":9},"Конструирует несложные постройки из                  2—3 деталей.","Создаёт постройки «по сюжету» (дом, машина и т.д.)."]
[{"$nulls":9},"Конструирует несложные постройки из                  2—3 деталей.","Создаёт постройки «по сюжету» (дом, машина и т.д.)."]
[{"$nulls":9},"Конструирует несложные постройки из                  2—3 деталей.","Создаёт постройки «по сюжету» (дом, машина и т.д.)."]
[{"$nulls":9},"Конструирует несложные постройки из                  2—3 деталей.","Создаёт постройки «по сюжету» (дом, машина и т.д.)."]
[{"$nulls":9},"Конструирует несложные постройки из                  2—3 деталей.","Создаёт постройки «по сюжету» (дом, машина и т.д.)."]
[{"$nulls":9},"Конструирует несложные постройки из                  2—3 деталей.","Создаёт постройки «по сюжету» (дом, машина и т.д.)."]
[{"$nulls":9},"Конструирует несложные постройки из                  2—3 деталей.","Создаёт постройки «по сюжету» (дом, машина и т.д.)."]
[{"$nulls":9},"Конструирует несложные постройки из                  2—3 деталей.","Создаёт постройки «по сюжету» (дом, машина и т.д.)."]
[{"$nulls":9},"Конструирует несложные постройки из                  2—3 деталей.","Создаёт постройки «по сюжету» (дом, машина и т.д.)."]
[{"$nulls":9},"Конструирует несложные постройки из                  2—3 деталей.","Создаёт постройки «по сюжету» (дом, машина и т.д.)."]
[{"$nulls":9},"Конструирует несложные постройки из                  2—3 деталей.","Создаёт постройки «по сюжету» (дом, машина и т.д.)."]
[{"$nulls":9},"Конструирует несложные постройки из                  2—3 деталей.","Создаёт постройки «по сюжету» (дом, машина и т.д.)."]
[{"$nulls":9},"Конструирует несложные постройки из                  2—3 деталей.","Создаёт постройки «по сюжету» (дом, машина и т.д.)."]
[{"$nulls":9},"Конструирует несложные постройки из                  2—3 деталей.","Создаёт постройки «по сюжету» (дом, машина и т.д.)."]
[{"$nulls":9},"Конструирует несложные постройки из                  2—3 деталей.","Создаёт постройки «по сюжету» (дом, машина и т.д.)."]
[{"$nulls":9},"Конструирует несложные постройки из                  2—3 деталей.","Создаёт постройки «по сюжету» (дом, машина и т.д.)."]
[{"$nulls":9},"Конструирует несложные постройки из                  2—3 деталей.","Создаёт постройки «по сюжету» (дом, машина и т.д.)."]
[{"$nulls":9},"Конструирует несложные постройки из                  2—3 деталей.","Создаёт постройки «по сюжету» (дом, машина и т.д.)."]
[{"$nulls":9},"Конструирует несложные постройки из                  2—3 деталей.","Создаёт постройки «по сюжету» (дом, машина и т.д.)."]
[{"$nulls":9},"Конструирует несложные постройки из                  2—3 деталей.","Создаёт постройки «по сюжету» (дом, машина и т.д.)."]
[{"$nulls":9},"Конструирует несложные постройки из                  2—3 деталей.","Создаёт постройки «по сюжету» (дом, машина и т.д.)."]
[{"$nulls":9},"Конструирует несложные постройки из                  2—3 деталей.","Создаёт постройки «по сюжету» (дом, машина и т.д.)."]
[{"$nulls":9},"Конструирует несложные постройки из                  2—3 деталей.","Создаёт постройки «по сюжету» (дом, машина и т.д.)."]
[{"$nulls":9},"Конструирует несложные постройки из                  2—3 деталей.","Создаёт постройки «по сюжету» (дом, машина и т.д.)."]
[{"$nulls":9},"Конструирует несложные постройки из                  2—3 деталей.","Создаёт постройки «по сюжету» (дом, машина и т.д.)."]
[{"$nulls":9},"Конструирует несложные постройки из                  2—3 деталей.","Создаёт постройки «по сюжету» (дом, машина и т.д.)."]
[{"$nulls":9},"Конструирует несложные постройки из                  2—3 деталей.","Создаёт постройки «по сюжету» (дом, машина и т.д.)."]
[{"$nulls":9},"Конструирует несложные постройки из                  2—3 деталей.","Создаёт постройки «по сюжету» (дом, машина и т.д.)."]
[{"$nulls":9},"Конструирует несложные постройки из                  2—3 деталей.","Создаёт постройки «по сюжету» (дом, машина и т.д.)."]
[{"$nulls":9},"Конструирует несложные постройки из                  2—3 деталей.","Создаёт постройки «по сюжету» (дом, машина и т.д.)."]
[{"$nulls":9},"Конструирует несложные постройки из                  2—3 деталей.","Создаёт постройки «по сюжету» (дом, машина и т.д.)."]
[{"$nulls":9},"Конструирует несложные постройки из                  2—3 деталей.","Создаёт постройки «по сюжету» (дом, машина и т.д.)."]
[{"$nulls":9},"Конструирует несложные постройки из                  2—3 деталей.","Создаёт постройки «по сюжету» (дом, машина и т.д.)."]
[{"$nulls":9},"Конструирует несложные постройки из                  2—3 деталей.","Создаёт постройки «по сюжету» (дом, машина и т.д.)."]
[{"$nulls":9},"Конструирует несложные постройки из                  2—3 деталей.","Создаёт постройки «по сюжету» (дом, машина и т.д.)."]
[{"$nulls":9},"Конструирует несложные постройки из                  2—3 деталей.","Создаёт постройки «по сюжету» (дом, машина и т.д.)."]
[{"$nulls":9},"Конструирует несложные постройки из                  2—3 деталей.","Создаёт постройки «по сюжету» (дом, машина и т.д.)."]
[{"$nulls":9},"Конструирует несложные постройки из                  2—3 деталей.","Создаёт постройки «по сюжету» (дом, машина и т.д.)."]
[{"$nulls":9},"Конструирует несложные постройки из                  2—3 деталей.","Создаёт постройки «по сюжету» (дом, машина и т.д.)."]
[{"$nulls":9},"Конструирует несложные постройки из                  2—3 деталей.","Создаёт постройки «по сюжету» (дом, машина и т.д.)."]
[{"$nulls":9},"Конструирует несложные постройки из                  2—3 деталей.","Создаёт постройки «по сюжету» (дом, машина и т.д.)."]
[{"$nulls":9},"Конструирует несложные постройки из                  2—3 деталей.","Создаёт постройки «по сюжету» (дом, машина и т.д.)."]
[{"$nulls":9},"Конструирует несложные постройки из                  2—3 деталей.","Создаёт постройки «по сюжету» (дом, машина и т.д.)."]
[{"$nulls":9},"Конструирует несложные постройки из                  2—3 деталей.","Создаёт постройки «по сюжету» (дом, машина и т.д.)."]
[{"$nulls":9},"Конструирует несложные постройки из                  2—3 деталей.","Создаёт постройки «по сюжету» (дом, машина и т.д.)."]
[{"$nulls":9},"Конструирует несложные постройки из                  2—3 деталей.","Создаёт постройки «по сюжету» (дом, машина и т.д.)."]
[{"$nulls":9},"Конструирует несложные постройки из                  2—3 деталей.","Создаёт постройки «по сюжету» (дом, машина и т.д.)."]
[{"$nulls":9},"Конструирует несложные постройки из                  2—3 деталей.","Создаёт постройки «по сюжету» (дом, машина и т.д.)."]
[{"$nulls":9},"Конструирует несложные постройки из                  2—3 деталей.","Создаёт постройки «по сюжету» (дом, машина и т.д.)."]
[{"$nulls":9},"Конструирует несложные постройки из                  2—3 деталей.","Создаёт постройки «по сюжету» (дом, машина и т.д.)."]
[{"$nulls":9},"Конструирует несложные постройки из                  2—3 деталей.","Создаёт постройки «по сюжету» (дом, машина и т.д.)."]
[{"$nulls":9},"Конструирует несложные постройки из                  2—3 деталей.","Создаёт постройки «по сюжету» (дом, машина и т.д.)."]
[{"$nulls":9},"Конструирует несложные постройки из                  2—3 деталей.","Создаёт постройки «по сюжету» (дом, машина и т.д.)."]
[{"$nulls":9},"Конструирует несложные постройки из                  2—3 деталей.","Создаёт постройки «по сюжету» (дом, машина и т.д.)."]
[{"$nulls":9},"Конструирует несложные постройки из                  2—3 деталей.","Создаёт постройки «по сюжету» (дом, машина и т.д.)."]
[{"$nulls":9},"Конструирует несложные постройки из                  2—3 деталей.","Создаёт постройки «по сюжету» (дом, машина и т.д.)."]
[{"$nulls":9},"Конструирует несложные постройки из                  2—3 деталей.","Создаёт постройки «по сюжету» (дом, машина и т.д.)."]
[{"$nulls":9},"Конструирует несложные постройки из                  2—3 деталей.","Создаёт постройки «по сюжету» (дом, машина и т.д.)."]
[{"$nulls":9},"Конструирует несложные постройки из                  2—3 деталей.","Создаёт постройки «по сюжету» (дом, машина и т.д.)."]
[{"$nulls":9},"Конструирует несложные постройки из                  2—3 деталей.","Создаёт постройки «по сюжету» (дом, машина и т.д.)."]
[{"$nulls":9},"Конструирует несложные постройки из                  2—3 деталей.","Создаёт постройки «по сюжету» (дом, машина и т.д.)."]
[{"$nulls":9},"Конструирует несложные постройки из                  2—3 деталей.","Создаёт постройки «по сюжету» (дом, машина и т.д.)."]
[{"$nulls":9},"Конструирует несложные постройки из                  2—3 деталей.","Создаёт постройки «по сюжету» (дом, машина и т.д.)."]
[{"$nulls":9},"Конструирует несложные постройки из                  2—3 деталей.","Создаёт постройки «по сюжету» (дом, машина и т.д.)."]
[{"$nulls":9},"Конструирует несложные постройки из                  2—3 деталей.","Создаёт постройки «по сюжету» (дом, машина и т.д.)."]
[{"$nulls":9},"Конструирует несложные постройки из                  2—3 деталей.","Создаёт постройки «по сюжету» (дом, машина и т.д.)."]
[{"$nulls":9},"Конструирует несложные постройки из                  2—3 деталей.","Создаёт постройки «по сюжету» (дом, машина и т.д.)."]
[{"$nulls":9},"Конструирует несложные постройки из                  2—3 деталей.","Создаёт постройки «по сюжету» (дом, машина и т.д.)."]
[{"$nulls":9},"Конструирует несложные постройки из                  2—3 деталей.","Создаёт постройки «по сюжету» (дом, машина и т.д.)."]
[{"$nulls":9},"Конструирует несложные постройки из                  2—3 деталей.","Создаёт постройки «по сюжету» (дом, машина и т.д.)."]
[{"$nulls":9},"Конструирует несложные постройки из                  2—3 деталей.","Создаёт постройки «по сюжету» (дом, машина и т.д.)."]
[{"$nulls":9},"Конструирует несложные постройки из                  2—3 деталей.","Создаёт постройки «по сюжету» (дом, машина и т.д.)."]
[{"$nulls":9},"Конструирует несложные постройки из                  2—3 деталей.","Создаёт постройки «по сюжету» (дом, машина и т.д.)."]
[{"$nulls":9},"Конструирует несложные постройки из                  2—3 деталей.","Создаёт постройки «по сюжету» (дом, машина и т.д.)."]
[{"$nulls":9},"Конструирует несложные постройки из                  2—3 деталей.","Создаёт постройки «по сюжету» (дом, машина и т.д.)."]
[{"$nulls":9},"Конструирует несложные постройки из                  2—3 деталей.","Создаёт постройки «по сюжету» (дом, машина и т.д.)."]
[{"$nulls":9},"Конструирует несложные постройки из                  2—3 деталей.","Создаёт постройки «по сюжету» (дом, машина и т.д.)."]
[{"$nulls":9},"Конструирует несложные постройки из                  2—3 деталей.","Создаёт постройки «по сюжету» (дом, машина и т.д.)."]
[{"$nulls":9},"Конструирует несложные постройки из                  2—3 деталей.","Создаёт постройки «по сюжету» (дом, машина и т.д.)."]
[{"$nulls":9},"Конструирует несложные постройки из                  2—3 деталей.","Создаёт постройки «по сюжету» (дом, машина и т.д.)."]
[{"$nulls":9},"Конструирует несложные постройки из                  2—3 деталей.","Создаёт постройки «по сюжету» (дом, машина и т.д.)."]
[{"$nulls":9},"Конструирует несложные постройки из                  2—3 деталей.","Создаёт постройки «по сюжету» (дом, машина и т.д.)."]
[{"$nulls":9},"Конструирует несложные постройки из                  2—3 деталей.","Создаёт постройки «по сюжету» (дом, машина и т.д.)."]
[{"$nulls":9},"Конструирует несложные постройки из                  2—3 деталей.","Создаёт постройки «по сюжету» (дом, машина и т.д.)."]
[{"$nulls":9},"Конструирует несложные постройки из                  2—3 деталей.","Создаёт постройки «по сюжету» (дом, машина и т.д.)."]
[{"$nulls":9},"Конструирует несложные постройки из                  2—3 деталей.","Создаёт постройки «по сюжету» (дом, машина и т.д.)."]
[{"$nulls":9},"Конструирует несложные постройки из                  2—3 деталей.","Создаёт постройки «по сюжету» (дом, машина и т.д.)."]
[{"$nulls":9},"Конструирует несложные постройки из                  2—3 деталей.","Создаёт постройки «по сюжету» (дом, машина и т.д.)."]
[{"$nulls":9},"Конструирует несложные постройки из                  2—3 деталей.","Создаёт постройки «по сюжету» (дом, машина и т.д.)."]
[{"$nulls":9},"Конструирует несложные постройки из                  2—3 деталей.","Создаёт постройки «по сюжету» (дом, машина и т.д.)."]
[{"$nulls":9},"Конструирует несложные постройки из                  2—3 деталей.","Создаёт постройки «по сюжету» (дом, машина и т.д.)."]
[{"$nulls":9},"Конструирует несложные постройки из                  2—3 деталей.","Создаёт постройки «по сюжету» (дом, машина и т.д.)."]
[{"$nulls":9},"Конструирует несложные постройки из                  2—3 деталей.","Создаёт постройки «по сюжету» (дом, машина и т.д.)."]
[{"$nulls":9},"Конструирует несложные постройки из                  2—3 деталей.","Создаёт постройки «по сюжету» (дом, машина и т.д.)."]
[{"$nulls":9},"Конструирует несложные постройки из                  2—3 деталей.","Создаёт постройки «по сюжету» (дом, машина и т.д.)."]
[{"$nulls":9},"Конструирует несложные постройки из                  2—3 деталей.","Создаёт постройки «по сюжету» (дом, машина и т.д.)."]
[{"$nulls":9},"Конструирует несложные постройки из                  2—3 деталей.","Создаёт постройки «по сюжету» (дом, машина и т.д.)."]
[{"$nulls":9},"Конструирует несложные постройки из                  2—3 деталей.","Создаёт постройки «по сюжету» (дом, машина и т.д.)."]
[{"$nulls":9},"Конструирует несложные постройки из                  2—3 деталей.","Создаёт постройки «по сюжету» (дом, машина и т.д.)."]
[{"$nulls":9},"Конструирует несложные постройки из                  2—3 деталей.","Создаёт постройки «по сюжету» (дом, машина и т.д.)."]
[{"$nulls":9},"Конструирует несложные постройки из                  2—3 деталей.","Создаёт постройки «по сюжету» (дом, машина и т.д.)."]
[{"$nulls":9},"Конструирует несложные постройки из                  2—3 деталей.","Создаёт постройки «по сюжету» (дом, машина и т.д.)."]
[{"$nulls":9},"Конструирует несложные постройки из                  2—3 деталей.","Создаёт постройки «по сюжету» (дом, машина и т.д.)."]
[{"$nulls":9},"Конструирует несложные постройки из                  2—3 деталей.","Создаёт постройки «по сюжету» (дом, машина и т.д.)."]
[{"$nulls":9},"Конструирует несложные постройки из                  2—3 деталей.","Создаёт постройки «по сюжету» (дом, машина и т.д.)."]
[{"$nulls":9},"Конструирует несложные постройки из                  2—3 деталей.","Создаёт постройки «по сюжету» (дом, машина и т.д.)."]
[{"$nulls":9},"Конструирует несложные постройки из                  2—3 деталей.","Создаёт постройки «по сюжету» (дом, машина и т.д.)."]
[{"$nulls":9},"Конструирует несложные постройки из                  2—3 деталей.","Создаёт постройки «по сюжету» (дом, машина и т.д.)."]
[{"$nulls":9},"Конструирует несложные постройки из                  2—3 деталей.","Создаёт постройки «по сюжету» (дом, машина и т.д.)."]
[{"$nulls":9},"Конструирует несложные постройки из                  2—3 деталей.","Создаёт постройки «по сюжету» (дом, машина и т.д.)."]
[{"$nulls":9},"Конструирует несложные постройки из                  2—3 деталей.","Создаёт постройки «по сюжету» (дом, машина и т.д.)."]
[{"$nulls":9},"Конструирует несложные постройки из                  2—3 деталей.","Создаёт постройки «по сюжету» (дом, машина и т.д.)."]
[{"$nulls":9},"Конструирует несложные постройки из                  2—3 деталей.","Создаёт постройки «по сюжету» (дом, машина и т.д.)."]
[{"$nulls":9},"Конструирует несложные постройки из                  2—3 деталей.","Создаёт постройки «по сюжету» (дом, машина и т.д.)."]
[{"$nulls":9},"Конструирует несложные постройки из                  2—3 деталей.","Создаёт постройки «по сюжету» (дом, машина и т.д.)."]
[{"$nulls":9},"Конструирует несложные постройки из                  2—3 деталей.","Создаёт постройки «по сюжету» (дом, машина и т.д.)."]
[{"$nulls":9},"Конструирует несложные постройки из                  2—3 деталей.","Создаёт постройки «по сюжету» (дом, машина и т.д.)."]
[{"$nulls":9},"Конструирует несложные постройки из                  2—3 деталей.","Создаёт постройки «по сюжету» (дом, машина и т.д.)."]
[{"$nulls":9},"Конструирует несложные постройки из                  2—3 деталей.","Создаёт постройки «по сюжету» (дом, машина и т.д.)."]
[{"$nulls":9},"Конструирует несложные постройки из                  2—3 деталей.","Создаёт постройки «по сюжету» (дом, машина и т.д.)."]
[{"$nulls":9},"Конструирует несложные постройки из                  2—3 деталей.","Создаёт постройки «по сюжету» (дом, машина и т.д.)."]
[{"$nulls":9},"Конструирует несложные постройки из                  2—3 деталей.","Создаёт постройки «по сюжету» (дом, машина и т.д.)."]
[{"$nulls":9},"Конструирует несложные постройки из                  2—3 деталей.","Создаёт постройки «по сюжету» (дом, машина и т.д.)."]
[{"$nulls":9},"Конструирует несложные постройки из                  2—3 деталей.","Создаёт постройки «по сюжету» (дом, машина и т.д.)."]
[{"$nulls":9},"Конструирует несложные постройки из                  2—3 деталей.","Создаёт постройки «по сюжету» (дом, машина и т.д.)."]
[{"$nulls":9},"Конструирует несложные постройки из                  2—3 деталей.","Создаёт постройки «по сюжету» (дом, машина и т.д.)."]
[{"$nulls":9},"Конструирует несложные постройки из                  2—3 деталей.","Создаёт постройки «по сюжету» (дом, машина и т.д.)."]
[{"$nulls":9},"Конструирует несложные постройки из                  2—3 деталей.","Создаёт постройки «по сюжету» (дом, машина и т.д.)."]
[{"$nulls":9},"Конструирует несложные постройки из                  2—3 деталей.","Создаёт постройки «по сюжету» (дом, машина и т.д.)."]
[{"$nulls":9},"Конструирует несложные постройки из                  2—3 деталей.","Создаёт постройки «по сюжету» (дом, машина и т.д.)."]
[{"$nulls":9},"Конструирует несложные постройки из                  2—3 деталей.","Создаёт постройки «по сюжету» (дом, машина и т.д.)."]
[{"$nulls":9},"Конструирует несложные постройки из                  2—3 деталей.","Создаёт постройки «по сюжету» (дом, машина и т.д.)."]
[{"$nulls":9},"Конструирует несложные постройки из                  2—3 деталей.","Создаёт постройки «по сюжету» (дом, машина и т.д.)."]
[{"$nulls":9},"Конструирует несложные постройки из                  2—3 деталей.","Создаёт постройки «по сюжету» (дом, машина и т.д.)."]
[{"$nulls":9},"Конструирует несложные постройки из                  2—3 деталей.","Создаёт постройки «по сюжету» (дом, машина и т.д.)."]
[{"$nulls":9},"Конструирует несложные постройки из                  2—3 деталей.","Создаёт постройки «по сюжету» (дом, машина и т.д.)."]
[{"$nulls":9},"Конструирует несложные постройки из                  2—3 деталей.","Создаёт постройки «по сюжету» (дом, машина и т.д.)."]
[{"$nulls":9},"Конструирует несложные постройки из                  2—3 деталей.","Создаёт постройки «по сюжету» (дом, машина и т.д.)."]
[{"$nulls":9},"Конструирует несложные постройки из                  2—3 деталей.","Создаёт постройки «по сюжету» (дом, машина и т.д.)."]
[{"$nulls":9},"Конструирует несложные постройки из                  2—3 деталей.","Создаёт постройки «по сюжету» (дом, машина и т.д.)."]
[{"$nulls":9},"Конструирует несложные постройки из                  2—3 деталей.","Создаёт постройки «по сюжету» (дом, машина и т.д.)."]
[{"$nulls":9},"Конструирует несложные постройки из                  2—3 деталей.","Создаёт постройки «по сюжету» (дом, машина и т.д.)."]
[{"$nulls":9},"Конструирует несложные постройки из                  2—3 деталей.","Создаёт постройки «по сюжету» (дом, машина и т.д.)."]
[{"$nulls":9},"Конструирует несложные постройки из                  2—3 деталей.","Создаёт постройки «по сюжету» (дом, машина и т.д.)."]
[{"$nulls":9},"Конструирует несложные постройки из                  2—3 деталей.","Создаёт постройки «по сюжету» (дом, машина и т.д.)."]
[{"$nulls":9},"Конструирует несложные постройки из                  2—3 деталей.","Создаёт постройки «по сюжету» (дом, машина и т.д.)."]
[{"$nulls":9},"Конструирует несложные постройки из                  2—3 деталей.","Создаёт постройки «по сюжету» (дом, машина и т.д.)."]
[{"$nulls":9},"Конструирует несложные постройки из                  2—3 деталей.","Создаёт постройки «по сюжету» (дом, машина и т.д.)."]
[{"$nulls":9},"Конструирует несложные постройки из                  2—3 деталей.","Создаёт постройки «по сюжету» (дом, машина и т.д.)."]
[{"$nulls":9},"Конструирует несложные постройки из                  2—3 деталей.","Создаёт постройки «по сюжету» (дом, машина и т.д.)."]
[{"$nulls":9},"Конструирует несложные постройки из                  2—3 деталей.","Создаёт постройки «по сюжету» (дом, машина и т.д.)."]
[{"$nulls":9},"Конструирует несложные постройки из                  2—3 деталей.","Создаёт постройки «по сюжету» (дом, машина и т.д.)."]
[{"$nulls":9},"Конструирует несложные постройки из                  2—3 деталей.","Создаёт постройки «по сюжету» (дом, машина и т.д.)."]
[{"$nulls":9},"Конструирует несложные постройки из                  2—3 деталей.","Создаёт постройки «по сюжету» (дом, машина и т.д.)."]
[{"$nulls":9},"Конструирует несложные постройки из                  2—3 деталей.","Создаёт постройки «по сюжету» (дом, машина и т.д.)."]
[{"$nulls":9},"Конструирует несложные постройки из                  2—3 деталей.","Создаёт постройки «по сюжету» (дом, машина и т.д.)."]
[{"$nulls":9},"Конструирует несложные постройки из                  2—3 деталей.","Создаёт постройки «по сюжету» (дом, машина и т.д.)."]
[{"$nulls":9},"Конструирует несложные постройки из                  2—3 деталей.","Создаёт постройки «по сюжету» (дом, машина и т.д.)."]
[{"$nulls":9},"Конструирует несложные постройки из                  2—3 деталей.","Создаёт постройки «по сюжету» (дом, машина и т.д.)."]
[{"$nulls":9},"Конструирует несложные постройки из                  2—3 деталей.","Создаёт постройки «по сюжету» (дом, машина и т.д.)."]
[{"$nulls":9},"Конструирует несложные постройки из                  2—3 деталей.","Создаёт постройки «по сюжету» (дом, машина и т.д.)."]
[{"$nulls":9},"Конструирует несложные постройки из                  2—3 деталей.","Создаёт постройки «по сюжету» (дом, машина и т.д.)."]
[{"$nulls":9},"Конструирует несложные постройки из                  2—3 деталей.","Создаёт постройки «по сюжету» (дом, машина и т.д.)."]
[{"$nulls":9},"Конструирует несложные постройки из                  2—3 деталей.","Создаёт постройки «по сюжету» (дом, машина и т.д.)."]
[{"$nulls":9},"Конструирует несложные постройки из                  2—3 деталей.","Создаёт постройки «по сюжету» (дом, машина и т.д.)."]
[{"$nulls":9},"Конструирует несложные постройки из                  2—3 деталей.","Создаёт постройки «по сюжету» (дом, машина и т.д.)."]
[{"$nulls":9},"Конструирует несложные постройки из                  2—3 деталей.","Создаёт постройки «по сюжету» (дом, машина и т.д.)."]
[{"$nulls":9},"Конструирует несложные постройки из                  2—3 деталей.","Создаёт постройки «по сюжету» (дом, машина и т.д.)."]
[{"$nulls":9},"Конструирует несложные постройки из                  2—3 деталей.","Создаёт постройки «по сюжету» (дом, машина и т.д.)."]
[{"$nulls":9},"Конструирует несложные постройки из                  2—3 деталей.","Создаёт постройки «по сюжету» (дом, машина и т.д.)."]
[{"$nulls":9},"Конструирует несложные постройки из                  2—3 деталей.","Создаёт постройки «по сюжету» (дом, машина и т.д.)."]
[{"$nulls":9},"Конструирует несложные постройки из                  2—3 деталей.","Создаёт постройки «по сюжету» (дом, машина и т.д.)."]
[{"$nulls":9},"Конструирует несложные постройки из                  2—3 деталей.","Создаёт постройки «по сюжету» (дом, машина и т.д.)."]
[{"$nulls":9},"Конструирует несложные постройки из                  2—3 деталей.","Создаёт постройки «по сюжету» (дом, машина и т.д.)."]
[{"$nulls":9},"Конструирует несложные постройки из                  2—3 деталей.","Создаёт постройки «по сюжету» (дом, машина и т.д.)."]
[{"$nulls":9},"Конструирует несложные постройки из                  2—3 деталей.","Создаёт постройки «по сюжету» (дом, машина и т.д.)."]
[{"$nulls":9},"Конструирует несложные постройки из                  2—3 деталей.","Создаёт постройки «по сюжету» (дом, машина и т.д.)."]
[{"$nulls":9},"Конструирует несложные постройки из                  2—3 деталей.","Создаёт постройки «по сюжету» (дом, машина и т.д.)."]
[{"$nulls":9},"Конструирует несложные постройки из                  2—3 деталей.","Создаёт постройки «по сюжету» (дом, машина и т.д.)."]
[{"$nulls":9},"Конструирует несложные постройки из                  2—3 деталей.","Создаёт постройки «по сюжету» (дом, машина и т.д.)."]
[{"$nulls":9},"Конструирует несложные постройки из                  2—3 деталей.","Создаёт постройки «по сюжету» (дом, машина и т.д.)."]
[{"$nulls":9},"Конструирует несложные постройки из                  2—3 деталей.","Создаёт постройки «по сюжету» (дом, машина и т.д.)."]
[{"$nulls":9},"Конструирует несложные постройки из                  2—3 деталей.","Создаёт постройки «по сюжету» (дом, машина и т.д.)."]
[{"$nulls":9},"Конструирует несложные постройки из                  2—3 деталей.","Создаёт постройки «по сюжету» (дом, машина и т.д.)."]
[{"$nulls":9},"Конструирует несложные постройки из                  2—3 деталей.","Создаёт постройки «по сюжету» (дом, машина и т.д.)."]
[{"$nulls":9},"Конструирует несложные постройки из                  2—3 деталей.","Создаёт постройки «по сюжету» (дом, машина и т.д.)."]
[{"$nulls":9},"Конструирует несложные постройки из                  2—3 деталей.","Создаёт постройки «по сюжету» (дом, машина и т.д.)."]
[{"$nulls":9},"Конструирует несложные постройки из                  2—3 деталей.","Создаёт постройки «по сюжету» (дом, машина и т.д.)."]
[{"$nulls":9},"Конструирует несложные постройки из                  2—3 деталей.","Создаёт постройки «по сюжету» (дом, машина и т.д.)."]
[{"$nulls":9},"Конструирует несложные постройки из                  2—3 деталей.","Создаёт постройки «по сюжету» (дом, машина и т.д.)."]
[{"$nulls":9},"Конструирует несложные постройки из                  2—3 деталей.","Создаёт постройки «по сюжету» (дом, машина и т.д.)."]
[{"$nulls":9},"Конструирует несложные постройки из                  2—3 деталей.","Создаёт постройки «по сюжету» (дом, машина и т.д.)."]
[{"$nulls":9},"Конструирует несложные постройки из                  2—3 деталей.","Создаёт постройки «по сюжету» (дом, машина и т.д.)."]
[{"$nulls":9},"Конструирует несложные постройки из                  2—3 деталей.","Создаёт постройки «по сюжету» (дом, машина и т.д.)."]
[{"$nulls":9},"Конструирует несложные постройки из                  2—3 деталей.","Создаёт постройки «по сюжету» (дом, машина и т.д.)."]
[{"$nulls":9},"Конструирует несложные постройки из                  2—3 деталей.","Создаёт постройки «по сюжету» (дом, машина и т.д.)."]
[{"$nulls":9},"Конструирует несложные постройки из                  2—3 деталей.","Создаёт постройки «по сюжету» (дом, машина и т.д.)."]
[{"$nulls":9},"Конструирует несложные постройки из                  2—3 деталей.","Создаёт постройки «по сюжету» (дом, машина и т.д.)."]
[{"$nulls":9},"Конструирует несложные постройки из                  2—3 деталей.","Создаёт постройки «по сюжету» (дом, машина и т.д.)."]
[{"$nulls":9},"Конструирует несложные постройки из                  2—3 деталей.","Создаёт постройки «по сюжету» (дом, машина и т.д.)."]
[{"$nulls":9},"Конструирует несложные постройки из                  2—3 деталей.","Создаёт постройки «по сюжету» (дом, машина и т.д.)."]
[{"$nulls":9},"Конструирует несложные постройки из                  2—3 деталей.","Создаёт постройки «по сюжету» (дом, машина и т.д.)."]
[{"$nulls":9},"Конструирует несложные постройки из                  2—3 деталей.","Создаёт постройки «по сюжету» (дом, машина и т.д.)."]
[{"$nulls":9},"Конструирует несложные постройки из                  2—3 деталей.","Создаёт постройки «по сюжету» (дом, машина и т.д.)."]
[{"$nulls":9},"Конструирует несложные постройки из                  2—3 деталей.","Создаёт постройки «по сюжету» (дом, машина и т.д.)."]
[{"$nulls":9},"Конструирует несложные постройки из                  2—3 деталей.","Создаёт постройки «по сюжету» (дом, машина и т.д.)."]
[{"$nulls":9},"Конструирует несложные постройки из                  2—3 деталей.","Создаёт постройки «по сюжету» (дом, машина и т.д.)."]
[{"$nulls":9},"Конструирует несложные постройки из                  2—3 деталей.","Создаёт постройки «по сюжету» (дом, машина и т.д.)."]
[{"$nulls":9},"Конструирует несложные постройки из                  2—3 деталей.","Создаёт постройки «по сюжету» (дом, машина и т.д.)."]
[{"$nulls":9},"Конструирует несложные постройки из                  2—3 деталей.","Создаёт постройки «по сюжету» (дом, машина и т.д.)."]
[{"$nulls":9},"Конструирует несложные постройки из                  2—3 деталей.","Создаёт постройки «по сюжету» (дом, машина и т.д.)."]
[{"$nulls":9},"Конструирует несложные постройки из                  2—3 деталей.","Создаёт постройки «по сюжету» (дом, машина и т.д.)."]
[{"$nulls":9},"Конструирует несложные постройки из                  2—3 деталей.","Создаёт постройки «по сюжету» (дом, машина и т.д.)."]
[{"$nulls":9},"Конструирует несложные постройки из                  2—3 деталей.","Создаёт постройки «по сюжету» (дом, машина и т.д.)."]
[{"$nulls":9},"Конструирует несложные постройки из                  2—3 деталей.","Создаёт постройки «по сюжету» (дом, машина и т.д.)."]
[{"$nulls":9},"Конструирует несложные постройки из                  2—3 деталей.","Создаёт постройки «по сюжету» (дом, машина и т.д.)."]
[{"$nulls":9},"Конструирует несложные постройки из                  2—3 деталей.","Создаёт постройки «по сюжету» (дом, машина и т.д.)."]
[{"$nulls":9},"Конструирует несложные постройки из                  2—3 деталей.","Создаёт постройки «по сюжету» (дом, машина и т.д.)."]
[{"$nulls":9},"Конструирует несложные постройки из                  2—3 деталей.","Создаёт постройки «по сюжету» (дом, машина и т.д.)."]
[{"$nulls":9},"Конструирует несложные постройки из                  2—3 деталей.","Создаёт постройки «по сюжету» (дом, машина и т.д.)."]
[{"$nulls":9},"Конструирует несложные постройки из                  2—3 деталей.","Создаёт постройки «по сюжету» (дом, машина и т.д.)."]
[{"$nulls":9},"Конструирует несложные постройки из                  2—3 деталей.","Создаёт постройки «по сюжету» (дом, машина и т.д.)."]
[{"$nulls":9},"Конструирует несложные постройки из                  2—3 деталей.","Создаёт постройки «по сюжету» (дом, машина и т.д.)."]
[{"$nulls":9},"Конструирует несложные постройки из                  2—3 деталей.","Создаёт постройки «по сюжету» (дом, машина и т.д.)."]
[{"$nulls":9},"Конструирует несложные постройки из                  2—3 деталей.","Создаёт постройки «по сюжету» (дом, машина и т.д.)."]
[{"$nulls":9},"Конструирует несложные постройки из                  2—3 деталей.","Создаёт постройки «по сюжету» (дом, машина и т.д.)."]
[{"$nulls":9},"Конструирует несложные постройки из                  2—3 деталей.","Создаёт постройки «по сюжету» (дом, машина и т.д.)."]
[{"$nulls":9},"Конструирует несложные постройки из                  2—3 деталей.","Создаёт постройки «по сюжету» (дом, машина и т.д.)."]
[{"$nulls":9},"Конструирует несложные постройки из                  2—3 деталей.","Создаёт постройки «по сюжету» (дом, машина и т.д.)."]
[{"$nulls":9},"Конструирует несложные постройки из                  2—3 деталей.","Создаёт постройки «по сюжету» (дом, машина и т.д.)."]
[{"$nulls":9},"Конструирует несложные постройки из                  2—3 деталей.","Создаёт постройки «по сюжету» (дом, машина и т.д.)."]
[{"$nulls":9},"Конструирует несложные постройки из                  2—3 деталей.","Создаёт постройки «по сюжету» (дом, машина и т.д.)."]
[{"$nulls":9},"Конструирует несложные постройки из                  2—3 деталей.","Создаёт постройки «по сюжету» (дом, машина и т.д.)."]
[{"$nulls":9},"Конструирует несложные постройки из                  2—3 деталей.","Создаёт постройки «по сюжету» (дом, машина и т.д.)."]
[{"$nulls":9},"Конструирует несложные постройки из                  2—3 деталей.","Создаёт постройки «по сюжету» (дом, машина и т.д.)."]
[{"$nulls":9},"Конструирует несложные постройки из                  2—3 деталей.","Создаёт постройки «по сюжету» (дом, машина и т.д.)."]
[{"$nulls":9},"Конструирует несложные постройки из                  2—3 деталей.","Создаёт постройки «по сюжету» (дом, машина и т.д.)."]
[{"$nulls":9},"Конструирует несложные постройки из                  2—3 деталей.","Создаёт постройки «по сюжету» (дом, машина и т.д.)."]
[{"$nulls":9},"Конструирует несложные постройки из                  2—3 деталей.","Создаёт постройки «по сюжету» (дом, машина и т.д.)."]
[{"$nulls":9},"Конструирует несложные постройки из                  2—3 деталей.","Создаёт постройки «по сюжету» (дом, машина и т.д.)."]
[{"$nulls":9},"Конструирует несложные постройки из                  2—3 деталей.","Создаёт постройки «по сюжету» (дом, машина и т.д.)."]
[{"$nulls":9},"Конструирует несложные постройки из                  2—3 деталей.","Создаёт постройки «по сюжету» (дом, машина и т.д.)."]
[{"$nulls":9},"Конструирует несложные постройки из                  2—3 деталей.","Создаёт постройки «по сюжету» (дом, машина и т.д.)."]
[{"$nulls":9},"Конструирует несложные постройки из                  2—3 деталей.","Создаёт постройки «по сюжету» (дом, машина и т.д.)."]
[{"$nulls":9},"Конструирует несложные постройки из                  2—3 деталей.","Создаёт постройки «по сюжету» (дом, машина и т.д.)."]
[{"$nulls":9},"Конструирует несложные постройки из                  2—3 деталей.","Создаёт постройки «по сюжету» (дом, машина и т.д.)."]
[{"$nulls":9},"Конструирует несложные постройки из                  2—3 деталей.","Создаёт постройки «по сюжету» (дом, машина и т.д.)."]
[{"$nulls":9},"Конструирует несложные постройки из                  2—3 деталей.","Создаёт постройки «по сюжету» (дом, машина и т.д.)."]
[{"$nulls":9},"Конструирует несложные постройки из                  2—3 деталей.","Создаёт постройки «по сюжету» (дом, машина и т.д.)."]
[{"$nulls":9},"Конструирует несложные постройки из                  2—3 деталей.","Создаёт постройки «по сюжету» (дом, машина и т.д.)."]
[{"$nulls":9},"Конструирует несложные постройки из                  2—3 деталей.","Создаёт постройки «по сюжету» (дом, машина и т.д.)."]
[{"$nulls":9},"Конструирует несложные постройки из                  2—3 деталей.","Создаёт постройки «по сюжету» (дом, машина и т.д.)."]
[{"$nulls":9},"Конструирует несложные постройки из                  2—3 деталей.","Создаёт постройки «по сюжету» (дом, машина и т.д.)."]
[{"$nulls":9},"Конструирует несложные постройки из                  2—3 деталей.","Создаёт постройки «по сюжету» (дом, машина и т.д.)."]
[{"$nulls":9},"Конструирует несложные постройки из                  2—3 деталей.","Создаёт постройки «по сюжету» (дом, машина и т.д.)."]
[{"$nulls":9},"Конструирует несложные постройки из                  2—3 деталей.","Создаёт постройки «по сюжету» (дом, машина и т.д.)."]
[{"$nulls":9},"Конструирует несложные постройки из                  2—3 деталей.","Создаёт постройки «по сюжету» (дом, машина и т.д.)."]
[{"$nulls":9},"Конструирует несложные постройки из                  2—3 деталей.","Создаёт постройки «по сюжету» (дом, машина и т.д.)."]
[{"$nulls":9},"Конструирует несложные постройки из                  2—3 деталей.","Создаёт постройки «по сюжету» (дом, машина и т.д.)."]
[{"$nulls":9},"Конструирует несложные постройки из                  2—3 деталей.","Создаёт постройки «по сюжету» (дом, машина и т.д.)."]
[{"$nulls":9},"Конструирует несложные постройки из                  2—3 деталей.","Создаёт постройки «по сюжету» (дом, машина и т.д.)."]
[{"$nulls":9},"Конструирует несложные постройки из                  2—3 деталей.","Создаёт постройки «по сюжету» (дом, машина и т.д.)."]
[{"$nulls":9},"Конструирует несложные постройки из                  2—3 деталей.","Создаёт постройки «по сюжету» (дом, машина и т.д.)."]
[{"$nulls":9},"Конструирует несложные постройки из                  2—3 деталей.","Создаёт постройки «по сюжету» (дом, машина и т.д.)."]
[{"$nulls":9},"Конструирует несложные постройки из                  2—3 деталей.","Создаёт постройки «по сюжету» (дом, машина и т.д.)."]
[{"$nulls":9},"Конструирует несложные постройки из                  2—3 деталей.","Создаёт постройки «по сюжету» (дом, машина и т.д.)."]
[{"$nulls":9},"Конструирует несложные постройки из                  2—3 деталей.","Создаёт постройки «по сюжету» (дом, машина и т.д.)."]
[{"$nulls":9},"Конструирует несложные постройки из                  2—3 деталей.","Создаёт постройки «по сюжету» (дом, машина и т.д.)."]
[{"$nulls":9},"Конструирует несложные постройки из                  2—3 деталей.","Создаёт постройки «по сюжету» (дом, машина и т.д.)."]
[{"$nulls":9},"Конструирует несложные постройки из                  2—3 деталей.","Создаёт постройки «по сюжету» (дом, машина и т.д.)."]
[{"$nulls":9},"Конструирует несложные постройки из                  2—3 деталей.","Создаёт постройки «по сюжету» (дом, машина и т.д.)."]
[{"$nulls":9},"Конструирует несложные постройки из                  2—3 деталей.","Создаёт постройки «по сюжету» (дом, машина и т.д.)."]
[{"$nulls":9},"Конструирует несложные постройки из                  2—3 деталей.","Создаёт постройки «по сюжету» (дом, машина и т.д.)."]
[{"$nulls":9},"Конструирует несложные постройки из                  2—3 деталей.","Создаёт постройки «по сюжету» (дом, машина и т.д.)."]
[{"$nulls":9},"Конструирует несложные постройки из                  2—3 деталей.","Создаёт постройки «по сюжету» (дом, машина и т.д.)."]
[{"$nulls":9},"Конструирует несложные постройки из                  2—3 деталей.","Создаёт постройки «по сюжету» (дом, машина и т.д.)."]
[{"$nulls":9},"Конструирует несложные постройки из                  2—3 деталей.","Создаёт постройки «по сюжету» (дом, машина и т.д.)."]
[{"$nulls":9},"Конструирует несложные постройки из                  2—3 деталей.","Создаёт постройки «по сюжету» (дом, машина и т.д.)."]
[{"$nulls":9},"Конструирует несложные постройки из                  2—3 деталей.","Создаёт постройки «по сюжету» (дом, машина и т.д.)."]
[{"$nulls":9},"Конструирует несложные постройки из                  2—3 деталей.","Создаёт постройки «по сюжету» (дом, машина и т.д.)."]
[{"$nulls":9},"Конструирует несложные постройки из                  2—3 деталей.","Создаёт постройки «по сюжету» (дом, машина и т.д.)."]
[{"$nulls":9},"Конструирует несложные постройки из                  2—3 деталей.","Создаёт постройки «по сюжету» (дом, машина и т.д.)."]
[{"$nulls":9},"Конструирует несложные постройки из                  2—3 деталей.","Создаёт постройки «по сюжету» (дом, машина и т.д.)."]
[{"$nulls":9},"Конструирует несложные постройки из                  2—3 деталей.","Создаёт постройки «по сюжету» (дом, машина и т.д.)."]
[{"$nulls":9},"Конструирует несложные постройки из                  2—3 деталей.","Создаёт постройки «по сюжету» (дом, машина и т.д.)."]
[{"$nulls":9},"Конструирует несложные постройки из                  2—3 деталей.","Создаёт постройки «по сюжету» (дом, машина и т.д.)."]
[{"$nulls":9},"Конструирует несложные постройки из                  2—3 деталей.","Создаёт постройки «по сюжету» (дом, машина и т.д.)."]
[{"$nulls":9},"Конструирует несложные постройки из                  2—3 деталей.","Создаёт постройки «по сюжету» (дом, машина и т.д.)."]
[{"$nulls":9},"Конструирует несложные постройки из                  2—3 деталей.","Создаёт постройки «по сюжету» (дом, машина и т.д.)."]
[{"$nulls":9},"Конструирует несложные постройки из                  2—3 деталей.","Создаёт постройки «по сюжету» (дом, машина и т.д.)."]
[{"$nulls":9},"Конструирует несложные постройки из                  2—3 деталей.","Создаёт постройки «по сюжету» (дом, машина и т.д.)."]
[{"$nulls":9},"Конструирует несложные постройки из                  2—3 деталей.","Создаёт постройки «по сюжету» (дом, машина и т.д.)."]
[{"$nulls":9},"Конструирует несложные постройки из                  2—3 деталей.","Создаёт постройки «по сюжету» (дом, машина и т.д.)."]
[{"$nulls":9},"Конструирует несложные постройки из                  2—3 деталей.","Создаёт постройки «по сюжету» (дом, машина и т.д.)."]
[{"$nulls":9},"Конструирует несложные постройки из                  2—3 деталей.","Создаёт постройки «по сюжету» (дом, машина и т.д.)."]
[{"$nulls":9},"Конструирует несложные постройки из                  2—3 деталей.","Создаёт постройки «по сюжету» (дом, машина и т.д.)."]
[{"$nulls":9},"Конструирует несложные постройки из                  2—3 деталей.","Создаёт постройки «по сюжету» (дом, машина и т.д.)."]
[{"$nulls":9},"Конструирует несложные постройки из                  2—3 деталей.","Создаёт постройки «по сюжету» (дом, машина и т.д.)."]
[{"$nulls":9},"Конструирует несложные постройки из                  2—3 деталей.","Создаёт постройки «по сюжету» (дом, машина и т.д.)."]
[{"$nulls":9},"Конструирует несложные постройки из                  2—3 деталей.","Создаёт постройки «по сюжету» (дом, машина и т.д.)."]
[{"$nulls":9},"Конструирует несложные постройки из                  2—3 деталей.","Создаёт постройки «по сюжету» (дом, машина и т.д.)."]
[{"$nulls":9},"Конструирует несложные постройки из                  2—3 деталей.","Создаёт постройки «по сюжету» (дом, машина и т.д.)."]
[{"$nulls":9},"Конструирует несложные постройки из                  2—3 деталей.","Создаёт постройки «по сюжету» (дом, машина и т.д.)."]
[{"$nulls":9},"Конструирует несложные постройки из                  2—3 деталей.","Создаёт постройки «по сюжету» (дом, машина и т.д.)."]
[{"$nulls":9},"Конструирует несложные постройки из                  2—3 деталей.","Создаёт постройки «по сюжету» (дом, машина и т.д.)."]
[{"$nulls":9},"Конструирует несложные постройки из                  2—3 деталей.","Создаёт постройки «по сюжету» (дом, машина и т.д.)."]
[{"$nulls":9},"Конструирует несложные постройки из                  2—3 деталей.","Создаёт постройки «по сюжету» (дом, машина и т.д.)."]
[{"$nulls":9},"Конструирует несложные постройки из                  2—3 деталей.","Создаёт постройки «по сюжету» (дом, машина и т.д.)."]
[{"$nulls":9},"Конструирует несложные постройки из                  2—3 деталей.","Создаёт постройки «по сюжету» (дом, машина и т.д.)."]
[{"$nulls":9},"Конструирует несложные постройки из                  2—3 деталей.","Создаёт постройки «по сюжету» (дом, машина и т.д.)."]
[{"$nulls":9},"Конструирует несложные постройки из                  2—3 деталей.","Создаёт постройки «по сюжету» (дом, машина и т.д.)."]
[{"$nulls":9},"Конструирует несложные постройки из                  2—3 деталей.","Создаёт постройки «по сюжету» (дом, машина и т.д.)."]
[{"$nulls":9},"Конструирует несложные постройки из                  2—3 деталей.","Создаёт постройки «по сюжету» (дом, машина и т.д.)."]
[{"$nulls":9},"Конструирует несложные постройки из                  2—3 деталей.","Создаёт постройки «по сюжету» (дом, машина и т.д.)."]
[{"$nulls":9},"Конструирует несложные постройки из                  2—3 деталей.","Создаёт постройки «по сюжету» (дом, машина и т.д.)."]
[{"$nulls":9},"Конструирует несложные постройки из                  2—3 деталей.","Создаёт постройки «по сюжету» (дом, машина и т.д.)."]
[{"$nulls":9},"Конструирует несложные постройки из                  2—3 деталей.","Создаёт постройки «по сюжету» (дом, машина и т.д.)."]
[{"$nulls":9},"Конструирует несложные постройки из                  2—3 деталей.","Создаёт постройки «по сюжету» (дом, машина и т.д.)."]
[{"$nulls":9},"Конструирует несложные постройки из                  2—3 деталей.","Создаёт постройки «по сюжету» (дом, машина и т.д.)."]
[{"$nulls":9},"Конструирует несложные постройки из                  2—3 деталей.","Создаёт постройки «по сюжету» (дом, машина и т.д.)."]
[{"$nulls":9},"Конструирует несложные постройки из                  2—3 деталей.","Создаёт постройки «по сюжету» (дом, машина и т.д.)."]
[{"$nulls":9},"Конструирует несложные постройки из                  2—3 деталей.","Создаёт постройки «по сюжету» (дом, машина и т.д.)."]
[{"$nulls":9},"Конструирует несложные постройки из                  2—3 деталей.","Создаёт постройки «по сюжету» (дом, машина и т.д.)."]
[{"$nulls":9},"Конструирует несложные постройки из                  2—3 деталей.","Создаёт постройки «по сюжету» (дом, машина и т.д.)."]
[{"$nulls":9},"Конструирует несложные постройки из                  2—3 деталей.","Создаёт постройки «по сюжету» (дом, машина и т.д.)."]
[{"$nulls":9},"Конструирует несложные постройки из                  2—3 деталей.","Создаёт постройки «по сюжету» (дом, машина и т.д.)."]
[{"$nulls":9},"Конструирует несложные постройки из                  2—3 деталей.","Создаёт постройки «по сюжету» (дом, машина и т.д.)."]
[{"$nulls":9},"Конструирует несложные постройки из                  2—3 деталей.","Создаёт постройки «по сюжету» (дом, машина и т.д.)."]
[{"$nulls":9},"Конструирует несложные постройки из                  2—3 деталей.","Создаёт постройки «по сюжету» (дом, машина и т.д.)."]
[{"$nulls":9},"Конструирует несложные постройки из                  2—3 деталей.","Создаёт постройки «по сюжету» (дом, машина и т.д.)."]
[{"$nulls":9},"Конструирует несложные постройки из                  2—3 деталей.","Создаёт постройки «по сюжету» (дом, машина и т.д.)."]
[{"$nulls":9},"Конструирует несложные постройки из                  2—3 деталей.","Создаёт постройки «по сюжету» (дом, машина и т.д.)."]
[{"$nulls":9},"Конструирует несложные постройки из                  2—3 деталей.","Создаёт постройки «по сюжету» (дом, машина и т.д.)."]
[{"$nulls":9},"Конструирует несложные постройки из                  2—3 деталей.","Создаёт постройки «по сюжету» (дом, машина и т.д.)."]
[{"$nulls":9},"Конструирует несложные постройки из                  2—3 деталей.","Создаёт постройки «по сюжету» (дом, машина и т.д.)."]
[{"$nulls":9},"Конструирует несложные постройки из                  2—3 деталей.","Создаёт постройки «по сюжету» (дом, машина и т.д.)."]
[{"$nulls":9},"Конструирует несложные постройки из                  2—3 деталей.","Создаёт постройки «по сюжету» (дом, машина и т.д.)."]
[{"$nulls":9},"Конструирует несложные постройки из                  2—3 деталей.","Создаёт постройки «по сюжету» (дом, машина и т.д.)."]
[{"$nulls":9},"Конструирует несложные постройки из                  2—3 деталей.","Создаёт постройки «по сюжету» (дом, машина и т.д.)."]
[{"$nulls":9},"Конструирует несложные постройки из                  2—3 деталей.","Создаёт постройки «по сюжету» (дом, машина и т.д.)."]
[{"$nulls":9},"Конструирует несложные постройки из                  2—3 деталей.","Создаёт постройки «по сюжету» (дом, машина и т.д.)."]
[{"$nulls":9},"Конструирует несложные постройки из                  2—3 деталей.","Создаёт постройки «по сюжету» (дом, машина и т.д.)."]
[{"$nulls":9},"Конструирует несложные постройки из                  2—3 деталей.","Создаёт постройки «по сюжету» (дом, машина и т.д.)."]
[{"$nulls":9},"Конструирует несложные постройки из                  2—3 деталей.","Создаёт постройки «по сюжету» (дом, машина и т.д.)."]
[{"$nulls":9},"Конструирует несложные постройки из                  2—3 деталей.","Создаёт постройки «по сюжету» (дом, машина и т.д.)."]
[{"$nulls":9},"Конструирует несложные постройки из                  2—3 деталей.","Создаёт постройки «по сюжету» (дом, машина и т.д.)."]
[{"$nulls":9},"Конструирует несложные постройки из                  2—3 деталей.","Создаёт постройки «по сюжету» (дом, машина и т.д.)."]
[{"$nulls":9},"Конструирует несложные постройки из                  2—3 деталей.","Создаёт постройки «по сюжету» (дом, машина и т.д.)."]
[{"$nulls":9},"Конструирует несложные постройки из                  2—3 деталей.","Создаёт постройки «по сюжету» (дом, машина и т.д.)."]
[{"$nulls":9},"Конструирует несложные постройки из                  2—3 деталей.","Создаёт постройки «по сюжету» (дом, машина и т.д.)."]
[{"$nulls":9},"Конструирует несложные постройки из                  2—3 деталей.","Создаёт постройки «по сюжету» (дом, машина и т.д.)."]
[{"$nulls":9},"Конструирует несложные постройки из                  2—3 деталей.","Создаёт постройки «по сюжету» (дом, машина и т.д.)."]
[{"$nulls":9},"Конструирует несложные постройки из                  2—3 деталей.","Создаёт постройки «по сюжету» (дом, машина и т.д.)."]
[{"$nulls":9},"Конструирует несложные постройки из                  2—3 деталей.","Создаёт постройки «по сюжету» (дом, машина и т.д.)."]
[{"$nulls":9},"Конструирует несложные постройки из                  2—3 деталей.","Создаёт постройки «по сюжету» (дом, машина и т.д.)."]
[{"$nulls":9},"Конструирует несложные постройки из                  2—3 деталей.","Создаёт постройки «по сюжету» (дом, машина и т.д.)."]
[{"$nulls":9},"Конструирует несложные постройки из                  2—3 деталей.","Создаёт постройки «по сюжету» (дом, машина и т.д.)."]
[{"$nulls":9},"Конструирует несложные постройки из                  2—3 деталей.","Создаёт постройки «по сюжету» (дом, машина и т.д.)."]
[{"$nulls":9},"Конструирует несложные постройки из                  2—3 деталей.","Создаёт постройки «по сюжету» (дом, машина и т.д.)."]
[{"$nulls":9},"Конструирует несложные постройки из                  2—3 деталей.","Создаёт постройки «по сюжету» (дом, машина и т.д.)."]
[{"$nulls":9},"Конструирует несложные постройки из                  2—3 деталей.","Создаёт постройки «по сюжету» (дом, машина и т.д.)."]
[{"$nulls":9},"Конструирует несложные постройки из                  2—3 деталей.","Создаёт постройки «по сюжету» (дом, машина и т.д.)."]
[{"$nulls":9},"Конструирует несложные постройки из                  2—3 деталей.","Создаёт постройки «по сюжету» (дом, машина и т.д.)."]
[{"$nulls":9},"Конструирует несложные постройки из                  2—3 деталей.","Создаёт постройки «по сюжету» (дом, машина и т.д.)."]
[{"$nulls":9},"Конструирует несложные постройки из                  2—3 деталей.","Создаёт постройки «по сюжету» (дом, машина и т.д.)."]
[{"$nulls":9},"Конструирует несложные постройки из                  2—3 деталей.","Создаёт постройки «по сюжету» (дом, машина и т.д.)."]
[{"$nulls":9},"Конструирует несложные постройки из                  2—3 деталей.","Создаёт постройки «по сюжету» (дом, машина и т.д.)."]
[{"$nulls":9},"Конструирует несложные постройки из                  2—3 деталей.","Создаёт постройки «по сюжету» (дом, машина и т.д.)."]
[{"$nulls":9},"Конструирует несложные постройки из                  2—3 деталей.","Создаёт постройки «по сюжету» (дом, машина и т.д.)."]
[{"$nulls":9},"Конструирует несложные постройки из                  2—3 деталей.","Создаёт постройки «по сюжету» (дом, машина и т.д.)."]
[{"$nulls":9},"Конструирует несложные постройки из                  2—3 деталей.","Создаёт постройки «по сюжету» (дом, машина и т.д.)."]
[{"$nulls":9},"Конструирует несложные постройки из                  2—3 деталей.","Создаёт постройки «по сюжету» (дом, машина и т.д.)."]
[{"$nulls":9},"Конструирует несложные постройки из                  2—3 деталей.","Создаёт постройки «по сюжету» (дом, машина и т.д.)."]
[{"$nulls":9},"Конструирует несложные постройки из                  2—3 деталей.","Создаёт постройки «по сюжету» (дом, машина и т.д.)."]
[{"$nulls":9},"Конструирует несложные постройки из                  2—3 деталей.","Создаёт постройки «по сюжету» (дом, машина и т.д.)."]
[{"$nulls":9},"Конструирует несложные постройки из                  2—3 деталей.","Создаёт постройки «по сюжету» (дом, машина и т.д.)."]
[{"$nulls":9},"Конструирует несложные постройки из                  2—3 деталей.","Создаёт постройки «по сюжету» (дом, машина и т.д.)."]
[{"$nulls":9},"Конструирует несложные постройки из                  2—3 деталей.","Создаёт постройки «по сюжету» (дом, машина и т.д.)."]
[{"$nulls":9},"Конструирует несложные постройки из                  2—3 деталей.","Создаёт постройки «по сюжету» (дом, машина и т.д.)."]
[{"$nulls":9},"Конструирует несложные постройки из                  2—3 деталей.","Создаёт постройки «по сюжету» (дом, машина и т.д.)."]
[{"$nulls":9},"Конструирует несложные постройки из                  2—3 деталей.","Создаёт постройки «по сюжету» (дом, машина и т.д.)."]
[{"$nulls":9},"Конструирует несложные постройки из                  2—3 деталей.","Создаёт постройки «по сюжету» (дом, машина и т.д.)."]
[{"$nulls":9},"Конструирует несложные постройки из                  2—3 деталей.","Создаёт постройки «по сюжету» (дом, машина и т.д.)."]
[{"$nulls":9},"Конструирует несложные постройки из                  2—3 деталей.","Создаёт постройки «по сюжету» (дом, машина и т.д.)."]
[{"$nulls":9},"Конструирует несложные постройки из                  2—3 деталей.","Создаёт постройки «по сюжету» (дом, машина и т.д.)."]
[{"$nulls":9},"Конструирует несложные постройки из                  2—3 деталей.","Создаёт постройки «по сюжету» (дом, машина и т.д.)."]
[{"$nulls":9},"Конструирует несложные постройки из                  2—3 деталей.","Создаёт постройки «по сюжету» (дом, машина и т.д.)."]
[{"$nulls":9},"Конструирует несложные постройки из                  2—3 деталей.","Создаёт постройки «по сюжету» (дом, машина и т.д.)."]
[{"$nulls":9},"Конструирует несложные постройки из                  2—3 деталей.","Создаёт постройки «по сюжету» (дом, машина и т.д.)."]
[{"$nulls":9},"Конструирует несложные постройки из                  2—3 деталей.","Создаёт постройки «по сюжету» (дом, машина и т.д.)."]
[{"$nulls":9},"Конструирует несложные постройки из                  2—3 деталей.","Создаёт постройки «по сюжету» (дом, машина и т.д.)."]
[{"$nulls":9},"Конструирует несложные постройки из                  2—3 деталей.","Создаёт постройки «по сюжету» (дом, машина и т.д.)."]
[{"$nulls":9},"Конструирует несложные постройки из                  2—3 деталей.","Создаёт постройки «по сюжету» (дом, машина и т.д.)."]
[{"$nulls":9},"Конструирует несложные постройки из                  2—3 деталей.","Создаёт постройки «по сюжету» (дом, машина и т.д.)."]
[{"$nulls":9},"Конструирует несложные постройки из                  2—3 деталей.","Создаёт постройки «по сюжету» (дом, машина и т.д.)."]
[{"$nulls":9},"Конструирует несложные постройки из                  2—3 деталей.","Создаёт постройки «по сюжету» (дом, машина и т.д.)."]
[{"$nulls":9},"Конструирует несложные постройки из                  2—3 деталей.","Создаёт постройки «по сюжету» (дом, машина и т.д.)."]
[{"$nulls":9},"Конструирует несложные постройки из                  2—3 деталей.","Создаёт постройки «по сюжету» (дом, машина и т.д.)."]
[{"$nulls":9},"Конструирует несложные постройки из                  2—3 деталей.","Создаёт постройки «по сюжету» (дом, машина и т.д.)."]
[{"$nulls":9},"Конструирует несложные постройки из                  2—3 деталей.","Создаёт постройки «по сюжету» (дом, машина и т.д.)."]
[{"$nulls":9},"Конструирует несложные постройки из                  2—3 деталей.","Создаёт постройки «по сюжету» (дом, машина и т.д.)."]
[{"$nulls":9},"Конструирует несложные постройки из                  2—3 деталей.","Создаёт постройки «по сюжету» (дом, машина и т.д.)."]
[{"$nulls":9},"Конструирует несложные постройки из                  2—3 деталей.","Создаёт постройки «по сюжету» (дом, машина и т.д.)."]
[{"$nulls":9},"Конструирует несложные постройки из                  2—3 деталей.","Создаёт постройки «по сюжету» (дом, машина и т.д.)."]
[{"$nulls":9},"Конструирует несложные постройки из                  2—3 деталей.","Создаёт постройки «по сюжету» (дом, машина и т.д.)."]
[{"$nulls":9},"Конструирует несложные постройки из                  2—3 деталей.","Создаёт постройки «по сюжету» (дом, машина и т.д.)."]
[{"$nulls":9},"Конструирует несложные постройки из                  2—3 деталей.","Создаёт постройки «по сюжету» (дом, машина и т.д.)."]
[{"$nulls":9},"Конструирует несложные постройки из                  2—3 деталей.","Создаёт постройки «по сюжету» (дом, машина и т.д.)."]
[{"$nulls":9},"Конструирует несложные постройки из                  2—3 деталей.","Создаёт постройки «по сюжету» (дом, машина и т.д.)."]
[{"$nulls":9},"Конструирует несложные постройки из                  2—3 деталей.","Создаёт постройки «по сюжету» (дом, машина и т.д.)."]
[{"$nulls":9},"Конструирует несложные постройки из                  2—3 деталей.","Создаёт постройки «по сюжету» (дом, машина и т.д.)."]
[{"$nulls":9},"Конструирует несложные постройки из                  2—3 деталей.","Создаёт постройки «по сюжету» (дом, машина и т.д.)."]
[{"$nulls":9},"Конструирует несложные постройки из                  2—3 деталей.","Создаёт постройки «по сюжету» (дом, машина и т.д.)."]
[{"$nulls":9},"Конструирует несложные постройки из                  2—3 деталей.","Создаёт постройки «по сюжету» (дом, машина и т.д.)."]
[{"$nulls":9},"Конструирует несложные постройки из                  2—3 деталей.","Создаёт постройки «по сюжету» (дом, машина и т.д.)."]
[{"$nulls":9},"Конструирует несложные постройки из                  2—3 деталей.","Создаёт постройки «по сюжету» (дом, машина и т.д.)."]
[{"$nulls":9},"Конструирует несложные постройки из                  2—3 деталей.","Создаёт постройки «по сюжету» (дом, машина и т.д.)."]
[{"$nulls":9},"Конструирует несложные постройки из                  2—3 деталей.","Создаёт постройки «по сюжету» (дом, машина и т.д.)."]
[{"$nulls":9},"Конструирует несложные постройки из                  2—3 деталей.","Создаёт постройки «по сюжету» (дом, машина и т.д.)."]
[{"$nulls":9},"Конструирует несложные постройки из                  2—3 деталей.","Создаёт постройки «по сюжету» (дом, машина и т.д.)."]
[{"$nulls":9},"Конструирует несложные постройки из                  2—3 деталей.","Создаёт постройки «по сюжету» (дом, машина и т.д.)."]
[{"$nulls":9},"Конструирует несложные постройки из                  2—3 деталей.","Создаёт постройки «по сюжету» (дом, машина и т.д.)."]
[{"$nulls":9},"Конструирует несложные постройки из                  2—3 деталей.","Создаёт постройки «по сюжету» (дом, машина и т.д.)."]
[{"$nulls":9},"Конструирует несложные постройки из                  2—3 деталей.","Создаёт постройки «по сюжету» (дом, машина и т.д.)."]
[{"$nulls":9},"Конструирует несложные постройки из                  2—3 деталей.","Создаёт постройки «по сюжету» (дом, машина и т.д.)."]
[{"$nulls":9},"Конструирует несложные постройки из                  2—3 деталей.","Создаёт постройки «по сюжету» (дом, машина и т.д.)."]
[{"$nulls":9},"Конструирует несложные постройки из                  2—3 деталей.","Создаёт постройки «по сюжету» (дом, машина и т.д.)."]
[{"$nulls":9},"Конструирует несложные постройки из                  2—3 деталей.","Создаёт постройки «по сюжету» (дом, машина и т.д.)."]
[{"$nulls":9},"Конструирует несложные постройки из                  2—3 деталей.","Создаёт постройки «по сюжету» (дом, машина и т.д.)."]
[{"$nulls":9},"Конструирует несложные постройки из                  2—3 деталей.","Создаёт постройки «по сюжету» (дом, машина и т.д.)."]
[{"$nulls":9},"Конструирует несложные постройки из                  2—3 деталей.","Создаёт постройки «по сюжету» (дом, машина и т.д.)."]
[{"$nulls":9},"Конструирует несложные постройки из                  2—3 деталей.","Создаёт постройки «по сюжету» (дом, машина и т.д.)."]
[{"$nulls":9},"Конструирует несложные постройки из                  2—3 деталей.","Создаёт постройки «по сюжету» (дом, машина и т.д.)."]
[{"$nulls":9},"Конструирует несложные постройки из                  2—3 деталей.","Создаёт постройки «по сюжету» (дом, машина и т.д.)."]
[{"$nulls":9},"Конструирует несложные постройки из                  2—3 деталей.","Создаёт постройки «по сюжету» (дом, машина и т.д.)."]
[{"$nulls":9},"Конструирует несложные постройки из                  2—3 деталей.","Создаёт постройки «по сюжету» (дом, машина и т.д.)."]
[{"$nulls":9},"Конструирует несложные постройки из                  2—3 деталей.","Создаёт постройки «по сюжету» (дом, машина и т.д.)."]
[{"$nulls":9},"Конструирует несложные постройки из                  2—3 деталей.","Создаёт постройки «по сюжету» (дом, машина и т.д.)."]
[{"$nulls":9},"Конструирует несложные постройки из                  2—3 деталей.","Создаёт постройки «по сюжету» (дом, машина и т.д.)."]
[{"$nulls":9},"Конструирует несложные постройки из                  2—3 деталей.","Создаёт постройки «по сюжету» (дом, машина и т.д.)."]
[{"$nulls":9},"Конструирует несложные постройки из                  2—3 деталей.","Создаёт постройки «по сюжету» (дом, машина и т.д.)."]
[{"$nulls":9},"Конструирует несложные постройки из                  2—3 деталей.","Создаёт постройки «по сюжету» (дом, машина и т.д.)."]
[{"$nulls":9},"Конструирует несложные постройки из                  2—3 деталей.","Создаёт постройки «по сюжету» (дом, машина и т.д.)."]
[{"$nulls":9},"Конструирует несложные постройки из                  2—3 деталей.","Создаёт постройки «по сюжету» (дом, машина и т.д.)."]
[{"$nulls":9},"Конструирует несложные постройки из                  2—3 деталей.","Создаёт постройки «по сюжету» (дом, машина и т.д.)."]
[{"$nulls":9},"Конструирует несложные постройки из                  2—3 деталей.","Создаёт постройки «по сюжету» (дом, машина и т.д.)."]
[{"$nulls":9},"Конструирует несложные постройки из                  2—3 деталей.","Создаёт постройки «по сюжету» (дом, машина и т.д.)."]
[{"$nulls":9},"Конструирует несложные постройки из                  2—3 деталей.","Создаёт постройки «по сюжету» (дом, машина и т.д.)."]
[{"$nulls":9},"Конструирует несложные постройки из                  2—3 деталей.","Создаёт постройки «по сюжету» (дом, машина и т.д.)."]
[{"$nulls":9},"Конструирует несложные постройки из                  2—3 деталей.","Создаёт постройки «по сюжету» (дом, машина и т.д.)."]
[{"$nulls":9},"Конструирует несложные постройки из                  2—3 деталей.","Создаёт постройки «по сюжету» (дом, машина и т.д.)."]
[{"$nulls":9},"Конструирует несложные постройки из                  2—3 деталей.","Создаёт постройки «по сюжету» (дом, машина и т.д.)."]
[{"$nulls":9},"Конструирует несложные постройки из                  2—3 деталей.","Создаёт постройки «по сюжету» (дом, машина и т.д.)."]
[{"$nulls":9},"Конструирует несложные постройки из                  2—3 деталей.","Создаёт постройки «по сюжету» (дом, машина и т.д.)."]
[{"$nulls":9},"Конструирует несложные постройки из                  2—3 деталей.","Создаёт постройки «по сюжету» (дом, машина и т.д.)."]
[{"$nulls":9},"Конструирует несложные постройки из                  2—3 деталей.","Создаёт постройки «по сюжету» (дом, машина и т.д.)."]
[{"$nulls":9},"Конструирует несложные постройки из                  2—3 деталей.","Создаёт постройки «по сюжету» (дом, машина и т.д.)."]
[{"$nulls":9},"Конструирует несложные постройки из                  2—3 деталей.","Создаёт постройки «по сюжету» (дом, машина и т.д.)."]
[{"$nulls":9},"Конструирует несложные постройки из                  2—3 деталей.","Создаёт постройки «по сюжету» (дом, машина и т.д.)."]
[{"$nulls":9},"Конструирует несложные постройки из                  2—3 деталей.","Создаёт постройки «по сюжету» (дом, машина и т.д.)."]
[{"$nulls":9},"Конструирует несложные постройки из                  2—3 деталей.","Создаёт постройки «по сюжету» (дом, машина и т.д.)."]
[{"$nulls":9},"Конструирует несложные постройки из                  2—3 деталей.","Создаёт постройки «по сюжету» (дом, машина и т.д.)."]
[{"$nulls":9},"Конструирует несложные постройки из                  2—3 деталей.","Создаёт постройки «по сюжету» (дом, машина и т.д.)."]
[{"$nulls":9},"Конструирует несложные постройки из                  2—3 деталей.","Создаёт постройки «по сюжету» (дом, машина и т.д.)."]
[{"$nulls":9},"Конструирует несложные постройки из                  2—3 деталей.","Создаёт постройки «по сюжету» (дом, машина и т.д.)."]
[{"$nulls":9},"Конструирует несложные постройки из                  2—3 деталей.","Создаёт постройки «по сюжету» (дом, машина и т.д.)."]
[{"$nulls":9},"Конструирует несложные постройки из                  2—3 деталей.","Создаёт постройки «по сюжету» (дом, машина и т.д.)."]
[{"$nulls":9},"Конструирует несложные постройки из                  2—3 деталей.","Создаёт постройки «по сюжету» (дом, машина и т.д.)."]
[{"$nulls":9},"Конструирует несложные постройки из                  2—3 деталей.","Создаёт постройки «по сюжету» (дом, машина и т.д.)."]
[{"$nulls":9},"Конструирует несложные постройки из                  2—3 деталей.","Создаёт постройки «по сюжету» (дом, машина и т.д.)."]
[{"$nulls":9},"Конструирует несложные постройки из                  2—3 деталей.","Создаёт постройки «по сюжету» (дом, машина и т.д.)."]
[{"$nulls":9},"Конструирует несложные постройки из                  2—3 деталей.","Создаёт постройки «по сюжету» (дом, машина и т.д.)."]
[{"$nulls":9},"Конструирует несложные постройки из                  2—3 деталей.","Создаёт постройки «по сюжету» (дом, машина и т.д.)."]
[{"$nulls":9},"Конструирует несложные постройки из                  2—3 деталей.","Создаёт постройки «по сюжету» (дом, машина и т.д.)."]
[{"$nulls":9},"Конструирует несложные постройки из                  2—3 деталей.","Создаёт постройки «по сюжету» (дом, машина и т.д.)."]
[{"$nulls":9},"Конструирует несложные постройки из                  2—3 деталей.","Создаёт постройки «по сюжету» (дом, машина и т.д.)."]
[{"$nulls":9},"Конструирует несложные постройки из                  2—3 деталей.","Создаёт постройки «по сюжету» (дом, машина и т.д.)."]
[{"$nulls":9},"Конструирует несложные постройки из                  2—3 деталей.","Создаёт постройки «по сюжету» (дом, машина и т.д.)."]
[{"$nulls":9},"Конструирует несложные постройки из                  2—3 деталей.","Создаёт постройки «по сюжету» (дом, машина и т.д.)."]
[{"$nulls":9},"Конструирует несложные постройки из                  2—3 деталей.","Создаёт постройки «по сюжету» (дом, машина и т.д.)."]
[{"$nulls":9},"Конструирует несложные постройки из                  2—3 деталей.","Создаёт постройки «по сюжету» (дом, машина и т.д.)."]
[{"$nulls":9},"Конструирует несложные постройки из                  2—3 деталей.","Создаёт постройки «по сюжету» (дом, машина и т.д.)."]
[{"$nulls":9},"Конструирует несложные постройки из                  2—3 деталей.","Создаёт постройки «по сюжету» (дом, машина и т.д.)."]
[{"$nulls":9},"Конструирует несложные постройки из                  2—3 деталей.","Создаёт постройки «по сюжету» (дом, машина и т.д.)."]
[{"$nulls":9},"Конструирует несложные постройки из                  2—3 деталей.","Создаёт постройки «по сюжету» (дом, машина и т.д.)."]
[{"$nulls":9},"Конструирует несложные постройки из                  2—3 деталей.","Создаёт постройки «по сюжету» (дом, машина и т.д.)."]
[{"$nulls":9},"Конструирует несложные постройки из                  2—3 деталей.","Создаёт постройки «по сюжету» (дом, машина и т.д.)."]
[{"$nulls":9},"Конструирует несложные постройки из                  2—3 деталей.","Создаёт постройки «по сюжету» (дом, машина и т.д.)."]
[{"$nulls":9},"Конструирует несложные постройки из                  2—3 деталей.","Создаёт постройки «по сюжету» (дом, машина и т.д.)."]
[{"$nulls":9},"Конструирует несложные постройки из                  2—3 деталей.","Создаёт постройки «по сюжету» (дом, машина и т.д.)."]
[{"$nulls":9},"Конструирует несложные постройки из                  2—3 деталей.","Создаёт постройки «по сюжету» (дом, машина и т.д.)."]
[{"$nulls":9},"Конструирует несложные постройки из                  2—3 деталей.","Создаёт постройки «по сюжету» (дом, машина и т.д.)."]
[{"$nulls":9},"Конструирует несложные постройки из                  2—3 деталей.","Создаёт постройки «по сюжету» (дом, машина и т.д.)."]
[{"$nulls":9},"Конструирует несложные постройки из                  2—3 деталей.","Создаёт постройки «по сюжету» (дом, машина и т.д.)."]
[{"$nulls":9},"Конструирует несложные постройки из                  2—3 деталей.","Создаёт постройки «по сюжету» (дом, машина и т.д.)."]
[{"$nulls":9},"Конструирует несложные постройки из                  2—3 деталей.","Создаёт постройки «по сюжету» (дом, машина и т.д.)."]
[{"$nulls":9},"Конструирует несложные постройки из                  2—3 деталей.","Создаёт постройки «по сюжету» (дом, машина и т.д.)."]
[{"$nulls":9},"Конструирует несложные постройки из                  2—3 деталей.","Создаёт постройки «по сюжету» (дом, машина и т.д.)."]
[{"$nulls":9},"Конструирует несложные постройки из                  2—3 деталей.","Создаёт постройки «по сюжету» (дом, машина и т.д.)."]
[{"$nulls":9},"Конструирует несложные постройки из                  2—3 деталей.","Создаёт постройки «по сюжету» (дом, машина и т.д.)."]
[{"$nulls":9},"Конструирует несложные постройки из                  2—3 деталей.","Создаёт постройки «по сюжету» (дом, машина и т.д.)."]
[{"$nulls":9},"Конструирует несложные постройки из                  2—3 деталей.","Создаёт постройки «по сюжету» (дом, машина и т.д.)."]
[{"$nulls":9},"Конструирует несложные постройки из                  2—3 деталей.","Создаёт постройки «по сюжету» (дом, машина и т.д.)."]
[{"$nulls":9},"Конструирует несложные постройки из                  2—3 деталей.","Создаёт постройки «по сюжету» (дом, машина и т.д.)."]
[{"$nulls":9},"Конструирует несложные постройки из                  2—3 деталей.","Создаёт постройки «по сюжету» (дом, машина и т.д.)."]
[{"$nulls":9},"Конструирует несложные постройки из                  2—3 деталей.","Создаёт постройки «по сюжету» (дом, машина и т.д.)."]
[{"$nulls":9},"Конструирует несложные постройки из                  2—3 деталей.","Создаёт постройки «по сюжету» (дом, машина и т.д.)."]
[{"$nulls":9},"Конструирует несложные постройки из                  2—3 деталей.","Создаёт постройки «по сюжету» (дом, машина и т.д.)."]
[{"$nulls":9},"Конструирует несложные постройки из                  2—3 деталей.","Создаёт постройки «по сюжету» (дом, машина и т.д.)."]
[{"$nulls":9},"Конструирует несложные постройки из                  2—3 деталей.","Создаёт постройки «по сюжету» (дом, машина и т.д.)."]
[{"$nulls":9},"Конструирует несложные постройки из                  2—3 деталей.","Создаёт постройки «по сюжету» (дом, машина и т.д.)."]
[{"$nulls":9},"Конструирует несложные постройки из                  2—3 деталей.","Создаёт постройки «по сюжету» (дом, машина и т.д.)."]
[{"$nulls":9},"Конструирует несложные постройки из                  2—3 деталей.","Создаёт постройки «по сюжету» (дом, машина и т.д.)."]
[{"$nulls":9},"Конструирует несложные постройки из                  2—3 деталей.","Создаёт постройки «по сюжету» (дом, машина и т.д.)."]
[{"$nulls":9},"Конструирует несложные постройки из                  2—3 деталей.","Создаёт постройки «по сюжету» (дом, машина и т.д.)."]
[{"$nulls":9},"Конструирует несложные постройки из                  2—3 деталей.","Создаёт постройки «по сюжету» (дом, машина и т.д.)."]
[{"$nulls":9},"Конструирует несложные постройки из                  2—3 деталей.","Создаёт постройки «по сюжету» (дом, машина и т.д.)."]
[{"$nulls":9},"Конструирует несложные постройки из                  2—3 деталей.","Создаёт постройки «по сюжету» (дом, машина и т.д.)."]
[{"$nulls":9},"Конструирует несложные постройки из                  2—3 деталей.","Создаёт постройки «по сюжету» (дом, машина и т.д.)."]
[{"$nulls":9},"Конструирует несложные постройки из                  2—3 деталей.","Создаёт постройки «по сюжету» (дом, машина и т.д.)."]
[{"$nulls":9},"Конструирует несложные постройки из                  2—3 деталей.","Создаёт постройки «по сюжету» (дом, машина и т.д.)."]
[{"$nulls":9},"Конструирует несложные постройки из                  2—3 деталей.","Создаёт постройки «по сюжету» (дом, машина и т.д.)."]
[{"$nulls":9},"Конструирует несложные постройки из                  2—3 деталей.","Создаёт постройки «по сюжету» (дом, машина и т.д.)."]
[{"$nulls":9},"Конструирует несложные постройки из                  2—3 деталей.","Создаёт постройки «по сюжету» (дом, машина и т.д.)."]
[{"$nulls":9},"Конструирует несложные постройки из                  2—3 деталей.","Создаёт постройки «по сюжету» (дом, машина и т.д.)."]
[{"$nulls":9},"Конструирует несложные постройки из                  2—3 деталей.","Создаёт постройки «по сюжету» (дом, машина и т.д.)."]
[{"$nulls":9},"Конструирует несложные постройки из                  2—3 деталей.","Создаёт постройки «по сюжету» (дом, машина и т.д.)."]
[{"$nulls":9},"Конструирует несложные постройки из                  2—3 деталей.","Создаёт постройки «по сюжету» (дом, машина и т.д.)."]
[{"$nulls":9},"Конструирует несложные постройки из                  2—3 деталей.","Создаёт постройки «по сюжету» (дом, машина и т.д.)."]
[{"$nulls":9},"Конструирует несложные постройки из                  2—3 деталей.","Создаёт постройки «по сюжету» (дом, машина и т.д.)."]
[{"$nulls":9},"Конструирует несложные постройки из                  2—3 деталей.","Создаёт постройки «по сюжету» (дом, машина и т.д.)."]
[{"$nulls":9},"Конструирует несложные постройки из                  2—3 деталей.","Создаёт постройки «по сюжету» (дом, машина и т.д.)."]
[{"$nulls":9},"Конструирует несложные постройки из                  2—3 деталей.","Создаёт постройки «по сюжету» (дом, машина и т.д.)."]
[{"$nulls":9},"Конструирует несложные постройки из                  2—3 деталей.","Создаёт постройки «по сюжету» (дом, машина и т.д.)."]
[{"$nulls":9},"Конструирует несложные постройки из                  2—3 деталей.","Создаёт постройки «по сюжету» (дом, машина и т.д.)."]
[{"$nulls":9},"Конструирует несложные постройки из                  2—3 деталей.","Создаёт постройки «по сюжету» (дом, машина и т.д.)."]
[{"$nulls":9},"Конструирует несложные постройки из                  2—3 деталей.","Создаёт постройки «по сюжету» (дом, машина и т.д.)."]
[{"$nulls":9},"Конструирует несложные постройки из                  2—3 деталей.","Создаёт постройки «по сюжету» (дом, машина и т.д.)."]
[{"$nulls":9},"Конструирует несложные постройки из                  2—3 деталей.","Создаёт постройки «по сюжету» (дом, машина и т.д.)."]
[{"$nulls":9},"Конструирует несложные постройки из                  2—3 деталей.","Создаёт постройки «по сюжету» (дом, машина и т.д.)."]
[{"$nulls":9},"Конструирует несложные постройки из                  2—3 деталей.","Создаёт постройки «по сюжету» (дом, машина и т.д.)."]
[{"$nulls":9},"Конструирует несложные постройки из                  2—3 деталей.","Создаёт постройки «по сюжету» (дом, машина и т.д.)."]
[{"$nulls":9},"Конструирует несложные постройки из                  2—3 деталей.","Создаёт постройки «по сюжету» (дом, машина и т.д.)."]
[{"$nulls":9},"Конструирует несложные постройки из                  2—3 деталей.","Создаёт постройки «по сюжету» (дом, машина и т.д.)."]
[{"$nulls":9},"Конструирует несложные постройки из                  2—3 деталей.","Создаёт постройки «по сюжету» (дом, машина и т.д.)."]
[{"$nulls":9},"Конструирует несложные постройки из                  2—3 деталей.","Создаёт постройки «по сюжету» (дом, машина и т.д.)."]
[{"$nulls":9},"Конструирует несложные постройки из                  2—3 деталей.","Создаёт постройки «по сюжету» (дом, машина и т.д.)."]
[{"$nulls":9},"Конструирует несложные постройки из                  2—3 деталей.","Создаёт постройки «по сюжету» (дом, машина и т.д.)."]
[{"$nulls":9},"Конструирует несложные постройки из                  2—3 деталей.","Создаёт постройки «по сюжету» (дом, машина и т.д.)."]
[{"$nulls":9},"Конструирует несложные постройки из                  2—3 деталей.","Создаёт постройки «по сюжету» (дом, машина и т.д.)."]
[{"$nulls":9},"Конструирует несложные постройки из                  2—3 деталей.","Создаёт постройки «по сюжету» (дом, машина и т.д.)."]
[{"$nulls":9},"Конструирует несложные постройки из                  2—3 деталей.","Создаёт постройки «по сюжету» (дом, машина и т.д.)."]
[{"$nulls":9},"Конструирует несложные постройки из                  2—3 деталей.","Создаёт постройки «по сюжету» (дом, машина и т.д.)."]
[{"$nulls":9},"Конструирует несложные постройки из                  2—3 деталей.","Создаёт постройки «по сюжету» (дом, машина и т.д.)."]
[{"$nulls":9},"Конструирует несложные постройки из                  2—3 деталей.","Создаёт постройки «по сюжету» (дом, машина и т.д.)."]
[{"$nulls":9},"Конструирует несложные постройки из                  2—3 деталей.","Создаёт постройки «по сюжету» (дом, машина и т.д.)."]
[{"$nulls":9},"Конструирует несложные постройки из                  2—3 деталей.","Создаёт постройки «по сюжету» (дом, машина и т.д.)."]
[{"$nulls":9},"Конструирует несложные постройки из                  2—3 деталей.","Создаёт постройки «по сюжету» (дом, машина и т.д.)."]
[{"$nulls":9},"Конструирует несложные постройки из                  2—3 деталей.","Создаёт постройки «по сюжету» (дом, машина и т.д.)."]
[{"$nulls":9},"Конструирует несложные постройки из                  2—3 деталей.","Создаёт постройки «по сюжету» (дом, машина и т.д.)."]
[{"$nulls":9},"Конструирует несложные постройки из                  2—3 деталей.","Создаёт постройки «по сюжету» (дом, машина и т.д.)."]
[{"$nulls":9},"Конструирует несложные постройки из                  2—3 деталей.","Создаёт постройки «по сюжету» (дом, машина и т.д.)."]
[{"$nulls":9},"Конструирует несложные постройки из                  2—3 деталей.","Создаёт постройки «по сюжету» (дом, машина и т.д.)."]
[{"$nulls":9},"Конструирует несложные постройки из                  2—3 деталей.","Создаёт постройки «по сюжету» (дом, машина и т.д.)."]
[{"$nulls":9},"Конструирует несложные постройки из                  2—3 деталей.","Создаёт постройки «по сюжету» (дом, машина и т.д.)."]
[{"$nulls":9},"Конструирует несложные постройки из                  2—3 деталей.","Создаёт постройки «по сюжету» (дом, машина и т.д.)."]
[{"$nulls":9},"Конструирует несложные постройки из                  2—3 деталей.","Создаёт постройки «по сюжету» (дом, машина и т.д.)."]
[{"$nulls":9},"Конструирует несложные постройки из                  2—3 деталей.","Создаёт постройки «по сюжету» (дом, машина и т.д.)."]
[{"$nulls":9},"Конструирует несложные постройки из                  2—3 деталей.","Создаёт постройки «по сюжету» (дом, машина и т.д.)."]
[{"$nulls":9},"Конструирует несложные постройки из                  2—3 деталей.","Создаёт постройки «по сюжету» (дом, машина и т.д.)."]
[{"$nulls":9},"Конструирует несложные постройки из                  2—3 деталей.","Создаёт постройки «по сюжету» (дом, машина и т.д.)."]
[{"$nulls":9},"Конструирует несложные постройки из                  2—3 деталей.","Создаёт постройки «по сюжету» (дом, машина и т.д.)."]
[{"$nulls":9},"Конструирует несложные постройки из                  2—3 деталей.","Создаёт постройки «по сюжету» (дом, машина и т.д.)."]
[{"$nulls":9},"Конструирует несложные постройки из                  2—3 деталей.","Создаёт постройки «по сюжету» (дом, машина и т.д.)."]
[{"$nulls":9},"Конструирует несложные постройки из                  2—3 деталей.","Создаёт постройки «по сюжету» (дом, машина и т.д.)."]
[{"$nulls":9},"Конструирует несложные постройки из                  2—3 деталей.","Создаёт постройки «по сюжету» (дом, машина и т.д.)."]
[{"$nulls":9},"Конструирует несложные постройки из                  2—3 деталей.","Создаёт постройки «по сюжету» (дом, машина и т.д.)."]
[{"$nulls":9},"Конструирует несложные постройки из                  2—3 деталей.","Создаёт постройки «по сюжету» (дом, машина и т.д.)."]
[{"$nulls":9},"Конструирует несложные постройки из                  2—3 деталей.","Создаёт постройки «по сюжету» (дом, машина и т.д.)."]
[{"$nulls":9},"Конструирует несложные постройки из                  2—3 деталей.","Создаёт постройки «по сюжету» (дом, машина и т.д.)."]
[{"$nulls":9},"Конструирует несложные постройки из                  2—3 деталей.","Создаёт постройки «по сюжету» (дом, машина и т.д.)."]
[{"$nulls":9},"Конструирует несложные постройки из                  2—3 деталей.","Создаёт постройки «по сюжету» (дом, машина и т.д.)."]
[{"$nulls":9},"Конструирует несложные постройки из                  2—3 деталей.","Создаёт постройки «по сюжету» (дом, машина и т.д.)."]
[{"$nulls":9},"Конструирует несложные постройки из                  2—3 деталей.","Создаёт постройки «по сюжету» (дом, машина и т.д.)."]
[{"$nulls":9},"Конструирует несложные постройки из                  2—3 деталей.","Создаёт постройки «по сюжету» (дом, машина и т.д.)."]
[{"$nulls":9},"Конструирует несложные постройки из                  2—3 деталей.","Создаёт постройки «по сюжету» (дом, машина и т.д.)."]
[{"$nulls":9},"Конструирует несложные постройки из                  2—3 деталей.","Создаёт постройки «по сюжету» (дом, машина и т.д.)."]
[{"$nulls":9},"Конструирует несложные постройки из                  2—3 деталей.","Создаёт постройки «по сюжету» (дом, машина и т.д.)."]
[{"$nulls":9},"Конструирует несложные постройки из                  2—3 деталей.","Создаёт постройки «по сюжету» (дом, машина и т.д.)."]
[{"$nulls":9},"Конструирует несложные постройки из                  2—3 деталей.","Создаёт постройки «по сюжету» (дом, машина и т.д.)."]
[{"$nulls":9},"Конструирует несложные постройки из                  2—3 деталей.","Создаёт постройки «по сюжету» (дом, машина и т.д.)."]
[{"$nulls":9},"Конструирует несложные постройки из                  2—3 деталей.","Создаёт постройки «по сюжету» (дом, машина и т.д.)."]
[{"$nulls":9},"Конструирует несложные постройки из                  2—3 деталей.","Создаёт постройки «по сюжету» (дом, машина и т.д.)."]
[{"$nulls":9},"Конструирует несложные постройки из                  2—3 деталей.","Создаёт постройки «по сюжету» (дом, машина и т.д.)."]
[{"$nulls":9},"Конструирует несложные постройки из                  2—3 деталей.","Создаёт постройки «по сюжету» (дом, машина и т.д.)."]
[{"$nulls":9},"Конструирует несложные постройки из                  2—3 деталей.","Создаёт постройки «по сюжету» (дом, машина и т.д.)."]
[{"$nulls":9},"Конструирует несложные постройки из                  2—3 деталей.","Создаёт постройки «по сюжету» (дом, машина и т.д.)."]
[{"$nulls":9},"Конструирует несложные постройки из                  2—3 деталей.","Создаёт постройки «по сюжету» (дом, машина и т.д.)."]
[{"$nulls":9},"Конструирует несложные постройки из                  2—3 деталей.","Создаёт постройки «по сюжету» (дом, машина и т.д.)."]
[{"$nulls":9},"Конструирует несложные постройки из                  2—3 деталей.","Создаёт постройки «по сюжету» (дом, машина и т.д.)."]
[{"$nulls":9},"Конструирует несложные постройки из                  2—3 деталей.","Создаёт постройки «по сюжету» (дом, машина и т.д.)."]
[{"$nulls":9},"Конструирует несложные постройки из                  2—3 деталей.","Создаёт постройки «по сюжету» (дом, машина и т.д.)."]
[{"$nulls":9},"Конструирует несложные постройки из                  2—3 деталей.","Создаёт постройки «по сюжету» (дом, машина и т.д.)."]
[{"$nulls":9},"Конструирует несложные постройки из                  2—3 деталей.","Создаёт постройки «по сюжету» (дом, машина и т.д.)."]
[{"$nulls":9},"Конструирует несложные постройки из                  2—3 деталей.","Создаёт постройки «по сюжету» (дом, машина и т.д.)."]
[{"$nulls":9},"Конструирует несложные постройки из                  2—3 деталей.","Создаёт постройки «по сюжету» (дом, машина и т.д.)."]
[{"$nulls":9},"Конструирует несложные постройки из                  2—3 деталей.","Создаёт постройки «по сюжету» (дом, машина и т.д.)."]
[{"$nulls":9},"Конструирует несложные постройки из                  2—3 деталей.","Создаёт постройки «по сюжету» (дом, машина и т.д.)."]
[{"$nulls":9},"Конструирует несложные постройки из                  2—3 деталей.","Создаёт постройки «по сюжету» (дом, машина и т.д.)."]
[{"$nulls":9},"Конструирует несложные постройки из                  2—3 деталей.","Создаёт постройки «по сюжету» (дом, машина и т.д.)."]
[{"$nulls":9},"Конструирует несложные постройки из                  2—3 деталей.","Создаёт постройки «по сюжету» (дом, машина и т.д.)."]
[{"$nulls":9},"Конструирует несложные постройки из                  2—3 деталей.","Создаёт постройки «по сюжету» (дом, машина и т.д.)."]
[{"$nulls":9},"Конструирует несложные постройки из                  2—3 деталей.","Создаёт постройки «по сюжету» (дом, машина и т.д.)."]
[{"$nulls":9},"Конструирует несложные постройки из                  2—3 деталей.","Создаёт постройки «по сюжету» (дом, машина и т.д.)."]
[{"$nulls":9},"Конструирует несложные постройки из                  2—3 деталей.","Создаёт постройки «по сюжету» (дом, машина и т.д.)."]
[{"$nulls":9},"Конструирует несложные постройки из                  2—3 деталей.","Создаёт постройки «по сюжету» (дом, машина и т.д.)."]
[{"$nulls":9},"Конструирует несложные постройки из                  2—3 деталей.","Создаёт постройки «по сюжету» (дом, машина и т.д.)."]
[{"$nulls":9},"Конструирует несложные постройки из                  2—3 деталей.","Создаёт постройки «по сюжету» (дом, машина и т.д.)."]
[{"$nulls":9},"Конструирует несложные постройки из                  2—3 деталей.","Создаёт постройки «по сюжету» (дом, машина и т.д.)."]
[{"$nulls":9},"Конструирует несложные постройки из                  2—3 деталей.","Создаёт постройки «по сюжету» (дом, машина и т.д.)."]
[{"$nulls":9},"Конструирует несложные постройки из                  2—3 деталей.","Создаёт постройки «по сюжету» (дом, машина и т.д.)."]
[{"$nulls":9},"Конструирует несложные постройки из                  2—3 деталей.","Создаёт постройки «по сюжету» (дом, машина и т.д.)."]
[{"$nulls":9},"Конструирует несложные постройки из                  2—3 деталей.","Создаёт постройки «по сюжету» (дом, машина и т.д.)."]
[{"$nulls":9},"Конструирует несложные постройки из                  2—3 деталей.","Создаёт постройки «по сюжету» (дом, машина и т.д.)."]
[{"$nulls":9},"Конструирует несложные постройки из                  2—3 деталей.","Создаёт постройки «по сюжету» (дом, машина и т.д.)."]
[{"$nulls":9},"Конструирует несложные постройки из                  2—3 деталей.","Создаёт постройки «по сюжету» (дом, машина и т.д.)."]
[{"$nulls":9},"Конструирует несложные постройки из                  2—3 деталей.","Создаёт постройки «по сюжету» (дом, машина и т.д.)."]
[{"$nulls":9},"Конструирует несложные постройки из                  2—3 деталей.","Создаёт постройки «по сюжету» (дом, машина и т.д.)."]
[{"$nulls":9},"Конструирует несложные постройки из                  2—3 деталей.","Создаёт постройки «по сюжету» (дом, машина и т.д.)."]
[{"$nulls":9},"Конструирует несложные постройки из                  2—3 деталей.","Создаёт постройки «по сюжету» (дом, машина и т.д.)."]
[{"$nulls":9},"Конструирует несложные постройки из                  2—3 деталей.","Создаёт постройки «по сюжету» (дом, машина и т.д.)."]
[{"$nulls":9},"Конструирует несложные постройки из                  2—3 деталей.","Создаёт постройки «по сюжету» (дом, машина и т.д.)."]
[{"$nulls":9},"Конструирует несложные постройки из                  2—3 деталей.","Создаёт постройки «по сюжету» (дом, машина и т.д.)."]
[{"$nulls":9},"Конструирует несложные постройки из                  2—3 деталей.","Создаёт постройки «по сюжету» (дом, машина и т.д.)."]
[{"$nulls":9},"Конструирует несложные постройки из                  2—3 деталей.","Создаёт постройки «по сюжету» (дом, машина и т.д.)."]
[{"$nulls":9},"Конструирует несложные постройки из                  2—3 деталей.","Создаёт постройки «по сюжету» (дом, машина и т.д.)."]
[{"$nulls":9},"Конструирует несложные постройки из                  2—3 деталей.","Создаёт постройки «по сюжету» (дом, машина и т.д.)."]
[{"$nulls":9},"Конструирует несложные постройки из                  2—3 деталей.","Создаёт постройки «по сюжету» (дом, машина и т.д.)."]
[{"$nulls":9},"Конструирует несложные постройки из                  2—3 деталей.","Создаёт постройки «по сюжету» (дом, машина и т.д.)."]
[{"$nulls":9},"Конструирует несложные постройки из                  2—3 деталей.","Создаёт постройки «по сюжету» (дом, машина и т.д.)."]
[{"$nulls":9},"Конструирует несложные постройки из                  2—3 деталей.","Создаёт постройки «по сюжету» (дом, машина и т.д.)."]
[{"$nulls":9},"Конструирует несложные постройки из                  2—3 деталей.","Создаёт постройки «по сюжету» (дом, машина и т.д.)."]
[{"$nulls":9},"Конструирует несложные постройки из                  2—3 деталей.","Создаёт постройки «по сюжету» (дом, машина и т.д.)."]
[{"$nulls":9},"Конструирует несложные постройки из                  2—3 деталей.","Создаёт постройки «по сюжету» (дом, машина и т.д.)."]
[{"$nulls":9},"Конструирует несложные постройки из                  2—3 деталей.","Создаёт постройки «по сюжету» (дом, машина и т.д.)."]
[{"$nulls":9},"Конструирует несложные постройки из                  2—3 деталей.","Создаёт постройки «по сюжету» (дом, машина и т.д.)."]
[{"$nulls":9},"Конструирует несложные постройки из                  2—3 деталей.","Создаёт постройки «по сюжету» (дом, машина и т.д.)."]
[{"$nulls":9},"Конструирует несложные постройки из                  2—3 деталей.","Создаёт постройки «по сюжету» (дом, машина и т.д.)."]
[{"$nulls":9},"Конструирует несложные постройки из                  2—3 деталей.","Создаёт постройки «по сюжету» (дом, машина и т.д.)."]
[{"$nulls":9},"Конструирует несложные постройки из                  2—3 деталей.","Создаёт постройки «по сюжету» (дом, машина и т.д.)."]
[{"$nulls":9},"Конструирует несложные постройки из                  2—3 деталей.","Создаёт постройки «по сюжету» (дом, машина и т.д.)."]
[{"$nulls":9},"Конструирует несложные постройки из                  2—3 деталей.","Создаёт постройки «по сюжету» (дом, машина и т.д.)."]
[{"$nulls":9},"Конструирует несложные постройки из                  2—3 деталей.","Создаёт постройки «по сюжету» (дом, машина и т.д.)."]
[{"$nulls":9},"Конструирует несложные постройки из                  2—3 деталей.","Создаёт постройки «по сюжету» (дом, машина и т.д.)."]
[{"$nulls":9},"Конструирует несложные постройки из                  2—3 деталей.","Создаёт постройки «по сюжету» (дом, машина и т.д.)."]
[{"$nulls":9},"Конструирует несложные постройки из                  2—3 деталей.","Создаёт постройки «по сюжету» (дом, машина и т.д.)."]
[{"$nulls":9},"Конструирует несложные постройки из                  2—3 деталей.","Создаёт постройки «по сюжету» (дом, машина и т.д.)."]
[{"$nulls":9},"Конструирует несложные постройки из                  2—3 деталей.","Создаёт постройки «по сюжету» (дом, машина и т.д.)."]
[{"$nulls":9},"Конструирует несложные постройки из                  2—3 деталей.","Создаёт постройки «по сюжету» (дом, машина и т.д.)."]
[{"$nulls":9},"Конструирует несложные постройки из                  2—3 деталей.","Создаёт постройки «по сюжету» (дом, машина и т.д.)."]
[{"$nulls":9},"Конструирует несложные постройки из                  2—3 деталей.","Создаёт постройки «по сюжету» (дом, машина и т.д.)."]
[{"$nulls":9},"Конструирует несложные постройки из                  2—3 деталей.","Создаёт постройки «по сюжету» (дом, машина и т.д.)."]
[{"$nulls":9},"Конструирует несложные постройки из                  2—3 деталей.","Создаёт постройки «по сюжету» (дом, машина и т.д.)."]
[{"$nulls":9},"Конструирует несложные постройки из                  2—3 деталей.","Создаёт постройки «по сюжету» (дом, машина и т.д.)."]
[{"$nulls":9},"Конструирует несложные постройки из                  2—3 деталей.","Создаёт постройки «по сюжету» (дом, машина и т.д.)."]
[{"$nulls":9},"Конструирует несложные постройки из                  2—3 деталей.","Создаёт постройки «по сюжету» (дом, машина и т.д.)."]
[{"$nulls":9},"Конструирует несложные постройки из                  2—3 деталей.","Создаёт постройки «по сюжету» (дом, машина и т.д.)."]
[{"$nulls":9},"Конструирует несложные постройки из                  2—3 деталей.","Создаёт постройки «по сюжету» (дом, машина и т.д.)."]
[{"$nulls":9},"Конструирует несложные постройки из                  2—3 деталей.","Создаёт постройки «по сюжету» (дом, машина и т.д.)."]
[{"$nulls":9},"Конструирует несложные постройки из                  2—3 деталей.","Создаёт постройки «по сюжету» (дом, машина и т.д.)."]
[{"$nulls":9},"Конструирует несложные постройки из                  2—3 деталей.","Создаёт постройки «по сюжету» (дом, машина и т.д.)."]
[{"$nulls":9},"Конструирует несложные постройки из                  2—3 деталей.","Создаёт постройки «по сюжету» (дом, машина и т.д.)."]
[{"$nulls":9},"Конструирует несложные постройки из                  2—3 деталей.","Создаёт постройки «по сюжету» (дом, машина и т.д.)."]
[{"$nulls":9},"Конструирует несложные постройки из                  2—3 деталей.","Создаёт постройки «по сюжету» (дом, машина и т.д.)."]
[{"$nulls":9},"Конструирует несложные постройки из                  2—3 деталей.","Создаёт постройки «по сюжету» (дом, машина и т.д.)."]
[{"$nulls":9},"Конструирует несложные постройки из                  2—3 деталей.","Создаёт постройки «по сюжету» (дом, машина и т.д.)."]
[{"$nulls":9},"Конструирует несложные постройки из                  2—3 деталей.","Создаёт постройки «по сюжету» (дом, машина и т.д.)."]
[{"$nulls":9},"Конструирует несложные постройки из                  2—3 деталей.","Создаёт постройки «по сюжету» (дом, машина и т.д.)."]
[{"$nulls":9},"Конструирует несложные постройки из                  2—3 деталей.","Создаёт постройки «по сюжету» (дом, машина и т.д.)."]
[{"$nulls":9},"Конструирует несложные постройки из                  2—3 деталей.","Создаёт постройки «по сюжету» (дом, машина и т.д.)."]
[{"$nulls":9},"Конструирует несложные постройки из                  2—3 деталей.","Создаёт постройки «по сюжету» (дом, машина и т.д.)."]
[{"$nulls":9},"Конструирует несложные постройки из                  2—3 деталей.","Создаёт постройки «по сюжету» (дом, машина и т.д.)."]
[{"$nulls":9},"Конструирует несложные постройки из                  2—3 деталей.","Создаёт постройки «по сюжету» (дом, машина и т.д.)."]
[{"$nulls":9},"Конструирует несложные постройки из                  2—3 деталей.","Создаёт постройки «по сюжету» (дом, машина и т.д.)."]
[{"$nulls":9},"Конструирует несложные постройки из                  2—3 деталей.","Создаёт постройки «по сюжету» (дом, машина и т.д.)."]
[{"$nulls":9},"Конструирует несложные постройки из                  2—3 деталей.","Создаёт постройки «по сюжету» (дом, машина и т.д.)."]
[{"$nulls":9},"Конструирует несложные постройки из                  2—3 деталей.","Создаёт постройки «по сюжету» (дом, машина и т.д.)."]
[{"$nulls":9},"Конструирует несложные постройки из                  2—3 деталей.","Создаёт постройки «по сюжету» (дом, машина и т.д.)."]
[{"$nulls":9},"Конструирует несложные постройки из                  2—3 деталей.","Создаёт постройки «по сюжету» (дом, машина и т.д.)."]
[{"$nulls":9},"Конструирует несложные постройки из                  2—3 деталей.","Создаёт постройки «по сюжету» (дом, машина и т.д.)."]
[{"$nulls":9},"Конструирует несложные постройки из                  2—3 деталей.","Создаёт постройки «по сюжету» (дом, машина и т.д.)."]
[{"$nulls":9},"Конструирует несложные постройки из                  2—3 деталей.","Создаёт постройки «по сюжету» (дом, машина и т.д.)."]
[{"$nulls":9},"Конструирует несложные постройки из                  2—3 деталей.","Создаёт постройки «по сюжету» (дом, машина и т.д.)."]
[{"$nulls":9},"Конструирует несложные постройки из                  2—3 деталей.","Создаёт постройки «по сюжету» (дом, машина и т.д.)."]
[{"$nulls":9},"Конструирует несложные постройки из                  2—3 деталей.","Создаёт постройки «по сюжету» (дом, машина и т.д.)."]
[{"$nulls":9},"Конструирует несложные постройки из                  2—3 деталей.","Создаёт постройки «по сюжету» (дом, машина и т.д.)."]
[{"$nulls":9},"Конструирует несложные постройки из                  2—3 деталей.","Создаёт постройки «по сюжету» (дом, машина и т.д.)."]
[{"$nulls":9},"Конструирует несложные постройки из                  2—3 деталей.","Создаёт постройки «по сюжету» (дом, машина и т.д.)."]
[{"$nulls":9},"Конструирует несложные постройки из                  2—3 деталей.","Создаёт постройки «по сюжету» (дом, машина и т.д.)."]
[{"$nulls":9},"Конструирует несложные постройки из                  2—3 деталей.","Создаёт постройки «по сюжету» (дом, машина и т.д.)."]
[{"$nulls":9},"Конструирует несложные постройки из                  2—3 деталей.","Создаёт постройки «по сюжету» (дом, машина и т.д.)."]
[{"$nulls":9},"Конструирует несложные постройки из                  2—3 деталей.","Создаёт постройки «по сюжету» (дом, машина и т.д.)."]
[{"$nulls":9},"Конструирует несложные постройки из                  2—3 деталей.","Создаёт постройки «по сюжету» (дом, машина и т.д.)."]
[{"$nulls":9},"Конструирует несложные постройки из                  2—3 деталей.","Создаёт постройки «по сюжету» (дом, машина и т.д.)."]
[{"$nulls":9},"Конструирует несложные постройки из                  2—3 деталей.","Создаёт постройки «по сюжету» (дом, машина и т.д.)."]
[{"$nulls":9},"Конструирует несложные постройки из                  2—3 деталей.","Создаёт постройки «по сюжету» (дом, машина и т.д.)."]
[{"$nulls":9},"Конструирует несложные постройки из                  2—3 деталей.","Создаёт постройки «по сюжету» (дом, машина и т.д.)."]
[{"$nulls":9},"Конструирует несложные постройки из                  2—3 деталей.","Создаёт постройки «по сюжету» (дом, машина и т.д.)."]
[{"$nulls":9},"Конструирует несложные постройки из                  2—3 деталей.","Создаёт постройки «по сюжету» (дом, машина и т.д.)."]
[{"$nulls":9},"Конструирует несложные постройки из                  2—3 деталей.","Создаёт постройки «по сюжету» (дом, машина и т.д.)."]
[{"$nulls":9},"Конструирует несложные постройки из                  2—3 деталей.","Создаёт постройки «по сюжету» (дом, машина и т.д.)."]
[{"$nulls":9},"Конструирует несложные постройки из                  2—3 деталей.","Создаёт постройки «по сюжету» (дом, машина и т.д.)."]
[{"$nulls":9},"Конструирует несложные постройки из                  2—3 деталей.","Создаёт постройки «по сюжету» (дом, машина и т.д.)."]
[{"$nulls":9},"Конструирует несложные постройки из                  2—3 деталей.","Создаёт постройки «по сюжету» (дом, машина и т.д.)."]
[{"$nulls":9},"Конструирует несложные постройки из                  2—3 деталей.","Создаёт постройки «по сюжету» (дом, машина и т.д.)."]
[{"$nulls":9},"Конструирует несложные постройки из                  2—3 деталей.","Создаёт постройки «по сюжету» (дом, машина и т.д.)."]
[{"$nulls":9},"Конструирует несложные постройки из                  2—3 деталей.","Создаёт постройки «по сюжету» (дом, машина и т.д.)."]
[{"$nulls":9},"Конструирует несложные постройки из                  2—3 деталей.","Создаёт постройки «по сюжету» (дом, машина и т.д.)."]
[{"$nulls":9},"Конструирует несложные постройки из                  2—3 деталей.","Создаёт постройки «по сюжету» (дом, машина и т.д.)."]
[{"$nulls":9},"Конструирует несложные постройки из                  2—3 деталей.","Создаёт постройки «по сюжету» (дом, машина и т.д.)."]
[{"$nulls":9},"Конструирует несложные постройки из                  2—3 деталей.","Создаёт постройки «по сюжету» (дом, машина и т.д.)."]
[{"$nulls":9},"Конструирует несложные постройки из                  2—3 деталей.","Создаёт постройки «по сюжету» (дом, машина и т.д.)."]
[{"$nulls":9},"Конструирует несложные постройки из                  2—3 деталей.","Создаёт постройки «по сюжету» (дом, машина и т.д.)."]
[{"$nulls":9},"Конструирует несложные постройки из                  2—3 деталей.","Создаёт постройки «по сюжету» (дом, машина и т.д.)."]
[{"$nulls":9},"Конструирует несложные постройки из                  2—3 деталей.","Создаёт постройки «по сюжету» (дом, машина и т.д.)."]
[{"$nulls":9},"Конструирует несложные постройки из                  2—3 деталей.","Создаёт постройки «по сюжету» (дом, машина и т.д.)."]
[{"$nulls":9},"Конструирует несложные постройки из                  2—3 деталей.","Создаёт постройки «по сюжету» (дом, машина и т.д.)."]
[{"$nulls":9},"Конструирует несложные постройки из                  2—3 деталей.","Создаёт постройки «по сюжету» (дом, машина и т.д.)."]
[{"$nulls":9},"Конструирует несложные постройки из                  2—3 деталей.","Создаёт постройки «по сюжету» (дом, машина и т.д.)."]
[{"$nulls":9},"Конструирует несложные постройки из                  2—3 деталей.","Создаёт постройки «по сюжету» (дом, машина и т.д.)."]
[{"$nulls":9},"Конструирует несложные постройки из                  2—3 деталей.","Создаёт постройки «по сюжету» (дом, машина и т.д.)."]
[{"$nulls":9},"Конструирует несложные постройки из                  2—3 деталей.","Создаёт постройки «по сюжету» (дом, машина и т.д.)."]
[{"$nulls":9},"Конструирует несложные постройки из                  2—3 деталей.","Создаёт постройки «по сюжету» (дом, машина и т.д.)."]
[{"$nulls":9},"Конструирует несложные постройки из                  2—3 деталей.","Создаёт постройки «по сюжету» (дом, машина и т.д.)."]
[{"$nulls":9},"Конструирует несложные постройки из                  2—3 деталей.","Создаёт постройки «по сюжету» (дом, машина и т.д.)."]
[{"$nulls":9},"Конструирует несложные постройки из                  2—3 деталей.","Создаёт постройки «по сюжету» (дом, машина и т.д.)."]
[{"$nulls":9},"Конструирует несложные постройки из                  2—3 деталей.","Создаёт постройки «по сюжету» (дом, машина и т.д.)."]
[{"$nulls":9},"Конструирует несложные постройки из                  2—3 деталей.","Создаёт постройки «по сюжету» (дом, машина и т.д.)."]
[{"$nulls":9},"Конструирует несложные постройки из                  2—3 деталей.","Создаёт постройки «по сюжету» (дом, машина и т.д.)."]
[{"$nulls":9},"Конструирует несложные постройки из                  2—3 деталей.","Создаёт постройки «по сюжету» (дом, машина и т.д.)."]
[{"$nulls":9},"Конструирует несложные постройки из                  2—3 деталей.","Создаёт постройки «по сюжету» (дом, машина и т.д.)."]
[{"$nulls":9},"Конструирует несложные постройки из                  2—3 деталей.","Создаёт постройки «по сюжету» (дом, машина и т.д.)."]
[{"$nulls":9},"Конструирует несложные постройки из                  2—3 деталей.","Создаёт постройки «по сюжету» (дом, машина и т.д.)."]
[{"$nulls":9},"Конструирует несложные постройки из                  2—3 деталей.","Создаёт постройки «по сюжету» (дом, машина и т.д.)."]
[{"$nulls":9},"Конструирует несложные постройки из                  2—3 деталей.","Создаёт постройки «по сюжету» (дом, машина и т.д.)."]
[{"$nulls":9},"Конструирует несложные постройки из                  2—3 деталей.","Создаёт постройки «по сюжету» (дом, машина и т.д.)."]
[{"$nulls":9},"Конструирует несложные постройки из                  2—3 деталей.","Создаёт постройки «по сюжету» (дом, машина и т.д.)."]
[{"$nulls":9},"Конструирует несложные постройки из                  2—3 деталей.","Создаёт постройки «по сюжету» (дом, машина и т.д.)."]
[{"$nulls":9},"Конструирует несложные постройки из                  2—3 деталей.","Создаёт постройки «по сюжету» (дом, машина и т.д.)."]
[{"$nulls":9},"Конструирует несложные постройки из                  2—3 деталей.","Создаёт постройки «по сюжету» (дом, машина и т.д.)."]
[{"$nulls":9},"Конструирует несложные постройки из                  2—3 деталей.","Создаёт постройки «по сюжету» (дом, машина и т.д.)."]
[{"$nulls":9},"Конструирует несложные постройки из                  2—3 деталей.","Создаёт постройки «по сюжету» (дом, машина и т.д.)."]
[{"$nulls":9},"Конструирует несложные постройки из                  2—3 деталей.","Создаёт постройки «по сюжету» (дом, машина и т.д.)."]
[{"$nulls":9},"Конструирует несложные постройки из                  2—3 деталей.","Создаёт постройки «по сюжету» (дом, машина и т.д.)."]
[{"$nulls":9},"Конструирует несложные постройки из                  2—3 деталей.","Создаёт постройки «по сюжету» (дом, машина и т.д.)."]
[{"$nulls":9},"Конструирует несложные постройки из                  2—3 деталей.","Создаёт постройки «по сюжету» (дом, машина и т.д.)."]
[{"$nulls":9},"Конструирует несложные постройки из                  2—3 деталей.","Создаёт постройки «по сюжету» (дом, машина и т.д.)."]
[{"$nulls":9},"Конструирует несложные постройки из                  2—3 деталей.","Создаёт постройки «по сюжету» (дом, машина и т.д.)."]
[{"$nulls":9},"Конструирует несложные постройки из                  2—3 деталей.","Создаёт постройки «по сюжету» (дом, машина и т.д.)."]
[{"$nulls":9},"Конструирует несложные постройки из                  2—3 деталей.","Создаёт постройки «по сюжету» (дом, машина и т.д.)."]
[{"$nulls":9},"Конструирует несложные постройки из                  2—3 деталей.","Создаёт постройки «по сюжету» (дом, машина и т.д.)."]
[{"$nulls":9},"Конструирует несложные постройки из                  2—3 деталей.","Создаёт постройки «по сюжету» (дом, машина и т.д.)."]
[{"$nulls":9},"Конструирует несложные постройки из                  2—3 деталей.","Создаёт постройки «по сюжету» (дом, машина и т.д.)."]
[{"$nulls":9},"Конструирует несложные постройки из                  2—3 деталей.","Создаёт постройки «по сюжету» (дом, машина и т.д.)."]
[{"$nulls":9},"Конструирует несложные постройки из                  2—3 деталей.","Создаёт постройки «по сюжету» (дом, машина и т.д.)."]
[{"$nulls":9},"Конструирует несложные постройки из                  2—3 деталей.","Создаёт постройки «по сюжету» (дом, машина и т.д.)."]
[{"$nulls":9},"Конструирует несложные постройки из                  2—3 деталей.","Создаёт постройки «по сюжету» (дом, машина и т.д.)."]
[{"$nulls":9},"Конструирует несложные постройки из                  2—3 деталей.","Создаёт постройки «по сюжету» (дом, машина и т.д.)."]
[{"$nulls":9},"Конструирует несложные постройки из                  2—3 деталей.","Создаёт постройки «по сюжету» (дом, машина и т.д.)."]
[{"$nulls":9},"Конструирует несложные постройки из                  2—3 деталей.","Создаёт постройки «по сюжету» (дом, машина и т.д.)."]
[{"$nulls":9},"Конструирует несложные постройки из                  2—3 деталей.","Создаёт постройки «по сюжету» (дом, машина и т.д.)."]
[{"$nulls":9},"Конструирует несложные постройки из                  2—3 деталей.","Создаёт постройки «по сюжету» (дом, машина и т.д.)."]
[{"$nulls":9},"Конструирует несложные постройки из                  2—3 деталей.","Создаёт постройки «по сюжету» (дом, машина и т.д.)."]
[{"$nulls":9},"Конструирует несложные постройки из                  2—3 деталей.","Создаёт постройки «по сюжету» (дом, машина и т.д.)."]
[{"$nulls":9},"Конструирует несложные постройки из                  2—3 деталей.","Создаёт постройки «по сюжету» (дом, машина и т.д.)."]
[{"$nulls":9},"Конструирует несложные постройки из                  2—3 деталей.","Создаёт постройки «по сюжету» (дом, машина и т.д.)."]
[{"$nulls":9},"Конструирует несложные постройки из                  2—3 деталей.","Создаёт постройки «по сюжету» (дом, машина и т.д.)."]
[{"$nulls":9},"Конструирует несложные постройки из                  2—3 деталей.","Создаёт постройки «по сюжету» (дом, машина и т.д.)."]
[{"$nulls":9},"Конструирует несложные постройки из                  2—3 деталей.","Создаёт постройки «по сюжету» (дом, машина и т.д.)."]
[{"$nulls":9},"Конструирует несложные постройки из                  2—3 деталей.","Создаёт постройки «по сюжету» (дом, машина и т.д.)."]
[{"$nulls":9},"Конструирует несложные постройки из                  2—3 деталей.","Создаёт постройки «по сюжету» (дом, машина и т.д.)."]
[{"$nulls":9},"Конструирует несложные постройки из                  2—3 деталей.","Создаёт постройки «по сюжету» (дом, машина и т.д.)."]
[{"$nulls":9},"Конструирует несложные постройки из                  2—3 деталей.","Создаёт постройки «по сюжету» (дом, машина и т.д.)."]
[{"$nulls":9},"Конструирует несложные постройки из                  2—3 деталей.","Создаёт постройки «по сюжету» (дом, машина и т.д.)."]
[{"$nulls":9},"Конструирует несложные постройки из                  2—3 деталей.","Создаёт постройки «по сюжету» (дом, машина и т.д.)."]
[{"$nulls":9},"Конструирует несложные постройки из                  2—3 деталей.","Создаёт постройки «по сюжету» (дом, машина и т.д.)."]
[{"$nulls":9},"Конструирует несложные постройки из                  2—3 деталей.","Создаёт постройки «по сюжету» (дом, машина и т.д.)."]
[{"$nulls":9},"Конструирует несложные постройки из                  2—3 деталей.","Создаёт постройки «по сюжету» (дом, машина и т.д.)."]
[{"$nulls":9},"Конструирует несложные постройки из                  2—3 деталей.","Создаёт постройки «по сюжету» (дом, машина и т.д.)."]
[{"$nulls":9},"Конструирует несложные постройки из                  2—3 деталей.","Создаёт постройки «по сюжету» (дом, машина и т.д.)."]
[{"$nulls":9},"Конструирует несложные постройки из                  2—3 деталей.","Создаёт постройки «по сюжету» (дом, машина и т.д.)."]
[{"$nulls":9},"Конструирует несложные постройки из                  2—3 деталей.","Создаёт постройки «по сюжету» (дом, машина и т.д.)."]
[{"$nulls":9},"Конструирует несложные постройки из                  2—3 деталей.","Создаёт постройки «по сюжету» (дом, машина и т.д.)."]
[{"$nulls":9},"Конструирует несложные постройки из                  2—3 деталей.","Создаёт постройки «по сюжету» (дом, машина и т.д.)."]
[{"$nulls":9},"Конструирует несложные постройки из                  2—3 деталей.","Создаёт постройки «по сюжету» (дом, машина и т.д.)."]
[{"$nulls":9},"Конструирует несложные постройки из                  2—3 деталей.","Создаёт постройки «по сюжету» (дом, машина и т.д.)."]
[{"$nulls":9},"Конструирует несложные постройки из                  2—3 деталей.","Создаёт постройки «по сюжету» (дом, машина и т.д.)."]
[{"$nulls":9},"Конструирует несложные постройки из                  2—3 деталей.","Создаёт постройки «по сюжету» (дом, машина и т.д.)."]
[{"$nulls":9},"Конструирует несложные постройки из                  2—3 деталей.","Создаёт постройки «по сюжету» (дом, машина и т.д.)."]
[{"$nulls":9},"Конструирует несложные постройки из                  2—3 деталей.","Создаёт постройки «по сюжету» (дом, машина и т.д.)."]
[{"$nulls":9},"Конструирует несложные постройки из                  2—3 деталей.","Создаёт постройки «по сюжету» (дом, машина и т.д.)."]
[{"$nulls":9},"Конструирует несложные постройки из                  2—3 деталей.","Создаёт постройки «по сюжету» (дом, машина и т.д.)."]
[{"$nulls":9},"Конструирует несложные постройки из                  2—3 деталей.","Создаёт постройки «по сюжету» (дом, машина и т.д.)."]
[{"$nulls":9},"Конструирует несложные постройки из                  2—3 деталей.","Создаёт постройки «по сюжету» (дом, машина и т.д.)."]
[{"$nulls":9},"Конструирует несложные постройки из                  2—3 деталей.","Создаёт постройки «по сюжету» (дом, машина и т.д.)."]
[{"$nulls":9},"Конструирует несложные постройки из                  2—3 деталей.","Создаёт постройки «по сюжету» (дом, машина и т.д.)."]
[{"$nulls":9},"Конструирует несложные постройки из                  2—3 деталей.","Создаёт постройки «по сюжету» (дом, машина и т.д.)."]
[{"$nulls":9},"Конструирует несложные постройки из                  2—3 деталей.","Создаёт постройки «по сюжету» (дом, машина и т.д.)."]
[{"$nulls":9},"Конструирует несложные постройки из                  2—3 деталей.","Создаёт постройки «по сюжету» (дом, машина и т.д.)."]
[{"$nulls":9},"Конструирует несложные постройки из                  2—3 деталей.","Создаёт постройки «по сюжету» (дом, машина и т.д.)."]
[{"$nulls":9},"Конструирует несложные постройки из                  2—3 деталей.","Создаёт постройки «по сюжету» (дом, машина и т.д.)."]
[{"$nulls":9},"Конструирует несложные постройки из                  2—3 деталей.","Создаёт постройки «по сюжету» (дом, машина и т.д.)."]
[{"$nulls":9},"Конструирует несложные постройки из                  2—3 деталей.","Создаёт постройки «по сюжету» (дом, машина и т.д.)."]
[{"$nulls":9},"Конструирует несложные постройки из                  2—3 деталей.","Создаёт постройки «по сюжету» (дом, машина и т.д.)."]
[{"$nulls":9},"Конструирует несложные постройки из                  2—3 деталей.","Создаёт постройки «по сюжету» (дом, машина и т.д.)."]
[{"$nulls":9},"Конструирует несложные постройки из                  2—3 деталей.","Создаёт постройки «по сюжету» (дом, машина и т.д.)."]
[{"$nulls":9},"Конструирует несложные постройки из                  2—3 деталей.","Создаёт постройки «по сюжету» (дом, машина и т.д.)."]
[{"$nulls":9},"Конструирует несложные постройки из                  2—3 деталей.","Создаёт постройки «по сюжету» (дом, машина и т.д.)."]
[{"$nulls":9},"Конструирует несложные постройки из                  2—3 деталей.","Создаёт постройки «по сюжету» (дом, машина и т.д.)."]
[{"$nulls":9},"Конструирует несложные постройки из                  2—3 деталей.","Создаёт постройки «по сюжету» (дом, машина и т.д.)."]
[{"$nulls":9},"Конструирует несложные постройки из                  2—3 деталей.","Создаёт постройки «по сюжету» (дом, машина и т.д.)."]
[{"$nulls":9},"Конструирует несложные постройки из                  2—3 деталей.","Создаёт постройки «по сюжету» (дом, машина и т.д.)."]
[{"$nulls":9},"Конструирует несложные постройки из                  2—3 деталей.","Создаёт постройки «по сюжету» (дом, машина и т.д.)."]
[{"$nulls":9},"Конструирует несложные постройки из                  2—3 деталей.","Создаёт постройки «по сюжету» (дом, машина и т.д.)."]
[{"$nulls":9},"Конструирует несложные постройки из                  2—3 деталей.","Создаёт постройки «по сюжету» (дом, машина и т.д.)."]
[{"$nulls":9},"Конструирует несложные постройки из                  2—3 деталей.","Создаёт постройки «по сюжету» (дом, машина и т.д.)."]
[{"$nulls":9},"Конструирует несложные постройки из                  2—3 деталей.","Создаёт постройки «по сюжету» (дом, машина и т.д.)."]
[{"$nulls":9},"Конструирует несложные постройки из                  2—3 деталей.","Создаёт постройки «по сюжету» (дом, машина и т.д.)."]
[{"$nulls":9},"Конструирует несложные постройки из                  2—3 деталей.","Создаёт постройки «по сюжету» (дом, машина и т.д.)."]
[{"$nulls":9},"Конструирует несложные постройки из                  2—3 деталей.","Создаёт постройки «по сюжету» (дом, машина и т.д.)."]
[{"$nulls":9},"Конструирует несложные постройки из                  2—3 деталей.","Создаёт постройки «по сюжету» (дом, машина и т.д.)."]
[{"$nulls":9},"Конструирует несложные постройки из                  2—3 деталей.","Создаёт постройки «по сюжету» (дом, машина и т.д.)."]
[{"$nulls":9},"Конструирует несложные постройки из                  2—3 деталей.","Создаёт постройки «по сюжету» (дом, машина и т.д.)."]
[{"$nulls":9},"Конструирует несложные постройки из                  2—3 деталей.","Создаёт постройки «по сюжету» (дом, машина и т.д.)."]
[{"$nulls":9},"Конструирует несложные постройки из                  2—3 деталей.","Создаёт постройки «по сюжету» (дом, машина и т.д.)."]
[{"$nulls":9},"Конструирует несложные постройки из                  2—3 деталей.","Создаёт постройки «по сюжету» (дом, машина и т.д.)."]
[{"$nulls":9},"Конструирует несложные постройки из                  2—3 деталей.","Создаёт постройки «по сюжету» (дом, машина и т.д.)."]
[{"$nulls":9},"Конструирует несложные постройки из                  2—3 деталей.","Создаёт постройки «по сюжету» (дом, машина и т.д.)."]
[{"$nulls":9},"Конструирует несложные постройки из                  2—3 деталей.","Создаёт постройки «по сюжету» (дом, машина и т.д.)."]
[{"$nulls":9},"Конструирует несложные постройки из                  2—3 деталей.","Создаёт постройки «по сюжету» (дом, машина и т.д.)."]
[{"$nulls":9},"Конструирует несложные постройки из                  2—3 деталей.","Создаёт постройки «по сюжету» (дом, машина и т.д.)."]
[{"$nulls":9},"Конструирует несложные постройки из                  2—3 деталей.","Создаёт постройки «по сюжету» (дом, машина и т.д.)."]
[{"$nulls":9},"Конструирует несложные постройки из                  2—3 деталей.","Создаёт постройки «по сюжету» (дом, машина и т.д.)."]
[{"$nulls":9},"Конструирует несложные постройки из                  2—3 деталей.","Создаёт постройки «по сюжету» (дом, машина и т.д.)."]
[{"$nulls":9},"Конструирует несложные постройки из                  2—3 деталей.","Создаёт постройки «по сюжету» (дом, машина и т.д.)."]
[{"$nulls":9},"Конструирует несложные постройки из                  2—3 деталей.","Создаёт постройки «по сюжету» (дом, машина и т.д.)."]
[{"$nulls":9},"Конструирует несложные постройки из                  2—3 деталей.","Создаёт постройки «по сюжету» (дом, машина и т.д.)."]
[{"$nulls":9},"Конструирует несложные постройки из                  2—3 деталей.","Создаёт постройки «по сюжету» (дом, машина и т.д.)."]
[{"$nulls":9},"Конструирует несложные постройки из                  2—3 деталей.","Создаёт постройки «по сюжету» (дом, машина и т.д.)."]
[{"$nulls":9},"Конструирует несложные постройки из                  2—3 деталей.","Создаёт постройки «по сюжету» (дом, машина и т.д.)."]
[{"$nulls":9},"Конструирует несложные постройки из                  2—3 деталей.","Создаёт постройки «по сюжету» (дом, машина и т.д.)."]
[{"$nulls":9},"Конструирует несложные постройки из                  2—3 деталей.","Создаёт постройки «по сюжету» (дом, машина и т.д.)."]
[{"$nulls":9},"Конструирует несложные постройки из                  2—3 деталей.","Создаёт постройки «по сюжету» (дом, машина и т.д.)."]
[{"$nulls":9},"Конструирует несложные постройки из                  2—3 деталей.","Создаёт постройки «по сюжету» (дом, машина и т.д.)."]
[{"$nulls":9},"Конструирует несложные постройки из                  2—3 деталей.","Создаёт постройки «по сюжету» (дом, машина и т.д.)."]
[{"$nulls":9},"Конструирует несложные постройки из                  2—3 деталей.","Создаёт постройки «по сюжету» (дом, машина и т.д.)."]
[{"$nulls":9},"Конструирует несложные постройки из                  2—3 деталей.","Создаёт постройки «по сюжету» (дом, машина и т.д.)."]
[{"$nulls":9},"Конструирует несложные постройки из                  2—3 деталей.","Создаёт постройки «по сюжету» (дом, машина и т.д.)."]
[{"$nulls":9},"Конструирует несложные постройки из                  2—3 деталей.","Создаёт постройки «по сюжету» (дом, машина и т.д.)."]
[{"$nulls":9},"Конструирует несложные постройки из                  2—3 деталей.","Создаёт постройки «по сюжету» (дом, машина и т.д.)."]
[{"$nulls":9},"Конструирует несложные постройки из                  2—3 деталей.","Создаёт постройки «по сюжету» (дом, машина и т.д.)."]
[{"$nulls":9},"Конструирует несложные постройки из                  2—3 деталей.","Создаёт постройки «по сюжету» (дом, машина и т.д.)."]
[{"$nulls":9},"Конструирует несложные постройки из                  2—3 деталей.","Создаёт постройки «по сюжету» (дом, машина и т.д.)."]
[{"$nulls":9},"Конструирует несложные постройки из                  2—3 деталей.","Создаёт постройки «по сюжету» (дом, машина и т.д.)."]
[{"$nulls":9},"Конструирует несложные постройки из                  2—3 деталей.","Создаёт постройки «по сюжету» (дом, машина и т.д.)."]
[{"$nulls":9},"Конструирует несложные постройки из                  2—3 деталей.","Создаёт постройки «по сюжету» (дом, машина и т.д.)."]
[{"$nulls":9},"Конструирует несложные постройки из                  2—3 деталей.","Создаёт постройки «по сюжету» (дом, машина и т.д.)."]
[{"$nulls":9},"Конструирует несложные постройки из                  2—3 деталей.","Создаёт постройки «по сюжету» (дом, машина и т.д.)."]
[{"$nulls":9},"Конструирует несложные постройки из                  2—3 деталей.","Создаёт постройки «по сюжету» (дом, машина и т.д.)."]
[{"$nulls":9},"Конструирует несложные постройки из                  2—3 деталей.","Создаёт постройки «по сюжету» (дом, машина и т.д.)."]
[{"$nulls":9},"Конструирует несложные постройки из                  2—3 деталей.","Создаёт постройки «по сюжету» (дом, машина и т.д.)."]
[{"$nulls":9},"Конструирует несложные постройки из                  2—3 деталей.","Создаёт постройки «по сюжету» (дом, машина и т.д.)."]
[{"$nulls":9},"Конструирует несложные постройки из                  2—3 деталей.","Создаёт постройки «по сюжету» (дом, машина и т.д.)."]
[{"$nulls":9},"Конструирует несложные постройки из                  2—3 деталей.","Создаёт постройки «по сюжету» (дом, машина и т.д.)."]
[{"$nulls":9},"Конструирует несложные постройки из                  2—3 деталей.","Создаёт постройки «по сюжету» (дом, машина и т.д.)."]
[{"$nulls":9},"Конструирует несложные постройки из                  2—3 деталей.","Создаёт постройки «по сюжету» (дом, машина и т.д.)."]
[{"$nulls":9},"Конструирует несложные постройки из                  2—3 деталей.","Создаёт постройки «по сюжету» (дом, машина и т.д.)."]
[{"$nulls":9},"Конструирует несложные постройки из                  2—3 деталей.","Создаёт постройки «по сюжету» (дом, машина и т.д.)."]
[{"$nulls":9},"Конструирует несложные постройки из                  2—3 деталей.","Создаёт постройки «по сюжету» (дом, машина и т.д.)."]
[{"$nulls":9},"Конструирует несложные постройки из                  2—3 деталей.","Создаёт постройки «по сюжету» (дом, машина и т.д.)."]
[{"$nulls":9},"Конструирует несложные постройки из                  2—3 деталей.","Создаёт постройки «по сюжету» (дом, машина и т.д.)."]
[{"$nulls":9},"Конструирует несложные постройки из                  2—3 деталей.","Создаёт постройки «по сюжету» (дом, машина и т.д.)."]
[{"$nulls":9},"Конструирует несложные постройки из                  2—3 деталей.","Создаёт постройки «по сюжету» (дом, машина и т.д.)."]
[{"$nulls":9},"Конструирует несложные постройки из                  2—3 деталей.","Создаёт постройки «по сюжету» (дом, машина и т.д.)."]
[{"$nulls":9},"Конструирует несложные постройки из                  2—3 деталей.","Создаёт постройки «по сюжету» (дом, машина и т.д.)."]
[{"$nulls":9},"Конструирует несложные постройки из                  2—3 деталей.","Создаёт постройки «по сюжету» (дом, машина и т.д.)."]
[{"$nulls":9},"Конструирует несложные постройки из                  2—3 деталей.","Создаёт постройки «по сюжету» (дом, машина и т.д.)."]
[{"$nulls":9},"Конструирует несложные постройки из                  2—3 деталей.","Создаёт постройки «по сюжету» (дом, машина и т.д.)."]
[{"$nulls":9},"Конструирует несложные постройки из                  2—3 деталей.","Создаёт постройки «по сюжету» (дом, машина и т.д.)."]
[{"$nulls":9},"Конструирует несложные постройки из                  2—3 деталей.","Создаёт постройки «по сюжету» (дом, машина и т.д.)."]
[{"$nulls":9},"Конструирует несложные постройки из                  2—3 деталей.","Создаёт постройки «по сюжету» (дом, машина и т.д.)."]
[{"$nulls":9},"Конструирует несложные постройки из                  2—3 деталей.","Создаёт постройки «по сюжету» (дом, машина и т.д.)."]
[{"$nulls":9},"Конструирует несложные постройки из                  2—3 деталей.","Создаёт постройки «по сюжету» (дом, машина и т.д.)."]
[{"$nulls":9},"Конструирует несложные постройки из                  2—3 деталей.","Создаёт постройки «по сюжету» (дом, машина и т.д.)."]
[{"$nulls":9},"Конструирует несложные постройки из                  2—3 деталей.","Создаёт постройки «по сюжету» (дом, машина и т.д.)."]
[{"$nulls":9},"Конструирует несложные постройки из                  2—3 деталей.","Создаёт постройки «по сюжету» (дом, машина и т.д.)."]
[{"$nulls":9},"Конструирует несложные постройки из                  2—3 деталей.","Создаёт постройки «по сюжету» (дом, машина и т.д.)."]
[{"$nulls":9},"Конструирует несложные постройки из                  2—3 деталей.","Создаёт постройки «по сюжету» (дом, машина и т.д.)."]
[{"$nulls":9},"Конструирует несложные постройки из                  2—3 деталей.","Создаёт постройки «по сюжету» (дом, машина и т.д.)."]
[{"$nulls":9},"Конструирует несложные постройки из                  2—3 деталей.","Создаёт постройки «по сюжету» (дом, машина и т.д.)."]
[{"$nulls":9},"Конструирует несложные постройки из                  2—3 деталей.","Создаёт постройки «по сюжету» (дом, машина и т.д.)."]
[{"$nulls":9},"Конструирует несложные постройки из                  2—3 деталей.","Создаёт постройки «по сюжету» (дом, машина и т.д.)."]
[{"$nulls":9},"Конструирует несложные постройки из                  2—3 деталей.","Создаёт постройки «по сюжету» (дом, машина и т.д.)."]
[{"$nulls":9},"Конструирует несложные постройки из                  2—3 деталей.","Создаёт постройки «по сюжету» (дом, машина и т.д.)."]
[{"$nulls":9},"Конструирует несложные постройки из                  2—3 деталей.","Создаёт постройки «по сюжету» (дом, машина и т.д.)."]
[{"$nulls":9},"Конструирует несложные постройки из                  2—3 деталей.","Создаёт постройки «по сюжету» (дом, машина и т.д.)."]
[{"$nulls":9},"Конструирует несложные постройки из                  2—3 деталей.","Создаёт постройки «по сюжету» (дом, машина и т.д.)."]
[{"$nulls":9},"Конструирует несложные постройки из                  2—3 деталей.","Создаёт постройки «по сюжету» (дом, машина и т.д.)."]
[{"$nulls":9},"Конструирует несложные постройки из                  2—3 деталей.","Создаёт постройки «по сюжету» (дом, машина и т.д.)."]
[{"$nulls":9},"Конструирует несложные постройки из                  2—3 деталей.","Создаёт постройки «по сюжету» (дом, машина и т.д.)."]
[{"$nulls":9},"Конструирует несложные постройки из                  2—3 деталей.","Создаёт постройки «по сюжету» (дом, машина и т.д.)."]
[{"$nulls":9},"Конструирует несложные постройки из                  2—3 деталей.","Создаёт постройки «по сюжету» (дом, машина и т.д.)."]
[{"$nulls":9},"Конструирует несложные постройки из                  2—3 деталей.","Создаёт постройки «по сюжету» (дом, машина и т.д.)."]
[{"$nulls":9},"Конструирует несложные постройки из                  2—3 деталей.","Создаёт постройки «по сюжету» (дом, машина и т.д.)."]
[{"$nulls":9},"Конструирует несложные постройки из                  2—3 деталей.","Создаёт постройки «по сюжету» (дом, машина и т.д.)."]
[{"$nulls":9},"Конструирует несложные постройки из                  2—3 деталей.","Создаёт постройки «по сюжету» (дом, машина и т.д.)."]
[{"$nulls":9},"Конструирует несложные постройки из                  2—3 деталей.","Создаёт постройки «по сюжету» (дом, машина и т.д.)."]
[{"$nulls":9},"Конструирует несложные постройки из                  2—3 деталей.","Создаёт постройки «по сюжету» (дом, машина и т.д.)."]
[{"$nulls":9},"Конструирует несложные постройки из                  2—3 деталей.","Создаёт постройки «по сюжету» (дом, машина и т.д.)."]
[{"$nulls":9},"Конструирует несложные постройки из                  2—3 деталей.","Создаёт постройки «по сюжету» (дом, машина и т.д.)."]
[{"$nulls":9},"Конструирует несложные постройки из                  2—3 деталей.","Создаёт постройки «по сюжету» (дом, машина и т.д.)."]
[{"$nulls":9},"Конструирует несложные постройки из                  2—3 деталей.","Создаёт постройки «по сюжету» (дом, машина и т.д.)."]
[{"$nulls":9},"Конструирует несложные постройки из                  2—3 деталей.","Создаёт постройки «по сюжету» (дом, машина и т.д.)."]
[{"$nulls":9},"Конструирует несложные постройки из                  2—3 деталей.","Создаёт постройки «по сюжету» (дом, машина и т.д.)."]
[{"$nulls":9},"Конструирует несложные постройки из                  2—3 деталей.","Создаёт постройки «по сюжету» (дом, машина и т.д.)."]
[{"$nulls":9},"Конструирует несложные постройки из                  2—3 деталей.","Создаёт постройки «по сюжету» (дом, машина и т.д.)."]
[{"$nulls":9},"Конструирует несложные постройки из                  2—3 деталей.","Создаёт постройки «по сюжету» (дом, машина и т.д.)."]
[{"$nulls":9},"Конструирует несложные постройки из                  2—3 деталей.","Создаёт постройки «по сюжету» (дом, машина и т.д.)."]
[{"$nulls":9},"Конструирует несложные постройки из                  2—3 деталей.","Создаёт постройки «по сюжету» (дом, машина и т.д.)."]
[{"$nulls":9},"Конструирует несложные постройки из                  2—3 деталей.","Создаёт постройки «по сюжету» (дом, машина и т.д.)."]
[{"$nulls":9},"Конструирует несложные постройки из                  2—3 деталей.","Создаёт постройки «по сюжету» (дом, машина и т.д.)."]
[{"$nulls":9},"Конструирует несложные постройки из                  2—3 деталей.","Создаёт постройки «по сюжету» (дом, машина и т.д.)."]
[{"$nulls":9},"Конструирует несложные постройки из                  2—3 деталей.","Создаёт постройки «по сюжету» (дом, машина и т.д.)."]
[{"$nulls":9},"Конструирует несложные постройки из                  2—3 деталей.","Создаёт постройки «по сюжету» (дом, машина и т.д.)."]
[{"$nulls":9},"Конструирует несложные постройки из                  2—3 деталей.","Создаёт постройки «по сюжету» (дом, машина и т.д.)."]
[{"$nulls":9},"Конструирует несложные постройки из                  2—3 деталей.","Создаёт постройки «по сюжету» (дом, машина и т.д.)."]
[{"$nulls":9},"Конструирует несложные постройки из                  2—3 деталей.","Создаёт постройки «по сюжету» (дом, машина и т.д.)."]
[{"$nulls":9},"Конструирует несложные постройки из                  2—3 деталей.","Создаёт постройки «по сюжету» (дом, машина и т.д.)."]
[{"$nulls":9},"Конструирует несложные постройки из                  2—3 деталей.","Создаёт постройки «по сюжету» (дом, машина и т.д.)."]
[{"$nulls":9},"Конструирует несложные постройки из                  2—3 деталей.","Создаёт постройки «по сюжету» (дом, машина и т.д.)."]
[{"$nulls":9},"Конструирует несложные постройки из                  2—3 деталей.","Создаёт постройки «по сюжету» (дом, машина и т.д.)."]
[{"$nulls":9},"Конструирует несложные постройки из                  2—3 деталей.","Создаёт постройки «по сюжету» (дом, машина и т.д.)."]
[{"$nulls":9},"Конструирует несложные постройки из                  2—3 деталей.","Создаёт постройки «по сюжету» (дом, машина и т.д.)."]
[{"$nulls":9},"Конструирует несложные постройки из                  2—3 деталей.","Создаёт постройки «по сюжету» (дом, машина и т.д.)."]
[{"$nulls":9},"Конструирует несложные постройки из                  2—3 деталей.","Создаёт постройки «по сюжету» (дом, машина и т.д.)."]
[{"$nulls":9},"Конструирует несложные постройки из                  2—3 деталей.","Создаёт постройки «по сюжету» (дом, машина и т.д.)."]
[{"$nulls":9},"Конструирует несложные постройки из                  2—3 деталей.","Создаёт постройки «по сюжету» (дом, машина и т.д.)."]
[{"$nulls":9},"Конструирует несложные постройки из                  2—3 деталей.","Создаёт постройки «по сюжету» (дом, машина и т.д.)."]
[{"$nulls":9},"Конструирует несложные постройки из                  2—3 деталей.","Создаёт постройки «по сюжету» (дом, машина и т.д.)."]
[{"$nulls":9},"Конструирует несложные постройки из                  2—3 деталей.","Создаёт постройки «по сюжету» (дом, машина и т.д.)."]
[{"$nulls":9},"Конструирует несложные постройки из                  2—3 деталей.","Создаёт постройки «по сюжету» (дом, машина и т.д.)."]
[{"$nulls":9},"Конструирует несложные постройки из                  2—3 деталей.","Создаёт постройки «по сюжету» (дом, машина и т.д.)."]
[{"$nulls":9},"Конструирует несложные постройки из                  2—3 деталей.","Создаёт постройки «по сюжету» (дом, машина и т.д.)."]
[{"$nulls":9},"Конструирует несложные постройки из                  2—3 деталей.","Создаёт постройки «по сюжету» (дом, машина и т.д.)."]
[{"$nulls":9},"Конструирует несложные постройки из                  2—3 деталей.","Создаёт постройки «по сюжету» (дом, машина и т.д.)."]
[{"$nulls":9},"Конструирует несложные постройки из                  2—3 деталей.","Создаёт постройки «по сюжету» (дом, машина и т.д.)."]
[{"$nulls":9},"Конструирует несложные постройки из                  2—3 деталей.","Создаёт постройки «по сюжету» (дом, машина и т.д.)."]
[{"$nulls":9},"Конструирует несложные постройки из                  2—3 деталей.","Создаёт постройки «по сюжету» (дом, машина и т.д.)."]
[{"$nulls":9},"Конструирует несложные постройки из                  2—3 деталей.","Создаёт постройки «по сюжету» (дом, машина и т.д.)."]
[{"$nulls":9},"Конструирует несложные постройки из                  2—3 деталей.","Создаёт постройки «по сюжету» (дом, машина и т.д.)."]
[{"$nulls":9},"Конструирует несложные постройки из                  2—3 деталей.","Создаёт постройки «по сюжету» (дом, машина и т.д.)."]
[{"$nulls":9},"Конструирует несложные постройки из                  2—3 деталей.","Создаёт постройки «по сюжету» (дом, машина и т.д.)."]
[{"$nulls":9},"Конструирует несложные постройки из                  2—3 деталей.","Создаёт постройки «по сюжету» (дом, машина и т.д.)."]
[{"$nulls":9},"Конструирует несложные постройки из                  2—3 деталей.","Создаёт постройки «по сюжету» (дом, машина и т.д.)."]
[{"$nulls":9},"Конструирует несложные постройки из                  2—3 деталей.","Создаёт постройки «по сюжету» (дом, машина и т.д.)."]
[{"$nulls":9},"Конструирует несложные постройки из                  2—3 деталей.","Создаёт постройки «по сюжету» (дом, машина и т.д.)."]
[{"$nulls":9},"Конструирует несложные постройки из                  2—3 деталей.","Создаёт постройки «по сюжету» (дом, машина и т.д.)."]
[{"$nulls":9},"Конструирует несложные постройки из                  2—3 деталей.","Создаёт постройки «по сюжету» (дом, машина и т.д.)."]
[{"$nulls":9},"Конструирует несложные постройки из                  2—3 деталей.","Создаёт постройки «по сюжету» (дом, машина и т.д.)."]
[{"$nulls":9},"Конструирует несложные постройки из                  2—3 деталей.","Создаёт постройки «по сюжету» (дом, машина и т.д.)."]
[{"$nulls":9},"Конструирует несложные постройки из                  2—3 деталей.","Создаёт постройки «по сюжету» (дом, машина и т.д.)."]
[{"$nulls":9},"Конструирует несложные постройки из                  2—3 деталей.","Создаёт постройки «по сюжету» (дом, машина и т.д.)."]
[{"$nulls":9},"Конструирует несложные постройки из                  2—3 деталей.","Создаёт постройки «по сюжету» (дом, машина и т.д.)."]
[{"$nulls":9},"Конструирует несложные постройки из                  2—3 деталей.","Создаёт постройки «по сюжету» (дом, машина и т.д.)."]
[{"$nulls":9},"Конструирует несложные постройки из                  2—3 деталей.","Создаёт постройки «по сюжету» (дом, машина и т.д.)."]
[{"$nulls":9},"Конструирует несложные постройки из                  2—3 деталей.","Создаёт постройки «по сюжету» (дом, машина и т.д.)."]
[{"$nulls":9},"Конструирует несложные постройки из                  2—3 деталей.","Создаёт постройки «по сюжету» (дом, машина и т.д.)."]
[{"$nulls":9},"Конструирует несложные постройки из                  2—3 деталей.","Создаёт постройки «по сюжету» (дом, машина и т.д.)."]
[{"$nulls":9},"Конструирует несложные постройки из                  2—3 деталей.","Создаёт постройки «по сюжету» (дом, машина и т.д.)."]
[{"$nulls":9},"Конструирует несложные постройки из                  2—3 деталей.","Создаёт постройки «по сюжету» (дом, машина и т.д.)."]
[{"$nulls":9},"Конструирует несложные постройки из                  2—3 деталей.","Создаёт постройки «по сюжету» (дом, машина и т.д.)."]
[{"$nulls":9},"Конструирует несложные постройки из                  2—3 деталей.","Создаёт постройки «по сюжету» (дом, машина и т.д.)."]
[{"$nulls":9},"Конструирует несложные постройки из                  2—3 деталей.","Создаёт постройки «по сюжету» (дом, машина и т.д.)."]
[{"$nulls":9},"Конструирует несложные постройки из                  2—3 деталей.","Создаёт постройки «по сюжету» (дом, машина и т.д.)."]
[{"$nulls":9},"Конструирует несложные постройки из                  2—3 деталей.","Создаёт постройки «по сюжету» (дом, машина и т.д.)."]
[{"$nulls":9},"Конструирует несложные постройки из                  2—3 деталей.","Создаёт постройки «по сюжету» (дом, машина и т.д.)."]
[{"$nulls":9},"Конструирует несложные постройки из                  2—3 деталей.","Создаёт постройки «по сюжету» (дом, машина и т.д.)."]
[{"$nulls":9},"Конструирует несложные постройки из                  2—3 деталей.","Создаёт постройки «по сюжету» (дом, машина и т.д.)."]
[{"$nulls":9},"Конструирует несложные постройки из                  2—3 деталей.","Создаёт постройки «по сюжету» (дом, машина и т.д.)."]
[{"$nulls":9},"Конструирует несложные постройки из                  2—3 деталей.","Создаёт постройки «по сюжету» (дом, машина и т.д.)."]
[{"$nulls":9},"Конструирует несложные постройки из                  2—3 деталей.","Создаёт постройки «по сюжету» (дом, машина и т.д.)."]
[{"$nulls":9},"Конструирует несложные постройки из                  2—3 деталей.","Создаёт постройки «по сюжету» (дом, машина и т.д.)."]
[{"$nulls":9},"Конструирует несложные постройки из                  2—3 деталей.","Создаёт постройки «по сюжету» (дом, машина и т.д.)."]
[{"$nulls":9},"Конструирует несложные постройки из                  2—3 деталей.","Создаёт постройки «по сюжету» (дом, машина и т.д.)."]
[{"$nulls":9},"Конструирует несложные постройки из                  2—3 деталей.","Создаёт постройки «по сюжету» (дом, машина и т.д.)."]
[{"$nulls":9},"Конструирует несложные постройки из                  2—3 деталей.","Создаёт постройки «по сюжету» (дом, машина и т.д.)."]
[{"$nulls":9},"Конструирует несложные постройки из                  2—3 деталей.","Создаёт постройки «по сюжету» (дом, машина и т.д.)."]
[{"$nulls":9},"Конструирует несложные постройки из                  2—3 деталей.","Создаёт постройки «по сюжету» (дом, машина и т.д.)."]
[{"$nulls":9},"Конструирует несложные постройки из                  2—3 деталей.","Создаёт постройки «по сюжету» (дом, машина и т.д.)."]
[{"$nulls":9},"Конструирует несложные постройки из                  2—3 деталей.","Создаёт постройки «по сюжету» (дом, машина и т.д.)."]
[{"$nulls":9},"Конструирует несложные постройки из                  2—3 деталей.","Создаёт постройки «по сюжету» (дом, машина и т.д.)."]
[{"$nulls":9},"Конструирует несложные постройки из                  2—3 деталей.","Создаёт постройки «по сюжету» (дом, машина и т.д.)."]
[{"$nulls":9},"Конструирует несложные постройки из                  2—3 деталей.","Создаёт постройки «по сюжету» (дом, машина и т.д.)."]
[{"$nulls":9},"Конструирует несложные постройки из                  2—3 деталей.","Создаёт постройки «по сюжету» (дом, машина и т.д.)."]
[{"$nulls":9},"Конструирует несложные постройки из                  2—3 деталей.","Создаёт постройки «по сюжету» (дом, машина и т.д.)."]
[{"$nulls":9},"Конструирует несложные постройки из                  2—3 деталей.","Создаёт постройки «по сюжету» (дом, машина и т.д.)."]
[{"$nulls":9},"Конструирует несложные постройки из                  2—3 деталей.","Создаёт постройки «по сюжету» (дом, машина и т.д.)."]
[{"$nulls":9},"Конструирует несложные постройки из                  2—3 деталей.","Создаёт постройки «по сюжету» (дом, машина и т.д.)."]
[{"$nulls":9},"Конструирует несложные постройки из                  2—3 деталей.","Создаёт постройки «по сюжету» (дом, машина и т.д.)."]
[{"$nulls":9},"Конструирует несложные постройки из                  2—3 деталей.","Создаёт постройки «по сюжету» (дом, машина и т.д.)."]
[{"$nulls":9},"Конструирует несложные постройки из                  2—3 деталей.","Создаёт постройки «по сюжету» (дом, машина и т.д.)."]
[{"$nulls":9},"Конструирует несложные постройки из                  2—3 деталей.","Создаёт постройки «по сюжету» (дом, машина и т.д.)."]
[{"$nulls":9},"Конструирует несложные постройки из                  2—3 деталей.","Создаёт постройки «по сюжету» (дом, машина и т.д.)."]
[{"$nulls":9},"Конструирует несложные постройки из                  2—3 деталей.","Создаёт постройки «по сюжету» (дом, машина и т.д.)."]
[{"$nulls":9},"Конструирует несложные постройки из                  2—3 деталей.","Создаёт постройки «по сюжету» (дом, машина и т.д.)."]
[{"$nulls":9},"Конструирует несложные постройки из                  2—3 деталей.","Создаёт постройки «по сюжету» (дом, машина и т.д.)."]
[{"$nulls":9},"Конструирует несложные постройки из                  2—3 деталей.","Создаёт постройки «по сюжету» (дом, машина и т.д.)."]
[{"$nulls":9},"Конструирует несложные постройки из                  2—3 деталей.","Создаёт постройки «по сюжету» (дом, машина и т.д.)."]
[{"$nulls":9},"Конструирует несложные постройки из                  2—3 деталей.","Создаёт постройки «по сюжету» (дом, машина и т.д.)."]
[{"$nulls":9},"Конструирует несложные постройки из                  2—3 деталей.","Создаёт постройки «по сюжету» (дом, машина и т.д.)."]
[{"$nulls":9},"Конструирует несложные постройки из                  2—3 деталей.","Создаёт постройки «по сюжету» (дом, машина и т.д.)."]
[{"$nulls":9},"Конструирует несложные постройки из                  2—3 деталей.","Создаёт постройки «по сюжету» (дом, машина и т.д.)."]
[{"$nulls":9},"Конструирует несложные постройки из                  2—3 деталей.","Создаёт постройки «по сюжету» (дом, машина и т.д.)."]
[{"$nulls":9},"Конструирует несложные постройки из                  2—3 деталей.","Создаёт постройки «по сюжету» (дом, машина и т.д.)."]
[{"$nulls":9},"Конструирует несложные постройки из                  2—3 деталей.","Создаёт постройки «по сюжету» (дом, машина и т.д.)."]
[{"$nulls":9},"Конструирует несложные постройки из                  2—3 деталей.","Создаёт постройки «по сюжету» (дом, машина и т.д.)."]
[{"$nulls":9},"Конструирует несложные постройки из                  2—3 деталей.","Создаёт постройки «по сюжету» (дом, машина и т.д.)."]
[{"$nulls":9},"Конструирует несложные постройки из                  2—3 деталей.","Создаёт постройки «по сюжету» (дом, машина и т.д.)."]
[{"$nulls":9},"Конструирует несложные постройки из                  2—3 деталей.","Создаёт постройки «по сюжету» (дом, машина и т.д.)."]
[{"$nulls":9},"Конструирует несложные постройки из                  2—3 деталей.","Создаёт постройки «по сюжету» (дом, машина и т.д.)."]
[{"$nulls":9},"Конструирует несложные постройки из                  2—3 деталей.","Создаёт постройки «по сюжету» (дом, машина и т.д.)."]
[{"$nulls":9},"Конструирует несложные постройки из                  2—3 деталей.","Создаёт постройки «по сюжету» (дом, машина и т.д.)."]
[{"$nulls":9},"Конструирует несложные постройки из                  2—3 деталей.","Создаёт постройки «по сюжету» (дом, машина и т.д.)."]
[{"$nulls":9},"Конструирует несложные постройки из                  2—3 деталей.","Создаёт постройки «по сюжету» (дом, машина и т.д.)."]
[{"$nulls":9},"Конструирует несложные постройки из                  2—3 деталей.","Создаёт постройки «по сюжету» (дом, машина и т.д.)."]
[{"$nulls":9},"Конструирует несложные постройки из                  2—3 деталей.","Создаёт постройки «по сюжету» (дом, машина и т.д.)."]
[{"$nulls":9},"Конструирует несложные постройки из                  2—3 деталей.","Создаёт постройки «по сюжету» (дом, машина и т.д.)."]
[{"$nulls":9},"Конструирует несложные постройки из                  2—3 деталей.","Создаёт постройки «по сюжету» (дом, машина и т.д.)."]
[{"$nulls":9},"Конструирует несложные постройки из                  2—3 деталей.","Создаёт постройки «по сюжету» (дом, машина и т.д.)."]
[{"$nulls":9},"Конструирует несложные постройки из                  2—3 деталей.","Создаёт постройки «по сюжету» (дом, машина и т.д.)."]
[{"$nulls":9},"Конструирует несложные постройки из                  2—3 деталей.","Создаёт постройки «по сюжету» (дом, машина и т.д.)."]
[{"$nulls":9},"Конструирует несложные постройки из                  2—3 деталей.","Создаёт постройки «по сюжету» (дом, машина и т.д.)."]
[{"$nulls":9},"Конструирует несложные постройки из                  2—3 деталей.","Создаёт постройки «по сюжету» (дом, машина и т.д.)."]
[{"$nulls":9},"Конструирует несложные постройки из                  2—3 деталей.","Создаёт постройки «по сюжету» (дом, машина и т.д.)."]
[{"$nulls":9},"Конструирует несложные постройки из                  2—3 деталей.","Создаёт постройки «по сюжету» (дом, машина и т.д.)."]
[{"$nulls":9},"Конструирует несложные постройки из                  2—3 деталей.","Создаёт постройки «по сюжету» (дом, машина и т.д.)."]
[{"$nulls":9},"Конструирует несложные постройки из                  2—3 деталей.","Создаёт постройки «по сюжету» (дом, машина и т.д.)."]
[{"$nulls":9},"Конструирует несложные постройки из                  2—3 деталей.","Создаёт постройки «по сюжету» (дом, машина и т.д.)."]
[{"$nulls":9},"Конструирует несложные постройки из                  2—3 деталей.","Создаёт постройки «по сюжету» (дом, машина и т.д.)."]
[{"$nulls":9},"Конструирует несложные постройки из                  2—3 деталей.","Создаёт постройки «по сюжету» (дом, машина и т.д.)."]
[{"$nulls":9},"Конструирует несложные постройки из                  2—3 деталей.","Создаёт постройки «по сюжету» (дом, машина и т.д.)."]
[{"$nulls":9},"Конструирует несложные постройки из                  2—3 деталей.","Создаёт постройки «по сюжету» (дом, машина и т.д.)."]
[{"$nulls":9},"Конструирует несложные постройки из                  2—3 деталей.","Создаёт постройки «по сюжету» (дом, машина и т.д.)."]
[{"$nulls":9},"Конструирует несложные постройки из                  2—3 деталей.","Создаёт постройки «по сюжету» (дом, машина и т.д.)."]
[{"$nulls":9},"Конструирует несложные постройки из                  2—3 деталей.","Создаёт постройки «по сюжету» (дом, машина и т.д.)."]
[{"$nulls":9},"Конструирует несложные постройки из                  2—3 деталей.","Создаёт постройки «по сюжету» (дом, машина и т.д.)."]
[{"$nulls":9},"Конструирует несложные постройки из                  2—3 деталей.","Создаёт постройки «по сюжету» (дом, машина и т.д.)."]
[{"$nulls":9},"Конструирует несложные постройки из                  2—3 деталей.","Создаёт постройки «по сюжету» (дом, машина и т.д.)."]
[{"$nulls":9},"Конструирует несложные постройки из                  2—3 деталей.","Создаёт постройки «по сюжету» (дом, машина и т.д.)."]
[{"$nulls":9},"Конструирует несложные постройки из                  2—3 деталей.","Создаёт постройки «по сюжету» (дом, машина и т.д.)."]
[{"$nulls":9},"Конструирует несложные постройки из                  2—3 деталей.","Создаёт постройки «по сюжету» (дом, машина и т.д.)."]
[{"$nulls":9},"Конструирует несложные постройки из                  2—3 деталей.","Создаёт постройки «по сюжету» (дом, машина и т.д.)."]
[{"$nulls":9},"Конструирует несложные постройки из                  2—3 деталей.","Создаёт постройки «по сюжету» (дом, машина и т.д.)."]
[{"$nulls":9},"Конструирует несложные постройки из                  2—3 деталей.","Создаёт постройки «по сюжету» (дом, машина и т.д.)."]
[{"$nulls":9},"Конструирует несложные постройки из                  2—3 деталей.","Создаёт постройки «по сюжету» (дом, машина и т.д.)."]
[{"$nulls":9},"Конструирует несложные постройки из                  2—3 деталей.","Создаёт постройки «по сюжету» (дом, машина и т.д.)."]
[{"$nulls":9},"Конструирует несложные постройки из                  2—3 деталей.","Создаёт постройки «по сюжету» (дом, машина и т.д.)."]
[{"$nulls":9},"Конструирует несложные постройки из                  2—3 деталей.","Создаёт постройки «по сюжету» (дом, машина и т.д.)."]
[{"$nulls":9},"Конструирует несложные постройки из                  2—3 деталей.","Создаёт постройки «по сюжету» (дом, машина и т.д.)."]
[{"$nulls":9},"Конструирует несложные постройки из                  2—3 деталей.","Создаёт постройки «по сюжету» (дом, машина и т.д.)."]
[{"$nulls":9},"Конструирует несложные постройки из                  2—3 деталей.","Создаёт постройки «по сюжету» (дом, машина и т.д.)."]
[{"$nulls":9},"Конструирует несложные постройки из                  2—3 деталей.","Создаёт постройки «по сюжету» (дом, машина и т.д.)."]
[{"$nulls":9},"Конструирует несложные постройки из                  2—3 деталей.","Создаёт постройки «по сюжету» (дом, машина и т.д.)."]
[{"$nulls":9},"Конструирует несложные постройки из                  2—3 деталей.","Создаёт постройки «по сюжету» (дом, машина и т.д.)."]
[{"$nulls":9},"Конструирует несложные постройки из                  2—3 деталей.","Создаёт постройки «по сюжету» (дом, машина и т.д.)."]
[{"$nulls":9},"Конструирует несложные постройки из                  2—3 деталей.","Создаёт постройки «по сюжету» (дом, машина и т.д.)."]
[{"$nulls":9},"Конструирует несложные постройки из                  2—3 деталей.","Создаёт постройки «по сюжету» (дом, машина и т.д.)."]
[{"$nulls":9},"Конструирует несложные постройки из                  2—3 деталей.","Создаёт постройки «по сюжету» (дом, машина и т.д.)."]
[{"$nulls":9},"Конструирует несложные постройки из                  2—3 деталей.","Создаёт постройки «по сюжету» (дом, машина и т.д.)."]
[{"$nulls":9},"Конструирует несложные постройки из                  2—3 деталей.","Создаёт постройки «по сюжету» (дом, машина и т.д.)."]
[{"$nulls":9},"Конструирует несложные постройки из                  2—3 деталей.","Создаёт постройки «по сюжету» (дом, машина и т.д.)."]
[{"$nulls":9},"Конструирует несложные постройки из                  2—3 деталей.","Создаёт постройки «по сюжету» (дом, машина и т.д.)."]
[{"$nulls":9},"Конструирует несложные постройки из                  2—3 деталей.","Создаёт постройки «по сюжету» (дом, машина и т.д.)."]
[{"$nulls":9},"Конструирует несложные постройки из                  2—3 деталей.","Создаёт постройки «по сюжету» (дом, машина и т.д.)."]
[{"$nulls":9},"Конструирует несложные постройки из                  2—3 деталей.","Создаёт постройки «по сюжету» (дом, машина и т.д.)."]
[{"$nulls":9},"Конструирует несложные постройки из                  2—3 деталей.","Создаёт постройки «по сюжету» (дом, машина и т.д.)."]
[{"$nulls":9},"Конструирует несложные постройки из                  2—3 деталей.","Создаёт постройки «по сюжету» (дом, машина и т.д.)."]
[{"$nulls":9},"Конструирует несложные постройки из                  2—3 деталей.","Создаёт постройки «по сюжету» (дом, машина и т.д.)."]
[{"$nulls":9},"Конструирует несложные постройки из                  2—3 деталей.","Создаёт постройки «по сюжету» (дом, машина и т.д.)."]
[{"$nulls":9},"Конструирует несложные постройки из                  2—3 деталей.","Создаёт постройки «по сюжету» (дом, машина и т.д.)."]
[{"$nulls":9},"Конструирует несложные постройки из                  2—3 деталей.","Создаёт постройки «по сюжету» (дом, машина и т.д.)."]
[{"$nulls":9},"Конструирует несложные постройки из                  2—3 деталей.","Создаёт постройки «по сюжету» (дом, машина и т.д.)."]
[{"$nulls":9},"Конструирует несложные постройки из                  2—3 деталей.","Создаёт постройки «по сюжету» (дом, машина и т.д.)."]
[{"$nulls":9},"Конструирует несложные постройки из                  2—3 деталей.","Создаёт постройки «по сюжету» (дом, машина и т.д.)."]
[{"$nulls":9},"Конструирует несложные постройки из                  2—3 деталей.","Создаёт постройки «по сюжету» (дом, машина и т.д.)."]
[{"$nulls":9},"Конструирует несложные постройки из                  2—3 деталей.","Создаёт постройки «по сюжету» (дом, машина и т.д.)."]
[{"$nulls":9},"Конструирует несложные постройки из                  2—3 деталей.","Создаёт постройки «по сюжету» (дом, машина и т.д.)."]
[{"$nulls":9},"Конструирует несложные постройки из                  2—3 деталей.","Создаёт постройки «по сюжету» (дом, машина и т.д.)."]
[{"$nulls":9},"Конструирует несложные постройки из                  2—3 деталей.","Создаёт постройки «по сюжету» (дом, машина и т.д.)."]
[{"$nulls":9},"Конструирует несложные постройки из                  2—3 деталей.","Создаёт постройки «по сюжету» (дом, машина и т.д.)."]
[{"$nulls":9},"Конструирует несложные постройки из                  2—3 деталей.","Создаёт постройки «по сюжету» (дом, машина и т.д.)."]
[{"$nulls":9},"Конструирует несложные постройки из                  2—3 деталей.","Создаёт постройки «по сюжету» (дом, машина и т.д.)."]
[{"$nulls":9},"Конструирует несложные постройки из                  2—3 деталей.","Создаёт постройки «по сюжету» (дом, машина и т.д.)."]
[{"$nulls":9},"Конструирует несложные постройки из                  2—3 деталей.","Создаёт постройки «по сюжету» (дом, машина и т.д.)."]
[{"$nulls":9},"Конструирует несложные постройки из                  2—3 деталей.","Создаёт постройки «по сюжету» (дом, машина и т.д.)."]
[{"$nulls":9},"Конструирует несложные постройки из                  2—3 деталей.","Создаёт постройки «по сюжету» (дом, машина и т.д.)."]
[{"$nulls":9},"Конструирует несложные постройки из                  2—3 деталей.","Создаёт постройки «по сюжету» (дом, машина и т.д.)."]
[{"$nulls":9},"Конструирует несложные постройки из                  2—3 деталей.","Создаёт постройки «по сюжету» (дом, машина и т.д.)."]
[{"$nulls":9},"Конструирует несложные постройки из                  2—3 деталей.","Создаёт постройки «по сюжету» (дом, машина и т.д.)."]
[{"$nulls":9},"Конструирует несложные постройки из                  2—3 деталей.","Создаёт постройки «по сюжету» (дом, машина и т.д.)."]
[{"$nulls":9},"Конструирует несложные постройки из                  2—3 деталей.","Создаёт постройки «по сюжету» (дом, машина и т.д.)."]
[{"$nulls":9},"Конструирует несложные постройки из                  2—3 деталей.","Создаёт постройки «по сюжету» (дом, машина и т.д.)."]
[{"$nulls":9},"Конструирует несложные постройки из                  2—3 деталей.","Создаёт постройки «по сюжету» (дом, машина и т.д.)."]
[{"$nulls":9},"Конструирует несложные постройки из                  2—3 деталей.","Создаёт постройки «по сюжету» (дом, машина и т.д.)."]
[{"$nulls":9},"Конструирует несложные постройки из                  2—3 деталей.","Создаёт постройки «по сюжету» (дом, машина и т.д.)."]
[{"$nulls":9},"Конструирует несложные постройки из                  2—3 деталей.","Создаёт постройки «по сюжету» (дом, машина и т.д.)."]
[{"$nulls":9},"Конструирует несложные постройки из                  2—3 деталей.","Создаёт постройки «по сюжету» (дом, машина и т.д.)."]
[{"$nulls":9},"Конструирует несложные постройки из                  2—3 деталей.","Создаёт постройки «по сюжету» (дом, машина и т.д.)."]
[{"$nulls":9},"Конструирует несложные постройки из                  2—3 деталей.","Создаёт постройки «по сюжету» (дом, машина и т.д.)."]
[{"$nulls":9},"Конструирует несложные постройки из                  2—3 деталей.","Создаёт постройки «по сюжету» (дом, машина и т.д.)."]
[{"$nulls":9},"Конструирует несложные постройки из                  2—3 деталей.","Создаёт постройки «по сюжету» (дом, машина и т.д.)."]
[{"$nulls":9},"Конструирует несложные постройки из                  2—3 деталей.","Создаёт постройки «по сюжету» (дом, машина и т.д.)."]
[{"$nulls":9},"Конструирует несложные постройки из                  2—3 деталей.","Создаёт постройки «по сюжету» (дом, машина и т.д.)."]
[{"$nulls":9},"Конструирует несложные постройки из                  2—3 деталей.","Создаёт постройки «по сюжету» (дом, машина и т.д.)."]
[{"$nulls":9},"Конструирует несложные постройки из                  2—3 деталей.","Создаёт постройки «по сюжету» (дом, машина и т.д.)."]
[{"$nulls":9},"Конструирует несложные постройки из                  2—3 деталей.","Создаёт постройки «по сюжету» (дом, машина и т.д.)."]
[{"$nulls":9},"Конструирует несложные постройки из                  2—3 деталей.","Создаёт постройки «по сюжету» (дом, машина и т.д.)."]
[{"$nulls":9},"Конструирует несложные постройки из                  2—3 деталей.","Создаёт постройки «по сюжету» (дом, машина и т.д.)."]
[{"$nulls":9},"Конструирует несложные постройки из                  2—3 деталей.","Создаёт постройки «по сюжету» (дом, машина и т.д.)."]
[{"$nulls":9},"Конструирует несложные постройки из                  2—3 деталей.","Создаёт постройки «по сюжету» (дом, машина и т.д.)."]
[{"$nulls":9},"Конструирует несложные постройки из                  2—3 деталей.","Создаёт постройки «по сюжету» (дом, машина и т.д.)."]
[{"$nulls":9},"Конструирует несложные постройки из                  2—3 деталей.","Создаёт постройки «по сюжету» (дом, машина и т.д.)."]
[{"$nulls":9},"Конструирует несложные постройки из                  2—3 деталей.","Создаёт постройки «по сюжету» (дом, машина и т.д.)."]
[{"$nulls":9},"Конструирует несложные постройки из                  2—3 деталей.","Создаёт постройки «по сюжету» (дом, машина и т.д.)."]
[{"$nulls":9},"Конструирует несложные постройки из                  2—3 деталей.","Создаёт постройки «по сюжету» (дом, машина и т.д.)."]
[{"$nulls":9},"Конструирует несложные постройки из                  2—3 деталей.","Создаёт постройки «по сюжету» (дом, машина и т.д.)."]
[{"$nulls":9},"Конструирует несложные постройки из                  2—3 деталей.","Создаёт постройки «по сюжету» (дом, машина и т.д.)."]
[{"$nulls":9},"Конструирует несложные постройки из                  2—3 деталей.","Создаёт постройки «по сюжету» (дом, машина и т.д.)."]
[{"$nulls":9},"Конструирует несложные постройки из                  2—3 деталей.","Создаёт постройки «по сюжету» (дом, машина и т.д.)."]
[{"$nulls":9},"Конструирует несложные постройки из                  2—3 деталей.","Создаёт постройки «по сюжету» (дом, машина и т.д.)."]
[{"$nulls":9},"Конструирует несложные постройки из                  2—3 деталей.","Создаёт постройки «по сюжету» (дом, машина и т.д.)."]
[{"$nulls":9},"Конструирует несложные постройки из                  2—3 деталей.","Создаёт постройки «по сюжету» (дом, машина и т.д.)."]
[{"$nulls":9},"Конструирует несложные постройки из                  2—3 деталей.","Создаёт постройки «по сюжету» (дом, машина и т.д.)."]
[{"$nulls":9},"Конструирует несложные постройки из                  2—3 деталей.","Создаёт постройки «по сюжету» (дом, машина и т.д.)."]
[{"$nulls":9},"Конструирует несложные постройки из                  2—3 деталей.","Создаёт постройки «по сюжету» (дом, машина и т.д.)."]
[{"$nulls":9},"Конструирует несложные постройки из                  2—3 деталей.","Создаёт постройки «по сюжету» (дом, машина и т.д.)."]
[{"$nulls":9},"Конструирует несложные постройки из                  2—3 деталей.","Создаёт постройки «по сюжету» (дом, машина и т.д.)."]
[{"$nulls":9},"Конструирует несложные постройки из                  2—3 деталей.","Создаёт постройки «по сюжету» (дом, машина и т.д.)."]
[{"$nulls":9},"Конструирует несложные постройки из                  2—3 деталей.","Создаёт постройки «по сюжету» (дом, машина и т.д.)."]
[{"$nulls":9},"Конструирует несложные постройки из                  2—3 деталей.","Создаёт постройки «по сюжету» (дом, машина и т.д.)."]
[{"$nulls":9},"Конструирует несложные постройки из                  2—3 деталей.","Создаёт постройки «по сюжету» (дом, машина и т.д.)."]
[{"$nulls":9},"Конструирует несложные постройки из                  2—3 деталей.","Создаёт постройки «по сюжету» (дом, машина и т.д.)."]
[{"$nulls":9},"Конструирует несложные постройки из                  2—3 деталей.","Создаёт постройки «по сюжету» (дом, машина и т.д.)."]
[{"$nulls":9},"Конструирует несложные постройки из                  2—3 деталей.","Создаёт постройки «по сюжету» (дом, машина и т.д.)."]
[{"$nulls":9},"Конструирует несложные постройки из                  2—3 деталей.","Создаёт постройки «по сюжету» (дом, машина и т.д.)."]
[{"$nulls":9},"Конструирует несложные постройки из                  2—3 деталей.","Создаёт постройки «по сюжету» (дом, машина и т.д.)."]
[{"$nulls":9},"Конструирует несложные постройки из                  2—3 деталей.","Создаёт постройки «по сюжету» (дом, машина и т.д.)."]
[{"$nulls":9},"Конструирует несложные постройки из                  2—3 деталей.","Создаёт постройки «по сюжету» (дом, машина и т.д.)."]
[{"$nulls":9},"Конструирует несложные постройки из                  2—3 деталей.","Создаёт постройки «по сюжету» (дом, машина и т.д.)."]
[{"$nulls":9},"Конструирует несложные постройки из                  2—3 деталей.","Создаёт постройки «по сюжету» (дом, машина и т.д.)."]
[{"$nulls":9},"Конструирует несложные постройки из                  2—3 деталей.","Создаёт постройки «по сюжету» (дом, машина и т.д.)."]
[{"$nulls":9},"Конструирует несложные постройки из                  2—3 деталей.","Создаёт постройки «по сюжету» (дом, машина и т.д.)."]
[{"$nulls":9},"Конструирует несложные постройки из                  2—3 деталей.","Создаёт постройки «по сюжету» (дом, машина и т.д.)."]
[{"$nulls":9},"Конструирует несложные постройки из                  2—3 деталей.","Создаёт постройки «по сюжету» (дом, машина и т.д.)."]
[{"$nulls":9},"Конструирует несложные постройки из                  2—3 деталей.","Создаёт постройки «по сюжету» (дом, машина и т.д.)."]
[{"$nulls":9},"Конструирует несложные постройки из                  2—3 деталей.","Создаёт постройки «по сюжету» (дом, машина и т.д.)."]
[{"$nulls":9},"Конструирует несложные постройки из                  2—3 деталей.","Создаёт постройки «по сюжету» (дом, машина и т.д.)."]
[{"$nulls":9},"Конструирует несложные постройки из                  2—3 деталей.","Создаёт постройки «по сюжету» (дом, машина и т.д.)."]
[{"$nulls":9},"Конструирует несложные постройки из                  2—3 деталей.","Создаёт постройки «по сюжету» (дом, машина и т.д.)."]
[{"$nulls":9},"Конструирует несложные постройки из                  2—3 деталей.","Создаёт постройки «по сюжету» (дом, машина и т.д.)."]
[{"$nulls":9},"Конструирует несложные постройки из                  2—3 деталей.","Создаёт постройки «по сюжету» (дом, машина и т.д.)."]
[{"$nulls":9},"Конструирует несложные постройки из                  2—3 деталей.","Создаёт постройки «по сюжету» (дом, машина и т.д.)."]
[{"$nulls":9},"Конструирует несложные постройки из                  2—3 деталей.","Создаёт постройки «по сюжету» (дом, машина и т.д.)."]
[{"$nulls":9},"Конструирует несложные постройки из                  2—3 деталей.","Создаёт постройки «по сюжету» (дом, машина и т.д.)."]
[{"$nulls":9},"Конструирует несложные постройки из                  2—3 деталей.","Создаёт постройки «по сюжету» (дом, машина и т.д.)."]
[{"$nulls":9},"Конструирует несложные постройки из                  2—3 деталей.","Создаёт постройки «по сюжету» (дом, машина и т.д.)."]
[{"$nulls":9},"Конструирует несложные постройки из                  2—3 деталей.","Создаёт постройки «по сюжету» (дом, машина и т.д.)."]
[{"$nulls":9},"Конструирует несложные постройки из                  2—3 деталей.","Создаёт постройки «по сюжету» (дом, машина и т.д.)."]
[{"$nulls":9},"Конструирует несложные постройки из                  2—3 деталей.","Создаёт постройки «по сюжету» (дом, машина и т.д.)."]
[{"$nulls":9},"Конструирует несложные постройки из                  2—3 деталей.","Создаёт постройки «по сюжету» (дом, машина и т.д.)."]
[{"$nulls":9},"Конструирует несложные постройки из                  2—3 деталей.","Создаёт постройки «по сюжету» (дом, машина и т.д.)."]
[{"$nulls":9},"Конструирует несложные постройки из                  2—3 деталей.","Создаёт постройки «по сюжету» (дом, машина и т.д.)."]
[{"$nulls":9},"Конструирует несложные постройки из                  2—3 деталей.","Создаёт постройки «по сюжету» (дом, машина и т.д.)."]
[{"$nulls":9},"Конструирует несложные постройки из                  2—3 деталей.","Создаёт постройки «по сюжету» (дом, машина и т.д.)."]
[{"$nulls":9},"Конструирует несложные постройки из                  2—3 деталей.","Создаёт постройки «по сюжету» (дом, машина и т.д.)."]
[{"$nulls":9},"Конструирует несложные постройки из                  2—3 деталей.","Создаёт постройки «по сюжету» (дом, машина и т.д.)."]
[{"$nulls":9},"Конструирует несложные постройки из                  2—3 деталей.","Создаёт постройки «по сюжету» (дом, машина и т.д.)."]
[{"$nulls":9},"Конструирует несложные постройки из                  2—3 деталей.","Создаёт постройки «по сюжету» (дом, машина и т.д.)."]
[{"$nulls":9},"Конструирует несложные постройки из                  2—3 деталей.","Создаёт постройки «по сюжету» (дом, машина и т.д.)."]
[{"$nulls":9},"Конструирует несложные постройки из                  2—3 деталей.","Создаёт постройки «по сюжету» (дом, машина и т.д.)."]
[{"$nulls":9},"Конструирует несложные постройки из                  2—3 деталей.","Создаёт постройки «по сюжету» (дом, машина и т.д.)."]
[{"$nulls":9},"Конструирует несложные постройки из                  2—3 деталей.","Создаёт постройки «по сюжету» (дом, машина и т.д.)."]
[{"$nulls":9},"Конструирует несложные постройки из                  2—3 деталей.","Создаёт постройки «по сюжету» (дом, машина и т.д.)."]
[{"$nulls":9},"Конструирует несложные постройки из                  2—3 деталей.","Создаёт постройки «по сюжету» (дом, машина и т.д.)."]
[{"$nulls":9},"Конструирует несложные постройки из                  2—3 деталей.","Создаёт постройки «по сюжету» (дом, машина и т.д.)."]
[{"$nulls":9},"Конструирует несложные постройки из                  2—3 деталей.","Создаёт постройки «по сюжету» (дом, машина и т.д.)."]
[{"$nulls":9},"Конструирует несложные постройки из                  2—3 деталей.","Создаёт постройки «по сюжету» (дом, машина и т.д.)."]
[{"$nulls":9},"Конструирует несложные постройки из                  2—3 деталей.","Создаёт постройки «по сюжету» (дом, машина и т.д.)."]
[{"$nulls":9},"Конструирует несложные постройки из                  2—3 деталей.","Создаёт постройки «по сюжету» (дом, машина и т.д.)."]
[{"$nulls":9},"Конструирует несложные постройки из                  2—3 деталей.","Создаёт постройки «по сюжету» (дом, машина и т.д.)."]
[{"$nulls":9},"Конструирует несложные постройки из                  2—3 деталей.","Создаёт постройки «по сюжету» (дом, машина и т.д.)."]
[{"$nulls":9},"Конструирует несложные постройки из                  2—3 деталей.","Создаёт постройки «по сюжету» (дом, машина и т.д.)."]
[{"$nulls":9},"Конструирует несложные постройки из                  2—3 деталей.","Создаёт постройки «по сюжету» (дом, машина и т.д.)."]
[{"$nulls":9},"Конструирует несложные постройки из                  2—3 деталей.","Создаёт постройки «по сюжету» (дом, машина и т.д.)."]
[{"$nulls":9},"Конструирует несложные постройки из                  2—3 деталей.","Создаёт постройки «по сюжету» (дом, машина и т.д.)."]
[{"$nulls":9},"Конструирует несложные постройки из                  2—3 деталей.","Создаёт постройки «по сюжету» (дом, машина и т.д.)."]
[{"$nulls":9},"Конструирует несложные постройки из                  2—3 деталей.","Создаёт постройки «по сюжету» (дом, машина и т.д.)."]
[{"$nulls":9},"Конструирует несложные постройки из                  2—3 деталей.","Создаёт постройки «по сюжету» (дом, машина и т.д.)."]
[{"$nulls":9},"Конструирует несложные постройки из                  2—3 деталей.","Создаёт постройки «по сюжету» (дом, машина и т.д.)."]
[{"$nulls":9},"Конструирует несложные постройки из                  2—3 деталей.","Создаёт постройки «по сюжету» (дом, машина и т.д.)."]
[{"$nulls":9},"Конструирует несложные постройки из                  2—3 деталей.","Создаёт постройки «по сюжету» (дом, машина и т.д.)."]
[{"$nulls":9},"Конструирует несложные постройки из                  2—3 деталей.","Создаёт постройки «по сюжету» (дом, машина и т.д.)."]
[{"$nulls":9},"Конструирует несложные постройки из                  2—3 деталей.","Создаёт постройки «по сюжету» (дом, машина и т.д.)."]
[{"$nulls":9},"Конструирует несложные постройки из                  2—3 деталей.","Создаёт постройки «по сюжету» (дом, машина и т.д.)."]
[{"$nulls":9},"Конструирует несложные постройки из                  2—3 деталей.","Создаёт постройки «по сюжету» (дом, машина и т.д.)."]
[{"$nulls":9},"Конструирует несложные постройки из                  2—3 деталей.","Создаёт постройки «по сюжету» (дом, машина и т.д.)."]
[{"$nulls":9},"Конструирует несложные постройки из                  2—3 деталей.","Создаёт постройки «по сюжету» (дом, машина и т.д.)."]
[{"$nulls":9},"Конструирует несложные постройки из                  2—3 деталей.","Создаёт постройки «по сюжету» (дом, машина и т.д.)."]
[{"$nulls":9},"Конструирует несложные постройки из                  2—3 деталей.","Создаёт постройки «по сюжету» (дом, машина и т.д.)."]
[{"$nulls":9},"Конструирует несложные постройки из                  2—3 деталей.","Создаёт постройки «по сюжету» (дом, машина и т.д.)."]
[{"$nulls":9},"Конструирует несложные постройки из                  2—3 деталей.","Создаёт постройки «по сюжету» (дом, машина и т.д.)."]
[{"$nulls":9},"Конструирует несложные постройки из                  2—3 деталей.","Создаёт постройки «по сюжету» (дом, машина и т.д.)."]
[{"$nulls":9},"Конструирует несложные постройки из                  2—3 деталей.","Создаёт постройки «по сюжету» (дом, машина и т.д.)."]
[{"$nulls":9},"Конструирует несложные постройки из                  2—3 деталей.","Создаёт постройки «по сюжету» (дом, машина и т.д.)."]
[{"$nulls":9},"Конструирует несложные постройки из                  2—3 деталей.","Создаёт постройки «по сюжету» (дом, машина и т.д.)."]
[{"$nulls":9},"Конструирует несложные постройки из                  2—3 деталей.","Создаёт постройки «по сюжету» (дом, машина и т.д.)."]
[{"$nulls":9},"Конструирует несложные постройки из                  2—3 деталей.","Создаёт постройки «по сюжету» (дом, машина и т.д.)."]
[{"$nulls":9},"Конструирует несложные постройки из                  2—3 деталей.","Создаёт постройки «по сюжету» (дом, машина и т.д.)."]
[{"$nulls":9},"Конструирует несложные постройки из                  2—3 деталей.","Создаёт постройки «по сюжету» (дом, машина и т.д.)."]
[{"$nulls":9},"Конструирует несложные постройки из                  2—3 деталей.","Создаёт постройки «по сюжету» (дом, машина и т.д.)."]
[{"$nulls":9},"Конструирует несложные постройки из                  2—3 деталей.","Создаёт постройки «по сюжету» (дом, машина и т.д.)."]
[{"$nulls":9},"Конструирует несложные постройки из                  2—3 деталей.","Создаёт постройки «по сюжету» (дом, машина и т.д.)."]
[{"$nulls":9},"Конструирует несложные постройки из                  2—3 деталей.","Создаёт постройки «по сюжету» (дом, машина и т.д.)."]
[{"$nulls":9},"Конструирует несложные постройки из                  2—3 деталей.","Создаёт постройки «по сюжету» (дом, машина и т.д.)."]
[{"$nulls":9},"Конструирует несложные постройки из                  2—3 деталей.","Создаёт постройки «по сюжету» (дом, машина и т.д.)."]
[{"$nulls":9},"Конструирует несложные постройки из                  2—3 деталей.","Создаёт постройки «по сюжету» (дом, машина и т.д.)."]
[{"$nulls":9},"Конструирует несложные постройки из                  2—3 деталей.","Создаёт постройки «по сюжету» (дом, машина и т.д.)."]
[{"$nulls":9},"Конструирует несложные постройки из                  2—3 деталей.","Создаёт постройки «по сюжету» (дом, машина и т.д.)."]
[{"$nulls":9},"Конструирует несложные постройки из                  2—3 деталей.","Создаёт постройки «по сюжету» (дом, машина и т.д.)."]
[{"$nulls":9},"Конструирует несложные постройки из                  2—3 деталей.","Создаёт постройки «по сюжету» (дом, машина и т.д.)."]
[{"$nulls":9},"Конструирует несложные постройки из                  2—3 деталей.","Создаёт постройки «по сюжету» (дом, машина и т.д.)."]
[{"$nulls":9},"Конструирует несложные постройки из                  2—3 деталей.","Создаёт постройки «по сюжету» (дом, машина и т.д.)."]
[{"$nulls":9},"Конструирует несложные постройки из                  2—3 деталей.","Создаёт постройки «по сюжету» (дом, машина и т.д.)."]
[{"$nulls":9},"Конструирует несложные постройки из                  2—3 деталей.","Создаёт постройки «по сюжету» (дом, машина и т.д.)."]
[{"$nulls":9},"Конструирует несложные постройки из                  2—3 деталей.","Создаёт постройки «по сюжету» (дом, машина и т.д.)."]
[{"$nulls":9},"Конструирует несложные постройки из                  2—3 деталей.","Создаёт постройки «по сюжету» (дом, машина и т.д.)."]
[{"$nulls":9},"Конструирует несложные постройки из                  2—3 деталей.","Создаёт постройки «по сюжету» (дом, машина и т.д.)."]
[{"$nulls":9},"Конструирует несложные постройки из                  2—3 деталей.","Создаёт постройки «по сюжету» (дом, машина и т.д.)."]
[{"$nulls":9},"Конструирует несложные постройки из                  2—3 деталей.","Создаёт постройки «по сюжету» (дом, машина и т.д.)."]
[{"$nulls":9},"Конструирует несложные постройки из                  2—3 деталей.","Создаёт постройки «по сюжету» (дом, машина и т.д.)."]
[{"$nulls":9},"Конструирует несложные постройки из                  2—3 деталей.","Создаёт постройки «по сюжету» (дом, машина и т.д.)."]
[{"$nulls":9},"Конструирует несложные постройки из                  2—3 деталей.","Создаёт постройки «по сюжету» (дом, машина и т.д.)."]
[{"$nulls":9},"Конструирует несложные постройки из                  2—3 деталей.","Создаёт постройки «по сюжету» (дом, машина и т.д.)."]
[{"$nulls":9},"Конструирует несложные постройки из                  2—3 деталей.","Создаёт постройки «по сюжету» (дом, машина и т.д.)."]
[{"$nulls":9},"Конструирует несложные постройки из                  2—3 деталей.","Создаёт постройки «по сюжету» (дом, машина и т.д.)."]
[{"$nulls":9},"Конструирует несложные постройки из                  2—3 деталей.","Создаёт постройки «по сюжету» (дом, машина и т.д.)."]
[{"$nulls":9},"Конструирует несложные постройки из                  2—3 деталей.","Создаёт постройки «по сюжету» (дом, машина и т.д.)."]
[{"$nulls":9},"Конструирует несложные постройки из                  2—3 деталей.","Создаёт постройки «по сюжету» (дом, машина и т.д.)."]
[{"$nulls":9},"Конструирует несложные постройки из                  2—3 деталей.","Создаёт постройки «по сюжету» (дом, машина и т.д.)."]
[{"$nulls":9},"Конструирует несложные постройки из                  2—3 деталей.","Создаёт постройки «по сюжету» (дом, машина и т.д.)."]
[{"$nulls":9},"Конструирует несложные постройки из                  2—3 деталей.","Создаёт постройки «по сюжету» (дом, машина и т.д.)."]
[{"$nulls":9},"Конструирует несложные постройки из                  2—3 деталей.","Создаёт постройки «по сюжету» (дом, машина и т.д.)."]
[{"$nulls":9},"Конструирует несложные постройки из                  2—3 деталей.","Создаёт постройки «по сюжету» (дом, машина и т.д.)."]
[{"$nulls":9},"Конструирует несложные постройки из                  2—3 деталей.","Создаёт постройки «по сюжету» (дом, машина и т.д.)."]
[{"$nulls":9},"Конструирует несложные постройки из                  2—3 деталей.","Создаёт постройки «по сюжету» (дом, машина и т.д.)."]
[{"$nulls":9},"Конструирует несложные постройки из                  2—3 деталей.","Создаёт постройки «по сюжету» (дом, машина и т.д.)."]
[{"$nulls":9},"Конструирует несложные постройки из                  2—3 деталей.","Создаёт постройки «по сюжету» (дом, машина и т.д.)."]
[{"$nulls":9},"Конструирует несложные постройки из                  2—3 деталей.","Создаёт постройки «по сюжету» (дом, машина и т.д.)."]
[{"$nulls":9},"Конструирует несложные постройки из                  2—3 деталей.","Создаёт постройки «по сюжету» (дом, машина и т.д.)."]
[{"$nulls":9},"Конструирует несложные постройки из                  2—3 деталей.","Создаёт постройки «по сюжету» (дом, машина и т.д.)."]
[{"$nulls":9},"Конструирует несложные постройки из                  2—3 деталей.","Создаёт постройки «по сюжету» (дом, машина и т.д.)."]
[{"$nulls":9},"Конструирует несложные постройки из                  2—3 деталей.","Создаёт постройки «по сюжету» (дом, машина и т.д.)."]
[{"$nulls":9},"Конструирует несложные постройки из                  2—3 деталей.","Создаёт постройки «по сюжету» (дом, машина и т.д.)."]
[{"$nulls":9},"Конструирует несложные постройки из                  2—3 деталей.","Создаёт постройки «по сюжету» (дом, машина и т.д.)."]
[{"$nulls":9},"Конструирует несложные постройки из                  2—3 деталей.","Создаёт постройки «по сюжету» (дом, машина и т.д.)."]
[{"$nulls":9},"Конструирует несложные постройки из                  2—3 деталей.","Создаёт постройки «по сюжету» (дом, машина и т.д.)."]
[{"$nulls":9},"Конструирует несложные постройки из                  2—3 деталей.","Создаёт постройки «по сюжету» (дом, машина и т.д.)."]
[{"$nulls":9},"Конструирует несложные постройки из                  2—3 деталей.","Создаёт постройки «по сюжету» (дом, машина и т.д.)."]
[{"$nulls":9},"Конструирует несложные постройки из                  2—3 деталей.","Создаёт постройки «по сюжету» (дом, машина и т.д.)."]
[{"$nulls":9},"Конструирует несложные постройки из                  2—3 деталей.","Создаёт постройки «по сюжету» (дом, машина и т.д.)."]
[{"$nulls":9},"Конструирует несложные постройки из                  2—3 деталей.","Создаёт постройки «по сюжету» (дом, машина и т.д.)."]
[{"$nulls":9},"Конструирует несложные постройки из                  2—3 деталей.","Создаёт постройки «по сюжету» (дом, машина и т.д.)."]
[{"$nulls":9},"Конструирует несложные постройки из                  2—3 деталей.","Создаёт постройки «по сюжету» (дом, машина и т.д.)."]
[{"$nulls":9},"Конструирует несложные постройки из                  2—3 деталей.","Создаёт постройки «по сюжету» (дом, машина и т.д.)."]
[{"$nulls":9},"Конструирует несложные постройки из                  2—3 деталей.","Создаёт постройки «по сюжету» (дом, машина и т.д.)."]
[{"$nulls":9},"Конструирует несложные постройки из                  2—3 деталей.","Создаёт постройки «по сюжету» (дом, машина и т.д.)."]
[{"$nulls":9},"Конструирует несложные постройки из                  2—3 деталей.","Создаёт постройки «по сюжету» (дом, машина и т.д.)."]
[{"$nulls":9},"Конструирует несложные постройки из                  2—3 деталей.","Создаёт постройки «по сюжету» (дом, машина и т.д.)."]
[{"$nulls":9},"Конструирует несложные постройки из                  2—3 деталей.","Создаёт постройки «по сюжету» (дом, машина и т.д.)."]
[{"$nulls":9},"Конструирует несложные постройки из                  2—3 деталей.","Создаёт постройки «по сюжету» (дом, машина и т.д.)."]
[{"$nulls":9},"Конструирует несложные постройки из                  2—3 деталей.","Создаёт постройки «по сюжету» (дом, машина и т.д.)."]
[{"$nulls":9},"Конструирует несложные постройки из                  2—3 деталей.","Создаёт постройки «по сюжету» (дом, машина и т.д.)."]
[{"$nulls":9},"Конструирует несложные постройки из                  2—3 деталей.","Создаёт постройки «по сюжету» (дом, машина и т.д.)."]
[{"$nulls":9},"Конструирует несложные постройки из                  2—3 деталей.","Создаёт постройки «по сюжету» (дом, машина и т.д.)."]
[{"$nulls":9},"Конструирует несложные постройки из                  2—3 деталей.","Создаёт постройки «по сюжету» (дом, машина и т.д.)."]
[{"$nulls":9},"Конструирует несложные постройки из                  2—3 деталей.","Создаёт постройки «по сюжету» (дом, машина и т.д.)."]
[{"$nulls":9},"Конструирует несложные постройки из                  2—3 деталей.","Создаёт постройки «по сюжету» (дом, машина и т.д.)."]
[{"$nulls":9},"Конструирует несложные постройки из                  2—3 деталей.","Создаёт постройки «по сюжету» (дом, машина и т.д.)."]
[{"$nulls":9},"Конструирует несложные постройки из                  2—3 деталей.","Создаёт постройки «по сюжету» (дом, машина и т.д.)."]
[{"$nulls":9},"Конструирует несложные постройки из                  2—3 деталей.","Создаёт постройки «по сюжету» (дом, машина и т.д.)."]
[{"$nulls":9},"Конструирует несложные постройки из                  2—3 деталей.","Создаёт постройки «по сюжету» (дом, машина и т.д.)."]
[{"$nulls":9},"Конструирует несложные постройки из                  2—3 деталей.","Создаёт постройки «по сюжету» (дом, машина и т.д.)."]
[{"$nulls":9},"Конструирует несложные постройки из                  2—3 деталей.","Создаёт постройки «по сюжету» (дом, машина и т.д.)."]
[{"$nulls":9},"Конструирует несложные постройки из                  2—3 деталей.","Создаёт постройки «по сюжету» (дом, машина и т.д.)."]
[{"$nulls":9},"Конструирует несложные постройки из                  2—3 деталей.","Создаёт постройки «по сюжету» (дом, машина и т.д.)."]
[{"$nulls":9},"Конструирует несложные постройки из                  2—3 деталей.","Создаёт постройки «по сюжету» (дом, машина и т.д.)."]
[{"$nulls":9},"Конструирует несложные постройки из                  2—3 деталей.","Создаёт постройки «по сюжету» (дом, машина и т.д.)."]
[{"$nulls":9},"Конструирует несложные постройки из                  2—3 деталей.","Создаёт постройки «по сюжету» (дом, машина и т.д.)."]
[{"$nulls":9},"Конструирует несложные постройки из                  2—3 деталей.","Создаёт постройки «по сюжету» (дом, машина и т.д.)."]
[{"$nulls":9},"Конструирует несложные постройки из                  2—3 деталей.","Создаёт постройки «по сюжету» (дом, машина и т.д.)."]
[{"$nulls":9},"Конструирует несложные постройки из                  2—3 деталей.","Создаёт постройки «по сюжету» (дом, машина и т.д.)."]
[{"$nulls":9},"Конструирует несложные постройки из                  2—3 деталей.","Создаёт постройки «по сюжету» (дом, машина и т.д.)."]
[{"$nulls":9},"Конструирует несложные постройки из                  2—3 деталей.","Создаёт постройки «по сюжету» (дом, машина и т.д.)."]
[{"$nulls":9},"Конструирует несложные постройки из                  2—3 деталей.","Создаёт постройки «по сюжету» (дом, машина и т.д.)."]
[{"$nulls":9},"Конструирует несложные постройки из                  2—3 деталей.","Создаёт постройки «по сюжету» (дом, машина и т.д.)."]
[{"$nulls":9},"Конструирует несложные постройки из                  2—3 деталей.","Создаёт постройки «по сюжету» (дом, машина и т.д.)."]
[{"$nulls":9},"Конструирует несложные постройки из                  2—3 деталей.","Создаёт постройки «по сюжету» (дом, машина и т.д.)."]
[{"$nulls":9},"Конструирует несложные постройки из                  2—3 деталей.","Создаёт постройки «по сюжету» (дом, машина и т.д.)."]
[{"$nulls":9},"Конструирует несложные постройки из                  2—3 деталей.","Создаёт постройки «по сюжету» (дом, машина и т.д.)."]
[{"$nulls":9},"Конструирует несложные постройки из                  2—3 деталей.","Создаёт постройки «по сюжету» (дом, машина и т.д.)."]
[{"$nulls":9},"Конструирует несложные постройки из                  2—3 деталей.","Создаёт постройки «по сюжету» (дом, машина и т.д.)."]
[{"$nulls":9},"Конструирует несложные постройки из                  2—3 деталей.","Создаёт постройки «по сюжету» (дом, машина и т.д.)."]
[{"$nulls":9},"Конструирует несложные постройки из                  2—3 деталей.","Создаёт постройки «по сюжету» (дом, машина и т.д.)."]
[{"$nulls":9},"Конструирует несложные постройки из                  2—3 деталей.","Создаёт постройки «по сюжету» (дом, машина и т.д.)."]
[{"$nulls":9},"Конструирует несложные постройки из                  2—3 деталей.","Создаёт постройки «по сюжету» (дом, машина и т.д.)."]
[{"$nulls":9},"Конструирует несложные постройки из                  2—3 деталей.","Создаёт постройки «по сюжету» (дом, машина и т.д.)."]
[{"$nulls":9},"Конструирует несложные постройки из                  2—3 деталей.","Создаёт постройки «по сюжету» (дом, машина и т.д.)."]
[{"$nulls":9},"Конструирует несложные постройки из                  2—3 деталей.","Создаёт постройки «по сюжету» (дом, машина и т.д.)."]
[{"$nulls":9},"Конструирует несложные постройки из                  2—3 деталей.","Создаёт постройки «по сюжету» (дом, машина и т.д.)."]
[{"$nulls":9},"Конструирует несложные постройки из                  2—3 деталей.","Создаёт постройки «по сюжету» (дом, машина и т.д.)."]
[{"$nulls":9},"Конструирует несложные постройки из                  2—3 деталей.","Создаёт постройки «по сюжету» (дом, машина и т.д.)."]
[{"$nulls":9},"Конструирует несложные постройки из                  2—3 деталей.","Создаёт постройки «по сюжету» (дом, машина и т.д.)."]
[{"$nulls":9},"Конструирует несложные постройки из                  2—3 деталей.","Создаёт постройки «по сюжету» (дом, машина и т.д.)."]
[{"$nulls":9},"Конструирует несложные постройки из                  2—3 деталей.","Создаёт постройки «по сюжету» (дом, машина и т.д.)."]
[{"$nulls":9},"Конструирует несложные постройки из                  2—3 деталей.","Создаёт постройки «по сюжету» (дом, машина и т.д.)."]
[{"$nulls":9},"Конструирует несложные постройки из                  2—3 деталей.","Создаёт постройки «по сюжету» (дом, машина и т.д.)."]
[{"$nulls":9},"Конструирует несложные постройки из                  2—3 деталей.","Создаёт постройки «по сюжету» (дом, машина и т.д.)."]
[{"$nulls":9},"Конструирует несложные постройки из                  2—3 деталей.","Создаёт постройки «по сюжету» (дом, машина и т.д.)."]
[{"$nulls":9},"Конструирует несложные постройки из                  2—3 деталей.","Создаёт постройки «по сюжету» (дом, машина и т.д.)."]
[{"$nulls":9},"Конструирует несложные постройки из                  2—3 деталей.","Создаёт постройки «по сюжету» (дом, машина и т.д.)."]
[{"$nulls":9},"Конструирует несложные постройки из                  2—3 деталей.","Создаёт постройки «по сюжету» (дом, машина и т.д.)."]
[{"$nulls":9},"Конструирует несложные постройки из                  2—3 деталей.","Создаёт постройки «по сюжету» (дом, машина и т.д.)."]
[{"$nulls":9},"Конструирует несложные постройки из                  2—3 деталей.","Создаёт постройки «по сюжету» (дом, машина и т.д.)."]
[{"$nulls":9},"Конструирует несложные постройки из                  2—3 деталей.","Создаёт постройки «по сюжету» (дом, машина и т.д.)."]
[{"$nulls":9},"Конструирует несложные постройки из                  2—3 деталей.","Создаёт постройки «по сюжету» (дом, машина и т.д.)."]
[{"$nulls":9},"Конструирует несложные постройки из                  2—3 деталей.","Создаёт постройки «по сюжету» (дом, машина и т.д.)."]
[{"$nulls":9},"Конструирует несложные постройки из                  2—3 деталей.","Создаёт постройки «по сюжету» (дом, машина и т.д.)."]
[{"$nulls":9},"Конструирует несложные постройки из                  2—3 деталей.","Создаёт постройки «по сюжету» (дом, машина и т.д.)."]
[{"$nulls":9},"Конструирует несложные постройки из                  2—3 деталей.","Создаёт постройки «по сюжету» (дом, машина и т.д.)."]
[{"$nulls":9},"Конструирует несложные постройки из                  2—3 деталей.","Создаёт постройки «по сюжету» (дом, машина и т.д.)."]
[{"$nulls":9},"Конструирует несложные постройки из                  2—3 деталей.","Создаёт постройки «по сюжету» (дом, машина и т.д.)."]
[{"$nulls":9},"Конструирует несложные постройки из                  2—3 деталей.","Создаёт постройки «по сюжету» (дом, машина и т.д.)."]
[{"$nulls":9},"Конструирует несложные постройки из                  2—3 деталей.","Создаёт постройки «по сюжету» (дом, машина и т.д.)."]
[{"$nulls":9},"Конструирует несложные постройки из                  2—3 деталей.","Создаёт постройки «по сюжету» (дом, машина и т.д.)."]
[{"$nulls":9},"Конструирует несложные постройки из                  2—3 деталей.","Создаёт постройки «по сюжету» (дом, машина и т.д.)."]
[{"$nulls":9},"Конструирует несложные постройки из                  2—3 деталей.","Создаёт постройки «по сюжету» (дом, машина и т.д.)."]
[{"$nulls":9},"Конструирует несложные постройки из                  2—3 деталей.","Создаёт постройки «по сюжету» (дом, машина и т.д.)."]
[{"$nulls":9},"Конструирует несложные постройки из                  2—3 деталей.","Создаёт постройки «по сюжету» (дом, машина и т.д.)."]
[{"$nulls":9},"Конструирует несложные постройки из                  2—3 деталей.","Создаёт постройки «по сюжету» (дом, машина и т.д.)."]
[{"$nulls":9},"Конструирует несложные постройки из                  2—3 деталей.","Создаёт постройки «по сюжету» (дом, машина и т.д.)."]
[{"$nulls":9},"Конструирует несложные постройки из                  2—3 деталей.","Создаёт постройки «по сюжету» (дом, машина и т.д.)."]
[{"$nulls":9},"Конструирует несложные постройки из                  2—3 деталей.","Создаёт постройки «по сюжету» (дом, машина и т.д.)."]
[{"$nulls":9},"Конструирует несложные постройки из                  2—3 деталей.","Создаёт постройки «по сюжету» (дом, машина и т.д.)."]
[{"$nulls":9},"Конструирует несложные постройки из                  2—3 деталей.","Создаёт постройки «по сюжету» (дом, машина и т.д.)."]
[{"$nulls":9},"Конструирует несложные постройки из                  2—3 деталей.","Создаёт постройки «по сюжету» (дом, машина и т.д.)."]
[{"$nulls":9},"Конструирует несложные постройки из                  2—3 деталей.","Создаёт постройки «по сюжету» (дом, машина и т.д.)."]
[{"$nulls":9},"Конструирует несложные постройки из                  2—3 деталей.","Создаёт постройки «по сюжету» (дом, машина и т.д.)."]
[{"$nulls":9},"Конструирует несложные постройки из                  2—3 деталей.","Создаёт постройки «по сюжету» (дом, машина и т.д.)."]
[{"$nulls":9},"Конструирует несложные постройки из                  2—3 деталей.","Создаёт постройки «по сюжету» (дом, машина и т.д.)."]
[{"$nulls":9},"Конструирует несложные постройки из                  2—3 деталей.","Создаёт постройки «по сюжету» (дом, машина и т.д.)."]
[{"$nulls":9},"Конструирует несложные постройки из                  2—3 деталей.","Создаёт постройки «по сюжету» (дом, машина и т.д.)."]
[{"$nulls":9},"Конструирует несложные постройки из                  2—3 деталей.","Создаёт постройки «по сюжету» (дом, машина и т.д.)."]
[{"$nulls":9},"Конструирует несложные постройки из                  2—3 деталей.","Создаёт постройки «по сюжету» (дом, машина и т.д.)."]
[{"$nulls":9},"Конструирует несложные постройки из                  2—3 деталей.","Создаёт постройки «по сюжету» (дом, машина и т.д.)."]
[{"$nulls":9},"Конструирует несложные постройки из                  2—3 деталей.","Создаёт постройки «по сюжету» (дом, машина и т.д.)."]
[{"$nulls":9},"Конструирует несложные постройки из                  2—3 деталей.","Создаёт постройки «по сюжету» (дом, машина и т.д.)."]
[{"$nulls":9},"Конструирует несложные постройки из                  2—3 деталей.","Создаёт постройки «по сюжету» (дом, машина и т.д.)."]
[{"$nulls":9},"Конструирует несложные постройки из                  2—3 деталей.","Создаёт постройки «по сюжету» (дом, машина и т.д.)."]
[{"$nulls":9},"Конструирует несложные постройки из                  2—3 деталей.","Создаёт постройки «по сюжету» (дом, машина и т.д.)."]
[{"$nulls":9},"Конструирует несложные постройки из                  2—3 деталей.","Создаёт постройки «по сюжету» (дом, машина и т.д.)."]
[{"$nulls":9},"Конструирует несложные постройки из                  2—3 деталей.","Создаёт постройки «по сюжету» (дом, машина и т.д.)."]
[{"$nulls":9},"Конструирует несложные постройки из                  2—3 деталей.","Создаёт постройки «по сюжету» (дом, машина и т.д.)."]
[{"$nulls":9},"Конструирует несложные постройки из                  2—3 деталей.","Создаёт постройки «по сюжету» (дом, машина и т.д.)."]
[{"$nulls":9},"Конструирует несложные постройки из                  2—3 деталей.","Создаёт постройки «по сюжету» (дом, машина и т.д.)."]
[{"$nulls":9},"Конструирует несложные постройки из                  2—3 деталей.","Создаёт постройки «по сюжету» (дом, машина и т.д.)."]
[{"$nulls":9},"Конструирует несложные постройки из                  2—3 деталей.","Создаёт постройки «по сюжету» (дом, машина и т.д.)."]
[{"$nulls":9},"Конструирует несложные постройки из                  2—3 деталей.","Создаёт постройки «по сюжету» (дом, машина и т.д.)."]
[{"$nulls":9},"Конструирует несложные постройки из                  2—3 деталей.","Создаёт постройки «по сюжету» (дом, машина и т.д.)."]
[{"$nulls":9},"Конструирует несложные постройки из                  2—3 деталей.","Создаёт постройки «по сюжету» (дом, машина и т.д.)."]
[{"$nulls":9},"Конструирует несложные постройки из                  2—3 деталей.","Создаёт постройки «по сюжету» (дом, машина и т.д.)."]
[{"$nulls":9},"Конструирует несложные постройки из                  2—3 деталей.","Создаёт постройки «по сюжету» (дом, машина и т.д.)."]
[{"$nulls":9},"Конструирует несложные постройки из                  2—3 деталей.","Создаёт постройки «по сюжету» (дом, машина и т.д.)."]
[{"$nulls":9},"Конструирует несложные постройки из                  2—3 деталей.","Создаёт постройки «по сюжету» (дом, машина и т.д.)."]
[{"$nulls":9},"Конструирует несложные постройки из                  2—3 деталей.","Создаёт постройки «по сюжету» (дом, машина и т.д.)."]
[]
[]
[]
[{"$nulls":9},"Конструирует несложные постройки из                  2—3 деталей.","Создаёт постройки «по сюжету» (дом, машина и т.д.)."]
[{"$nulls":9},"Конструирует несложные постройки из                  2—3 деталей.","Создаёт постройки «по сюжету» (дом, машина и т.д.)."]

{"sheet":"характ уровней","index":11,"n_rows":8,"n_cols":15,"rows_kept":8,"hidden":true,"merged":[[0,0,0,2],[0,3,0,5],[0,6,0,8],[0,9,0,11],[0,12,0,14]]}
["познавательный интерес",null,null,"уровни развития оценка",null,null,"уровни развития контроля",null,null,"уровни развития целеполагания",null,null,"формирование учебных действий"]
["Уровень","Критерий оценки поведения","Дополнительный диагностический признак","Уровни","Показатели","Поведенческие индикаторы","Уровни","Показатели сформированности","Дополнительный диагностический признак","Уровни","Показатели сформированности","Поведенческие индикаторы с сформированности","Уровни","Показатели сформированности","Дополнительный диагностический признак"]
["1. Отсутствие интереса","Интерес практически не обнаруживается. Исключение составляет яркий, смешной, забавный материал.","Безразличное или негативное отношение к решению любых учебных задач. Более охотно выполняет привычные действия, чем осваивает новые.","1. Отсутствие оценки","Ученик не умеет, не пытается и не испытывает потребности в оценке своих действий – ни самостоятельной, ни по просьбе учителя","Всецело полагается на отметку учителя, воспринимает ее некритически (даже в случае явного занижения), не воспринимает аргументацию оценки; не может оценить свои силы относительно решения поставленной задачи","1. Отсутствие контроля","Ученик не контролирует учебные действия, не замечает допущенных ошибок.","Ученик не умеет обнаружить и исправить ошибку даже по просьбе учителя, некритично относится к исправленным ошибкам в своих работах и не замечает ошибок других учеников","1. Отсутствие цели","Предъявляемое требование осознается лишь частично. Включаясь в работу, быстро отвлекается или ведет себя хаотично. Может принимать лишь простейшие цели (не предполагающие промежуточные цели-требования)","Плохо различает учебные задачи разного типа; отсутствует реакция на новизну задачи, не может выделить промежуточные цели,  нужается в пооперационном контроле со стоны учителя, не может ответить на вопросы о том, что он собирается делать или сделал","1.Отсутствие учебных действий как целостных единиц деятельности","Не может выполнять учебные действия как таковые, может выполнять лишь отдельные операции без их внутренней связи друг с другом или копировать внешнюю форму действий.","Не осознаёт содержание учебных действий и не может дать отчёта о них ни самостоятельно, ни с помощью учителя (за исключением прямого показа) не способен выполнять учебные действии; навыки образуются с трудом и оказываются крайне неустойчивыми."]
["2. Реакция на новизну","Интерес  возникает лишь на новый материал, касающийся конкретных фактов, но не теории ","Оживляется, задает вопросы о новом фактическом материале, включается в выполнение задания, связанного с ним, но длительной устойчивой активности не проявляет","2. Адекватная ретроспективная оценка","Умеет самостоятельно оценить свои действия и содержательно обосновать правильность или ошибочность результата, соотнося его со схемой действия","Критически относится к отметкам учителя; не может оценить своих возможностей перед решением новой задачи и не пытается этого делать; может оценить действия других учеников","2. Контроль на уровне непроизвольного внимания","Контроль носит случайный непроизвольный характер, заметив ошибку, ученик не может обосновать своих действий","Действуя неосознанно, предугадывает правиль-ное направление действия; сделанные ошибки исправляет неуверенно, в малознакомых действиях ошибки допускает чаще, чем в знакомых","2. Принятие практической задачи","Принимает и выполняет только практические задачи (но не теоретические), в теоретических задачах не ориентируется","Осознает, что надо делать в процессе решения практической задачи; в отношении теоретических задач не может осуществлять целенаправленных действий","2.Выполнение учебных действий в сотрудничестве с учителем","Содержание действий и их операционный состав осознаются. Приступает к выполнению действий, од­нако без внешней помощи организовать свои действия и довести их до конца\" не может; в сотрудничестве с учителем работает относительно успешно","Может дать отчет о своих действиях, но затрудняется в их практическом воплощении; помощь учителя принимается сравнительно легко; эффективно работает при пооперационном контроле, самостоятельные учебные действия практически отсутствуют"]
["3. Любопытство","Интерес возникает на новый материал, но не на способы решения.","Проявляет интерес и задает вопросы достаточно часто, включается в выполнение заданий, но интерес быстро иссякает","3. Неадекватная прогностическая оценка","Приступая к решению новой задачи, пытается оценить свои возможности относительно ее решения, однако при этом учитывает лишь факт того,  знает ли он ее или нет, а не возможность изменения известных ему способов действия","Свободно и аргументировано оценивает уже решенные им задачи, пытается оценивать свои возможности в решении новых задач, часто допускает ошибки, учитывает лишь внешние признаки задачи, а не ее структуру, не может этого сделать до решения задачи","3. Потенциальный контроль на уровне произвольного внимания","Ученик осознает  правило контроля, но одновременное выполнение учебных действий и контроля затруднено; ошибки ученик исправляет и объясняет","В процессе решения задачи контроль затруднен, после решения ученик может найти и исправить ошибки, в многократно повторенных действиях ошибок не допускает","3. Переопределение познавательной задачи в практическую","Принимает и выполняет только практические задачи, в теоретических задачах не ориентируется","Осознает, что надо делать и сделал в процессе решения практической задачи; в отношении теоретических задач не может осуществлять целенаправленных действий","3.Неадекватный перенос учебных действий","Ребенок самостоятельно применяет усвоенный способ действия к решению ноной задачи, однако не способен внести в него даже небольшие изменения, чтобы приноровить его к условиям конкретной задачи.","Усвоенный способ применяет «слепо», не соотнося его с условиями задачи; такое соотнесение и перестройку действия может осуществлять лишь с помощью учителя, а не самостоятельно; при неизменности условий способ не успешно выполнять действия самостоятельно."]
["4. Ситуативный учебный интерес","Интерес возникает к способам решения новой частной единичной задачи (но не к системам задач)","Включается в процессе решения задачи, пытается самостоятельно найти способ решения и довести задание до конца, после решения задачи интерес исчерпывается","4. Потенциально адекватная прогностическая оценка","Приступая к решению новой задачи, может с помощью учителя оценить свои возможности в ее решении, учитывая изменения известных ему способов действий"," Может с помощью учителя обосновать свою возможность или невозможность решить стоящую перед ним задачу, опираясь на анализ известных ему способов действия; делает  это неуверенно, с трудом","4. Актуальный контроль на уровне произвольного внимания","В процессе выполнения действия ученик ориентируется на правило контроля и успешно использует ее в процессе решения задач, почти не допуская ошибок","Ошибки исправляет самостоятельно, контролирует процесс решения задачи другими учениками, при решении новой задачи не может скорректировать правило контроля новым условиям","4. Принятие познавательной цели","Принятая познавательная цель сохраняется при  выполнении учебных действий и регулирует весь процесс их выполнения; четко выполняется требование познавательной задачи","Охотно осуществляет решение познаватель-ной задачи, не изменяя ее (не подменяя практической задачей и не выходя за ее требования), четко может дать отчет о своих действиях после принятого решения","4.Адекватный перенос учебных действий.","Умеет обнаружить несоответствие новой зада­чи и усвоенного способа, пытается самостоя­тельно перестроить известный ему способ, однако может это пра­вильно сделать только при помощи учителя,","Достаточно полно анализирует условия задачи и чётко соотносит их с известными способами; легко принимает косвенную помощь учителя; осознает и готов описать причины своих затруднений и особенности нового способа действия"]
["5. Устойчивый учебно-познавательный интерес","Интерес возникает к общему способу решения задач, но не выходит за пределы изучаемого материала","Охотно включается в процесс выполнения заданий, работает длительно и устойчиво, принимает предложения найти новые применения найденному способу","5. Актуально адекватная прогностическая оценка","Приступая к решению новой задачи, может самостоятельно оценить свои возможности в ее решении, учитывая изменения известных способов действия.","Самостоятельно обосновывает еще до решения задачи свои силы, исходя из четкого осознания усвоенных способов и их вариаций, а также границ их применения","5. Потенциальный рефлексивный контроль","Решая новую задачу ученик применяет старый неадекватный способ, с помощью учителя обнаруживает неадекватность способа и пытается ввести коррективы.","Задачи, соответствующие усвоенному способу выполняются безошибочно. Без помощи учителя не может обнаружить несоответствие усвоенного способа действия новым условиям","5. Переопределение практической задачи в теоретическую","Столкнувшись с новой практической задачей, самостоятельно формулирует познавательную                                                                                           цель и строит действие в соответствии с ней","Невозможность решить новую практическую задачу объясняет отсутствие адекватных способов; четко осознает свою цель и структуру найденного способа.","Самостоятельное построение учебных действий.","Решая новую задачу, самостоятельно строит новый способ действии или модифицирует известный ему способ, делает это постепенно, шаг за шагом и в конце без какой-либо помощи извне правильно решает задачу.","Критически оценивает свои действия, на всех этапах, решения задачи может дать отчет о них; нахождение нового спосо­ба осуществляется медленно, неуверенно, с частым обращением к повторному анализу условий задачи, по на всех этапах полностью самостоятельно"]
["6. Обобщенный учебно-познавательный интерес","Интерес возникает независимо от внешних требований и выходит за рамки изучаемого материала. Ученик ориентирован на общие способы решения системы задач.","Интерес – постоянная характеристика ученика, проявляет  выраженное творческое отношение к общему способу решения задач, стремится получить дополнительную информацию. Имеется мотивированная избирательность интересов.",{"$nulls":3},"6. Актуальный рефлексивный контроль","Самостоятельно обнаруживает ошибки, вызванные несоответствие усвоенного способа действия и условий задачи и вносит коррективы","Контролирует соответствие выполняемых действий способу, при изменении условий вносит коррективы в способ действия до начала решения","6. Самостоятельная постановка учебных целей","Самостоятельно формулирует познавательные цели, выходя за пределы требований программы","Выдвигает содержательные гипотезы, учебная деятельность приобретает форму активного исследования способов  действия","Обобщение учебных действий","Опирается на принципы построения способов деления и решает новую задачу с хода, выводя новый способ из этого принципа, а не из модификации известного частного способа.","Овладевая новым способом, осознает не только его состав, но и принципы его построения (т.е. то, на чём он основан), осознаёт сходство между различными модификациями и их связи с условиями задач"]

{"sheet":"Лист1","index":12,"n_rows":2,"n_cols":3,"rows_kept":2,"hidden":true}
["Высокий уровень школьной зрелости означает, что ребенок готов к обучению в любой школе (в том числе и повышенного уровня), и есть достаточные основания полагать, что при внимании и адекватной помощи со стороны родителей он успешно справится с любой предложенной ему программой обучения.","Средний уровень школьной зрелости означает, что ребенок готов к обучению по программе массовой начальной школы. Обучение в школе повышенного уровня может оказаться для него тяжеловатым, и если родители все же отдают его в такую школу, то (по крайней мере в начале обучения) они должны оказывать своему сыну (или дочери) очень существенную помощь, тщательно соблюдать режим дня, создавать для ребенка щадящую атмосферу, по возможности лишенную сильных стрессов. Иначе может наступить перенапряжение и истощение адаптационных механизмов организма ребенка.  Сама по себе такая жизнь - перенапряг в школе и щадящая обстановка в семье - неполезна для развития и психического здоровья ребенка, и если амбиции родителей не чрезмерно велики, то лучше не создавать такой ситуации. Лучше комфортно и хорошо закончить начальную школу, в конце ее еще раз пройти тестирование и, если способности ребенка действительно окажутся существенно выше среднего (ребенок не сумел проявить себя на первом тестировании или за три года начальной школы имел место значительный прогресс в развитии способностей ребенка), держать экзамен в какую-нибудь гимназию.\n","Низкий уровень школьной зрелости означает, что освоение даже обычной программы начальной школы будет представлять для ребенка значительную трудность. Если, несмотря на это, принято решение в школу идти, то для такого ребенка необходимы специальные коррекционные занятия по подготовке к школе. Их может осуществлять как психолог, наблюдающий ребенка, так и сами родители при помощи соответствующих пособий и в тесном контакте с психологом. Как правило, при низком уровне школьной зрелости различные функции восприятия и мышления развиты неравномерно. Например, при неплохом уровне общей информированности и психосоциальной зрелости очень плохая зрительная память и почти полностью отсутствует произвольное внимание. Или - хорошая слуховая память (ребенок легко заучивает длинные стихи) и очень низкая умственная работоспособность. Психолог подскажет родителям, какие именно функции наиболее страдают у их сына (или дочки) и порекомендует соответствующие упражнения.                                           \n"]
["Владеет большим арсеналом игр с правилами разного типа: на удачу, на ловкость, на умственную компетенцию. Легко вербализует критерии выигрыша, в новой игре устанавливает их по аналогии со знакомыми играми. Стремится к выигрышу, но умеет контролировать свои эмоции при проигрыше.Легко организует сверстников для игры, инициирует договор о варианте правил перед началом игры. Часто использует различные виды жребия (считалка, предметный) при разрешении конфликтов.\nМожет придумать правила для игры с незнакомым материалом во всей их полноте (правила действий, правила взаимодействия, критерии выигрыша).\nЧасто придумывает новые варианты правил для знакомых игр и предлагает их сверстникам\n\n\n","В знакомых играх придерживается правил, ориентирован на выигрыш. Контролирует соблюдение правил другими, подчиняется требованиям партнёров, если сам нарушил правила. Может организовать нескольких сверстников для игры, предварительно договориться об одном известном варианте правил. К новому материалу может придумать правила, близкие к знакомым играм, но скорее откажется от игры, чем будет придумывать. Предпочитает известные игры и готовые варианты правил. Пользуется жребием (считалкой) при конфликтах в распределении функций","Знает правила часто употребляемых в совместной практике игр, ориентируется в них на критерии выигрыша. Соблюдает правила до тех пор, пока не ощущает угрозу проигрыша, в этом случае нарушает правила, после чего объявляет свой вариант действий законным, не считая необходимым сохранение в процесс игры договорных обязательств. Всегда больше контролирует других, чем себя. В ситуации с новым, незнакомым материалом затрудняется придумать правила, установить критерии выигрыша, предпочитая неспецифичные для игры манипуляции с материалом. Обычно включается в игру автоматически, без предварительного договора о правилах, редко прибегает к жребию при разрешении конфликтов, предпочитая «силовые» способы"]